{"text_format":"1","workbook":"xlsx","n_sheets":9,"sheets":["はじめに","注意事項","個人情報入力","ハムログデータ","サマリーシート","ログシート","データ処理","マクロ機能を有効にするには","参考"],"not_rendered":{"charts":0,"images":9,"macros":1,"external_links":0,"defined_names":5,"comments":3,"pivot_tables":0},"unopened":[],"bounds":{"document_bytes":16777216,"sheet_cells":100000,"rows_first":2000,"rows_last":500,"rows_between":2000,"halvings":0,"cell_chars":16384,"cell_head_chars":4096},"cells_cut":0,"cells_raw":0,"read":"whole","date_system":"1900"}

{"sheet":"はじめに","index":0,"n_rows":38,"n_cols":28,"rows_kept":38,"cut":false,"hidden":false,"merged":[[20,1,22,10],[6,16,8,25],[20,11,22,12],[24,22,25,24],[15,16,16,19],[17,1,19,10],[23,1,25,10],[1,1,4,10],[9,16,11,25],[12,16,13,25],[1,16,4,19],[1,20,4,23],[1,24,4,25],[6,1,8,10],[9,1,11,10],[12,1,14,10],[27,16,27,23],[34,16,34,23],[33,16,33,23],[30,16,30,23],[29,16,29,23],[37,7,37,11],[35,16,36,23],[35,1,36,6],[33,1,34,12],[28,16,28,23],[28,8,30,11]]}
[null,null,null,null,null,null,null,null,null,null,null,null,null,"新年おめでとうチェック",null,null,null,null,null,null,null,null,null,null,null,null,null,"オブジェクトロック"]
[null,{"$f":"IF(P3=\"新年\",\"明けましておめでとうございます。本年もよろしく。\",\"この度は、ソフトのご利用有難う御座います。\")","v":"明けましておめでとうございます。本年もよろしく。"},null,null,null,null,null,null,null,null,null,null,null,null,null,"判定","処理データ数は、",null,null,null,1000,null,null,null,"です。"]
[null,null,null,null,null,null,null,null,null,null,null,null,null,null,{"$f":"TODAY()","v":"2024-01-05"},{"$f":"IF(COUNTIF(P4:P12,\"新年\")=1,\"新年\",\"\")","v":"新年"}]
[null,null,null,null,null,null,null,null,null,null,null,null,null,"2020-01-01","2020-01-15",{"$f":"IF(AND($O$3>=N4,$O$3<=O4),\"新年\",\"\")","v":""}]
[null,null,null,null,null,null,null,null,null,null,null,null,null,"2021-01-01","2021-01-15",""]
[null,null,null,null,null,null,null,null,null,null,null,null,null,"2022-01-01","2022-01-15",""]
[null,"このソフトには、各種シートがありますので、",null,null,null,null,null,null,null,null,null,null,null,"2023-01-01","2023-01-15","","このソフトは、Turbo HAMLOG とのリンクを、"]
[null,null,null,null,null,null,null,null,null,null,null,null,null,"2024-01-01","2024-01-15","新年"]
[null,null,null,null,null,null,null,null,null,null,null,null,null,"2025-01-01","2025-01-15",""]
[null,"下部のシートタブを 左から順 にクリックして、",null,null,null,null,null,null,null,null,null,null,null,"2026-01-01","2026-01-15","","前提として演算処理をしています。"]
[null,null,null,null,null,null,null,null,null,null,null,null,null,"2027-01-01","2027-01-15",""]
[null,null,null,null,null,null,null,null,null,null,null,null,null,"2028-01-01","2028-01-15",""]
[null,"集計作業をお進みください。",null,null,null,null,null,null,null,null,null,null,null,null,null,null,"(不要局データは、一瞬で 自動削除 されます。)"]
[]
[]
[null,null,null,null,null,null,null,null,null,null,null,null,null,null,null,null,"セキュリティの警告メッセージ画面"]
[]
[null,"このソフトは、マクロを含んでおりますので、"]
[]
[]
[null,"「コンテンツの有効化」 をクリックして、",null,null,null,null,null,null,null,null,null,"➡"]
[]
[]
[null,"ご利用ください。"]
[null,null,null,null,null,null,null,null,null,null,null,null,null,null,null,null,null,null,null,null,null,null,"  ← クリックする。"]
[]
[]
[null,"下記ボタンをクリックし、次のシートへ進めば マクロ は正常に機能。",null,null,null,null,null,null,null,null,null,null,null,null,null,null,"上記は、Excel 2010 以降のエクセルのリボン画面です。"]
[null,null,null,null,null,null,null,null,{"$f":"IF(サマリーシート!F1=\"集計が完了しました。\",\"集計完了しました。\",\"\")","v":""},null,null,null,null,null,null,null,"Excel 2007 では、「コンテンツの有効化」の文字の代わりに 「オプション」 の"]
[null,null,null,null,null,null,null,null,null,null,null,null,null,null,null,null,"文字が表示されますので、「オプション」をクリックし、「このコンテンツを有効にする」"]
[null,null,null,null,null,null,null,null,null,null,null,null,null,null,null,null,"にチェックを入れてください。"]
[]
[]
[null,"「マクロの実行がブロックされました。」 のメッセージが出た場合は、",null,null,null,null,null,null,null,null,null,null,null,null,null,null,"このソフトは、マイクロソフト社の 純正エクセル ソフトで作成しておりますので、"]
[null,null,null,null,null,null,null,null,null,null,null,null,null,null,null,null,"他のアプリケーションソフトでは、完璧な動作保証はできません。"]
[null,"右記ボタンをクリックしてください。→",null,null,null,null,null,null,null,null,null,null,null,null,null,null,"エクセルの対応バージョンは、Excel2007以降 が対象になります。"]
[]
[null,null,null,null,null,null,null,"セキュリティ解除の仕方を説明しております。"]

{"sheet":"注意事項","index":1,"n_rows":30,"n_cols":30,"rows_kept":30,"cut":false,"hidden":false,"merged":[[0,1,0,27],[2,1,3,12],[2,14,3,15],[4,14,4,15],[6,14,6,20],[14,14,14,21],[12,14,12,21],[10,14,10,21],[4,4,4,10],[6,5,6,6],[8,5,8,6],[10,5,10,7],[11,6,11,7],[12,6,12,7],[13,6,13,7],[14,6,14,7],[9,14,9,21],[8,14,8,21],[15,6,15,7],[16,6,16,7],[19,14,21,20],[15,14,15,21],[29,1,29,11],[21,1,21,11],[20,1,20,11],[19,1,19,11],[29,14,29,21],[28,14,28,21],[28,5,28,6],[25,1,25,10],[26,14,27,20],[26,1,27,11]]}
[null,"Turbo HAMLOG のエクセルデータを、このソフトの 「ハムログデータ」 シートに、コピー/貼り付け をすることにより、自動集計するソフトです。",null,null,null,null,null,null,null,null,null,null,null,null,null,null,null,null,null,null,null,null,null,null,null,null,null,null,null,"オブジェクトロック"]
[]
[null,"■Turbo HAMLOGから、交信データをエクセルに出力するには",null,null,null,null,null,null,null,null,null,null,null,null,2024]
[]
[null,null,"検索条件の設定",null,"(Turbo HAMLOG 検索条件の設定画面)"]
[]
[null,null,"◉","先頭から検索",null,"日付範囲",null,"00/00/00","から","20/04/25",null,null,null,null,"■Turbo HAMLOG 入力時の注意事項"]
[null,null,"○","最後から検索"]
[null,null,null,null,null,"レコード",null,10000,"から",10200,null,null,null,null,"１．メンバー局 は、プログラム されていますので、"]
[null,null,null,null,null,null,null,null,null,null,null,null,null,null,"　    Remarks1欄 にメンバー記号を記入しても、記入しなくても、"]
[null,null,"◉","入　力　順",null,"出力先",null,null,null,null,null,null,null,null,"　    どちらでも結構です。"]
[null,null,"○","コールサイン順",null,"○","一覧表示のみ"]
[null,null,"○","(同上)重複無し",null,"○","テキストファイル",null,null,null,null,null,null,null,"２．Remarks1欄・2欄 に、記入制限はありません。"]
[null,null,"○","JCC/Gコード順",null,"○","プリンター"]
[null,null,"○","(同上)重複無し",null,"○","CSVファイル",null,null,null,null,null,null,null,"３．同一免許人複数コール保持局 は、自動削除されませんので、"]
[null,null,"○","グリッドロケーター順",null,"◉","エクセルに出力",null,null,null,null,null,null,null,"　　  複数コール保持局 とは、1コールサイン交信 としてください。"]
[null,null,"○","(同上)重複無し",null,"○","ADIFファイル"]
[]
[]
[null,"上記の設定画面は、Turbo HAMLOG の",null,null,null,null,null,null,null,null,null,null,null,null,"重複局・社団局・記念局は、自動的に削除されます。\n2mSSB以外のデータも自動的に削除されます。"]
[null,"”メニュー” → ”検索” → ”複合条件検索と印刷” を選択して、"]
[null,"表示することができます。"]
[]
[]
[]
[null,"Turbo HAMLOG を詳しくご存じのない方へ"]
[null,"HAMLOGデータ貼付方法の説明へ 👆",null,null,null,null,null,null,null,null,null,null,null,null,"このソフトは、電子申請が可能なソフトです。"]
[]
[null,null,null,null,null,"↑"]
[null,"HAMLOG のデータをこのソフトへ貼付する方法を説明しています。",null,null,null,null,null,null,null,null,null,null,null,null,"ファイル保存をする場合は、拡張子.xlsm は変更しないでください。"]

{"sheet":"個人情報入力","index":2,"n_rows":25,"n_cols":9,"rows_kept":25,"cut":false,"hidden":false,"merged":[[4,6,4,9],[15,8,15,9],[1,3,2,3],[1,2,2,2],[1,4,2,7],[1,8,2,9],[14,6,14,7],[14,8,14,9],[15,6,15,7],[24,2,24,3],[7,2,7,6],[6,2,6,6],[10,5,10,10],[16,5,16,9],[12,5,12,9],[22,5,22,9],[21,5,21,9],[20,5,20,9],[19,5,19,9],[18,5,18,9]]}
[]
[null,null,{"$f":"IF(B10=0,\"必須入力項目\",IF(B10<12,\"未記入項目あり\",\"\"))","v":"必須入力項目"},{"$f":"IF(D11=\"\",\"貴局のコールサインを入力してください。\",IF(B10=12,\"「ハムログデータ」 シートへ進む 👆\",\"薄黄色セルは、すべて入力のこと。\"))","v":"貴局のコールサインを入力してください。"},{"$f":"IF(B10=12,\" ←クリックしてください。\",\"\")","v":""},null,null,null,{"$f":"IF($D$11=\"\",\"\",IF(B10=12,\"承　認\",\"\"))","v":""}]
[]
[]
[null,null,"■ 個人情報入力","下記の薄黄色セルが入力セルです。（必須）",null,{"$f":"IF(OR(MID(D12,2,1)=\" \",MID(D12,2,1)=\"　\"),LEFT(D12,1),IF(OR(MID(D12,3,1)=\" \",MID(D12,3,1)=\"　\"),LEFT(D12,2),IF(OR(MID(D12,4,1)=\" \",MID(D12,4,1)=\"　\"),LEFT(D12,3),\"\")))","v":""},{"$f":"IF(I2=\"ユーザー\",F5&\"さん 専用のソフトです。\",\"\")","v":""}]
[]
[null,null,"下記項目に貴局の個人情報を入力してください。 (入力が無い場合、このソフトは機能しません。）"]
[null,null,"サマリーシート 及び ログシート 等に自動反映されます。"]
[]
[null,{"$f":"SUM(B11:B23)","v":0},null,{"$f":"COUNTA(D11:D17)","v":0}]
[null,{"$f":"IF(D11=\"\",\"\",1)","v":""},{"$f":"IF(D11=\"\",\"コ ー ル サ イ ン →\",\"コ ー ル サ イ ン\")","v":"コ ー ル サ イ ン →"},null,{"$f":"IF($D$11=\"\",\"←\",\"\")","v":"←"},{"$f":"IF(E11=\"←\",\" 小文字入力しても、大文字 に自動変換されます。\",\"\")","v":" 小文字入力しても、大文字 に自動変換されます。"}]
[null,{"$f":"IF(D12=\"\",\"\",1)","v":""},"氏　　　　     名",null,{"$f":"IF($D$11=\"\",\"\",IF($I$2=\"ご利用不可\",\"\",IF(D12=\"\",\"←\",\"\")))","v":""}]
[null,"","無線従事者資格",null,{"$f":"IF($D$11=\"\",\"\",IF($I$2=\"ご利用不可\",\"\",IF(D13=\"\",\"←\",\"\")))","v":""},{"$f":"IF(E13=\"←\",\" ▼ボタンをクリックして、従事者資格 を選択してください。\",\"\")","v":""}]
[null,"","連絡先 〒 番号",null,{"$f":"IF($D$11=\"\",\"\",IF($I$2=\"ご利用不可\",\"\",IF(D14=\"\",\"←\",\"\")))","v":""}]
[null,"","連 絡 先  住 所",null,"",null,{"$f":"IF(D11=\"\",\"\",IF(B10=12,\"\",\"残記入項目\"))","v":""},null,{"$f":"IF(D11=\"\",\"\",IF(B10=12,\"\",12-B10))","v":""}]
[null,"","連絡先電話番号",null,"",null,{"$f":"IF(D11=\"\",\"\",IF(B10=12,\"\",\"Remaining Meter ⇒\"))","v":""},null,{"$f":"IF(D11=\"\",\"\",IF(B10=12,\"\",REPT(\"|\",I15*2.7)))","v":""}]
[null,"","E-mail アドレス",null,"",{"$f":"IF(B10=12,\"すべての項目が入力されました。\",\"\")","v":""}]
[]
[null,"","参　加　部　門",{"$f":"IF(D15=\"\",\"\",IF(LEFT(D15,2)=\"滋賀\",\"滋賀県内局部門\",\"滋賀県外局部門\"))","v":""},{"$f":"IF($D$11=\"\",\"\",IF($I$2=\"ご利用不可\",\"\",IF(D19=\"\",\"←\",\"\")))","v":""},{"$f":"IF(E19=\"←\",\" 連絡先を入力すれば、自動入力されます。\",\"\")","v":""}]
[null,"","使 用 無 線 機",null,{"$f":"IF($D$11=\"\",\"\",IF($I$2=\"ご利用不可\",\"\",IF(D20=\"\",\"←\",\"\")))","v":""},{"$f":"IF(E20=\"←\",\" メーカー名、機種名を記入　例 ： Yaesu FT-991A\",\"\")","v":""}]
[null,"","使 用 アンテナ",null,"",{"$f":"IF(E21=\"←\",\" 記入例 ： 10mH 5/8λ2段GP\",\"\")","v":""}]
[null,"","最大空中線電力",null,"",{"$f":"IF(E22=\"←\",\" 記入例 ： 50W\",\"\")","v":""}]
[null,"","使  用  電  源",null,"",{"$f":"IF(E23=\"←\",\" 使用した電源の種類を記入　例 ： AC 100V\",\"\")","v":""}]
[]
[null,null,{"$f":"IF(D11=\"\",\"\",IF(B10<11,\"未記入項目がまだあります。\",IF(I2=\"承　認\",\"次の 「ハムログデータ」 シートへ進んでください。\",\"\")))","v":""}]

{"sheet":"ハムログデータ","index":3,"n_rows":7,"n_cols":34,"rows_kept":7,"cut":false,"hidden":false,"merged":[[5,28,5,33],[6,28,6,33],[0,0,0,26],[1,28,1,34],[2,19,2,23],[1,19,1,23],[1,25,1,26],[2,28,2,32],[4,28,4,33]]}
["　このシートは、Turbo HAMLOG からエクセルで出力した交信データを貼付けるシートです。　　データ貼付け後、「自動集計」 ボタンをクリックするだけで、一瞬で集計が完了します。"]
[null,null,null,null,null,null,null,null,null,null,null,null,null,null,null,null,null,null,null,null,null,null,null,null,null,null,null,{"$f":"はじめに!U2","v":1000},{"$f":"IF(個人情報入力!B10=0,\"個人情報入力シートに、個人情報を入力してください。\",IF(個人情報入力!B10<12,\"個人情報入力シートに、未記入項目があります。\",IF(COUNTA($B$4:$B$1100)>AB2,\"処理データ数がオーバーしています。\",IF(COUNTA($B$4:$B$100)=0,\"HAMLOG データを貼付けてください。\",\"\"))))","v":"個人情報入力シートに、個人情報を入力してください。"}]
["No","Call","Date","Time","His","My","Freq","Mode","Code","G･L","QSL","Name","ＱＴＨ","Remarks１","Remarks２","Flag",null,null,null,{"$f":"IF(サマリーシート!M27=\"\",\"サマリー・ログシートの自動作成手順\",\"自動集計が完了しました。\")","v":"サマリー・ログシートの自動作成手順"},null,null,null,null,null,null,null,null,{"$f":"IF(OR(AC2=\"個人情報入力シートに、個人情報を入力してください。\",AC2=\"個人情報入力シートに、未記入項目があります。\"),\"「個人情報入力」 シートへ 👆\",\"\")","v":"「個人情報入力」 シートへ 👆"},null,null,null,null,{"$f":"IF(AC3=\"「個人情報入力」 シートへ 👆\",\"←\",\"\")","v":"←"}]
[]
[null,null,null,null,null,null,null,null,null,null,null,null,null,null,null,null,null,null,null,null,null,null,null,null,null,null,null,null,"貼付け時は、「形式を選択して貼り付け」 を選択し、"]
[null,null,null,null,null,null,null,null,null,null,null,null,null,null,null,null,null,null,null,null,null,null,null,null,null,null,null,"←","\"値\" のみを貼付け、もしくは、\"貼り付け先の書式"]
[null,null,null,null,null,null,null,null,null,null,null,null,null,null,null,null,null,null,null,null,null,null,null,null,null,null,null,null,"に合わせる\" で貼付けるようにしてください。 (推奨)"]

{"sheet":"サマリーシート","index":4,"n_rows":58,"n_cols":28,"rows_kept":58,"cut":false,"hidden":false,"merged":[[50,17,50,23],[0,1,0,3],[22,17,23,24],[24,17,25,24],[10,10,10,13],[6,17,7,24],[17,10,19,14],[15,17,16,24],[17,17,18,24],[19,17,20,24],[11,17,12,24],[13,17,14,24],[12,10,14,11],[12,12,14,14],[16,10,16,11],[3,13,3,14],[42,2,42,8],[46,3,46,14],[26,9,26,11],[38,10,38,11],[45,4,45,14],[39,2,39,3],[29,3,29,4],[42,10,42,14],[32,6,32,14],[34,6,34,14],[36,6,36,14],[29,6,29,14],[31,6,31,14],[44,4,44,14],[39,7,39,8],[5,3,6,3],[57,11,57,14],[55,2,55,14],[48,2,48,14],[50,3,50,14],[57,6,57,10],[51,3,51,14],[52,3,52,14],[54,3,54,6],[5,7,5,8],[6,10,8,14],[40,10,40,11],[40,12,40,14],[39,10,39,13],[38,12,38,14],[40,7,40,8],[27,17,28,24],[36,2,36,4],[32,17,32,24],[8,17,9,24],[23,10,23,14],[32,2,32,5],[24,12,25,12],[29,17,30,24],[3,2,3,6],[5,2,6,2],[54,7,54,14],[0,5,0,9],[4,2,4,8],[27,10,27,14],[11,12,11,14],[11,10,11,11],[4,13,4,14],[1,2,1,3],[26,12,26,14],[3,7,3,12],[5,5,6,5],[5,10,5,12],[1,4,2,12],[40,2,40,3],[20,26,21,27],[4,17,5,21],[0,26,0,27],[13,26,14,27],[15,26,16,27],[17,26,18,27],[6,26,7,26],[6,27,7,27],[3,26,3,27],[4,26,5,26],[4,27,5,27],[8,26,9,26],[8,27,9,27],[3,17,3,22]]}
[null,"印刷ボタン →",null,null,null,{"$f":"IF(M27=\"\",\"\",\"集計が完了しました。\")","v":""},null,null,null,null,null,null,null,null,null,null,null,null,null,null,null,null,null,"オブジェクトロック",null,null,{"$f":"IF($F$1=\"集計が完了しました。\",\"コンテスト、お疲れ様でした。\",\"\")","v":""}]
[null,null,{"$f":"IF(F1=\"集計が完了しました。\",\"Programming sheet by Ja3jmp\",\"\")","v":""},null,{"$f":"ハムログデータ!AC2","v":"個人情報入力シートに、個人情報を入力してください。"}]
[null,null,{"$f":"注意事項!O3","v":2024},null,null,null,null,null,null,null,null,null,null,"提出日"]
[null,null,"「滋賀2mSSB愛好会」",null,null,null,null,"主催 コンテスト用サマリーシート",null,null,null,null,null,null,null,null,null,{"$f":"IF(F27=\"\",\"\",IF($N$4=\"\",\"← 提出日を必ず入力してください。\",\"\"))","v":""},null,null,null,null,null,null,null,null,{"$f":"IF($F$1=\"集計が完了しました。\",IF(AND(AB5=\"削除なし\",AB7=\"削除なし\",AB9=\"削除なし\"),\"自動削除データはありません。\",\"下記のデータが自動削除されました。\"),\"\")","v":""}]
[null,null,{"$f":"IF(データ処理!N2=\"NG\",\"ご使用のハムログデータは、適正ではありません。\",\"\")","v":""},null,null,null,null,null,null,null,null,null,null,null,null,null,null,{"$f":"IF(K18=\"ご利用できません。\",\"\",IF(AND(N4>0,F18>0),\"提出することができます。\",\"\"))","v":""},null,null,null,null,null,null,null,null,{"$f":"IF($F$1=\"集計が完了しました。\",\"重複局データ\",\"\")","v":""},{"$f":"IF($F$1=\"集計が完了しました。\",IF(データ処理!V2>0,データ処理!V2,\"削除なし\"),\"\")","v":""}]
[null,null,"バンド","交信局数",null,"得　点",null,"マルチプライヤー",null,null,"コンテストの名称"]
[null,null,null,null,null,null,null,"日 数","テールレター",null,{"$f":"\"第\"&C3-1986&\"回 滋賀2mSSB\nアクティブコンテスト\"","v":"第38回 滋賀2mSSB\nアクティブコンテスト"},null,null,null,null,null,null,"結果表 が不要（84円切手を同封しない）の場合は、",null,null,null,null,null,null,null,null,{"$f":"IF($F$1=\"集計が完了しました。\",\"社団・記念局データ\",\"\")","v":""},{"$f":"IF($F$1=\"集計が完了しました。\",IF(データ処理!W2>0,データ処理!W2,\"削除なし\"),\"\")","v":""}]
[null,null,"1.9MHｚ"]
[null,null,"3.5MHz",null,null,null,null,null,null,null,null,null,null,null,null,null,null,"サマリーシートを PDFファイル で電子提出可能です。",null,null,null,null,null,null,null,null,{"$f":"IF($F$1=\"集計が完了しました。\",\"2mSSB以外データ\",\"\")","v":""},{"$f":"IF($F$1=\"集計が完了しました。\",IF(データ処理!X2>0,データ処理!X2,\"削除なし\"),\"\")","v":""}]
[null,null,"7MHz"]
[null,null,"10MHz",null,null,null,null,null,null,null,"参加部門および種目など"]
[null,null,"14MHz",null,null,null,null,null,null,null,"コードナンバー",null,"名　　　　　　　称",null,null,null,null,"PDFファイル化 の方法は、この サマリーシート を表示して、"]
[null,null,"18MHz",null,null,null,null,null,null,null,null,null,{"$f":"IF(K18=0,\"\",個人情報入力!D19)","v":""}]
[null,null,"21MHz",null,null,null,null,null,null,null,null,null,null,null,null,null,null,"(1) ファイルをクリックし、「名前を付けて保存」 を選択する。",null,null,null,null,null,null,null,null,{"$f":"IF($F$1=\"集計が完了しました。\",\"会員局との交信状況および、\",\"\")","v":""}]
[null,null,"24MHz"]
[null,null,"28MHz",null,null,null,null,null,null,null,null,null,null,null,null,null,null,"(2) ファイルの種類を 「PDF(*.pdf)」 を選択する。",null,null,null,null,null,null,null,null,{"$f":"IF($F$1=\"集計が完了しました。\",\"テールレターのゲット詳細内容は、\",\"\")","v":""}]
[null,null,"50MHz",null,null,null,null,null,null,null,"コールサイン"]
[null,null,"144MHz",{"$f":"データ処理!AK2","v":""},null,{"$f":"データ処理!AP2","v":""},null,{"$f":"データ処理!AN2","v":""},{"$f":"データ処理!AO2","v":""},null,{"$f":"IF(個人情報入力!I2=\"ご利用不可\",\"ご利用できません。\",個人情報入力!D11)","v":0},null,null,null,null,null,null,{"$f":"\"(3) ファイル名を 「サマリーシート\"&K18&\".pdf」 とする。\"","v":"(3) ファイル名を 「サマリーシート0.pdf」 とする。"},null,null,null,null,null,null,null,null,{"$f":"IF($F$1=\"集計が完了しました。\",\"「データ処理」 シートに表示。\",\"\")","v":""}]
[null,null,"430MHz"]
[null,null,"1200MHz",null,null,null,null,null,null,null,null,null,null,null,null,null,null,"(4) 「保存」 ボタンをクリックする。"]
[null,null,"2400MHz",null,null,null,null,null,null,null,null,null,null,null,null,null,null,null,null,null,null,null,null,null,null,null,{"$f":"IF(F1=\"集計が完了しました。\",\"「データ処理」 シートへ 👆\",\"\")","v":""}]
[null,null,"5600MHz"]
[null,null,"10.1GHz",null,null,null,null,null,null,null,null,null,null,null,null,null,null,"以上の手順で、サマリーシート の PDFファイル が作成されますので、"]
[null,null,null,null,null,null,null,null,null,null,"総得点 ＝ 得点 x 日数マルチ x テールレターマルチ"]
[null,null,null,null,null,null,null,null,null,null,null,null,"総得点",null,null,null,null,"PDFファイル を電子メールに ファイル添付 して提出してください。"]
[]
[null,null,"合　計",{"$f":"IF(SUM(D8:D26)=0,\"\",SUM(D8:D26))","v":""},null,{"$f":"IF(SUM(F8:F26)=0,\"\",SUM(F8:F26))","v":""},"×",{"$f":"IF(SUM(H8:H26)=0,\"\",SUM(H8:H26))","v":""},{"$f":"IF(SUM(I8:I26)=0,\"\",SUM(I8:I26))","v":""},{"$f":"IF(F1=\"集計が完了しました。\",\"→\",\"\")","v":""},null,null,{"$f":"IF(F27=\"\",\"\",IF(データ処理!AT2=0,\"3エリア局不在\",F27*H27*I27))","v":""}]
[null,null,null,null,null,null,null,null,null,null,null,null,null,null,null,null,null,"従来通り、プリントアウト したものを提出されても結構です。"]
[]
[null,null,"連絡先 ： 〒",{"$f":"個人情報入力!D14","v":0},null,null,{"$f":"個人情報入力!D15","v":0},null,null,null,null,null,null,null,null,null,null,"このエクセルファイルの状態のままでは、電子提出しないでください。"]
[]
[null,null,"TEL ：",null,null,null,{"$f":"個人情報入力!D16","v":0}]
[null,null,"局免許者の氏名  (社団の名称)  ：",null,null,null,{"$f":"個人情報入力!D12","v":0},null,null,null,null,null,null,null,null,null,null,"(注) 結果表は、滋賀2mSSB愛好会のHPにアップされます。"]
[]
[null,null,"E-mail ：",null,null,null,{"$f":"個人情報入力!D17","v":0}]
[]
[null,null,"局免許者の無線従事者資格 ：",null,null,null,{"$f":"個人情報入力!D13","v":0}]
[]
[null,null,null,null,null,null,null,null,null,null,"運 用 地 ："]
[null,null,"コンテスト中使用した",null,null,null,null,"　　定格出力",null,null,"　　（連絡先と同一の場合は記入不要）"]
[null,null,"最大空中線電力 ：",null,null,{"$f":"個人情報入力!D22","v":0},null,"　　実測出力",null,null,"使用電源 ：",null,{"$f":"個人情報入力!D23","v":0}]
[]
[null,null,"使用した設備 （リグ名称（自作の場合は終段管名称・個数）、空中線） ："]
[]
[null,null,null,"Rig　：",{"$f":"個人情報入力!D20","v":0}]
[null,null,null,"Ant　：",{"$f":"個人情報入力!D21","v":0}]
[]
[]
[null,null,"意見 （マルチオペ、ゲストオペの場合は、運用者のコールサイン （氏名） および無線従事者の資格を記入する）"]
[]
[null,null,null,null,null,null,null,null,null,null,null,null,null,null,null,null,null,{"$f":"IF(AND(F1=\"集計が完了しました。\",D51=\"\"),\"← 意見等コメントがあれば、左記に記入してください。\",\"\")","v":""}]
[]
[]
[]
[null,null,"　私は、",{"$f":"C4","v":"「滋賀2mSSB愛好会」"},null,null,null,"　制定のコンテスト規約及び電波法令にしたがい運用した結果、"]
[null,null,"ここに提出するサマリーシートおよびログシートなどが事実と相違ないものであることを、私の名誉において誓います。"]
[]
[null,null,null,null,null,null,"局免許者（社団の代表者）の署名",null,null,null,null,{"$f":"個人情報入力!D12","v":0}]

{"sheet":"ログシート","index":5,"n_rows":1188,"n_cols":24,"rows_kept":1188,"cut":false,"hidden":false,"merged":[[2,1,2,3],[9,6,9,10],[68,6,68,10],[127,6,127,10],[186,6,186,10],[12,4,12,5],[10,8,10,9],[66,1,66,2],[68,1,68,3],[127,1,127,3],[8,4,8,7],[422,6,422,10],[246,8,246,9],[245,6,245,10],[304,6,304,10],[363,6,363,10],[12,10,13,10],[71,10,72,10],[130,10,131,10],[12,6,12,7],[69,8,69,9],[187,8,187,9],[128,8,128,9],[364,1,364,2],[364,8,364,9],[361,1,361,2],[248,4,248,5],[304,1,304,3],[363,1,363,3],[387,0,388,0],[397,0,398,0],[407,0,408,0],[366,1,366,2],[248,6,248,7],[307,1,307,2],[307,4,307,5],[305,8,305,9],[318,0,319,0],[358,0,359,0],[359,1,359,2],[348,0,349,0],[328,0,329,0],[338,0,339,0],[305,1,305,2],[307,6,307,7],[366,4,366,5],[366,6,366,7],[200,0,201,0],[210,0,211,0],[220,0,221,0],[230,0,231,0],[240,0,241,0],[241,1,241,2],[243,1,243,2],[302,1,302,2],[299,0,300,0],[300,1,300,2],[289,0,290,0],[269,0,270,0],[279,0,280,0],[248,1,248,2],[259,0,260,0],[246,1,246,2],[245,1,245,3],[141,0,142,0],[184,1,184,2],[181,0,182,0],[182,1,182,2],[171,0,172,0],[128,1,128,2],[151,0,152,0],[161,0,162,0],[189,6,189,7],[189,1,189,2],[189,4,189,5],[130,1,130,2],[187,1,187,2],[130,4,130,5],[130,6,130,7],[186,1,186,3],[82,0,83,0],[122,0,123,0],[123,1,123,2],[112,0,113,0],[92,0,93,0],[102,0,103,0],[69,1,69,2],[71,6,71,7],[125,1,125,2],[71,1,71,2],[71,4,71,5],[63,0,64,0],[64,1,64,2],[53,0,54,0],[33,0,34,0],[43,0,44,0],[12,1,12,2],[23,0,24,0],[10,1,10,2],[9,1,9,3],[377,0,378,0],[436,0,437,0],[422,1,422,3],[418,1,418,2],[420,1,420,2],[446,0,447,0],[456,0,457,0],[417,0,418,0],[466,0,467,0],[423,1,423,2],[423,8,423,9],[425,1,425,2],[425,4,425,5],[425,6,425,7],[564,0,565,0],[541,8,541,9],[543,4,543,5],[543,6,543,7],[482,8,482,9],[484,4,484,5],[484,6,484,7],[540,6,540,10],[481,6,481,10],[574,0,575,0],[584,0,585,0],[594,0,595,0],[597,1,597,2],[595,1,595,2],[538,1,538,2],[543,1,543,2],[476,0,477,0],[477,1,477,2],[479,1,479,2],[525,0,526,0],[535,0,536,0],[536,1,536,2],[541,1,541,2],[554,0,555,0],[482,1,482,2],[495,0,496,0],[505,0,506,0],[515,0,516,0],[484,1,484,2],[481,1,481,3],[540,1,540,3],[599,1,599,3],[599,6,599,10],[600,1,600,2],[600,8,600,9],[602,1,602,2],[602,4,602,5],[602,6,602,7],[613,0,614,0],[623,0,624,0],[633,0,634,0],[643,0,644,0],[653,0,654,0],[654,1,654,2],[656,1,656,2],[658,1,658,3],[658,6,658,10],[659,1,659,2],[659,8,659,9],[661,1,661,2],[661,4,661,5],[661,6,661,7],[672,0,673,0],[682,0,683,0],[692,0,693,0],[702,0,703,0],[712,0,713,0],[713,1,713,2],[715,1,715,2],[717,1,717,3],[717,6,717,10],[718,1,718,2],[718,8,718,9],[720,1,720,2],[720,4,720,5],[720,6,720,7],[731,0,732,0],[720,10,721,10],[741,0,742,0],[751,0,752,0],[761,0,762,0],[771,0,772,0],[772,1,772,2],[774,1,774,2],[776,1,776,3],[776,6,776,10],[777,1,777,2],[777,8,777,9],[779,1,779,2],[779,4,779,5],[779,6,779,7],[790,0,791,0],[800,0,801,0],[810,0,811,0],[820,0,821,0],[830,0,831,0],[831,1,831,2],[833,1,833,2],[835,1,835,3],[835,6,835,10],[836,1,836,2],[836,8,836,9],[838,1,838,2],[838,4,838,5],[838,6,838,7],[849,0,850,0],[859,0,860,0],[869,0,870,0],[879,0,880,0],[889,0,890,0],[890,1,890,2],[892,1,892,2],[894,1,894,3],[894,6,894,10],[895,1,895,2],[895,8,895,9],[897,1,897,2],[897,4,897,5],[897,6,897,7],[908,0,909,0],[918,0,919,0],[928,0,929,0],[938,0,939,0],[948,0,949,0],[949,1,949,2],[951,1,951,2],[953,1,953,3],[953,6,953,10],[954,1,954,2],[954,8,954,9],[956,1,956,2],[956,4,956,5],[956,6,956,7],[967,0,968,0],[977,0,978,0],[987,0,988,0],[997,0,998,0],[1007,0,1008,0],[1008,1,1008,2],[1010,1,1010,2],[1012,1,1012,3],[1012,6,1012,10],[1013,1,1013,2],[1013,8,1013,9],[1074,6,1074,7],[1085,0,1086,0],[1015,1,1015,2],[1015,4,1015,5],[1015,6,1015,7],[1026,0,1027,0],[1036,0,1037,0],[1046,0,1047,0],[1056,0,1057,0],[1066,0,1067,0],[1067,1,1067,2],[1095,0,1096,0],[1105,0,1106,0],[1115,0,1116,0],[1125,0,1126,0],[1126,1,1126,2],[1128,1,1128,2],[1130,1,1130,3],[1130,6,1130,10],[1131,1,1131,2],[1131,8,1131,9],[1187,1,1187,2],[1133,1,1133,2],[1133,4,1133,5],[1133,6,1133,7],[1144,0,1145,0],[1154,0,1155,0],[1164,0,1165,0],[1174,0,1175,0],[1184,0,1185,0],[1185,1,1185,2],[0,1,0,2],[779,10,780,10],[838,10,839,10],[897,10,898,10],[956,10,957,10],[1015,10,1016,10],[1074,10,1075,10],[1133,10,1134,10],[189,10,190,10],[248,10,249,10],[307,10,308,10],[366,10,367,10],[425,10,426,10],[484,10,485,10],[543,10,544,10],[602,10,603,10],[661,10,662,10],[1069,1,1069,2],[1071,1,1071,3],[1071,6,1071,10],[1072,1,1072,2],[1072,8,1072,9],[1074,1,1074,2],[1074,4,1074,5],[0,4,0,6],[33,13,34,20],[9,13,10,17],[14,13,15,20],[17,13,18,20],[19,13,20,20],[21,13,22,20],[23,13,24,20],[25,13,26,20],[28,13,29,20],[30,13,31,20],[12,13,13,20]]}
[null,"印刷ボタン →",null,null,{"$f":"IF(E3=0,\"\",\"集計が完了しました。\")","v":""},null,null,null,null,null,null,null,null,null,null,null,null,null,null,{"$f":"IF(個人情報入力!I2=\"ご利用不可\",\"NG\",IF(個人情報入力!F12=\"使用期限切れ\",\"NG\",IF(データ処理!N2=\"NG\",\"NG\",IF(個人情報入力!$I$2=\"承　認\",\"OK\",\"NG\"))))","v":"NG"},null,null,"オブジェクトロック"]
[]
[null,{"$f":"IF(サマリーシート!M27=\"\",\"\",D11&\"様の印刷枚数は、\")","v":""},null,null,{"$f":"X37","v":0},{"$f":"IF(D15=0,\"\",\"枚です。\")","v":""},{"$f":"IF(データ処理!BK4=\"\",\"\",データ処理!BK4)","v":""},null,null,null,null,null,null,null,null,null,null,null,null,null,null,null,"95%印刷"]
[]
[]
[]
[]
[]
[null,null,null,null,{"$f":"IF(データ処理!N2=\"NG\",\"ご使用のハムログデータは、適正ではありません。\",ハムログデータ!AC2)","v":"個人情報入力シートに、個人情報を入力してください。"}]
[null,"ＬＯＧ　ＳＨＥＥＴ (ログシート）",null,null,"Year (年)",{"$f":"LEFT(注意事項!O3,4)","v":"2024"},{"$f":"サマリーシート!K7","v":"第38回 滋賀2mSSB\nアクティブコンテスト"},null,null,null,null,null,null,{"$f":"サマリーシート!R5","v":""}]
[null,"Callsign (ｺｰﾙｻｲﾝ)",null,{"$f":"サマリーシート!K18","v":0},"BAND（バンド）",144,"MHz/SSB",null,"Sheet No.",null,{"$f":"IF(E15=\"\",\"\",L14&\"/\"&$E$3)","v":""}]
[]
[null,"Date Time",null,"Station Wkd","Exchange (ｺﾝﾃｽﾄﾅﾝﾊﾞｰ)",null,"Multi.（マルチ）",null,"Pts.","Op.","備考",null,null,{"$f":"サマリーシート!R7","v":"結果表 が不要（84円切手を同封しない）の場合は、"}]
[null,"月/日","時分JST","交信局","Sent (送信)","Received (受信)","日数マルチ","テールレター","得点","運用者",null,1]
[null,{"$f":"RIGHT(データ処理!AI5,5)","v":""},{"$f":"LEFT(データ処理!AJ5,5)","v":""},{"$f":"データ処理!AK5","v":0},{"$f":"IF(データ処理!AK5=\"\",\"\",データ処理!AL5&データ処理!BE5&$G$3)","v":""},{"$f":"IF(データ処理!AK5=\"\",\"\",データ処理!AM5&データ処理!AZ5&データ処理!AR5)","v":""},{"$f":"RIGHT(データ処理!AN5,5)","v":""},{"$f":"データ処理!AO5","v":""},{"$f":"データ処理!AP5","v":""},null,null,null,null,"ログシートを PDFファイル で電子提出可能です。"]
[null,{"$f":"RIGHT(データ処理!AI6,5)","v":""},{"$f":"LEFT(データ処理!AJ6,5)","v":""},{"$f":"データ処理!AK6","v":0},{"$f":"IF(データ処理!AK6=\"\",\"\",データ処理!AL6&データ処理!BE6&$G$3)","v":""},{"$f":"IF(データ処理!AK6=\"\",\"\",データ処理!AM6&データ処理!AZ6&データ処理!AR6)","v":""},{"$f":"RIGHT(データ処理!AN6,5)","v":""},{"$f":"データ処理!AO6","v":""},{"$f":"データ処理!AP6","v":""},null,null,null,null,null,null,null,null,null,null,null,null,null,"シートNo.","引数"]
[null,{"$f":"RIGHT(データ処理!AI7,5)","v":""},{"$f":"LEFT(データ処理!AJ7,5)","v":""},{"$f":"データ処理!AK7","v":0},{"$f":"IF(データ処理!AK7=\"\",\"\",データ処理!AL7&データ処理!BE7&$G$3)","v":""},{"$f":"IF(データ処理!AK7=\"\",\"\",データ処理!AM7&データ処理!AZ7&データ処理!AR7)","v":""},{"$f":"RIGHT(データ処理!AN7,5)","v":""},{"$f":"データ処理!AO7","v":""},{"$f":"データ処理!AP7","v":""},null,null,null,null,null,null,null,null,null,null,null,null,null,1,{"$f":"IF(I65>0,1,0)","v":0}]
[null,{"$f":"RIGHT(データ処理!AI8,5)","v":""},{"$f":"LEFT(データ処理!AJ8,5)","v":""},{"$f":"データ処理!AK8","v":0},{"$f":"IF(データ処理!AK8=\"\",\"\",データ処理!AL8&データ処理!BE8&$G$3)","v":""},{"$f":"IF(データ処理!AK8=\"\",\"\",データ処理!AM8&データ処理!AZ8&データ処理!AR8)","v":""},{"$f":"RIGHT(データ処理!AN8,5)","v":""},{"$f":"データ処理!AO8","v":""},{"$f":"データ処理!AP8","v":""},null,null,null,null,"PDFファイル化 の方法は、この ログシート を表示して、",null,null,null,null,null,null,null,null,2,{"$f":"IF(I124>0,1,0)","v":0}]
[null,{"$f":"RIGHT(データ処理!AI9,5)","v":""},{"$f":"LEFT(データ処理!AJ9,5)","v":""},{"$f":"データ処理!AK9","v":0},{"$f":"IF(データ処理!AK9=\"\",\"\",データ処理!AL9&データ処理!BE9&$G$3)","v":""},{"$f":"IF(データ処理!AK9=\"\",\"\",データ処理!AM9&データ処理!AZ9&データ処理!AR9)","v":""},{"$f":"RIGHT(データ処理!AN9,5)","v":""},{"$f":"データ処理!AO9","v":""},{"$f":"データ処理!AP9","v":""},null,null,null,null,null,null,null,null,null,null,null,null,null,3,{"$f":"IF(I183>0,1,0)","v":0}]
[null,{"$f":"RIGHT(データ処理!AI10,5)","v":""},{"$f":"LEFT(データ処理!AJ10,5)","v":""},{"$f":"データ処理!AK10","v":0},{"$f":"IF(データ処理!AK10=\"\",\"\",データ処理!AL10&データ処理!BE10&$G$3)","v":""},{"$f":"IF(データ処理!AK10=\"\",\"\",データ処理!AM10&データ処理!AZ10&データ処理!AR10)","v":""},{"$f":"RIGHT(データ処理!AN10,5)","v":""},{"$f":"データ処理!AO10","v":""},{"$f":"データ処理!AP10","v":""},null,null,null,null,"(1) ファイルをクリックし、「名前を付けて保存」 を選択する。",null,null,null,null,null,null,null,null,4,{"$f":"IF(I242>0,1,0)","v":0}]
[null,{"$f":"RIGHT(データ処理!AI11,5)","v":""},{"$f":"LEFT(データ処理!AJ11,5)","v":""},{"$f":"データ処理!AK11","v":0},{"$f":"IF(データ処理!AK11=\"\",\"\",データ処理!AL11&データ処理!BE11&$G$3)","v":""},{"$f":"IF(データ処理!AK11=\"\",\"\",データ処理!AM11&データ処理!AZ11&データ処理!AR11)","v":""},{"$f":"RIGHT(データ処理!AN11,5)","v":""},{"$f":"データ処理!AO11","v":""},{"$f":"データ処理!AP11","v":""},null,null,null,null,null,null,null,null,null,null,null,null,null,5,{"$f":"IF(I301>0,1,0)","v":0}]
[null,{"$f":"RIGHT(データ処理!AI12,5)","v":""},{"$f":"LEFT(データ処理!AJ12,5)","v":""},{"$f":"データ処理!AK12","v":0},{"$f":"IF(データ処理!AK12=\"\",\"\",データ処理!AL12&データ処理!BE12&$G$3)","v":""},{"$f":"IF(データ処理!AK12=\"\",\"\",データ処理!AM12&データ処理!AZ12&データ処理!AR12)","v":""},{"$f":"RIGHT(データ処理!AN12,5)","v":""},{"$f":"データ処理!AO12","v":""},{"$f":"データ処理!AP12","v":""},null,null,null,null,"(2) ファイルの種類を 「PDF(*.pdf)」 を選択する。",null,null,null,null,null,null,null,null,6,{"$f":"IF(I360>0,1,0)","v":0}]
[null,{"$f":"RIGHT(データ処理!AI13,5)","v":""},{"$f":"LEFT(データ処理!AJ13,5)","v":""},{"$f":"データ処理!AK13","v":0},{"$f":"IF(データ処理!AK13=\"\",\"\",データ処理!AL13&データ処理!BE13&$G$3)","v":""},{"$f":"IF(データ処理!AK13=\"\",\"\",データ処理!AM13&データ処理!AZ13&データ処理!AR13)","v":""},{"$f":"RIGHT(データ処理!AN13,5)","v":""},{"$f":"データ処理!AO13","v":""},{"$f":"データ処理!AP13","v":""},null,null,null,null,null,null,null,null,null,null,null,null,null,7,{"$f":"IF(I419>0,1,0)","v":0}]
[10,{"$f":"RIGHT(データ処理!AI14,5)","v":""},{"$f":"LEFT(データ処理!AJ14,5)","v":""},{"$f":"データ処理!AK14","v":0},{"$f":"IF(データ処理!AK14=\"\",\"\",データ処理!AL14&データ処理!BE14&$G$3)","v":""},{"$f":"IF(データ処理!AK14=\"\",\"\",データ処理!AM14&データ処理!AZ14&データ処理!AR14)","v":""},{"$f":"RIGHT(データ処理!AN14,5)","v":""},{"$f":"データ処理!AO14","v":""},{"$f":"データ処理!AP14","v":""},null,null,null,null,{"$f":"\"(3) ファイル名を 「ログシート\"&D11&\".pdf」 とする。\"","v":"(3) ファイル名を 「ログシート0.pdf」 とする。"},null,null,null,null,null,null,null,null,8,{"$f":"IF(I478>0,1,0)","v":0}]
[null,{"$f":"RIGHT(データ処理!AI15,5)","v":""},{"$f":"LEFT(データ処理!AJ15,5)","v":""},{"$f":"データ処理!AK15","v":0},{"$f":"IF(データ処理!AK15=\"\",\"\",データ処理!AL15&データ処理!BE15&$G$3)","v":""},{"$f":"IF(データ処理!AK15=\"\",\"\",データ処理!AM15&データ処理!AZ15&データ処理!AR15)","v":""},{"$f":"RIGHT(データ処理!AN15,5)","v":""},{"$f":"データ処理!AO15","v":""},{"$f":"データ処理!AP15","v":""},null,null,null,null,null,null,null,null,null,null,null,null,null,9,{"$f":"IF(I537>0,1,0)","v":0}]
[null,{"$f":"RIGHT(データ処理!AI16,5)","v":""},{"$f":"LEFT(データ処理!AJ16,5)","v":""},{"$f":"データ処理!AK16","v":0},{"$f":"IF(データ処理!AK16=\"\",\"\",データ処理!AL16&データ処理!BE16&$G$3)","v":""},{"$f":"IF(データ処理!AK16=\"\",\"\",データ処理!AM16&データ処理!AZ16&データ処理!AR16)","v":""},{"$f":"RIGHT(データ処理!AN16,5)","v":""},{"$f":"データ処理!AO16","v":""},{"$f":"データ処理!AP16","v":""},null,null,null,null,"(4) 「保存」 ボタンをクリックする。",null,null,null,null,null,null,null,null,10,{"$f":"IF(I596>0,1,0)","v":0}]
[null,{"$f":"RIGHT(データ処理!AI17,5)","v":""},{"$f":"LEFT(データ処理!AJ17,5)","v":""},{"$f":"データ処理!AK17","v":0},{"$f":"IF(データ処理!AK17=\"\",\"\",データ処理!AL17&データ処理!BE17&$G$3)","v":""},{"$f":"IF(データ処理!AK17=\"\",\"\",データ処理!AM17&データ処理!AZ17&データ処理!AR17)","v":""},{"$f":"RIGHT(データ処理!AN17,5)","v":""},{"$f":"データ処理!AO17","v":""},{"$f":"データ処理!AP17","v":""},null,null,null,null,null,null,null,null,null,null,null,null,null,11,{"$f":"IF(I655>0,1,0)","v":0}]
[null,{"$f":"RIGHT(データ処理!AI18,5)","v":""},{"$f":"LEFT(データ処理!AJ18,5)","v":""},{"$f":"データ処理!AK18","v":0},{"$f":"IF(データ処理!AK18=\"\",\"\",データ処理!AL18&データ処理!BE18&$G$3)","v":""},{"$f":"IF(データ処理!AK18=\"\",\"\",データ処理!AM18&データ処理!AZ18&データ処理!AR18)","v":""},{"$f":"RIGHT(データ処理!AN18,5)","v":""},{"$f":"データ処理!AO18","v":""},{"$f":"データ処理!AP18","v":""},null,null,null,null,null,null,null,null,null,null,null,null,null,12,{"$f":"IF(I714>0,1,0)","v":0}]
[null,{"$f":"RIGHT(データ処理!AI19,5)","v":""},{"$f":"LEFT(データ処理!AJ19,5)","v":""},{"$f":"データ処理!AK19","v":0},{"$f":"IF(データ処理!AK19=\"\",\"\",データ処理!AL19&データ処理!BE19&$G$3)","v":""},{"$f":"IF(データ処理!AK19=\"\",\"\",データ処理!AM19&データ処理!AZ19&データ処理!AR19)","v":""},{"$f":"RIGHT(データ処理!AN19,5)","v":""},{"$f":"データ処理!AO19","v":""},{"$f":"データ処理!AP19","v":""},null,null,null,null,"以上の手順で、ログシート の PDFファイル が作成されますので、",null,null,null,null,null,null,null,null,13,{"$f":"IF(I773>0,1,0)","v":0}]
[null,{"$f":"RIGHT(データ処理!AI20,5)","v":""},{"$f":"LEFT(データ処理!AJ20,5)","v":""},{"$f":"データ処理!AK20","v":0},{"$f":"IF(データ処理!AK20=\"\",\"\",データ処理!AL20&データ処理!BE20&$G$3)","v":""},{"$f":"IF(データ処理!AK20=\"\",\"\",データ処理!AM20&データ処理!AZ20&データ処理!AR20)","v":""},{"$f":"RIGHT(データ処理!AN20,5)","v":""},{"$f":"データ処理!AO20","v":""},{"$f":"データ処理!AP20","v":""},null,null,null,null,null,null,null,null,null,null,null,null,null,14,{"$f":"IF(I832>0,1,0)","v":0}]
[null,{"$f":"RIGHT(データ処理!AI21,5)","v":""},{"$f":"LEFT(データ処理!AJ21,5)","v":""},{"$f":"データ処理!AK21","v":0},{"$f":"IF(データ処理!AK21=\"\",\"\",データ処理!AL21&データ処理!BE21&$G$3)","v":""},{"$f":"IF(データ処理!AK21=\"\",\"\",データ処理!AM21&データ処理!AZ21&データ処理!AR21)","v":""},{"$f":"RIGHT(データ処理!AN21,5)","v":""},{"$f":"データ処理!AO21","v":""},{"$f":"データ処理!AP21","v":""},null,null,null,null,"PDFファイル を電子メールに ファイル添付 して提出してください。",null,null,null,null,null,null,null,null,15,{"$f":"IF(I891>0,1,0)","v":0}]
[null,{"$f":"RIGHT(データ処理!AI22,5)","v":""},{"$f":"LEFT(データ処理!AJ22,5)","v":""},{"$f":"データ処理!AK22","v":0},{"$f":"IF(データ処理!AK22=\"\",\"\",データ処理!AL22&データ処理!BE22&$G$3)","v":""},{"$f":"IF(データ処理!AK22=\"\",\"\",データ処理!AM22&データ処理!AZ22&データ処理!AR22)","v":""},{"$f":"RIGHT(データ処理!AN22,5)","v":""},{"$f":"データ処理!AO22","v":""},{"$f":"データ処理!AP22","v":""},null,null,null,null,null,null,null,null,null,null,null,null,null,16,{"$f":"IF(I950>0,1,0)","v":0}]
[null,{"$f":"RIGHT(データ処理!AI23,5)","v":""},{"$f":"LEFT(データ処理!AJ23,5)","v":""},{"$f":"データ処理!AK23","v":0},{"$f":"IF(データ処理!AK23=\"\",\"\",データ処理!AL23&データ処理!BE23&$G$3)","v":""},{"$f":"IF(データ処理!AK23=\"\",\"\",データ処理!AM23&データ処理!AZ23&データ処理!AR23)","v":""},{"$f":"RIGHT(データ処理!AN23,5)","v":""},{"$f":"データ処理!AO23","v":""},{"$f":"データ処理!AP23","v":""},null,null,null,null,null,null,null,null,null,null,null,null,null,17,{"$f":"IF(I1009>0,1,0)","v":0}]
[20,{"$f":"RIGHT(データ処理!AI24,5)","v":""},{"$f":"LEFT(データ処理!AJ24,5)","v":""},{"$f":"データ処理!AK24","v":0},{"$f":"IF(データ処理!AK24=\"\",\"\",データ処理!AL24&データ処理!BE24&$G$3)","v":""},{"$f":"IF(データ処理!AK24=\"\",\"\",データ処理!AM24&データ処理!AZ24&データ処理!AR24)","v":""},{"$f":"RIGHT(データ処理!AN24,5)","v":""},{"$f":"データ処理!AO24","v":""},{"$f":"データ処理!AP24","v":""},null,null,null,null,"従来通り、プリントアウト したものを提出されても結構です。",null,null,null,null,null,null,null,null,18,{"$f":"IF(I1068>0,1,0)","v":0}]
[null,{"$f":"RIGHT(データ処理!AI25,5)","v":""},{"$f":"LEFT(データ処理!AJ25,5)","v":""},{"$f":"データ処理!AK25","v":0},{"$f":"IF(データ処理!AK25=\"\",\"\",データ処理!AL25&データ処理!BE25&$G$3)","v":""},{"$f":"IF(データ処理!AK25=\"\",\"\",データ処理!AM25&データ処理!AZ25&データ処理!AR25)","v":""},{"$f":"RIGHT(データ処理!AN25,5)","v":""},{"$f":"データ処理!AO25","v":""},{"$f":"データ処理!AP25","v":""},null,null,null,null,null,null,null,null,null,null,null,null,null,19,{"$f":"IF(I1127>0,1,0)","v":0}]
[null,{"$f":"RIGHT(データ処理!AI26,5)","v":""},{"$f":"LEFT(データ処理!AJ26,5)","v":""},{"$f":"データ処理!AK26","v":0},{"$f":"IF(データ処理!AK26=\"\",\"\",データ処理!AL26&データ処理!BE26&$G$3)","v":""},{"$f":"IF(データ処理!AK26=\"\",\"\",データ処理!AM26&データ処理!AZ26&データ処理!AR26)","v":""},{"$f":"RIGHT(データ処理!AN26,5)","v":""},{"$f":"データ処理!AO26","v":""},{"$f":"データ処理!AP26","v":""},null,null,null,null,null,null,null,null,null,null,null,null,null,20,{"$f":"IF(I1186>0,1,0)","v":0}]
[null,{"$f":"RIGHT(データ処理!AI27,5)","v":""},{"$f":"LEFT(データ処理!AJ27,5)","v":""},{"$f":"データ処理!AK27","v":0},{"$f":"IF(データ処理!AK27=\"\",\"\",データ処理!AL27&データ処理!BE27&$G$3)","v":""},{"$f":"IF(データ処理!AK27=\"\",\"\",データ処理!AM27&データ処理!AZ27&データ処理!AR27)","v":""},{"$f":"RIGHT(データ処理!AN27,5)","v":""},{"$f":"データ処理!AO27","v":""},{"$f":"データ処理!AP27","v":""},null,null,null,null,null,null,null,null,null,null,null,null,null,"計",{"$f":"SUM(X17:X36)","v":0}]
[null,{"$f":"RIGHT(データ処理!AI28,5)","v":""},{"$f":"LEFT(データ処理!AJ28,5)","v":""},{"$f":"データ処理!AK28","v":0},{"$f":"IF(データ処理!AK28=\"\",\"\",データ処理!AL28&データ処理!BE28&$G$3)","v":""},{"$f":"IF(データ処理!AK28=\"\",\"\",データ処理!AM28&データ処理!AZ28&データ処理!AR28)","v":""},{"$f":"RIGHT(データ処理!AN28,5)","v":""},{"$f":"データ処理!AO28","v":""},{"$f":"データ処理!AP28","v":""}]
[null,{"$f":"RIGHT(データ処理!AI29,5)","v":""},{"$f":"LEFT(データ処理!AJ29,5)","v":""},{"$f":"データ処理!AK29","v":0},{"$f":"IF(データ処理!AK29=\"\",\"\",データ処理!AL29&データ処理!BE29&$G$3)","v":""},{"$f":"IF(データ処理!AK29=\"\",\"\",データ処理!AM29&データ処理!AZ29&データ処理!AR29)","v":""},{"$f":"RIGHT(データ処理!AN29,5)","v":""},{"$f":"データ処理!AO29","v":""},{"$f":"データ処理!AP29","v":""}]
[null,{"$f":"RIGHT(データ処理!AI30,5)","v":""},{"$f":"LEFT(データ処理!AJ30,5)","v":""},{"$f":"データ処理!AK30","v":0},{"$f":"IF(データ処理!AK30=\"\",\"\",データ処理!AL30&データ処理!BE30&$G$3)","v":""},{"$f":"IF(データ処理!AK30=\"\",\"\",データ処理!AM30&データ処理!AZ30&データ処理!AR30)","v":""},{"$f":"RIGHT(データ処理!AN30,5)","v":""},{"$f":"データ処理!AO30","v":""},{"$f":"データ処理!AP30","v":""}]
[null,{"$f":"RIGHT(データ処理!AI31,5)","v":""},{"$f":"LEFT(データ処理!AJ31,5)","v":""},{"$f":"データ処理!AK31","v":0},{"$f":"IF(データ処理!AK31=\"\",\"\",データ処理!AL31&データ処理!BE31&$G$3)","v":""},{"$f":"IF(データ処理!AK31=\"\",\"\",データ処理!AM31&データ処理!AZ31&データ処理!AR31)","v":""},{"$f":"RIGHT(データ処理!AN31,5)","v":""},{"$f":"データ処理!AO31","v":""},{"$f":"データ処理!AP31","v":""}]
[null,{"$f":"RIGHT(データ処理!AI32,5)","v":""},{"$f":"LEFT(データ処理!AJ32,5)","v":""},{"$f":"データ処理!AK32","v":0},{"$f":"IF(データ処理!AK32=\"\",\"\",データ処理!AL32&データ処理!BE32&$G$3)","v":""},{"$f":"IF(データ処理!AK32=\"\",\"\",データ処理!AM32&データ処理!AZ32&データ処理!AR32)","v":""},{"$f":"RIGHT(データ処理!AN32,5)","v":""},{"$f":"データ処理!AO32","v":""},{"$f":"データ処理!AP32","v":""}]
[null,{"$f":"RIGHT(データ処理!AI33,5)","v":""},{"$f":"LEFT(データ処理!AJ33,5)","v":""},{"$f":"データ処理!AK33","v":0},{"$f":"IF(データ処理!AK33=\"\",\"\",データ処理!AL33&データ処理!BE33&$G$3)","v":""},{"$f":"IF(データ処理!AK33=\"\",\"\",データ処理!AM33&データ処理!AZ33&データ処理!AR33)","v":""},{"$f":"RIGHT(データ処理!AN33,5)","v":""},{"$f":"データ処理!AO33","v":""},{"$f":"データ処理!AP33","v":""}]
[30,{"$f":"RIGHT(データ処理!AI34,5)","v":""},{"$f":"LEFT(データ処理!AJ34,5)","v":""},{"$f":"データ処理!AK34","v":0},{"$f":"IF(データ処理!AK34=\"\",\"\",データ処理!AL34&データ処理!BE34&$G$3)","v":""},{"$f":"IF(データ処理!AK34=\"\",\"\",データ処理!AM34&データ処理!AZ34&データ処理!AR34)","v":""},{"$f":"RIGHT(データ処理!AN34,5)","v":""},{"$f":"データ処理!AO34","v":""},{"$f":"データ処理!AP34","v":""}]
[null,{"$f":"RIGHT(データ処理!AI35,5)","v":""},{"$f":"LEFT(データ処理!AJ35,5)","v":""},{"$f":"データ処理!AK35","v":0},{"$f":"IF(データ処理!AK35=\"\",\"\",データ処理!AL35&データ処理!BE35&$G$3)","v":""},{"$f":"IF(データ処理!AK35=\"\",\"\",データ処理!AM35&データ処理!AZ35&データ処理!AR35)","v":""},{"$f":"RIGHT(データ処理!AN35,5)","v":""},{"$f":"データ処理!AO35","v":""},{"$f":"データ処理!AP35","v":""}]
[null,{"$f":"RIGHT(データ処理!AI36,5)","v":""},{"$f":"LEFT(データ処理!AJ36,5)","v":""},{"$f":"データ処理!AK36","v":0},{"$f":"IF(データ処理!AK36=\"\",\"\",データ処理!AL36&データ処理!BE36&$G$3)","v":""},{"$f":"IF(データ処理!AK36=\"\",\"\",データ処理!AM36&データ処理!AZ36&データ処理!AR36)","v":""},{"$f":"RIGHT(データ処理!AN36,5)","v":""},{"$f":"データ処理!AO36","v":""},{"$f":"データ処理!AP36","v":""}]
[null,{"$f":"RIGHT(データ処理!AI37,5)","v":""},{"$f":"LEFT(データ処理!AJ37,5)","v":""},{"$f":"データ処理!AK37","v":0},{"$f":"IF(データ処理!AK37=\"\",\"\",データ処理!AL37&データ処理!BE37&$G$3)","v":""},{"$f":"IF(データ処理!AK37=\"\",\"\",データ処理!AM37&データ処理!AZ37&データ処理!AR37)","v":""},{"$f":"RIGHT(データ処理!AN37,5)","v":""},{"$f":"データ処理!AO37","v":""},{"$f":"データ処理!AP37","v":""}]
[null,{"$f":"RIGHT(データ処理!AI38,5)","v":""},{"$f":"LEFT(データ処理!AJ38,5)","v":""},{"$f":"データ処理!AK38","v":0},{"$f":"IF(データ処理!AK38=\"\",\"\",データ処理!AL38&データ処理!BE38&$G$3)","v":""},{"$f":"IF(データ処理!AK38=\"\",\"\",データ処理!AM38&データ処理!AZ38&データ処理!AR38)","v":""},{"$f":"RIGHT(データ処理!AN38,5)","v":""},{"$f":"データ処理!AO38","v":""},{"$f":"データ処理!AP38","v":""}]
[null,{"$f":"RIGHT(データ処理!AI39,5)","v":""},{"$f":"LEFT(データ処理!AJ39,5)","v":""},{"$f":"データ処理!AK39","v":0},{"$f":"IF(データ処理!AK39=\"\",\"\",データ処理!AL39&データ処理!BE39&$G$3)","v":""},{"$f":"IF(データ処理!AK39=\"\",\"\",データ処理!AM39&データ処理!AZ39&データ処理!AR39)","v":""},{"$f":"RIGHT(データ処理!AN39,5)","v":""},{"$f":"データ処理!AO39","v":""},{"$f":"データ処理!AP39","v":""}]
[null,{"$f":"RIGHT(データ処理!AI40,5)","v":""},{"$f":"LEFT(データ処理!AJ40,5)","v":""},{"$f":"データ処理!AK40","v":0},{"$f":"IF(データ処理!AK40=\"\",\"\",データ処理!AL40&データ処理!BE40&$G$3)","v":""},{"$f":"IF(データ処理!AK40=\"\",\"\",データ処理!AM40&データ処理!AZ40&データ処理!AR40)","v":""},{"$f":"RIGHT(データ処理!AN40,5)","v":""},{"$f":"データ処理!AO40","v":""},{"$f":"データ処理!AP40","v":""}]
[null,{"$f":"RIGHT(データ処理!AI41,5)","v":""},{"$f":"LEFT(データ処理!AJ41,5)","v":""},{"$f":"データ処理!AK41","v":0},{"$f":"IF(データ処理!AK41=\"\",\"\",データ処理!AL41&データ処理!BE41&$G$3)","v":""},{"$f":"IF(データ処理!AK41=\"\",\"\",データ処理!AM41&データ処理!AZ41&データ処理!AR41)","v":""},{"$f":"RIGHT(データ処理!AN41,5)","v":""},{"$f":"データ処理!AO41","v":""},{"$f":"データ処理!AP41","v":""}]
[null,{"$f":"RIGHT(データ処理!AI42,5)","v":""},{"$f":"LEFT(データ処理!AJ42,5)","v":""},{"$f":"データ処理!AK42","v":0},{"$f":"IF(データ処理!AK42=\"\",\"\",データ処理!AL42&データ処理!BE42&$G$3)","v":""},{"$f":"IF(データ処理!AK42=\"\",\"\",データ処理!AM42&データ処理!AZ42&データ処理!AR42)","v":""},{"$f":"RIGHT(データ処理!AN42,5)","v":""},{"$f":"データ処理!AO42","v":""},{"$f":"データ処理!AP42","v":""}]
[null,{"$f":"RIGHT(データ処理!AI43,5)","v":""},{"$f":"LEFT(データ処理!AJ43,5)","v":""},{"$f":"データ処理!AK43","v":0},{"$f":"IF(データ処理!AK43=\"\",\"\",データ処理!AL43&データ処理!BE43&$G$3)","v":""},{"$f":"IF(データ処理!AK43=\"\",\"\",データ処理!AM43&データ処理!AZ43&データ処理!AR43)","v":""},{"$f":"RIGHT(データ処理!AN43,5)","v":""},{"$f":"データ処理!AO43","v":""},{"$f":"データ処理!AP43","v":""}]
[40,{"$f":"RIGHT(データ処理!AI44,5)","v":""},{"$f":"LEFT(データ処理!AJ44,5)","v":""},{"$f":"データ処理!AK44","v":0},{"$f":"IF(データ処理!AK44=\"\",\"\",データ処理!AL44&データ処理!BE44&$G$3)","v":""},{"$f":"IF(データ処理!AK44=\"\",\"\",データ処理!AM44&データ処理!AZ44&データ処理!AR44)","v":""},{"$f":"RIGHT(データ処理!AN44,5)","v":""},{"$f":"データ処理!AO44","v":""},{"$f":"データ処理!AP44","v":""}]
[null,{"$f":"RIGHT(データ処理!AI45,5)","v":""},{"$f":"LEFT(データ処理!AJ45,5)","v":""},{"$f":"データ処理!AK45","v":0},{"$f":"IF(データ処理!AK45=\"\",\"\",データ処理!AL45&データ処理!BE45&$G$3)","v":""},{"$f":"IF(データ処理!AK45=\"\",\"\",データ処理!AM45&データ処理!AZ45&データ処理!AR45)","v":""},{"$f":"RIGHT(データ処理!AN45,5)","v":""},{"$f":"データ処理!AO45","v":""},{"$f":"データ処理!AP45","v":""}]
[null,{"$f":"RIGHT(データ処理!AI46,5)","v":""},{"$f":"LEFT(データ処理!AJ46,5)","v":""},{"$f":"データ処理!AK46","v":0},{"$f":"IF(データ処理!AK46=\"\",\"\",データ処理!AL46&データ処理!BE46&$G$3)","v":""},{"$f":"IF(データ処理!AK46=\"\",\"\",データ処理!AM46&データ処理!AZ46&データ処理!AR46)","v":""},{"$f":"RIGHT(データ処理!AN46,5)","v":""},{"$f":"データ処理!AO46","v":""},{"$f":"データ処理!AP46","v":""}]
[null,{"$f":"RIGHT(データ処理!AI47,5)","v":""},{"$f":"LEFT(データ処理!AJ47,5)","v":""},{"$f":"データ処理!AK47","v":0},{"$f":"IF(データ処理!AK47=\"\",\"\",データ処理!AL47&データ処理!BE47&$G$3)","v":""},{"$f":"IF(データ処理!AK47=\"\",\"\",データ処理!AM47&データ処理!AZ47&データ処理!AR47)","v":""},{"$f":"RIGHT(データ処理!AN47,5)","v":""},{"$f":"データ処理!AO47","v":""},{"$f":"データ処理!AP47","v":""}]
[null,{"$f":"RIGHT(データ処理!AI48,5)","v":""},{"$f":"LEFT(データ処理!AJ48,5)","v":""},{"$f":"データ処理!AK48","v":0},{"$f":"IF(データ処理!AK48=\"\",\"\",データ処理!AL48&データ処理!BE48&$G$3)","v":""},{"$f":"IF(データ処理!AK48=\"\",\"\",データ処理!AM48&データ処理!AZ48&データ処理!AR48)","v":""},{"$f":"RIGHT(データ処理!AN48,5)","v":""},{"$f":"データ処理!AO48","v":""},{"$f":"データ処理!AP48","v":""}]
[null,{"$f":"RIGHT(データ処理!AI49,5)","v":""},{"$f":"LEFT(データ処理!AJ49,5)","v":""},{"$f":"データ処理!AK49","v":0},{"$f":"IF(データ処理!AK49=\"\",\"\",データ処理!AL49&データ処理!BE49&$G$3)","v":""},{"$f":"IF(データ処理!AK49=\"\",\"\",データ処理!AM49&データ処理!AZ49&データ処理!AR49)","v":""},{"$f":"RIGHT(データ処理!AN49,5)","v":""},{"$f":"データ処理!AO49","v":""},{"$f":"データ処理!AP49","v":""}]
[null,{"$f":"RIGHT(データ処理!AI50,5)","v":""},{"$f":"LEFT(データ処理!AJ50,5)","v":""},{"$f":"データ処理!AK50","v":0},{"$f":"IF(データ処理!AK50=\"\",\"\",データ処理!AL50&データ処理!BE50&$G$3)","v":""},{"$f":"IF(データ処理!AK50=\"\",\"\",データ処理!AM50&データ処理!AZ50&データ処理!AR50)","v":""},{"$f":"RIGHT(データ処理!AN50,5)","v":""},{"$f":"データ処理!AO50","v":""},{"$f":"データ処理!AP50","v":""}]
[null,{"$f":"RIGHT(データ処理!AI51,5)","v":""},{"$f":"LEFT(データ処理!AJ51,5)","v":""},{"$f":"データ処理!AK51","v":0},{"$f":"IF(データ処理!AK51=\"\",\"\",データ処理!AL51&データ処理!BE51&$G$3)","v":""},{"$f":"IF(データ処理!AK51=\"\",\"\",データ処理!AM51&データ処理!AZ51&データ処理!AR51)","v":""},{"$f":"RIGHT(データ処理!AN51,5)","v":""},{"$f":"データ処理!AO51","v":""},{"$f":"データ処理!AP51","v":""}]
[null,{"$f":"RIGHT(データ処理!AI52,5)","v":""},{"$f":"LEFT(データ処理!AJ52,5)","v":""},{"$f":"データ処理!AK52","v":0},{"$f":"IF(データ処理!AK52=\"\",\"\",データ処理!AL52&データ処理!BE52&$G$3)","v":""},{"$f":"IF(データ処理!AK52=\"\",\"\",データ処理!AM52&データ処理!AZ52&データ処理!AR52)","v":""},{"$f":"RIGHT(データ処理!AN52,5)","v":""},{"$f":"データ処理!AO52","v":""},{"$f":"データ処理!AP52","v":""}]
[null,{"$f":"RIGHT(データ処理!AI53,5)","v":""},{"$f":"LEFT(データ処理!AJ53,5)","v":""},{"$f":"データ処理!AK53","v":0},{"$f":"IF(データ処理!AK53=\"\",\"\",データ処理!AL53&データ処理!BE53&$G$3)","v":""},{"$f":"IF(データ処理!AK53=\"\",\"\",データ処理!AM53&データ処理!AZ53&データ処理!AR53)","v":""},{"$f":"RIGHT(データ処理!AN53,5)","v":""},{"$f":"データ処理!AO53","v":""},{"$f":"データ処理!AP53","v":""}]
[50,{"$f":"RIGHT(データ処理!AI54,5)","v":""},{"$f":"LEFT(データ処理!AJ54,5)","v":""},{"$f":"データ処理!AK54","v":0},{"$f":"IF(データ処理!AK54=\"\",\"\",データ処理!AL54&データ処理!BE54&$G$3)","v":""},{"$f":"IF(データ処理!AK54=\"\",\"\",データ処理!AM54&データ処理!AZ54&データ処理!AR54)","v":""},{"$f":"RIGHT(データ処理!AN54,5)","v":""},{"$f":"データ処理!AO54","v":""},{"$f":"データ処理!AP54","v":""}]
[null,"Total  (合計)",null,{"$f":"COUNTIF(B15:B64,\"*/*\")","v":0},null,"Total  (合計)",{"$f":"COUNTIF(G15:G64,\"*/*\")","v":0},{"$f":"50-COUNTBLANK(H15:H64)","v":0},{"$f":"SUM(I15:I64)","v":0}]
[]
[null,"総 合 計",null,{"$f":"D65","v":0},null,"総 合 計",{"$f":"G65","v":0},{"$f":"H65","v":0},{"$f":"I65","v":0}]
[]
[null,"ＬＯＧ　ＳＨＥＥＴ (ログシート）",null,null,"Year (年)",{"$f":"$F$10","v":"2024"},{"$f":"$G$10","v":"第38回 滋賀2mSSB\nアクティブコンテスト"}]
[null,"Callsign (ｺｰﾙｻｲﾝ)",null,{"$f":"$D$11","v":0},"BAND（バンド）",{"$f":"$F$11","v":144},"MHz/SSB",null,"Sheet No.",null,{"$f":"IF(E74=\"\",\"\",L73&\"/\"&$E$3)","v":""}]
[]
[null,"Date Time",null,"Station Wkd","Exchange (ｺﾝﾃｽﾄﾅﾝﾊﾞｰ)",null,"Multi.（マルチ）",null,"Pts.","Op.","備考"]
[null,"月/日","時分JST","交信局","Sent (送信)","Received (受信)","日数マルチ","テールレター","得点","運用者",null,2]
[null,{"$f":"RIGHT(データ処理!AI55,5)","v":""},{"$f":"LEFT(データ処理!AJ55,5)","v":""},{"$f":"データ処理!AK55","v":0},{"$f":"IF(データ処理!AK55=\"\",\"\",データ処理!AL55&データ処理!BE55&$G$3)","v":""},{"$f":"IF(データ処理!AK55=\"\",\"\",データ処理!AM55&データ処理!AZ55&データ処理!AR55)","v":""},{"$f":"RIGHT(データ処理!AN55,5)","v":""},{"$f":"データ処理!AO55","v":""},{"$f":"データ処理!AP55","v":""}]
[null,{"$f":"RIGHT(データ処理!AI56,5)","v":""},{"$f":"LEFT(データ処理!AJ56,5)","v":""},{"$f":"データ処理!AK56","v":0},{"$f":"IF(データ処理!AK56=\"\",\"\",データ処理!AL56&データ処理!BE56&$G$3)","v":""},{"$f":"IF(データ処理!AK56=\"\",\"\",データ処理!AM56&データ処理!AZ56&データ処理!AR56)","v":""},{"$f":"RIGHT(データ処理!AN56,5)","v":""},{"$f":"データ処理!AO56","v":""},{"$f":"データ処理!AP56","v":""}]
[null,{"$f":"RIGHT(データ処理!AI57,5)","v":""},{"$f":"LEFT(データ処理!AJ57,5)","v":""},{"$f":"データ処理!AK57","v":0},{"$f":"IF(データ処理!AK57=\"\",\"\",データ処理!AL57&データ処理!BE57&$G$3)","v":""},{"$f":"IF(データ処理!AK57=\"\",\"\",データ処理!AM57&データ処理!AZ57&データ処理!AR57)","v":""},{"$f":"RIGHT(データ処理!AN57,5)","v":""},{"$f":"データ処理!AO57","v":""},{"$f":"データ処理!AP57","v":""}]
[null,{"$f":"RIGHT(データ処理!AI58,5)","v":""},{"$f":"LEFT(データ処理!AJ58,5)","v":""},{"$f":"データ処理!AK58","v":0},{"$f":"IF(データ処理!AK58=\"\",\"\",データ処理!AL58&データ処理!BE58&$G$3)","v":""},{"$f":"IF(データ処理!AK58=\"\",\"\",データ処理!AM58&データ処理!AZ58&データ処理!AR58)","v":""},{"$f":"RIGHT(データ処理!AN58,5)","v":""},{"$f":"データ処理!AO58","v":""},{"$f":"データ処理!AP58","v":""}]
[null,{"$f":"RIGHT(データ処理!AI59,5)","v":""},{"$f":"LEFT(データ処理!AJ59,5)","v":""},{"$f":"データ処理!AK59","v":0},{"$f":"IF(データ処理!AK59=\"\",\"\",データ処理!AL59&データ処理!BE59&$G$3)","v":""},{"$f":"IF(データ処理!AK59=\"\",\"\",データ処理!AM59&データ処理!AZ59&データ処理!AR59)","v":""},{"$f":"RIGHT(データ処理!AN59,5)","v":""},{"$f":"データ処理!AO59","v":""},{"$f":"データ処理!AP59","v":""}]
[null,{"$f":"RIGHT(データ処理!AI60,5)","v":""},{"$f":"LEFT(データ処理!AJ60,5)","v":""},{"$f":"データ処理!AK60","v":0},{"$f":"IF(データ処理!AK60=\"\",\"\",データ処理!AL60&データ処理!BE60&$G$3)","v":""},{"$f":"IF(データ処理!AK60=\"\",\"\",データ処理!AM60&データ処理!AZ60&データ処理!AR60)","v":""},{"$f":"RIGHT(データ処理!AN60,5)","v":""},{"$f":"データ処理!AO60","v":""},{"$f":"データ処理!AP60","v":""}]
[null,{"$f":"RIGHT(データ処理!AI61,5)","v":""},{"$f":"LEFT(データ処理!AJ61,5)","v":""},{"$f":"データ処理!AK61","v":0},{"$f":"IF(データ処理!AK61=\"\",\"\",データ処理!AL61&データ処理!BE61&$G$3)","v":""},{"$f":"IF(データ処理!AK61=\"\",\"\",データ処理!AM61&データ処理!AZ61&データ処理!AR61)","v":""},{"$f":"RIGHT(データ処理!AN61,5)","v":""},{"$f":"データ処理!AO61","v":""},{"$f":"データ処理!AP61","v":""}]
[null,{"$f":"RIGHT(データ処理!AI62,5)","v":""},{"$f":"LEFT(データ処理!AJ62,5)","v":""},{"$f":"データ処理!AK62","v":0},{"$f":"IF(データ処理!AK62=\"\",\"\",データ処理!AL62&データ処理!BE62&$G$3)","v":""},{"$f":"IF(データ処理!AK62=\"\",\"\",データ処理!AM62&データ処理!AZ62&データ処理!AR62)","v":""},{"$f":"RIGHT(データ処理!AN62,5)","v":""},{"$f":"データ処理!AO62","v":""},{"$f":"データ処理!AP62","v":""}]
[null,{"$f":"RIGHT(データ処理!AI63,5)","v":""},{"$f":"LEFT(データ処理!AJ63,5)","v":""},{"$f":"データ処理!AK63","v":0},{"$f":"IF(データ処理!AK63=\"\",\"\",データ処理!AL63&データ処理!BE63&$G$3)","v":""},{"$f":"IF(データ処理!AK63=\"\",\"\",データ処理!AM63&データ処理!AZ63&データ処理!AR63)","v":""},{"$f":"RIGHT(データ処理!AN63,5)","v":""},{"$f":"データ処理!AO63","v":""},{"$f":"データ処理!AP63","v":""}]
[10,{"$f":"RIGHT(データ処理!AI64,5)","v":""},{"$f":"LEFT(データ処理!AJ64,5)","v":""},{"$f":"データ処理!AK64","v":0},{"$f":"IF(データ処理!AK64=\"\",\"\",データ処理!AL64&データ処理!BE64&$G$3)","v":""},{"$f":"IF(データ処理!AK64=\"\",\"\",データ処理!AM64&データ処理!AZ64&データ処理!AR64)","v":""},{"$f":"RIGHT(データ処理!AN64,5)","v":""},{"$f":"データ処理!AO64","v":""},{"$f":"データ処理!AP64","v":""}]
[null,{"$f":"RIGHT(データ処理!AI65,5)","v":""},{"$f":"LEFT(データ処理!AJ65,5)","v":""},{"$f":"データ処理!AK65","v":0},{"$f":"IF(データ処理!AK65=\"\",\"\",データ処理!AL65&データ処理!BE65&$G$3)","v":""},{"$f":"IF(データ処理!AK65=\"\",\"\",データ処理!AM65&データ処理!AZ65&データ処理!AR65)","v":""},{"$f":"RIGHT(データ処理!AN65,5)","v":""},{"$f":"データ処理!AO65","v":""},{"$f":"データ処理!AP65","v":""}]
[null,{"$f":"RIGHT(データ処理!AI66,5)","v":""},{"$f":"LEFT(データ処理!AJ66,5)","v":""},{"$f":"データ処理!AK66","v":0},{"$f":"IF(データ処理!AK66=\"\",\"\",データ処理!AL66&データ処理!BE66&$G$3)","v":""},{"$f":"IF(データ処理!AK66=\"\",\"\",データ処理!AM66&データ処理!AZ66&データ処理!AR66)","v":""},{"$f":"RIGHT(データ処理!AN66,5)","v":""},{"$f":"データ処理!AO66","v":""},{"$f":"データ処理!AP66","v":""}]
[null,{"$f":"RIGHT(データ処理!AI67,5)","v":""},{"$f":"LEFT(データ処理!AJ67,5)","v":""},{"$f":"データ処理!AK67","v":0},{"$f":"IF(データ処理!AK67=\"\",\"\",データ処理!AL67&データ処理!BE67&$G$3)","v":""},{"$f":"IF(データ処理!AK67=\"\",\"\",データ処理!AM67&データ処理!AZ67&データ処理!AR67)","v":""},{"$f":"RIGHT(データ処理!AN67,5)","v":""},{"$f":"データ処理!AO67","v":""},{"$f":"データ処理!AP67","v":""}]
[null,{"$f":"RIGHT(データ処理!AI68,5)","v":""},{"$f":"LEFT(データ処理!AJ68,5)","v":""},{"$f":"データ処理!AK68","v":0},{"$f":"IF(データ処理!AK68=\"\",\"\",データ処理!AL68&データ処理!BE68&$G$3)","v":""},{"$f":"IF(データ処理!AK68=\"\",\"\",データ処理!AM68&データ処理!AZ68&データ処理!AR68)","v":""},{"$f":"RIGHT(データ処理!AN68,5)","v":""},{"$f":"データ処理!AO68","v":""},{"$f":"データ処理!AP68","v":""}]
[null,{"$f":"RIGHT(データ処理!AI69,5)","v":""},{"$f":"LEFT(データ処理!AJ69,5)","v":""},{"$f":"データ処理!AK69","v":0},{"$f":"IF(データ処理!AK69=\"\",\"\",データ処理!AL69&データ処理!BE69&$G$3)","v":""},{"$f":"IF(データ処理!AK69=\"\",\"\",データ処理!AM69&データ処理!AZ69&データ処理!AR69)","v":""},{"$f":"RIGHT(データ処理!AN69,5)","v":""},{"$f":"データ処理!AO69","v":""},{"$f":"データ処理!AP69","v":""}]
[null,{"$f":"RIGHT(データ処理!AI70,5)","v":""},{"$f":"LEFT(データ処理!AJ70,5)","v":""},{"$f":"データ処理!AK70","v":0},{"$f":"IF(データ処理!AK70=\"\",\"\",データ処理!AL70&データ処理!BE70&$G$3)","v":""},{"$f":"IF(データ処理!AK70=\"\",\"\",データ処理!AM70&データ処理!AZ70&データ処理!AR70)","v":""},{"$f":"RIGHT(データ処理!AN70,5)","v":""},{"$f":"データ処理!AO70","v":""},{"$f":"データ処理!AP70","v":""}]
[null,{"$f":"RIGHT(データ処理!AI71,5)","v":""},{"$f":"LEFT(データ処理!AJ71,5)","v":""},{"$f":"データ処理!AK71","v":0},{"$f":"IF(データ処理!AK71=\"\",\"\",データ処理!AL71&データ処理!BE71&$G$3)","v":""},{"$f":"IF(データ処理!AK71=\"\",\"\",データ処理!AM71&データ処理!AZ71&データ処理!AR71)","v":""},{"$f":"RIGHT(データ処理!AN71,5)","v":""},{"$f":"データ処理!AO71","v":""},{"$f":"データ処理!AP71","v":""}]
[null,{"$f":"RIGHT(データ処理!AI72,5)","v":""},{"$f":"LEFT(データ処理!AJ72,5)","v":""},{"$f":"データ処理!AK72","v":0},{"$f":"IF(データ処理!AK72=\"\",\"\",データ処理!AL72&データ処理!BE72&$G$3)","v":""},{"$f":"IF(データ処理!AK72=\"\",\"\",データ処理!AM72&データ処理!AZ72&データ処理!AR72)","v":""},{"$f":"RIGHT(データ処理!AN72,5)","v":""},{"$f":"データ処理!AO72","v":""},{"$f":"データ処理!AP72","v":""}]
[null,{"$f":"RIGHT(データ処理!AI73,5)","v":""},{"$f":"LEFT(データ処理!AJ73,5)","v":""},{"$f":"データ処理!AK73","v":0},{"$f":"IF(データ処理!AK73=\"\",\"\",データ処理!AL73&データ処理!BE73&$G$3)","v":""},{"$f":"IF(データ処理!AK73=\"\",\"\",データ処理!AM73&データ処理!AZ73&データ処理!AR73)","v":""},{"$f":"RIGHT(データ処理!AN73,5)","v":""},{"$f":"データ処理!AO73","v":""},{"$f":"データ処理!AP73","v":""}]
[20,{"$f":"RIGHT(データ処理!AI74,5)","v":""},{"$f":"LEFT(データ処理!AJ74,5)","v":""},{"$f":"データ処理!AK74","v":0},{"$f":"IF(データ処理!AK74=\"\",\"\",データ処理!AL74&データ処理!BE74&$G$3)","v":""},{"$f":"IF(データ処理!AK74=\"\",\"\",データ処理!AM74&データ処理!AZ74&データ処理!AR74)","v":""},{"$f":"RIGHT(データ処理!AN74,5)","v":""},{"$f":"データ処理!AO74","v":""},{"$f":"データ処理!AP74","v":""}]
[null,{"$f":"RIGHT(データ処理!AI75,5)","v":""},{"$f":"LEFT(データ処理!AJ75,5)","v":""},{"$f":"データ処理!AK75","v":0},{"$f":"IF(データ処理!AK75=\"\",\"\",データ処理!AL75&データ処理!BE75&$G$3)","v":""},{"$f":"IF(データ処理!AK75=\"\",\"\",データ処理!AM75&データ処理!AZ75&データ処理!AR75)","v":""},{"$f":"RIGHT(データ処理!AN75,5)","v":""},{"$f":"データ処理!AO75","v":""},{"$f":"データ処理!AP75","v":""}]
[null,{"$f":"RIGHT(データ処理!AI76,5)","v":""},{"$f":"LEFT(データ処理!AJ76,5)","v":""},{"$f":"データ処理!AK76","v":0},{"$f":"IF(データ処理!AK76=\"\",\"\",データ処理!AL76&データ処理!BE76&$G$3)","v":""},{"$f":"IF(データ処理!AK76=\"\",\"\",データ処理!AM76&データ処理!AZ76&データ処理!AR76)","v":""},{"$f":"RIGHT(データ処理!AN76,5)","v":""},{"$f":"データ処理!AO76","v":""},{"$f":"データ処理!AP76","v":""}]
[null,{"$f":"RIGHT(データ処理!AI77,5)","v":""},{"$f":"LEFT(データ処理!AJ77,5)","v":""},{"$f":"データ処理!AK77","v":0},{"$f":"IF(データ処理!AK77=\"\",\"\",データ処理!AL77&データ処理!BE77&$G$3)","v":""},{"$f":"IF(データ処理!AK77=\"\",\"\",データ処理!AM77&データ処理!AZ77&データ処理!AR77)","v":""},{"$f":"RIGHT(データ処理!AN77,5)","v":""},{"$f":"データ処理!AO77","v":""},{"$f":"データ処理!AP77","v":""}]
[null,{"$f":"RIGHT(データ処理!AI78,5)","v":""},{"$f":"LEFT(データ処理!AJ78,5)","v":""},{"$f":"データ処理!AK78","v":0},{"$f":"IF(データ処理!AK78=\"\",\"\",データ処理!AL78&データ処理!BE78&$G$3)","v":""},{"$f":"IF(データ処理!AK78=\"\",\"\",データ処理!AM78&データ処理!AZ78&データ処理!AR78)","v":""},{"$f":"RIGHT(データ処理!AN78,5)","v":""},{"$f":"データ処理!AO78","v":""},{"$f":"データ処理!AP78","v":""}]
[null,{"$f":"RIGHT(データ処理!AI79,5)","v":""},{"$f":"LEFT(データ処理!AJ79,5)","v":""},{"$f":"データ処理!AK79","v":0},{"$f":"IF(データ処理!AK79=\"\",\"\",データ処理!AL79&データ処理!BE79&$G$3)","v":""},{"$f":"IF(データ処理!AK79=\"\",\"\",データ処理!AM79&データ処理!AZ79&データ処理!AR79)","v":""},{"$f":"RIGHT(データ処理!AN79,5)","v":""},{"$f":"データ処理!AO79","v":""},{"$f":"データ処理!AP79","v":""}]
[null,{"$f":"RIGHT(データ処理!AI80,5)","v":""},{"$f":"LEFT(データ処理!AJ80,5)","v":""},{"$f":"データ処理!AK80","v":0},{"$f":"IF(データ処理!AK80=\"\",\"\",データ処理!AL80&データ処理!BE80&$G$3)","v":""},{"$f":"IF(データ処理!AK80=\"\",\"\",データ処理!AM80&データ処理!AZ80&データ処理!AR80)","v":""},{"$f":"RIGHT(データ処理!AN80,5)","v":""},{"$f":"データ処理!AO80","v":""},{"$f":"データ処理!AP80","v":""}]
[null,{"$f":"RIGHT(データ処理!AI81,5)","v":""},{"$f":"LEFT(データ処理!AJ81,5)","v":""},{"$f":"データ処理!AK81","v":0},{"$f":"IF(データ処理!AK81=\"\",\"\",データ処理!AL81&データ処理!BE81&$G$3)","v":""},{"$f":"IF(データ処理!AK81=\"\",\"\",データ処理!AM81&データ処理!AZ81&データ処理!AR81)","v":""},{"$f":"RIGHT(データ処理!AN81,5)","v":""},{"$f":"データ処理!AO81","v":""},{"$f":"データ処理!AP81","v":""}]
[null,{"$f":"RIGHT(データ処理!AI82,5)","v":""},{"$f":"LEFT(データ処理!AJ82,5)","v":""},{"$f":"データ処理!AK82","v":0},{"$f":"IF(データ処理!AK82=\"\",\"\",データ処理!AL82&データ処理!BE82&$G$3)","v":""},{"$f":"IF(データ処理!AK82=\"\",\"\",データ処理!AM82&データ処理!AZ82&データ処理!AR82)","v":""},{"$f":"RIGHT(データ処理!AN82,5)","v":""},{"$f":"データ処理!AO82","v":""},{"$f":"データ処理!AP82","v":""}]
[null,{"$f":"RIGHT(データ処理!AI83,5)","v":""},{"$f":"LEFT(データ処理!AJ83,5)","v":""},{"$f":"データ処理!AK83","v":0},{"$f":"IF(データ処理!AK83=\"\",\"\",データ処理!AL83&データ処理!BE83&$G$3)","v":""},{"$f":"IF(データ処理!AK83=\"\",\"\",データ処理!AM83&データ処理!AZ83&データ処理!AR83)","v":""},{"$f":"RIGHT(データ処理!AN83,5)","v":""},{"$f":"データ処理!AO83","v":""},{"$f":"データ処理!AP83","v":""}]
[30,{"$f":"RIGHT(データ処理!AI84,5)","v":""},{"$f":"LEFT(データ処理!AJ84,5)","v":""},{"$f":"データ処理!AK84","v":0},{"$f":"IF(データ処理!AK84=\"\",\"\",データ処理!AL84&データ処理!BE84&$G$3)","v":""},{"$f":"IF(データ処理!AK84=\"\",\"\",データ処理!AM84&データ処理!AZ84&データ処理!AR84)","v":""},{"$f":"RIGHT(データ処理!AN84,5)","v":""},{"$f":"データ処理!AO84","v":""},{"$f":"データ処理!AP84","v":""}]
[null,{"$f":"RIGHT(データ処理!AI85,5)","v":""},{"$f":"LEFT(データ処理!AJ85,5)","v":""},{"$f":"データ処理!AK85","v":0},{"$f":"IF(データ処理!AK85=\"\",\"\",データ処理!AL85&データ処理!BE85&$G$3)","v":""},{"$f":"IF(データ処理!AK85=\"\",\"\",データ処理!AM85&データ処理!AZ85&データ処理!AR85)","v":""},{"$f":"RIGHT(データ処理!AN85,5)","v":""},{"$f":"データ処理!AO85","v":""},{"$f":"データ処理!AP85","v":""}]
[null,{"$f":"RIGHT(データ処理!AI86,5)","v":""},{"$f":"LEFT(データ処理!AJ86,5)","v":""},{"$f":"データ処理!AK86","v":0},{"$f":"IF(データ処理!AK86=\"\",\"\",データ処理!AL86&データ処理!BE86&$G$3)","v":""},{"$f":"IF(データ処理!AK86=\"\",\"\",データ処理!AM86&データ処理!AZ86&データ処理!AR86)","v":""},{"$f":"RIGHT(データ処理!AN86,5)","v":""},{"$f":"データ処理!AO86","v":""},{"$f":"データ処理!AP86","v":""}]
[null,{"$f":"RIGHT(データ処理!AI87,5)","v":""},{"$f":"LEFT(データ処理!AJ87,5)","v":""},{"$f":"データ処理!AK87","v":0},{"$f":"IF(データ処理!AK87=\"\",\"\",データ処理!AL87&データ処理!BE87&$G$3)","v":""},{"$f":"IF(データ処理!AK87=\"\",\"\",データ処理!AM87&データ処理!AZ87&データ処理!AR87)","v":""},{"$f":"RIGHT(データ処理!AN87,5)","v":""},{"$f":"データ処理!AO87","v":""},{"$f":"データ処理!AP87","v":""}]
[null,{"$f":"RIGHT(データ処理!AI88,5)","v":""},{"$f":"LEFT(データ処理!AJ88,5)","v":""},{"$f":"データ処理!AK88","v":0},{"$f":"IF(データ処理!AK88=\"\",\"\",データ処理!AL88&データ処理!BE88&$G$3)","v":""},{"$f":"IF(データ処理!AK88=\"\",\"\",データ処理!AM88&データ処理!AZ88&データ処理!AR88)","v":""},{"$f":"RIGHT(データ処理!AN88,5)","v":""},{"$f":"データ処理!AO88","v":""},{"$f":"データ処理!AP88","v":""}]
[null,{"$f":"RIGHT(データ処理!AI89,5)","v":""},{"$f":"LEFT(データ処理!AJ89,5)","v":""},{"$f":"データ処理!AK89","v":0},{"$f":"IF(データ処理!AK89=\"\",\"\",データ処理!AL89&データ処理!BE89&$G$3)","v":""},{"$f":"IF(データ処理!AK89=\"\",\"\",データ処理!AM89&データ処理!AZ89&データ処理!AR89)","v":""},{"$f":"RIGHT(データ処理!AN89,5)","v":""},{"$f":"データ処理!AO89","v":""},{"$f":"データ処理!AP89","v":""}]
[null,{"$f":"RIGHT(データ処理!AI90,5)","v":""},{"$f":"LEFT(データ処理!AJ90,5)","v":""},{"$f":"データ処理!AK90","v":0},{"$f":"IF(データ処理!AK90=\"\",\"\",データ処理!AL90&データ処理!BE90&$G$3)","v":""},{"$f":"IF(データ処理!AK90=\"\",\"\",データ処理!AM90&データ処理!AZ90&データ処理!AR90)","v":""},{"$f":"RIGHT(データ処理!AN90,5)","v":""},{"$f":"データ処理!AO90","v":""},{"$f":"データ処理!AP90","v":""}]
[null,{"$f":"RIGHT(データ処理!AI91,5)","v":""},{"$f":"LEFT(データ処理!AJ91,5)","v":""},{"$f":"データ処理!AK91","v":0},{"$f":"IF(データ処理!AK91=\"\",\"\",データ処理!AL91&データ処理!BE91&$G$3)","v":""},{"$f":"IF(データ処理!AK91=\"\",\"\",データ処理!AM91&データ処理!AZ91&データ処理!AR91)","v":""},{"$f":"RIGHT(データ処理!AN91,5)","v":""},{"$f":"データ処理!AO91","v":""},{"$f":"データ処理!AP91","v":""}]
[null,{"$f":"RIGHT(データ処理!AI92,5)","v":""},{"$f":"LEFT(データ処理!AJ92,5)","v":""},{"$f":"データ処理!AK92","v":0},{"$f":"IF(データ処理!AK92=\"\",\"\",データ処理!AL92&データ処理!BE92&$G$3)","v":""},{"$f":"IF(データ処理!AK92=\"\",\"\",データ処理!AM92&データ処理!AZ92&データ処理!AR92)","v":""},{"$f":"RIGHT(データ処理!AN92,5)","v":""},{"$f":"データ処理!AO92","v":""},{"$f":"データ処理!AP92","v":""}]
[null,{"$f":"RIGHT(データ処理!AI93,5)","v":""},{"$f":"LEFT(データ処理!AJ93,5)","v":""},{"$f":"データ処理!AK93","v":0},{"$f":"IF(データ処理!AK93=\"\",\"\",データ処理!AL93&データ処理!BE93&$G$3)","v":""},{"$f":"IF(データ処理!AK93=\"\",\"\",データ処理!AM93&データ処理!AZ93&データ処理!AR93)","v":""},{"$f":"RIGHT(データ処理!AN93,5)","v":""},{"$f":"データ処理!AO93","v":""},{"$f":"データ処理!AP93","v":""}]
[40,{"$f":"RIGHT(データ処理!AI94,5)","v":""},{"$f":"LEFT(データ処理!AJ94,5)","v":""},{"$f":"データ処理!AK94","v":0},{"$f":"IF(データ処理!AK94=\"\",\"\",データ処理!AL94&データ処理!BE94&$G$3)","v":""},{"$f":"IF(データ処理!AK94=\"\",\"\",データ処理!AM94&データ処理!AZ94&データ処理!AR94)","v":""},{"$f":"RIGHT(データ処理!AN94,5)","v":""},{"$f":"データ処理!AO94","v":""},{"$f":"データ処理!AP94","v":""}]
[null,{"$f":"RIGHT(データ処理!AI95,5)","v":""},{"$f":"LEFT(データ処理!AJ95,5)","v":""},{"$f":"データ処理!AK95","v":0},{"$f":"IF(データ処理!AK95=\"\",\"\",データ処理!AL95&データ処理!BE95&$G$3)","v":""},{"$f":"IF(データ処理!AK95=\"\",\"\",データ処理!AM95&データ処理!AZ95&データ処理!AR95)","v":""},{"$f":"RIGHT(データ処理!AN95,5)","v":""},{"$f":"データ処理!AO95","v":""},{"$f":"データ処理!AP95","v":""}]
[null,{"$f":"RIGHT(データ処理!AI96,5)","v":""},{"$f":"LEFT(データ処理!AJ96,5)","v":""},{"$f":"データ処理!AK96","v":0},{"$f":"IF(データ処理!AK96=\"\",\"\",データ処理!AL96&データ処理!BE96&$G$3)","v":""},{"$f":"IF(データ処理!AK96=\"\",\"\",データ処理!AM96&データ処理!AZ96&データ処理!AR96)","v":""},{"$f":"RIGHT(データ処理!AN96,5)","v":""},{"$f":"データ処理!AO96","v":""},{"$f":"データ処理!AP96","v":""}]
[null,{"$f":"RIGHT(データ処理!AI97,5)","v":""},{"$f":"LEFT(データ処理!AJ97,5)","v":""},{"$f":"データ処理!AK97","v":0},{"$f":"IF(データ処理!AK97=\"\",\"\",データ処理!AL97&データ処理!BE97&$G$3)","v":""},{"$f":"IF(データ処理!AK97=\"\",\"\",データ処理!AM97&データ処理!AZ97&データ処理!AR97)","v":""},{"$f":"RIGHT(データ処理!AN97,5)","v":""},{"$f":"データ処理!AO97","v":""},{"$f":"データ処理!AP97","v":""}]
[null,{"$f":"RIGHT(データ処理!AI98,5)","v":""},{"$f":"LEFT(データ処理!AJ98,5)","v":""},{"$f":"データ処理!AK98","v":0},{"$f":"IF(データ処理!AK98=\"\",\"\",データ処理!AL98&データ処理!BE98&$G$3)","v":""},{"$f":"IF(データ処理!AK98=\"\",\"\",データ処理!AM98&データ処理!AZ98&データ処理!AR98)","v":""},{"$f":"RIGHT(データ処理!AN98,5)","v":""},{"$f":"データ処理!AO98","v":""},{"$f":"データ処理!AP98","v":""}]
[null,{"$f":"RIGHT(データ処理!AI99,5)","v":""},{"$f":"LEFT(データ処理!AJ99,5)","v":""},{"$f":"データ処理!AK99","v":0},{"$f":"IF(データ処理!AK99=\"\",\"\",データ処理!AL99&データ処理!BE99&$G$3)","v":""},{"$f":"IF(データ処理!AK99=\"\",\"\",データ処理!AM99&データ処理!AZ99&データ処理!AR99)","v":""},{"$f":"RIGHT(データ処理!AN99,5)","v":""},{"$f":"データ処理!AO99","v":""},{"$f":"データ処理!AP99","v":""}]
[null,{"$f":"RIGHT(データ処理!AI100,5)","v":""},{"$f":"LEFT(データ処理!AJ100,5)","v":""},{"$f":"データ処理!AK100","v":0},{"$f":"IF(データ処理!AK100=\"\",\"\",データ処理!AL100&データ処理!BE100&$G$3)","v":""},{"$f":"IF(データ処理!AK100=\"\",\"\",データ処理!AM100&データ処理!AZ100&データ処理!AR100)","v":""},{"$f":"RIGHT(データ処理!AN100,5)","v":""},{"$f":"データ処理!AO100","v":""},{"$f":"データ処理!AP100","v":""}]
[null,{"$f":"RIGHT(データ処理!AI101,5)","v":""},{"$f":"LEFT(データ処理!AJ101,5)","v":""},{"$f":"データ処理!AK101","v":0},{"$f":"IF(データ処理!AK101=\"\",\"\",データ処理!AL101&データ処理!BE101&$G$3)","v":""},{"$f":"IF(データ処理!AK101=\"\",\"\",データ処理!AM101&データ処理!AZ101&データ処理!AR101)","v":""},{"$f":"RIGHT(データ処理!AN101,5)","v":""},{"$f":"データ処理!AO101","v":""},{"$f":"データ処理!AP101","v":""}]
[null,{"$f":"RIGHT(データ処理!AI102,5)","v":""},{"$f":"LEFT(データ処理!AJ102,5)","v":""},{"$f":"データ処理!AK102","v":0},{"$f":"IF(データ処理!AK102=\"\",\"\",データ処理!AL102&データ処理!BE102&$G$3)","v":""},{"$f":"IF(データ処理!AK102=\"\",\"\",データ処理!AM102&データ処理!AZ102&データ処理!AR102)","v":""},{"$f":"RIGHT(データ処理!AN102,5)","v":""},{"$f":"データ処理!AO102","v":""},{"$f":"データ処理!AP102","v":""}]
[null,{"$f":"RIGHT(データ処理!AI103,5)","v":""},{"$f":"LEFT(データ処理!AJ103,5)","v":""},{"$f":"データ処理!AK103","v":0},{"$f":"IF(データ処理!AK103=\"\",\"\",データ処理!AL103&データ処理!BE103&$G$3)","v":""},{"$f":"IF(データ処理!AK103=\"\",\"\",データ処理!AM103&データ処理!AZ103&データ処理!AR103)","v":""},{"$f":"RIGHT(データ処理!AN103,5)","v":""},{"$f":"データ処理!AO103","v":""},{"$f":"データ処理!AP103","v":""}]
[50,{"$f":"RIGHT(データ処理!AI104,5)","v":""},{"$f":"LEFT(データ処理!AJ104,5)","v":""},{"$f":"データ処理!AK104","v":0},{"$f":"IF(データ処理!AK104=\"\",\"\",データ処理!AL104&データ処理!BE104&$G$3)","v":""},{"$f":"IF(データ処理!AK104=\"\",\"\",データ処理!AM104&データ処理!AZ104&データ処理!AR104)","v":""},{"$f":"RIGHT(データ処理!AN104,5)","v":""},{"$f":"データ処理!AO104","v":""},{"$f":"データ処理!AP104","v":""}]
[null,"Total  (合計)",null,{"$f":"COUNTIF(B74:B123,\"*/*\")","v":0},null,"Total  (合計)",{"$f":"COUNTIF(G74:G123,\"*/*\")","v":0},{"$f":"50-COUNTBLANK(H74:H123)","v":0},{"$f":"SUM(I74:I123)","v":0}]
[]
[null,"総 合 計",null,{"$f":"IF(K70=\"\",\"\",D124+ログシート!D67)","v":""},null,"総 合 計",{"$f":"IF(K70=\"\",\"\",G124+ログシート!G67)","v":""},{"$f":"IF(K70=\"\",\"\",H124+ログシート!H67)","v":""},{"$f":"IF(K70=\"\",\"\",I124+ログシート!I67)","v":""}]
[]
[null,"ＬＯＧ　ＳＨＥＥＴ (ログシート）",null,null,"Year (年)",{"$f":"$F$10","v":"2024"},{"$f":"$G$10","v":"第38回 滋賀2mSSB\nアクティブコンテスト"}]
[null,"Callsign (ｺｰﾙｻｲﾝ)",null,{"$f":"$D$11","v":0},"BAND（バンド）",{"$f":"$F$11","v":144},"MHz/SSB",null,"Sheet No.",null,{"$f":"IF(E133=\"\",\"\",L132&\"/\"&$E$3)","v":""}]
[]
[null,"Date Time",null,"Station Wkd","Exchange (ｺﾝﾃｽﾄﾅﾝﾊﾞｰ)",null,"Multi.（マルチ）",null,"Pts.","Op.","備考"]
[null,"月/日","時分JST","交信局","Sent (送信)","Received (受信)","日数マルチ","テールレター","得点","運用者",null,3]
[null,{"$f":"RIGHT(データ処理!AI105,5)","v":""},{"$f":"LEFT(データ処理!AJ105,5)","v":""},{"$f":"データ処理!AK105","v":0},{"$f":"IF(データ処理!AK105=\"\",\"\",データ処理!AL105&データ処理!BE105&$G$3)","v":""},{"$f":"IF(データ処理!AK105=\"\",\"\",データ処理!AM105&データ処理!AZ105&データ処理!AR105)","v":""},{"$f":"RIGHT(データ処理!AN105,5)","v":""},{"$f":"データ処理!AO105","v":""},{"$f":"データ処理!AP105","v":""}]
[null,{"$f":"RIGHT(データ処理!AI106,5)","v":""},{"$f":"LEFT(データ処理!AJ106,5)","v":""},{"$f":"データ処理!AK106","v":0},{"$f":"IF(データ処理!AK106=\"\",\"\",データ処理!AL106&データ処理!BE106&$G$3)","v":""},{"$f":"IF(データ処理!AK106=\"\",\"\",データ処理!AM106&データ処理!AZ106&データ処理!AR106)","v":""},{"$f":"RIGHT(データ処理!AN106,5)","v":""},{"$f":"データ処理!AO106","v":""},{"$f":"データ処理!AP106","v":""}]
[null,{"$f":"RIGHT(データ処理!AI107,5)","v":""},{"$f":"LEFT(データ処理!AJ107,5)","v":""},{"$f":"データ処理!AK107","v":0},{"$f":"IF(データ処理!AK107=\"\",\"\",データ処理!AL107&データ処理!BE107&$G$3)","v":""},{"$f":"IF(データ処理!AK107=\"\",\"\",データ処理!AM107&データ処理!AZ107&データ処理!AR107)","v":""},{"$f":"RIGHT(データ処理!AN107,5)","v":""},{"$f":"データ処理!AO107","v":""},{"$f":"データ処理!AP107","v":""}]
[null,{"$f":"RIGHT(データ処理!AI108,5)","v":""},{"$f":"LEFT(データ処理!AJ108,5)","v":""},{"$f":"データ処理!AK108","v":0},{"$f":"IF(データ処理!AK108=\"\",\"\",データ処理!AL108&データ処理!BE108&$G$3)","v":""},{"$f":"IF(データ処理!AK108=\"\",\"\",データ処理!AM108&データ処理!AZ108&データ処理!AR108)","v":""},{"$f":"RIGHT(データ処理!AN108,5)","v":""},{"$f":"データ処理!AO108","v":""},{"$f":"データ処理!AP108","v":""}]
[null,{"$f":"RIGHT(データ処理!AI109,5)","v":""},{"$f":"LEFT(データ処理!AJ109,5)","v":""},{"$f":"データ処理!AK109","v":0},{"$f":"IF(データ処理!AK109=\"\",\"\",データ処理!AL109&データ処理!BE109&$G$3)","v":""},{"$f":"IF(データ処理!AK109=\"\",\"\",データ処理!AM109&データ処理!AZ109&データ処理!AR109)","v":""},{"$f":"RIGHT(データ処理!AN109,5)","v":""},{"$f":"データ処理!AO109","v":""},{"$f":"データ処理!AP109","v":""}]
[null,{"$f":"RIGHT(データ処理!AI110,5)","v":""},{"$f":"LEFT(データ処理!AJ110,5)","v":""},{"$f":"データ処理!AK110","v":0},{"$f":"IF(データ処理!AK110=\"\",\"\",データ処理!AL110&データ処理!BE110&$G$3)","v":""},{"$f":"IF(データ処理!AK110=\"\",\"\",データ処理!AM110&データ処理!AZ110&データ処理!AR110)","v":""},{"$f":"RIGHT(データ処理!AN110,5)","v":""},{"$f":"データ処理!AO110","v":""},{"$f":"データ処理!AP110","v":""}]
[null,{"$f":"RIGHT(データ処理!AI111,5)","v":""},{"$f":"LEFT(データ処理!AJ111,5)","v":""},{"$f":"データ処理!AK111","v":0},{"$f":"IF(データ処理!AK111=\"\",\"\",データ処理!AL111&データ処理!BE111&$G$3)","v":""},{"$f":"IF(データ処理!AK111=\"\",\"\",データ処理!AM111&データ処理!AZ111&データ処理!AR111)","v":""},{"$f":"RIGHT(データ処理!AN111,5)","v":""},{"$f":"データ処理!AO111","v":""},{"$f":"データ処理!AP111","v":""}]
[null,{"$f":"RIGHT(データ処理!AI112,5)","v":""},{"$f":"LEFT(データ処理!AJ112,5)","v":""},{"$f":"データ処理!AK112","v":0},{"$f":"IF(データ処理!AK112=\"\",\"\",データ処理!AL112&データ処理!BE112&$G$3)","v":""},{"$f":"IF(データ処理!AK112=\"\",\"\",データ処理!AM112&データ処理!AZ112&データ処理!AR112)","v":""},{"$f":"RIGHT(データ処理!AN112,5)","v":""},{"$f":"データ処理!AO112","v":""},{"$f":"データ処理!AP112","v":""}]
[null,{"$f":"RIGHT(データ処理!AI113,5)","v":""},{"$f":"LEFT(データ処理!AJ113,5)","v":""},{"$f":"データ処理!AK113","v":0},{"$f":"IF(データ処理!AK113=\"\",\"\",データ処理!AL113&データ処理!BE113&$G$3)","v":""},{"$f":"IF(データ処理!AK113=\"\",\"\",データ処理!AM113&データ処理!AZ113&データ処理!AR113)","v":""},{"$f":"RIGHT(データ処理!AN113,5)","v":""},{"$f":"データ処理!AO113","v":""},{"$f":"データ処理!AP113","v":""}]
[10,{"$f":"RIGHT(データ処理!AI114,5)","v":""},{"$f":"LEFT(データ処理!AJ114,5)","v":""},{"$f":"データ処理!AK114","v":0},{"$f":"IF(データ処理!AK114=\"\",\"\",データ処理!AL114&データ処理!BE114&$G$3)","v":""},{"$f":"IF(データ処理!AK114=\"\",\"\",データ処理!AM114&データ処理!AZ114&データ処理!AR114)","v":""},{"$f":"RIGHT(データ処理!AN114,5)","v":""},{"$f":"データ処理!AO114","v":""},{"$f":"データ処理!AP114","v":""}]
[null,{"$f":"RIGHT(データ処理!AI115,5)","v":""},{"$f":"LEFT(データ処理!AJ115,5)","v":""},{"$f":"データ処理!AK115","v":0},{"$f":"IF(データ処理!AK115=\"\",\"\",データ処理!AL115&データ処理!BE115&$G$3)","v":""},{"$f":"IF(データ処理!AK115=\"\",\"\",データ処理!AM115&データ処理!AZ115&データ処理!AR115)","v":""},{"$f":"RIGHT(データ処理!AN115,5)","v":""},{"$f":"データ処理!AO115","v":""},{"$f":"データ処理!AP115","v":""}]
[null,{"$f":"RIGHT(データ処理!AI116,5)","v":""},{"$f":"LEFT(データ処理!AJ116,5)","v":""},{"$f":"データ処理!AK116","v":0},{"$f":"IF(データ処理!AK116=\"\",\"\",データ処理!AL116&データ処理!BE116&$G$3)","v":""},{"$f":"IF(データ処理!AK116=\"\",\"\",データ処理!AM116&データ処理!AZ116&データ処理!AR116)","v":""},{"$f":"RIGHT(データ処理!AN116,5)","v":""},{"$f":"データ処理!AO116","v":""},{"$f":"データ処理!AP116","v":""}]
[null,{"$f":"RIGHT(データ処理!AI117,5)","v":""},{"$f":"LEFT(データ処理!AJ117,5)","v":""},{"$f":"データ処理!AK117","v":0},{"$f":"IF(データ処理!AK117=\"\",\"\",データ処理!AL117&データ処理!BE117&$G$3)","v":""},{"$f":"IF(データ処理!AK117=\"\",\"\",データ処理!AM117&データ処理!AZ117&データ処理!AR117)","v":""},{"$f":"RIGHT(データ処理!AN117,5)","v":""},{"$f":"データ処理!AO117","v":""},{"$f":"データ処理!AP117","v":""}]
[null,{"$f":"RIGHT(データ処理!AI118,5)","v":""},{"$f":"LEFT(データ処理!AJ118,5)","v":""},{"$f":"データ処理!AK118","v":0},{"$f":"IF(データ処理!AK118=\"\",\"\",データ処理!AL118&データ処理!BE118&$G$3)","v":""},{"$f":"IF(データ処理!AK118=\"\",\"\",データ処理!AM118&データ処理!AZ118&データ処理!AR118)","v":""},{"$f":"RIGHT(データ処理!AN118,5)","v":""},{"$f":"データ処理!AO118","v":""},{"$f":"データ処理!AP118","v":""}]
[null,{"$f":"RIGHT(データ処理!AI119,5)","v":""},{"$f":"LEFT(データ処理!AJ119,5)","v":""},{"$f":"データ処理!AK119","v":0},{"$f":"IF(データ処理!AK119=\"\",\"\",データ処理!AL119&データ処理!BE119&$G$3)","v":""},{"$f":"IF(データ処理!AK119=\"\",\"\",データ処理!AM119&データ処理!AZ119&データ処理!AR119)","v":""},{"$f":"RIGHT(データ処理!AN119,5)","v":""},{"$f":"データ処理!AO119","v":""},{"$f":"データ処理!AP119","v":""}]
[null,{"$f":"RIGHT(データ処理!AI120,5)","v":""},{"$f":"LEFT(データ処理!AJ120,5)","v":""},{"$f":"データ処理!AK120","v":0},{"$f":"IF(データ処理!AK120=\"\",\"\",データ処理!AL120&データ処理!BE120&$G$3)","v":""},{"$f":"IF(データ処理!AK120=\"\",\"\",データ処理!AM120&データ処理!AZ120&データ処理!AR120)","v":""},{"$f":"RIGHT(データ処理!AN120,5)","v":""},{"$f":"データ処理!AO120","v":""},{"$f":"データ処理!AP120","v":""}]
[null,{"$f":"RIGHT(データ処理!AI121,5)","v":""},{"$f":"LEFT(データ処理!AJ121,5)","v":""},{"$f":"データ処理!AK121","v":0},{"$f":"IF(データ処理!AK121=\"\",\"\",データ処理!AL121&データ処理!BE121&$G$3)","v":""},{"$f":"IF(データ処理!AK121=\"\",\"\",データ処理!AM121&データ処理!AZ121&データ処理!AR121)","v":""},{"$f":"RIGHT(データ処理!AN121,5)","v":""},{"$f":"データ処理!AO121","v":""},{"$f":"データ処理!AP121","v":""}]
[null,{"$f":"RIGHT(データ処理!AI122,5)","v":""},{"$f":"LEFT(データ処理!AJ122,5)","v":""},{"$f":"データ処理!AK122","v":0},{"$f":"IF(データ処理!AK122=\"\",\"\",データ処理!AL122&データ処理!BE122&$G$3)","v":""},{"$f":"IF(データ処理!AK122=\"\",\"\",データ処理!AM122&データ処理!AZ122&データ処理!AR122)","v":""},{"$f":"RIGHT(データ処理!AN122,5)","v":""},{"$f":"データ処理!AO122","v":""},{"$f":"データ処理!AP122","v":""}]
[null,{"$f":"RIGHT(データ処理!AI123,5)","v":""},{"$f":"LEFT(データ処理!AJ123,5)","v":""},{"$f":"データ処理!AK123","v":0},{"$f":"IF(データ処理!AK123=\"\",\"\",データ処理!AL123&データ処理!BE123&$G$3)","v":""},{"$f":"IF(データ処理!AK123=\"\",\"\",データ処理!AM123&データ処理!AZ123&データ処理!AR123)","v":""},{"$f":"RIGHT(データ処理!AN123,5)","v":""},{"$f":"データ処理!AO123","v":""},{"$f":"データ処理!AP123","v":""}]
[20,{"$f":"RIGHT(データ処理!AI124,5)","v":""},{"$f":"LEFT(データ処理!AJ124,5)","v":""},{"$f":"データ処理!AK124","v":0},{"$f":"IF(データ処理!AK124=\"\",\"\",データ処理!AL124&データ処理!BE124&$G$3)","v":""},{"$f":"IF(データ処理!AK124=\"\",\"\",データ処理!AM124&データ処理!AZ124&データ処理!AR124)","v":""},{"$f":"RIGHT(データ処理!AN124,5)","v":""},{"$f":"データ処理!AO124","v":""},{"$f":"データ処理!AP124","v":""}]
[null,{"$f":"RIGHT(データ処理!AI125,5)","v":""},{"$f":"LEFT(データ処理!AJ125,5)","v":""},{"$f":"データ処理!AK125","v":0},{"$f":"IF(データ処理!AK125=\"\",\"\",データ処理!AL125&データ処理!BE125&$G$3)","v":""},{"$f":"IF(データ処理!AK125=\"\",\"\",データ処理!AM125&データ処理!AZ125&データ処理!AR125)","v":""},{"$f":"RIGHT(データ処理!AN125,5)","v":""},{"$f":"データ処理!AO125","v":""},{"$f":"データ処理!AP125","v":""}]
[null,{"$f":"RIGHT(データ処理!AI126,5)","v":""},{"$f":"LEFT(データ処理!AJ126,5)","v":""},{"$f":"データ処理!AK126","v":0},{"$f":"IF(データ処理!AK126=\"\",\"\",データ処理!AL126&データ処理!BE126&$G$3)","v":""},{"$f":"IF(データ処理!AK126=\"\",\"\",データ処理!AM126&データ処理!AZ126&データ処理!AR126)","v":""},{"$f":"RIGHT(データ処理!AN126,5)","v":""},{"$f":"データ処理!AO126","v":""},{"$f":"データ処理!AP126","v":""}]
[null,{"$f":"RIGHT(データ処理!AI127,5)","v":""},{"$f":"LEFT(データ処理!AJ127,5)","v":""},{"$f":"データ処理!AK127","v":0},{"$f":"IF(データ処理!AK127=\"\",\"\",データ処理!AL127&データ処理!BE127&$G$3)","v":""},{"$f":"IF(データ処理!AK127=\"\",\"\",データ処理!AM127&データ処理!AZ127&データ処理!AR127)","v":""},{"$f":"RIGHT(データ処理!AN127,5)","v":""},{"$f":"データ処理!AO127","v":""},{"$f":"データ処理!AP127","v":""}]
[null,{"$f":"RIGHT(データ処理!AI128,5)","v":""},{"$f":"LEFT(データ処理!AJ128,5)","v":""},{"$f":"データ処理!AK128","v":0},{"$f":"IF(データ処理!AK128=\"\",\"\",データ処理!AL128&データ処理!BE128&$G$3)","v":""},{"$f":"IF(データ処理!AK128=\"\",\"\",データ処理!AM128&データ処理!AZ128&データ処理!AR128)","v":""},{"$f":"RIGHT(データ処理!AN128,5)","v":""},{"$f":"データ処理!AO128","v":""},{"$f":"データ処理!AP128","v":""}]
[null,{"$f":"RIGHT(データ処理!AI129,5)","v":""},{"$f":"LEFT(データ処理!AJ129,5)","v":""},{"$f":"データ処理!AK129","v":0},{"$f":"IF(データ処理!AK129=\"\",\"\",データ処理!AL129&データ処理!BE129&$G$3)","v":""},{"$f":"IF(データ処理!AK129=\"\",\"\",データ処理!AM129&データ処理!AZ129&データ処理!AR129)","v":""},{"$f":"RIGHT(データ処理!AN129,5)","v":""},{"$f":"データ処理!AO129","v":""},{"$f":"データ処理!AP129","v":""}]
[null,{"$f":"RIGHT(データ処理!AI130,5)","v":""},{"$f":"LEFT(データ処理!AJ130,5)","v":""},{"$f":"データ処理!AK130","v":0},{"$f":"IF(データ処理!AK130=\"\",\"\",データ処理!AL130&データ処理!BE130&$G$3)","v":""},{"$f":"IF(データ処理!AK130=\"\",\"\",データ処理!AM130&データ処理!AZ130&データ処理!AR130)","v":""},{"$f":"RIGHT(データ処理!AN130,5)","v":""},{"$f":"データ処理!AO130","v":""},{"$f":"データ処理!AP130","v":""}]
[null,{"$f":"RIGHT(データ処理!AI131,5)","v":""},{"$f":"LEFT(データ処理!AJ131,5)","v":""},{"$f":"データ処理!AK131","v":0},{"$f":"IF(データ処理!AK131=\"\",\"\",データ処理!AL131&データ処理!BE131&$G$3)","v":""},{"$f":"IF(データ処理!AK131=\"\",\"\",データ処理!AM131&データ処理!AZ131&データ処理!AR131)","v":""},{"$f":"RIGHT(データ処理!AN131,5)","v":""},{"$f":"データ処理!AO131","v":""},{"$f":"データ処理!AP131","v":""}]
[null,{"$f":"RIGHT(データ処理!AI132,5)","v":""},{"$f":"LEFT(データ処理!AJ132,5)","v":""},{"$f":"データ処理!AK132","v":0},{"$f":"IF(データ処理!AK132=\"\",\"\",データ処理!AL132&データ処理!BE132&$G$3)","v":""},{"$f":"IF(データ処理!AK132=\"\",\"\",データ処理!AM132&データ処理!AZ132&データ処理!AR132)","v":""},{"$f":"RIGHT(データ処理!AN132,5)","v":""},{"$f":"データ処理!AO132","v":""},{"$f":"データ処理!AP132","v":""}]
[null,{"$f":"RIGHT(データ処理!AI133,5)","v":""},{"$f":"LEFT(データ処理!AJ133,5)","v":""},{"$f":"データ処理!AK133","v":0},{"$f":"IF(データ処理!AK133=\"\",\"\",データ処理!AL133&データ処理!BE133&$G$3)","v":""},{"$f":"IF(データ処理!AK133=\"\",\"\",データ処理!AM133&データ処理!AZ133&データ処理!AR133)","v":""},{"$f":"RIGHT(データ処理!AN133,5)","v":""},{"$f":"データ処理!AO133","v":""},{"$f":"データ処理!AP133","v":""}]
[30,{"$f":"RIGHT(データ処理!AI134,5)","v":""},{"$f":"LEFT(データ処理!AJ134,5)","v":""},{"$f":"データ処理!AK134","v":0},{"$f":"IF(データ処理!AK134=\"\",\"\",データ処理!AL134&データ処理!BE134&$G$3)","v":""},{"$f":"IF(データ処理!AK134=\"\",\"\",データ処理!AM134&データ処理!AZ134&データ処理!AR134)","v":""},{"$f":"RIGHT(データ処理!AN134,5)","v":""},{"$f":"データ処理!AO134","v":""},{"$f":"データ処理!AP134","v":""}]
[null,{"$f":"RIGHT(データ処理!AI135,5)","v":""},{"$f":"LEFT(データ処理!AJ135,5)","v":""},{"$f":"データ処理!AK135","v":0},{"$f":"IF(データ処理!AK135=\"\",\"\",データ処理!AL135&データ処理!BE135&$G$3)","v":""},{"$f":"IF(データ処理!AK135=\"\",\"\",データ処理!AM135&データ処理!AZ135&データ処理!AR135)","v":""},{"$f":"RIGHT(データ処理!AN135,5)","v":""},{"$f":"データ処理!AO135","v":""},{"$f":"データ処理!AP135","v":""}]
[null,{"$f":"RIGHT(データ処理!AI136,5)","v":""},{"$f":"LEFT(データ処理!AJ136,5)","v":""},{"$f":"データ処理!AK136","v":0},{"$f":"IF(データ処理!AK136=\"\",\"\",データ処理!AL136&データ処理!BE136&$G$3)","v":""},{"$f":"IF(データ処理!AK136=\"\",\"\",データ処理!AM136&データ処理!AZ136&データ処理!AR136)","v":""},{"$f":"RIGHT(データ処理!AN136,5)","v":""},{"$f":"データ処理!AO136","v":""},{"$f":"データ処理!AP136","v":""}]
[null,{"$f":"RIGHT(データ処理!AI137,5)","v":""},{"$f":"LEFT(データ処理!AJ137,5)","v":""},{"$f":"データ処理!AK137","v":0},{"$f":"IF(データ処理!AK137=\"\",\"\",データ処理!AL137&データ処理!BE137&$G$3)","v":""},{"$f":"IF(データ処理!AK137=\"\",\"\",データ処理!AM137&データ処理!AZ137&データ処理!AR137)","v":""},{"$f":"RIGHT(データ処理!AN137,5)","v":""},{"$f":"データ処理!AO137","v":""},{"$f":"データ処理!AP137","v":""}]
[null,{"$f":"RIGHT(データ処理!AI138,5)","v":""},{"$f":"LEFT(データ処理!AJ138,5)","v":""},{"$f":"データ処理!AK138","v":0},{"$f":"IF(データ処理!AK138=\"\",\"\",データ処理!AL138&データ処理!BE138&$G$3)","v":""},{"$f":"IF(データ処理!AK138=\"\",\"\",データ処理!AM138&データ処理!AZ138&データ処理!AR138)","v":""},{"$f":"RIGHT(データ処理!AN138,5)","v":""},{"$f":"データ処理!AO138","v":""},{"$f":"データ処理!AP138","v":""}]
[null,{"$f":"RIGHT(データ処理!AI139,5)","v":""},{"$f":"LEFT(データ処理!AJ139,5)","v":""},{"$f":"データ処理!AK139","v":0},{"$f":"IF(データ処理!AK139=\"\",\"\",データ処理!AL139&データ処理!BE139&$G$3)","v":""},{"$f":"IF(データ処理!AK139=\"\",\"\",データ処理!AM139&データ処理!AZ139&データ処理!AR139)","v":""},{"$f":"RIGHT(データ処理!AN139,5)","v":""},{"$f":"データ処理!AO139","v":""},{"$f":"データ処理!AP139","v":""}]
[null,{"$f":"RIGHT(データ処理!AI140,5)","v":""},{"$f":"LEFT(データ処理!AJ140,5)","v":""},{"$f":"データ処理!AK140","v":0},{"$f":"IF(データ処理!AK140=\"\",\"\",データ処理!AL140&データ処理!BE140&$G$3)","v":""},{"$f":"IF(データ処理!AK140=\"\",\"\",データ処理!AM140&データ処理!AZ140&データ処理!AR140)","v":""},{"$f":"RIGHT(データ処理!AN140,5)","v":""},{"$f":"データ処理!AO140","v":""},{"$f":"データ処理!AP140","v":""}]
[null,{"$f":"RIGHT(データ処理!AI141,5)","v":""},{"$f":"LEFT(データ処理!AJ141,5)","v":""},{"$f":"データ処理!AK141","v":0},{"$f":"IF(データ処理!AK141=\"\",\"\",データ処理!AL141&データ処理!BE141&$G$3)","v":""},{"$f":"IF(データ処理!AK141=\"\",\"\",データ処理!AM141&データ処理!AZ141&データ処理!AR141)","v":""},{"$f":"RIGHT(データ処理!AN141,5)","v":""},{"$f":"データ処理!AO141","v":""},{"$f":"データ処理!AP141","v":""}]
[null,{"$f":"RIGHT(データ処理!AI142,5)","v":""},{"$f":"LEFT(データ処理!AJ142,5)","v":""},{"$f":"データ処理!AK142","v":0},{"$f":"IF(データ処理!AK142=\"\",\"\",データ処理!AL142&データ処理!BE142&$G$3)","v":""},{"$f":"IF(データ処理!AK142=\"\",\"\",データ処理!AM142&データ処理!AZ142&データ処理!AR142)","v":""},{"$f":"RIGHT(データ処理!AN142,5)","v":""},{"$f":"データ処理!AO142","v":""},{"$f":"データ処理!AP142","v":""}]
[null,{"$f":"RIGHT(データ処理!AI143,5)","v":""},{"$f":"LEFT(データ処理!AJ143,5)","v":""},{"$f":"データ処理!AK143","v":0},{"$f":"IF(データ処理!AK143=\"\",\"\",データ処理!AL143&データ処理!BE143&$G$3)","v":""},{"$f":"IF(データ処理!AK143=\"\",\"\",データ処理!AM143&データ処理!AZ143&データ処理!AR143)","v":""},{"$f":"RIGHT(データ処理!AN143,5)","v":""},{"$f":"データ処理!AO143","v":""},{"$f":"データ処理!AP143","v":""}]
[40,{"$f":"RIGHT(データ処理!AI144,5)","v":""},{"$f":"LEFT(データ処理!AJ144,5)","v":""},{"$f":"データ処理!AK144","v":0},{"$f":"IF(データ処理!AK144=\"\",\"\",データ処理!AL144&データ処理!BE144&$G$3)","v":""},{"$f":"IF(データ処理!AK144=\"\",\"\",データ処理!AM144&データ処理!AZ144&データ処理!AR144)","v":""},{"$f":"RIGHT(データ処理!AN144,5)","v":""},{"$f":"データ処理!AO144","v":""},{"$f":"データ処理!AP144","v":""}]
[null,{"$f":"RIGHT(データ処理!AI145,5)","v":""},{"$f":"LEFT(データ処理!AJ145,5)","v":""},{"$f":"データ処理!AK145","v":0},{"$f":"IF(データ処理!AK145=\"\",\"\",データ処理!AL145&データ処理!BE145&$G$3)","v":""},{"$f":"IF(データ処理!AK145=\"\",\"\",データ処理!AM145&データ処理!AZ145&データ処理!AR145)","v":""},{"$f":"RIGHT(データ処理!AN145,5)","v":""},{"$f":"データ処理!AO145","v":""},{"$f":"データ処理!AP145","v":""}]
[null,{"$f":"RIGHT(データ処理!AI146,5)","v":""},{"$f":"LEFT(データ処理!AJ146,5)","v":""},{"$f":"データ処理!AK146","v":0},{"$f":"IF(データ処理!AK146=\"\",\"\",データ処理!AL146&データ処理!BE146&$G$3)","v":""},{"$f":"IF(データ処理!AK146=\"\",\"\",データ処理!AM146&データ処理!AZ146&データ処理!AR146)","v":""},{"$f":"RIGHT(データ処理!AN146,5)","v":""},{"$f":"データ処理!AO146","v":""},{"$f":"データ処理!AP146","v":""}]
[null,{"$f":"RIGHT(データ処理!AI147,5)","v":""},{"$f":"LEFT(データ処理!AJ147,5)","v":""},{"$f":"データ処理!AK147","v":0},{"$f":"IF(データ処理!AK147=\"\",\"\",データ処理!AL147&データ処理!BE147&$G$3)","v":""},{"$f":"IF(データ処理!AK147=\"\",\"\",データ処理!AM147&データ処理!AZ147&データ処理!AR147)","v":""},{"$f":"RIGHT(データ処理!AN147,5)","v":""},{"$f":"データ処理!AO147","v":""},{"$f":"データ処理!AP147","v":""}]
[null,{"$f":"RIGHT(データ処理!AI148,5)","v":""},{"$f":"LEFT(データ処理!AJ148,5)","v":""},{"$f":"データ処理!AK148","v":0},{"$f":"IF(データ処理!AK148=\"\",\"\",データ処理!AL148&データ処理!BE148&$G$3)","v":""},{"$f":"IF(データ処理!AK148=\"\",\"\",データ処理!AM148&データ処理!AZ148&データ処理!AR148)","v":""},{"$f":"RIGHT(データ処理!AN148,5)","v":""},{"$f":"データ処理!AO148","v":""},{"$f":"データ処理!AP148","v":""}]
[null,{"$f":"RIGHT(データ処理!AI149,5)","v":""},{"$f":"LEFT(データ処理!AJ149,5)","v":""},{"$f":"データ処理!AK149","v":0},{"$f":"IF(データ処理!AK149=\"\",\"\",データ処理!AL149&データ処理!BE149&$G$3)","v":""},{"$f":"IF(データ処理!AK149=\"\",\"\",データ処理!AM149&データ処理!AZ149&データ処理!AR149)","v":""},{"$f":"RIGHT(データ処理!AN149,5)","v":""},{"$f":"データ処理!AO149","v":""},{"$f":"データ処理!AP149","v":""}]
[null,{"$f":"RIGHT(データ処理!AI150,5)","v":""},{"$f":"LEFT(データ処理!AJ150,5)","v":""},{"$f":"データ処理!AK150","v":0},{"$f":"IF(データ処理!AK150=\"\",\"\",データ処理!AL150&データ処理!BE150&$G$3)","v":""},{"$f":"IF(データ処理!AK150=\"\",\"\",データ処理!AM150&データ処理!AZ150&データ処理!AR150)","v":""},{"$f":"RIGHT(データ処理!AN150,5)","v":""},{"$f":"データ処理!AO150","v":""},{"$f":"データ処理!AP150","v":""}]
[null,{"$f":"RIGHT(データ処理!AI151,5)","v":""},{"$f":"LEFT(データ処理!AJ151,5)","v":""},{"$f":"データ処理!AK151","v":0},{"$f":"IF(データ処理!AK151=\"\",\"\",データ処理!AL151&データ処理!BE151&$G$3)","v":""},{"$f":"IF(データ処理!AK151=\"\",\"\",データ処理!AM151&データ処理!AZ151&データ処理!AR151)","v":""},{"$f":"RIGHT(データ処理!AN151,5)","v":""},{"$f":"データ処理!AO151","v":""},{"$f":"データ処理!AP151","v":""}]
[null,{"$f":"RIGHT(データ処理!AI152,5)","v":""},{"$f":"LEFT(データ処理!AJ152,5)","v":""},{"$f":"データ処理!AK152","v":0},{"$f":"IF(データ処理!AK152=\"\",\"\",データ処理!AL152&データ処理!BE152&$G$3)","v":""},{"$f":"IF(データ処理!AK152=\"\",\"\",データ処理!AM152&データ処理!AZ152&データ処理!AR152)","v":""},{"$f":"RIGHT(データ処理!AN152,5)","v":""},{"$f":"データ処理!AO152","v":""},{"$f":"データ処理!AP152","v":""}]
[null,{"$f":"RIGHT(データ処理!AI153,5)","v":""},{"$f":"LEFT(データ処理!AJ153,5)","v":""},{"$f":"データ処理!AK153","v":0},{"$f":"IF(データ処理!AK153=\"\",\"\",データ処理!AL153&データ処理!BE153&$G$3)","v":""},{"$f":"IF(データ処理!AK153=\"\",\"\",データ処理!AM153&データ処理!AZ153&データ処理!AR153)","v":""},{"$f":"RIGHT(データ処理!AN153,5)","v":""},{"$f":"データ処理!AO153","v":""},{"$f":"データ処理!AP153","v":""}]
[50,{"$f":"RIGHT(データ処理!AI154,5)","v":""},{"$f":"LEFT(データ処理!AJ154,5)","v":""},{"$f":"データ処理!AK154","v":0},{"$f":"IF(データ処理!AK154=\"\",\"\",データ処理!AL154&データ処理!BE154&$G$3)","v":""},{"$f":"IF(データ処理!AK154=\"\",\"\",データ処理!AM154&データ処理!AZ154&データ処理!AR154)","v":""},{"$f":"RIGHT(データ処理!AN154,5)","v":""},{"$f":"データ処理!AO154","v":""},{"$f":"データ処理!AP154","v":""}]
[null,"Total  (合計)",null,{"$f":"COUNTIF(B133:B182,\"*/*\")","v":0},null,"Total  (合計)",{"$f":"COUNTIF(G133:G182,\"*/*\")","v":0},{"$f":"50-COUNTBLANK(H133:H182)","v":0},{"$f":"SUM(I133:I182)","v":0}]
[]
[null,"総 合 計",null,{"$f":"IF(K129=\"\",\"\",D183+ログシート!D126)","v":""},null,"総 合 計",{"$f":"IF(K129=\"\",\"\",G183+ログシート!G126)","v":""},{"$f":"IF(K129=\"\",\"\",H183+ログシート!H126)","v":""},{"$f":"IF(K129=\"\",\"\",I183+ログシート!I126)","v":""}]
[]
[null,"ＬＯＧ　ＳＨＥＥＴ (ログシート）",null,null,"Year (年)",{"$f":"$F$10","v":"2024"},{"$f":"$G$10","v":"第38回 滋賀2mSSB\nアクティブコンテスト"}]
[null,"Callsign (ｺｰﾙｻｲﾝ)",null,{"$f":"$D$11","v":0},"BAND（バンド）",{"$f":"$F$11","v":144},"MHz/SSB",null,"Sheet No.",null,{"$f":"IF(E192=\"\",\"\",L191&\"/\"&$E$3)","v":""}]
[]
[null,"Date Time",null,"Station Wkd","Exchange (ｺﾝﾃｽﾄﾅﾝﾊﾞｰ)",null,"Multi.（マルチ）",null,"Pts.","Op.","備考"]
[null,"月/日","時分JST","交信局","Sent (送信)","Received (受信)","日数マルチ","テールレター","得点","運用者",null,4]
[null,{"$f":"RIGHT(データ処理!AI155,5)","v":""},{"$f":"LEFT(データ処理!AJ155,5)","v":""},{"$f":"データ処理!AK155","v":0},{"$f":"IF(データ処理!AK155=\"\",\"\",データ処理!AL155&データ処理!BE155&$G$3)","v":""},{"$f":"IF(データ処理!AK155=\"\",\"\",データ処理!AM155&データ処理!AZ155&データ処理!AR155)","v":""},{"$f":"RIGHT(データ処理!AN155,5)","v":""},{"$f":"データ処理!AO155","v":""},{"$f":"データ処理!AP155","v":""}]
[null,{"$f":"RIGHT(データ処理!AI156,5)","v":""},{"$f":"LEFT(データ処理!AJ156,5)","v":""},{"$f":"データ処理!AK156","v":0},{"$f":"IF(データ処理!AK156=\"\",\"\",データ処理!AL156&データ処理!BE156&$G$3)","v":""},{"$f":"IF(データ処理!AK156=\"\",\"\",データ処理!AM156&データ処理!AZ156&データ処理!AR156)","v":""},{"$f":"RIGHT(データ処理!AN156,5)","v":""},{"$f":"データ処理!AO156","v":""},{"$f":"データ処理!AP156","v":""}]
[null,{"$f":"RIGHT(データ処理!AI157,5)","v":""},{"$f":"LEFT(データ処理!AJ157,5)","v":""},{"$f":"データ処理!AK157","v":0},{"$f":"IF(データ処理!AK157=\"\",\"\",データ処理!AL157&データ処理!BE157&$G$3)","v":""},{"$f":"IF(データ処理!AK157=\"\",\"\",データ処理!AM157&データ処理!AZ157&データ処理!AR157)","v":""},{"$f":"RIGHT(データ処理!AN157,5)","v":""},{"$f":"データ処理!AO157","v":""},{"$f":"データ処理!AP157","v":""}]
[null,{"$f":"RIGHT(データ処理!AI158,5)","v":""},{"$f":"LEFT(データ処理!AJ158,5)","v":""},{"$f":"データ処理!AK158","v":0},{"$f":"IF(データ処理!AK158=\"\",\"\",データ処理!AL158&データ処理!BE158&$G$3)","v":""},{"$f":"IF(データ処理!AK158=\"\",\"\",データ処理!AM158&データ処理!AZ158&データ処理!AR158)","v":""},{"$f":"RIGHT(データ処理!AN158,5)","v":""},{"$f":"データ処理!AO158","v":""},{"$f":"データ処理!AP158","v":""}]
[null,{"$f":"RIGHT(データ処理!AI159,5)","v":""},{"$f":"LEFT(データ処理!AJ159,5)","v":""},{"$f":"データ処理!AK159","v":0},{"$f":"IF(データ処理!AK159=\"\",\"\",データ処理!AL159&データ処理!BE159&$G$3)","v":""},{"$f":"IF(データ処理!AK159=\"\",\"\",データ処理!AM159&データ処理!AZ159&データ処理!AR159)","v":""},{"$f":"RIGHT(データ処理!AN159,5)","v":""},{"$f":"データ処理!AO159","v":""},{"$f":"データ処理!AP159","v":""}]
[null,{"$f":"RIGHT(データ処理!AI160,5)","v":""},{"$f":"LEFT(データ処理!AJ160,5)","v":""},{"$f":"データ処理!AK160","v":0},{"$f":"IF(データ処理!AK160=\"\",\"\",データ処理!AL160&データ処理!BE160&$G$3)","v":""},{"$f":"IF(データ処理!AK160=\"\",\"\",データ処理!AM160&データ処理!AZ160&データ処理!AR160)","v":""},{"$f":"RIGHT(データ処理!AN160,5)","v":""},{"$f":"データ処理!AO160","v":""},{"$f":"データ処理!AP160","v":""}]
[null,{"$f":"RIGHT(データ処理!AI161,5)","v":""},{"$f":"LEFT(データ処理!AJ161,5)","v":""},{"$f":"データ処理!AK161","v":0},{"$f":"IF(データ処理!AK161=\"\",\"\",データ処理!AL161&データ処理!BE161&$G$3)","v":""},{"$f":"IF(データ処理!AK161=\"\",\"\",データ処理!AM161&データ処理!AZ161&データ処理!AR161)","v":""},{"$f":"RIGHT(データ処理!AN161,5)","v":""},{"$f":"データ処理!AO161","v":""},{"$f":"データ処理!AP161","v":""}]
[null,{"$f":"RIGHT(データ処理!AI162,5)","v":""},{"$f":"LEFT(データ処理!AJ162,5)","v":""},{"$f":"データ処理!AK162","v":0},{"$f":"IF(データ処理!AK162=\"\",\"\",データ処理!AL162&データ処理!BE162&$G$3)","v":""},{"$f":"IF(データ処理!AK162=\"\",\"\",データ処理!AM162&データ処理!AZ162&データ処理!AR162)","v":""},{"$f":"RIGHT(データ処理!AN162,5)","v":""},{"$f":"データ処理!AO162","v":""},{"$f":"データ処理!AP162","v":""}]
[null,{"$f":"RIGHT(データ処理!AI163,5)","v":""},{"$f":"LEFT(データ処理!AJ163,5)","v":""},{"$f":"データ処理!AK163","v":0},{"$f":"IF(データ処理!AK163=\"\",\"\",データ処理!AL163&データ処理!BE163&$G$3)","v":""},{"$f":"IF(データ処理!AK163=\"\",\"\",データ処理!AM163&データ処理!AZ163&データ処理!AR163)","v":""},{"$f":"RIGHT(データ処理!AN163,5)","v":""},{"$f":"データ処理!AO163","v":""},{"$f":"データ処理!AP163","v":""}]
[10,{"$f":"RIGHT(データ処理!AI164,5)","v":""},{"$f":"LEFT(データ処理!AJ164,5)","v":""},{"$f":"データ処理!AK164","v":0},{"$f":"IF(データ処理!AK164=\"\",\"\",データ処理!AL164&データ処理!BE164&$G$3)","v":""},{"$f":"IF(データ処理!AK164=\"\",\"\",データ処理!AM164&データ処理!AZ164&データ処理!AR164)","v":""},{"$f":"RIGHT(データ処理!AN164,5)","v":""},{"$f":"データ処理!AO164","v":""},{"$f":"データ処理!AP164","v":""}]
[null,{"$f":"RIGHT(データ処理!AI165,5)","v":""},{"$f":"LEFT(データ処理!AJ165,5)","v":""},{"$f":"データ処理!AK165","v":0},{"$f":"IF(データ処理!AK165=\"\",\"\",データ処理!AL165&データ処理!BE165&$G$3)","v":""},{"$f":"IF(データ処理!AK165=\"\",\"\",データ処理!AM165&データ処理!AZ165&データ処理!AR165)","v":""},{"$f":"RIGHT(データ処理!AN165,5)","v":""},{"$f":"データ処理!AO165","v":""},{"$f":"データ処理!AP165","v":""}]
[null,{"$f":"RIGHT(データ処理!AI166,5)","v":""},{"$f":"LEFT(データ処理!AJ166,5)","v":""},{"$f":"データ処理!AK166","v":0},{"$f":"IF(データ処理!AK166=\"\",\"\",データ処理!AL166&データ処理!BE166&$G$3)","v":""},{"$f":"IF(データ処理!AK166=\"\",\"\",データ処理!AM166&データ処理!AZ166&データ処理!AR166)","v":""},{"$f":"RIGHT(データ処理!AN166,5)","v":""},{"$f":"データ処理!AO166","v":""},{"$f":"データ処理!AP166","v":""}]
[null,{"$f":"RIGHT(データ処理!AI167,5)","v":""},{"$f":"LEFT(データ処理!AJ167,5)","v":""},{"$f":"データ処理!AK167","v":0},{"$f":"IF(データ処理!AK167=\"\",\"\",データ処理!AL167&データ処理!BE167&$G$3)","v":""},{"$f":"IF(データ処理!AK167=\"\",\"\",データ処理!AM167&データ処理!AZ167&データ処理!AR167)","v":""},{"$f":"RIGHT(データ処理!AN167,5)","v":""},{"$f":"データ処理!AO167","v":""},{"$f":"データ処理!AP167","v":""}]
[null,{"$f":"RIGHT(データ処理!AI168,5)","v":""},{"$f":"LEFT(データ処理!AJ168,5)","v":""},{"$f":"データ処理!AK168","v":0},{"$f":"IF(データ処理!AK168=\"\",\"\",データ処理!AL168&データ処理!BE168&$G$3)","v":""},{"$f":"IF(データ処理!AK168=\"\",\"\",データ処理!AM168&データ処理!AZ168&データ処理!AR168)","v":""},{"$f":"RIGHT(データ処理!AN168,5)","v":""},{"$f":"データ処理!AO168","v":""},{"$f":"データ処理!AP168","v":""}]
[null,{"$f":"RIGHT(データ処理!AI169,5)","v":""},{"$f":"LEFT(データ処理!AJ169,5)","v":""},{"$f":"データ処理!AK169","v":0},{"$f":"IF(データ処理!AK169=\"\",\"\",データ処理!AL169&データ処理!BE169&$G$3)","v":""},{"$f":"IF(データ処理!AK169=\"\",\"\",データ処理!AM169&データ処理!AZ169&データ処理!AR169)","v":""},{"$f":"RIGHT(データ処理!AN169,5)","v":""},{"$f":"データ処理!AO169","v":""},{"$f":"データ処理!AP169","v":""}]
[null,{"$f":"RIGHT(データ処理!AI170,5)","v":""},{"$f":"LEFT(データ処理!AJ170,5)","v":""},{"$f":"データ処理!AK170","v":0},{"$f":"IF(データ処理!AK170=\"\",\"\",データ処理!AL170&データ処理!BE170&$G$3)","v":""},{"$f":"IF(データ処理!AK170=\"\",\"\",データ処理!AM170&データ処理!AZ170&データ処理!AR170)","v":""},{"$f":"RIGHT(データ処理!AN170,5)","v":""},{"$f":"データ処理!AO170","v":""},{"$f":"データ処理!AP170","v":""}]
[null,{"$f":"RIGHT(データ処理!AI171,5)","v":""},{"$f":"LEFT(データ処理!AJ171,5)","v":""},{"$f":"データ処理!AK171","v":0},{"$f":"IF(データ処理!AK171=\"\",\"\",データ処理!AL171&データ処理!BE171&$G$3)","v":""},{"$f":"IF(データ処理!AK171=\"\",\"\",データ処理!AM171&データ処理!AZ171&データ処理!AR171)","v":""},{"$f":"RIGHT(データ処理!AN171,5)","v":""},{"$f":"データ処理!AO171","v":""},{"$f":"データ処理!AP171","v":""}]
[null,{"$f":"RIGHT(データ処理!AI172,5)","v":""},{"$f":"LEFT(データ処理!AJ172,5)","v":""},{"$f":"データ処理!AK172","v":0},{"$f":"IF(データ処理!AK172=\"\",\"\",データ処理!AL172&データ処理!BE172&$G$3)","v":""},{"$f":"IF(データ処理!AK172=\"\",\"\",データ処理!AM172&データ処理!AZ172&データ処理!AR172)","v":""},{"$f":"RIGHT(データ処理!AN172,5)","v":""},{"$f":"データ処理!AO172","v":""},{"$f":"データ処理!AP172","v":""}]
[null,{"$f":"RIGHT(データ処理!AI173,5)","v":""},{"$f":"LEFT(データ処理!AJ173,5)","v":""},{"$f":"データ処理!AK173","v":0},{"$f":"IF(データ処理!AK173=\"\",\"\",データ処理!AL173&データ処理!BE173&$G$3)","v":""},{"$f":"IF(データ処理!AK173=\"\",\"\",データ処理!AM173&データ処理!AZ173&データ処理!AR173)","v":""},{"$f":"RIGHT(データ処理!AN173,5)","v":""},{"$f":"データ処理!AO173","v":""},{"$f":"データ処理!AP173","v":""}]
[20,{"$f":"RIGHT(データ処理!AI174,5)","v":""},{"$f":"LEFT(データ処理!AJ174,5)","v":""},{"$f":"データ処理!AK174","v":0},{"$f":"IF(データ処理!AK174=\"\",\"\",データ処理!AL174&データ処理!BE174&$G$3)","v":""},{"$f":"IF(データ処理!AK174=\"\",\"\",データ処理!AM174&データ処理!AZ174&データ処理!AR174)","v":""},{"$f":"RIGHT(データ処理!AN174,5)","v":""},{"$f":"データ処理!AO174","v":""},{"$f":"データ処理!AP174","v":""}]
[null,{"$f":"RIGHT(データ処理!AI175,5)","v":""},{"$f":"LEFT(データ処理!AJ175,5)","v":""},{"$f":"データ処理!AK175","v":0},{"$f":"IF(データ処理!AK175=\"\",\"\",データ処理!AL175&データ処理!BE175&$G$3)","v":""},{"$f":"IF(データ処理!AK175=\"\",\"\",データ処理!AM175&データ処理!AZ175&データ処理!AR175)","v":""},{"$f":"RIGHT(データ処理!AN175,5)","v":""},{"$f":"データ処理!AO175","v":""},{"$f":"データ処理!AP175","v":""}]
[null,{"$f":"RIGHT(データ処理!AI176,5)","v":""},{"$f":"LEFT(データ処理!AJ176,5)","v":""},{"$f":"データ処理!AK176","v":0},{"$f":"IF(データ処理!AK176=\"\",\"\",データ処理!AL176&データ処理!BE176&$G$3)","v":""},{"$f":"IF(データ処理!AK176=\"\",\"\",データ処理!AM176&データ処理!AZ176&データ処理!AR176)","v":""},{"$f":"RIGHT(データ処理!AN176,5)","v":""},{"$f":"データ処理!AO176","v":""},{"$f":"データ処理!AP176","v":""}]
[null,{"$f":"RIGHT(データ処理!AI177,5)","v":""},{"$f":"LEFT(データ処理!AJ177,5)","v":""},{"$f":"データ処理!AK177","v":0},{"$f":"IF(データ処理!AK177=\"\",\"\",データ処理!AL177&データ処理!BE177&$G$3)","v":""},{"$f":"IF(データ処理!AK177=\"\",\"\",データ処理!AM177&データ処理!AZ177&データ処理!AR177)","v":""},{"$f":"RIGHT(データ処理!AN177,5)","v":""},{"$f":"データ処理!AO177","v":""},{"$f":"データ処理!AP177","v":""}]
[null,{"$f":"RIGHT(データ処理!AI178,5)","v":""},{"$f":"LEFT(データ処理!AJ178,5)","v":""},{"$f":"データ処理!AK178","v":0},{"$f":"IF(データ処理!AK178=\"\",\"\",データ処理!AL178&データ処理!BE178&$G$3)","v":""},{"$f":"IF(データ処理!AK178=\"\",\"\",データ処理!AM178&データ処理!AZ178&データ処理!AR178)","v":""},{"$f":"RIGHT(データ処理!AN178,5)","v":""},{"$f":"データ処理!AO178","v":""},{"$f":"データ処理!AP178","v":""}]
[null,{"$f":"RIGHT(データ処理!AI179,5)","v":""},{"$f":"LEFT(データ処理!AJ179,5)","v":""},{"$f":"データ処理!AK179","v":0},{"$f":"IF(データ処理!AK179=\"\",\"\",データ処理!AL179&データ処理!BE179&$G$3)","v":""},{"$f":"IF(データ処理!AK179=\"\",\"\",データ処理!AM179&データ処理!AZ179&データ処理!AR179)","v":""},{"$f":"RIGHT(データ処理!AN179,5)","v":""},{"$f":"データ処理!AO179","v":""},{"$f":"データ処理!AP179","v":""}]
[null,{"$f":"RIGHT(データ処理!AI180,5)","v":""},{"$f":"LEFT(データ処理!AJ180,5)","v":""},{"$f":"データ処理!AK180","v":0},{"$f":"IF(データ処理!AK180=\"\",\"\",データ処理!AL180&データ処理!BE180&$G$3)","v":""},{"$f":"IF(データ処理!AK180=\"\",\"\",データ処理!AM180&データ処理!AZ180&データ処理!AR180)","v":""},{"$f":"RIGHT(データ処理!AN180,5)","v":""},{"$f":"データ処理!AO180","v":""},{"$f":"データ処理!AP180","v":""}]
[null,{"$f":"RIGHT(データ処理!AI181,5)","v":""},{"$f":"LEFT(データ処理!AJ181,5)","v":""},{"$f":"データ処理!AK181","v":0},{"$f":"IF(データ処理!AK181=\"\",\"\",データ処理!AL181&データ処理!BE181&$G$3)","v":""},{"$f":"IF(データ処理!AK181=\"\",\"\",データ処理!AM181&データ処理!AZ181&データ処理!AR181)","v":""},{"$f":"RIGHT(データ処理!AN181,5)","v":""},{"$f":"データ処理!AO181","v":""},{"$f":"データ処理!AP181","v":""}]
[null,{"$f":"RIGHT(データ処理!AI182,5)","v":""},{"$f":"LEFT(データ処理!AJ182,5)","v":""},{"$f":"データ処理!AK182","v":0},{"$f":"IF(データ処理!AK182=\"\",\"\",データ処理!AL182&データ処理!BE182&$G$3)","v":""},{"$f":"IF(データ処理!AK182=\"\",\"\",データ処理!AM182&データ処理!AZ182&データ処理!AR182)","v":""},{"$f":"RIGHT(データ処理!AN182,5)","v":""},{"$f":"データ処理!AO182","v":""},{"$f":"データ処理!AP182","v":""}]
[null,{"$f":"RIGHT(データ処理!AI183,5)","v":""},{"$f":"LEFT(データ処理!AJ183,5)","v":""},{"$f":"データ処理!AK183","v":0},{"$f":"IF(データ処理!AK183=\"\",\"\",データ処理!AL183&データ処理!BE183&$G$3)","v":""},{"$f":"IF(データ処理!AK183=\"\",\"\",データ処理!AM183&データ処理!AZ183&データ処理!AR183)","v":""},{"$f":"RIGHT(データ処理!AN183,5)","v":""},{"$f":"データ処理!AO183","v":""},{"$f":"データ処理!AP183","v":""}]
[30,{"$f":"RIGHT(データ処理!AI184,5)","v":""},{"$f":"LEFT(データ処理!AJ184,5)","v":""},{"$f":"データ処理!AK184","v":0},{"$f":"IF(データ処理!AK184=\"\",\"\",データ処理!AL184&データ処理!BE184&$G$3)","v":""},{"$f":"IF(データ処理!AK184=\"\",\"\",データ処理!AM184&データ処理!AZ184&データ処理!AR184)","v":""},{"$f":"RIGHT(データ処理!AN184,5)","v":""},{"$f":"データ処理!AO184","v":""},{"$f":"データ処理!AP184","v":""}]
[null,{"$f":"RIGHT(データ処理!AI185,5)","v":""},{"$f":"LEFT(データ処理!AJ185,5)","v":""},{"$f":"データ処理!AK185","v":0},{"$f":"IF(データ処理!AK185=\"\",\"\",データ処理!AL185&データ処理!BE185&$G$3)","v":""},{"$f":"IF(データ処理!AK185=\"\",\"\",データ処理!AM185&データ処理!AZ185&データ処理!AR185)","v":""},{"$f":"RIGHT(データ処理!AN185,5)","v":""},{"$f":"データ処理!AO185","v":""},{"$f":"データ処理!AP185","v":""}]
[null,{"$f":"RIGHT(データ処理!AI186,5)","v":""},{"$f":"LEFT(データ処理!AJ186,5)","v":""},{"$f":"データ処理!AK186","v":0},{"$f":"IF(データ処理!AK186=\"\",\"\",データ処理!AL186&データ処理!BE186&$G$3)","v":""},{"$f":"IF(データ処理!AK186=\"\",\"\",データ処理!AM186&データ処理!AZ186&データ処理!AR186)","v":""},{"$f":"RIGHT(データ処理!AN186,5)","v":""},{"$f":"データ処理!AO186","v":""},{"$f":"データ処理!AP186","v":""}]
[null,{"$f":"RIGHT(データ処理!AI187,5)","v":""},{"$f":"LEFT(データ処理!AJ187,5)","v":""},{"$f":"データ処理!AK187","v":0},{"$f":"IF(データ処理!AK187=\"\",\"\",データ処理!AL187&データ処理!BE187&$G$3)","v":""},{"$f":"IF(データ処理!AK187=\"\",\"\",データ処理!AM187&データ処理!AZ187&データ処理!AR187)","v":""},{"$f":"RIGHT(データ処理!AN187,5)","v":""},{"$f":"データ処理!AO187","v":""},{"$f":"データ処理!AP187","v":""}]
[null,{"$f":"RIGHT(データ処理!AI188,5)","v":""},{"$f":"LEFT(データ処理!AJ188,5)","v":""},{"$f":"データ処理!AK188","v":0},{"$f":"IF(データ処理!AK188=\"\",\"\",データ処理!AL188&データ処理!BE188&$G$3)","v":""},{"$f":"IF(データ処理!AK188=\"\",\"\",データ処理!AM188&データ処理!AZ188&データ処理!AR188)","v":""},{"$f":"RIGHT(データ処理!AN188,5)","v":""},{"$f":"データ処理!AO188","v":""},{"$f":"データ処理!AP188","v":""}]
[null,{"$f":"RIGHT(データ処理!AI189,5)","v":""},{"$f":"LEFT(データ処理!AJ189,5)","v":""},{"$f":"データ処理!AK189","v":0},{"$f":"IF(データ処理!AK189=\"\",\"\",データ処理!AL189&データ処理!BE189&$G$3)","v":""},{"$f":"IF(データ処理!AK189=\"\",\"\",データ処理!AM189&データ処理!AZ189&データ処理!AR189)","v":""},{"$f":"RIGHT(データ処理!AN189,5)","v":""},{"$f":"データ処理!AO189","v":""},{"$f":"データ処理!AP189","v":""}]
[null,{"$f":"RIGHT(データ処理!AI190,5)","v":""},{"$f":"LEFT(データ処理!AJ190,5)","v":""},{"$f":"データ処理!AK190","v":0},{"$f":"IF(データ処理!AK190=\"\",\"\",データ処理!AL190&データ処理!BE190&$G$3)","v":""},{"$f":"IF(データ処理!AK190=\"\",\"\",データ処理!AM190&データ処理!AZ190&データ処理!AR190)","v":""},{"$f":"RIGHT(データ処理!AN190,5)","v":""},{"$f":"データ処理!AO190","v":""},{"$f":"データ処理!AP190","v":""}]
[null,{"$f":"RIGHT(データ処理!AI191,5)","v":""},{"$f":"LEFT(データ処理!AJ191,5)","v":""},{"$f":"データ処理!AK191","v":0},{"$f":"IF(データ処理!AK191=\"\",\"\",データ処理!AL191&データ処理!BE191&$G$3)","v":""},{"$f":"IF(データ処理!AK191=\"\",\"\",データ処理!AM191&データ処理!AZ191&データ処理!AR191)","v":""},{"$f":"RIGHT(データ処理!AN191,5)","v":""},{"$f":"データ処理!AO191","v":""},{"$f":"データ処理!AP191","v":""}]
[null,{"$f":"RIGHT(データ処理!AI192,5)","v":""},{"$f":"LEFT(データ処理!AJ192,5)","v":""},{"$f":"データ処理!AK192","v":0},{"$f":"IF(データ処理!AK192=\"\",\"\",データ処理!AL192&データ処理!BE192&$G$3)","v":""},{"$f":"IF(データ処理!AK192=\"\",\"\",データ処理!AM192&データ処理!AZ192&データ処理!AR192)","v":""},{"$f":"RIGHT(データ処理!AN192,5)","v":""},{"$f":"データ処理!AO192","v":""},{"$f":"データ処理!AP192","v":""}]
[null,{"$f":"RIGHT(データ処理!AI193,5)","v":""},{"$f":"LEFT(データ処理!AJ193,5)","v":""},{"$f":"データ処理!AK193","v":0},{"$f":"IF(データ処理!AK193=\"\",\"\",データ処理!AL193&データ処理!BE193&$G$3)","v":""},{"$f":"IF(データ処理!AK193=\"\",\"\",データ処理!AM193&データ処理!AZ193&データ処理!AR193)","v":""},{"$f":"RIGHT(データ処理!AN193,5)","v":""},{"$f":"データ処理!AO193","v":""},{"$f":"データ処理!AP193","v":""}]
[40,{"$f":"RIGHT(データ処理!AI194,5)","v":""},{"$f":"LEFT(データ処理!AJ194,5)","v":""},{"$f":"データ処理!AK194","v":0},{"$f":"IF(データ処理!AK194=\"\",\"\",データ処理!AL194&データ処理!BE194&$G$3)","v":""},{"$f":"IF(データ処理!AK194=\"\",\"\",データ処理!AM194&データ処理!AZ194&データ処理!AR194)","v":""},{"$f":"RIGHT(データ処理!AN194,5)","v":""},{"$f":"データ処理!AO194","v":""},{"$f":"データ処理!AP194","v":""}]
[null,{"$f":"RIGHT(データ処理!AI195,5)","v":""},{"$f":"LEFT(データ処理!AJ195,5)","v":""},{"$f":"データ処理!AK195","v":0},{"$f":"IF(データ処理!AK195=\"\",\"\",データ処理!AL195&データ処理!BE195&$G$3)","v":""},{"$f":"IF(データ処理!AK195=\"\",\"\",データ処理!AM195&データ処理!AZ195&データ処理!AR195)","v":""},{"$f":"RIGHT(データ処理!AN195,5)","v":""},{"$f":"データ処理!AO195","v":""},{"$f":"データ処理!AP195","v":""}]
[null,{"$f":"RIGHT(データ処理!AI196,5)","v":""},{"$f":"LEFT(データ処理!AJ196,5)","v":""},{"$f":"データ処理!AK196","v":0},{"$f":"IF(データ処理!AK196=\"\",\"\",データ処理!AL196&データ処理!BE196&$G$3)","v":""},{"$f":"IF(データ処理!AK196=\"\",\"\",データ処理!AM196&データ処理!AZ196&データ処理!AR196)","v":""},{"$f":"RIGHT(データ処理!AN196,5)","v":""},{"$f":"データ処理!AO196","v":""},{"$f":"データ処理!AP196","v":""}]
[null,{"$f":"RIGHT(データ処理!AI197,5)","v":""},{"$f":"LEFT(データ処理!AJ197,5)","v":""},{"$f":"データ処理!AK197","v":0},{"$f":"IF(データ処理!AK197=\"\",\"\",データ処理!AL197&データ処理!BE197&$G$3)","v":""},{"$f":"IF(データ処理!AK197=\"\",\"\",データ処理!AM197&データ処理!AZ197&データ処理!AR197)","v":""},{"$f":"RIGHT(データ処理!AN197,5)","v":""},{"$f":"データ処理!AO197","v":""},{"$f":"データ処理!AP197","v":""}]
[null,{"$f":"RIGHT(データ処理!AI198,5)","v":""},{"$f":"LEFT(データ処理!AJ198,5)","v":""},{"$f":"データ処理!AK198","v":0},{"$f":"IF(データ処理!AK198=\"\",\"\",データ処理!AL198&データ処理!BE198&$G$3)","v":""},{"$f":"IF(データ処理!AK198=\"\",\"\",データ処理!AM198&データ処理!AZ198&データ処理!AR198)","v":""},{"$f":"RIGHT(データ処理!AN198,5)","v":""},{"$f":"データ処理!AO198","v":""},{"$f":"データ処理!AP198","v":""}]
[null,{"$f":"RIGHT(データ処理!AI199,5)","v":""},{"$f":"LEFT(データ処理!AJ199,5)","v":""},{"$f":"データ処理!AK199","v":0},{"$f":"IF(データ処理!AK199=\"\",\"\",データ処理!AL199&データ処理!BE199&$G$3)","v":""},{"$f":"IF(データ処理!AK199=\"\",\"\",データ処理!AM199&データ処理!AZ199&データ処理!AR199)","v":""},{"$f":"RIGHT(データ処理!AN199,5)","v":""},{"$f":"データ処理!AO199","v":""},{"$f":"データ処理!AP199","v":""}]
[null,{"$f":"RIGHT(データ処理!AI200,5)","v":""},{"$f":"LEFT(データ処理!AJ200,5)","v":""},{"$f":"データ処理!AK200","v":0},{"$f":"IF(データ処理!AK200=\"\",\"\",データ処理!AL200&データ処理!BE200&$G$3)","v":""},{"$f":"IF(データ処理!AK200=\"\",\"\",データ処理!AM200&データ処理!AZ200&データ処理!AR200)","v":""},{"$f":"RIGHT(データ処理!AN200,5)","v":""},{"$f":"データ処理!AO200","v":""},{"$f":"データ処理!AP200","v":""}]
[null,{"$f":"RIGHT(データ処理!AI201,5)","v":""},{"$f":"LEFT(データ処理!AJ201,5)","v":""},{"$f":"データ処理!AK201","v":0},{"$f":"IF(データ処理!AK201=\"\",\"\",データ処理!AL201&データ処理!BE201&$G$3)","v":""},{"$f":"IF(データ処理!AK201=\"\",\"\",データ処理!AM201&データ処理!AZ201&データ処理!AR201)","v":""},{"$f":"RIGHT(データ処理!AN201,5)","v":""},{"$f":"データ処理!AO201","v":""},{"$f":"データ処理!AP201","v":""}]
[null,{"$f":"RIGHT(データ処理!AI202,5)","v":""},{"$f":"LEFT(データ処理!AJ202,5)","v":""},{"$f":"データ処理!AK202","v":0},{"$f":"IF(データ処理!AK202=\"\",\"\",データ処理!AL202&データ処理!BE202&$G$3)","v":""},{"$f":"IF(データ処理!AK202=\"\",\"\",データ処理!AM202&データ処理!AZ202&データ処理!AR202)","v":""},{"$f":"RIGHT(データ処理!AN202,5)","v":""},{"$f":"データ処理!AO202","v":""},{"$f":"データ処理!AP202","v":""}]
[null,{"$f":"RIGHT(データ処理!AI203,5)","v":""},{"$f":"LEFT(データ処理!AJ203,5)","v":""},{"$f":"データ処理!AK203","v":0},{"$f":"IF(データ処理!AK203=\"\",\"\",データ処理!AL203&データ処理!BE203&$G$3)","v":""},{"$f":"IF(データ処理!AK203=\"\",\"\",データ処理!AM203&データ処理!AZ203&データ処理!AR203)","v":""},{"$f":"RIGHT(データ処理!AN203,5)","v":""},{"$f":"データ処理!AO203","v":""},{"$f":"データ処理!AP203","v":""}]
[50,{"$f":"RIGHT(データ処理!AI204,5)","v":""},{"$f":"LEFT(データ処理!AJ204,5)","v":""},{"$f":"データ処理!AK204","v":0},{"$f":"IF(データ処理!AK204=\"\",\"\",データ処理!AL204&データ処理!BE204&$G$3)","v":""},{"$f":"IF(データ処理!AK204=\"\",\"\",データ処理!AM204&データ処理!AZ204&データ処理!AR204)","v":""},{"$f":"RIGHT(データ処理!AN204,5)","v":""},{"$f":"データ処理!AO204","v":""},{"$f":"データ処理!AP204","v":""}]
[null,"Total  (合計)",null,{"$f":"COUNTIF(B192:B241,\"*/*\")","v":0},null,"Total  (合計)",{"$f":"COUNTIF(G192:G241,\"*/*\")","v":0},{"$f":"50-COUNTBLANK(H192:H241)","v":0},{"$f":"SUM(I192:I241)","v":0}]
[]
[null,"総 合 計",null,{"$f":"IF(K188=\"\",\"\",D242+ログシート!D185)","v":""},null,"総 合 計",{"$f":"IF(K188=\"\",\"\",G242+ログシート!G185)","v":""},{"$f":"IF(K188=\"\",\"\",H242+ログシート!H185)","v":""},{"$f":"IF(K188=\"\",\"\",I242+ログシート!I185)","v":""}]
[]
[null,"ＬＯＧ　ＳＨＥＥＴ (ログシート）",null,null,"Year (年)",{"$f":"$F$10","v":"2024"},{"$f":"$G$10","v":"第38回 滋賀2mSSB\nアクティブコンテスト"}]
[null,"Callsign (ｺｰﾙｻｲﾝ)",null,{"$f":"$D$11","v":0},"BAND（バンド）",{"$f":"$F$11","v":144},"MHz/SSB",null,"Sheet No.",null,{"$f":"IF(E251=\"\",\"\",L250&\"/\"&$E$3)","v":""}]
[]
[null,"Date Time",null,"Station Wkd","Exchange (ｺﾝﾃｽﾄﾅﾝﾊﾞｰ)",null,"Multi.（マルチ）",null,"Pts.","Op.","備考"]
[null,"月/日","時分JST","交信局","Sent (送信)","Received (受信)","日数マルチ","テールレター","得点","運用者",null,5]
[null,{"$f":"RIGHT(データ処理!AI205,5)","v":""},{"$f":"LEFT(データ処理!AJ205,5)","v":""},{"$f":"データ処理!AK205","v":0},{"$f":"IF(データ処理!AK205=\"\",\"\",データ処理!AL205&データ処理!BE205&$G$3)","v":""},{"$f":"IF(データ処理!AK205=\"\",\"\",データ処理!AM205&データ処理!AZ205&データ処理!AR205)","v":""},{"$f":"RIGHT(データ処理!AN205,5)","v":""},{"$f":"データ処理!AO205","v":""},{"$f":"データ処理!AP205","v":""}]
[null,{"$f":"RIGHT(データ処理!AI206,5)","v":""},{"$f":"LEFT(データ処理!AJ206,5)","v":""},{"$f":"データ処理!AK206","v":0},{"$f":"IF(データ処理!AK206=\"\",\"\",データ処理!AL206&データ処理!BE206&$G$3)","v":""},{"$f":"IF(データ処理!AK206=\"\",\"\",データ処理!AM206&データ処理!AZ206&データ処理!AR206)","v":""},{"$f":"RIGHT(データ処理!AN206,5)","v":""},{"$f":"データ処理!AO206","v":""},{"$f":"データ処理!AP206","v":""}]
[null,{"$f":"RIGHT(データ処理!AI207,5)","v":""},{"$f":"LEFT(データ処理!AJ207,5)","v":""},{"$f":"データ処理!AK207","v":0},{"$f":"IF(データ処理!AK207=\"\",\"\",データ処理!AL207&データ処理!BE207&$G$3)","v":""},{"$f":"IF(データ処理!AK207=\"\",\"\",データ処理!AM207&データ処理!AZ207&データ処理!AR207)","v":""},{"$f":"RIGHT(データ処理!AN207,5)","v":""},{"$f":"データ処理!AO207","v":""},{"$f":"データ処理!AP207","v":""}]
[null,{"$f":"RIGHT(データ処理!AI208,5)","v":""},{"$f":"LEFT(データ処理!AJ208,5)","v":""},{"$f":"データ処理!AK208","v":0},{"$f":"IF(データ処理!AK208=\"\",\"\",データ処理!AL208&データ処理!BE208&$G$3)","v":""},{"$f":"IF(データ処理!AK208=\"\",\"\",データ処理!AM208&データ処理!AZ208&データ処理!AR208)","v":""},{"$f":"RIGHT(データ処理!AN208,5)","v":""},{"$f":"データ処理!AO208","v":""},{"$f":"データ処理!AP208","v":""}]
[null,{"$f":"RIGHT(データ処理!AI209,5)","v":""},{"$f":"LEFT(データ処理!AJ209,5)","v":""},{"$f":"データ処理!AK209","v":0},{"$f":"IF(データ処理!AK209=\"\",\"\",データ処理!AL209&データ処理!BE209&$G$3)","v":""},{"$f":"IF(データ処理!AK209=\"\",\"\",データ処理!AM209&データ処理!AZ209&データ処理!AR209)","v":""},{"$f":"RIGHT(データ処理!AN209,5)","v":""},{"$f":"データ処理!AO209","v":""},{"$f":"データ処理!AP209","v":""}]
[null,{"$f":"RIGHT(データ処理!AI210,5)","v":""},{"$f":"LEFT(データ処理!AJ210,5)","v":""},{"$f":"データ処理!AK210","v":0},{"$f":"IF(データ処理!AK210=\"\",\"\",データ処理!AL210&データ処理!BE210&$G$3)","v":""},{"$f":"IF(データ処理!AK210=\"\",\"\",データ処理!AM210&データ処理!AZ210&データ処理!AR210)","v":""},{"$f":"RIGHT(データ処理!AN210,5)","v":""},{"$f":"データ処理!AO210","v":""},{"$f":"データ処理!AP210","v":""}]
[null,{"$f":"RIGHT(データ処理!AI211,5)","v":""},{"$f":"LEFT(データ処理!AJ211,5)","v":""},{"$f":"データ処理!AK211","v":0},{"$f":"IF(データ処理!AK211=\"\",\"\",データ処理!AL211&データ処理!BE211&$G$3)","v":""},{"$f":"IF(データ処理!AK211=\"\",\"\",データ処理!AM211&データ処理!AZ211&データ処理!AR211)","v":""},{"$f":"RIGHT(データ処理!AN211,5)","v":""},{"$f":"データ処理!AO211","v":""},{"$f":"データ処理!AP211","v":""}]
[null,{"$f":"RIGHT(データ処理!AI212,5)","v":""},{"$f":"LEFT(データ処理!AJ212,5)","v":""},{"$f":"データ処理!AK212","v":0},{"$f":"IF(データ処理!AK212=\"\",\"\",データ処理!AL212&データ処理!BE212&$G$3)","v":""},{"$f":"IF(データ処理!AK212=\"\",\"\",データ処理!AM212&データ処理!AZ212&データ処理!AR212)","v":""},{"$f":"RIGHT(データ処理!AN212,5)","v":""},{"$f":"データ処理!AO212","v":""},{"$f":"データ処理!AP212","v":""}]
[null,{"$f":"RIGHT(データ処理!AI213,5)","v":""},{"$f":"LEFT(データ処理!AJ213,5)","v":""},{"$f":"データ処理!AK213","v":0},{"$f":"IF(データ処理!AK213=\"\",\"\",データ処理!AL213&データ処理!BE213&$G$3)","v":""},{"$f":"IF(データ処理!AK213=\"\",\"\",データ処理!AM213&データ処理!AZ213&データ処理!AR213)","v":""},{"$f":"RIGHT(データ処理!AN213,5)","v":""},{"$f":"データ処理!AO213","v":""},{"$f":"データ処理!AP213","v":""}]
[10,{"$f":"RIGHT(データ処理!AI214,5)","v":""},{"$f":"LEFT(データ処理!AJ214,5)","v":""},{"$f":"データ処理!AK214","v":0},{"$f":"IF(データ処理!AK214=\"\",\"\",データ処理!AL214&データ処理!BE214&$G$3)","v":""},{"$f":"IF(データ処理!AK214=\"\",\"\",データ処理!AM214&データ処理!AZ214&データ処理!AR214)","v":""},{"$f":"RIGHT(データ処理!AN214,5)","v":""},{"$f":"データ処理!AO214","v":""},{"$f":"データ処理!AP214","v":""}]
[null,{"$f":"RIGHT(データ処理!AI215,5)","v":""},{"$f":"LEFT(データ処理!AJ215,5)","v":""},{"$f":"データ処理!AK215","v":0},{"$f":"IF(データ処理!AK215=\"\",\"\",データ処理!AL215&データ処理!BE215&$G$3)","v":""},{"$f":"IF(データ処理!AK215=\"\",\"\",データ処理!AM215&データ処理!AZ215&データ処理!AR215)","v":""},{"$f":"RIGHT(データ処理!AN215,5)","v":""},{"$f":"データ処理!AO215","v":""},{"$f":"データ処理!AP215","v":""}]
[null,{"$f":"RIGHT(データ処理!AI216,5)","v":""},{"$f":"LEFT(データ処理!AJ216,5)","v":""},{"$f":"データ処理!AK216","v":0},{"$f":"IF(データ処理!AK216=\"\",\"\",データ処理!AL216&データ処理!BE216&$G$3)","v":""},{"$f":"IF(データ処理!AK216=\"\",\"\",データ処理!AM216&データ処理!AZ216&データ処理!AR216)","v":""},{"$f":"RIGHT(データ処理!AN216,5)","v":""},{"$f":"データ処理!AO216","v":""},{"$f":"データ処理!AP216","v":""}]
[null,{"$f":"RIGHT(データ処理!AI217,5)","v":""},{"$f":"LEFT(データ処理!AJ217,5)","v":""},{"$f":"データ処理!AK217","v":0},{"$f":"IF(データ処理!AK217=\"\",\"\",データ処理!AL217&データ処理!BE217&$G$3)","v":""},{"$f":"IF(データ処理!AK217=\"\",\"\",データ処理!AM217&データ処理!AZ217&データ処理!AR217)","v":""},{"$f":"RIGHT(データ処理!AN217,5)","v":""},{"$f":"データ処理!AO217","v":""},{"$f":"データ処理!AP217","v":""}]
[null,{"$f":"RIGHT(データ処理!AI218,5)","v":""},{"$f":"LEFT(データ処理!AJ218,5)","v":""},{"$f":"データ処理!AK218","v":0},{"$f":"IF(データ処理!AK218=\"\",\"\",データ処理!AL218&データ処理!BE218&$G$3)","v":""},{"$f":"IF(データ処理!AK218=\"\",\"\",データ処理!AM218&データ処理!AZ218&データ処理!AR218)","v":""},{"$f":"RIGHT(データ処理!AN218,5)","v":""},{"$f":"データ処理!AO218","v":""},{"$f":"データ処理!AP218","v":""}]
[null,{"$f":"RIGHT(データ処理!AI219,5)","v":""},{"$f":"LEFT(データ処理!AJ219,5)","v":""},{"$f":"データ処理!AK219","v":0},{"$f":"IF(データ処理!AK219=\"\",\"\",データ処理!AL219&データ処理!BE219&$G$3)","v":""},{"$f":"IF(データ処理!AK219=\"\",\"\",データ処理!AM219&データ処理!AZ219&データ処理!AR219)","v":""},{"$f":"RIGHT(データ処理!AN219,5)","v":""},{"$f":"データ処理!AO219","v":""},{"$f":"データ処理!AP219","v":""}]
[null,{"$f":"RIGHT(データ処理!AI220,5)","v":""},{"$f":"LEFT(データ処理!AJ220,5)","v":""},{"$f":"データ処理!AK220","v":0},{"$f":"IF(データ処理!AK220=\"\",\"\",データ処理!AL220&データ処理!BE220&$G$3)","v":""},{"$f":"IF(データ処理!AK220=\"\",\"\",データ処理!AM220&データ処理!AZ220&データ処理!AR220)","v":""},{"$f":"RIGHT(データ処理!AN220,5)","v":""},{"$f":"データ処理!AO220","v":""},{"$f":"データ処理!AP220","v":""}]
[null,{"$f":"RIGHT(データ処理!AI221,5)","v":""},{"$f":"LEFT(データ処理!AJ221,5)","v":""},{"$f":"データ処理!AK221","v":0},{"$f":"IF(データ処理!AK221=\"\",\"\",データ処理!AL221&データ処理!BE221&$G$3)","v":""},{"$f":"IF(データ処理!AK221=\"\",\"\",データ処理!AM221&データ処理!AZ221&データ処理!AR221)","v":""},{"$f":"RIGHT(データ処理!AN221,5)","v":""},{"$f":"データ処理!AO221","v":""},{"$f":"データ処理!AP221","v":""}]
[null,{"$f":"RIGHT(データ処理!AI222,5)","v":""},{"$f":"LEFT(データ処理!AJ222,5)","v":""},{"$f":"データ処理!AK222","v":0},{"$f":"IF(データ処理!AK222=\"\",\"\",データ処理!AL222&データ処理!BE222&$G$3)","v":""},{"$f":"IF(データ処理!AK222=\"\",\"\",データ処理!AM222&データ処理!AZ222&データ処理!AR222)","v":""},{"$f":"RIGHT(データ処理!AN222,5)","v":""},{"$f":"データ処理!AO222","v":""},{"$f":"データ処理!AP222","v":""}]
[null,{"$f":"RIGHT(データ処理!AI223,5)","v":""},{"$f":"LEFT(データ処理!AJ223,5)","v":""},{"$f":"データ処理!AK223","v":0},{"$f":"IF(データ処理!AK223=\"\",\"\",データ処理!AL223&データ処理!BE223&$G$3)","v":""},{"$f":"IF(データ処理!AK223=\"\",\"\",データ処理!AM223&データ処理!AZ223&データ処理!AR223)","v":""},{"$f":"RIGHT(データ処理!AN223,5)","v":""},{"$f":"データ処理!AO223","v":""},{"$f":"データ処理!AP223","v":""}]
[20,{"$f":"RIGHT(データ処理!AI224,5)","v":""},{"$f":"LEFT(データ処理!AJ224,5)","v":""},{"$f":"データ処理!AK224","v":0},{"$f":"IF(データ処理!AK224=\"\",\"\",データ処理!AL224&データ処理!BE224&$G$3)","v":""},{"$f":"IF(データ処理!AK224=\"\",\"\",データ処理!AM224&データ処理!AZ224&データ処理!AR224)","v":""},{"$f":"RIGHT(データ処理!AN224,5)","v":""},{"$f":"データ処理!AO224","v":""},{"$f":"データ処理!AP224","v":""}]
[null,{"$f":"RIGHT(データ処理!AI225,5)","v":""},{"$f":"LEFT(データ処理!AJ225,5)","v":""},{"$f":"データ処理!AK225","v":0},{"$f":"IF(データ処理!AK225=\"\",\"\",データ処理!AL225&データ処理!BE225&$G$3)","v":""},{"$f":"IF(データ処理!AK225=\"\",\"\",データ処理!AM225&データ処理!AZ225&データ処理!AR225)","v":""},{"$f":"RIGHT(データ処理!AN225,5)","v":""},{"$f":"データ処理!AO225","v":""},{"$f":"データ処理!AP225","v":""}]
[null,{"$f":"RIGHT(データ処理!AI226,5)","v":""},{"$f":"LEFT(データ処理!AJ226,5)","v":""},{"$f":"データ処理!AK226","v":0},{"$f":"IF(データ処理!AK226=\"\",\"\",データ処理!AL226&データ処理!BE226&$G$3)","v":""},{"$f":"IF(データ処理!AK226=\"\",\"\",データ処理!AM226&データ処理!AZ226&データ処理!AR226)","v":""},{"$f":"RIGHT(データ処理!AN226,5)","v":""},{"$f":"データ処理!AO226","v":""},{"$f":"データ処理!AP226","v":""}]
[null,{"$f":"RIGHT(データ処理!AI227,5)","v":""},{"$f":"LEFT(データ処理!AJ227,5)","v":""},{"$f":"データ処理!AK227","v":0},{"$f":"IF(データ処理!AK227=\"\",\"\",データ処理!AL227&データ処理!BE227&$G$3)","v":""},{"$f":"IF(データ処理!AK227=\"\",\"\",データ処理!AM227&データ処理!AZ227&データ処理!AR227)","v":""},{"$f":"RIGHT(データ処理!AN227,5)","v":""},{"$f":"データ処理!AO227","v":""},{"$f":"データ処理!AP227","v":""}]
[null,{"$f":"RIGHT(データ処理!AI228,5)","v":""},{"$f":"LEFT(データ処理!AJ228,5)","v":""},{"$f":"データ処理!AK228","v":0},{"$f":"IF(データ処理!AK228=\"\",\"\",データ処理!AL228&データ処理!BE228&$G$3)","v":""},{"$f":"IF(データ処理!AK228=\"\",\"\",データ処理!AM228&データ処理!AZ228&データ処理!AR228)","v":""},{"$f":"RIGHT(データ処理!AN228,5)","v":""},{"$f":"データ処理!AO228","v":""},{"$f":"データ処理!AP228","v":""}]
[null,{"$f":"RIGHT(データ処理!AI229,5)","v":""},{"$f":"LEFT(データ処理!AJ229,5)","v":""},{"$f":"データ処理!AK229","v":0},{"$f":"IF(データ処理!AK229=\"\",\"\",データ処理!AL229&データ処理!BE229&$G$3)","v":""},{"$f":"IF(データ処理!AK229=\"\",\"\",データ処理!AM229&データ処理!AZ229&データ処理!AR229)","v":""},{"$f":"RIGHT(データ処理!AN229,5)","v":""},{"$f":"データ処理!AO229","v":""},{"$f":"データ処理!AP229","v":""}]
[null,{"$f":"RIGHT(データ処理!AI230,5)","v":""},{"$f":"LEFT(データ処理!AJ230,5)","v":""},{"$f":"データ処理!AK230","v":0},{"$f":"IF(データ処理!AK230=\"\",\"\",データ処理!AL230&データ処理!BE230&$G$3)","v":""},{"$f":"IF(データ処理!AK230=\"\",\"\",データ処理!AM230&データ処理!AZ230&データ処理!AR230)","v":""},{"$f":"RIGHT(データ処理!AN230,5)","v":""},{"$f":"データ処理!AO230","v":""},{"$f":"データ処理!AP230","v":""}]
[null,{"$f":"RIGHT(データ処理!AI231,5)","v":""},{"$f":"LEFT(データ処理!AJ231,5)","v":""},{"$f":"データ処理!AK231","v":0},{"$f":"IF(データ処理!AK231=\"\",\"\",データ処理!AL231&データ処理!BE231&$G$3)","v":""},{"$f":"IF(データ処理!AK231=\"\",\"\",データ処理!AM231&データ処理!AZ231&データ処理!AR231)","v":""},{"$f":"RIGHT(データ処理!AN231,5)","v":""},{"$f":"データ処理!AO231","v":""},{"$f":"データ処理!AP231","v":""}]
[null,{"$f":"RIGHT(データ処理!AI232,5)","v":""},{"$f":"LEFT(データ処理!AJ232,5)","v":""},{"$f":"データ処理!AK232","v":0},{"$f":"IF(データ処理!AK232=\"\",\"\",データ処理!AL232&データ処理!BE232&$G$3)","v":""},{"$f":"IF(データ処理!AK232=\"\",\"\",データ処理!AM232&データ処理!AZ232&データ処理!AR232)","v":""},{"$f":"RIGHT(データ処理!AN232,5)","v":""},{"$f":"データ処理!AO232","v":""},{"$f":"データ処理!AP232","v":""}]
[null,{"$f":"RIGHT(データ処理!AI233,5)","v":""},{"$f":"LEFT(データ処理!AJ233,5)","v":""},{"$f":"データ処理!AK233","v":0},{"$f":"IF(データ処理!AK233=\"\",\"\",データ処理!AL233&データ処理!BE233&$G$3)","v":""},{"$f":"IF(データ処理!AK233=\"\",\"\",データ処理!AM233&データ処理!AZ233&データ処理!AR233)","v":""},{"$f":"RIGHT(データ処理!AN233,5)","v":""},{"$f":"データ処理!AO233","v":""},{"$f":"データ処理!AP233","v":""}]
[30,{"$f":"RIGHT(データ処理!AI234,5)","v":""},{"$f":"LEFT(データ処理!AJ234,5)","v":""},{"$f":"データ処理!AK234","v":0},{"$f":"IF(データ処理!AK234=\"\",\"\",データ処理!AL234&データ処理!BE234&$G$3)","v":""},{"$f":"IF(データ処理!AK234=\"\",\"\",データ処理!AM234&データ処理!AZ234&データ処理!AR234)","v":""},{"$f":"RIGHT(データ処理!AN234,5)","v":""},{"$f":"データ処理!AO234","v":""},{"$f":"データ処理!AP234","v":""}]
[null,{"$f":"RIGHT(データ処理!AI235,5)","v":""},{"$f":"LEFT(データ処理!AJ235,5)","v":""},{"$f":"データ処理!AK235","v":0},{"$f":"IF(データ処理!AK235=\"\",\"\",データ処理!AL235&データ処理!BE235&$G$3)","v":""},{"$f":"IF(データ処理!AK235=\"\",\"\",データ処理!AM235&データ処理!AZ235&データ処理!AR235)","v":""},{"$f":"RIGHT(データ処理!AN235,5)","v":""},{"$f":"データ処理!AO235","v":""},{"$f":"データ処理!AP235","v":""}]
[null,{"$f":"RIGHT(データ処理!AI236,5)","v":""},{"$f":"LEFT(データ処理!AJ236,5)","v":""},{"$f":"データ処理!AK236","v":0},{"$f":"IF(データ処理!AK236=\"\",\"\",データ処理!AL236&データ処理!BE236&$G$3)","v":""},{"$f":"IF(データ処理!AK236=\"\",\"\",データ処理!AM236&データ処理!AZ236&データ処理!AR236)","v":""},{"$f":"RIGHT(データ処理!AN236,5)","v":""},{"$f":"データ処理!AO236","v":""},{"$f":"データ処理!AP236","v":""}]
[null,{"$f":"RIGHT(データ処理!AI237,5)","v":""},{"$f":"LEFT(データ処理!AJ237,5)","v":""},{"$f":"データ処理!AK237","v":0},{"$f":"IF(データ処理!AK237=\"\",\"\",データ処理!AL237&データ処理!BE237&$G$3)","v":""},{"$f":"IF(データ処理!AK237=\"\",\"\",データ処理!AM237&データ処理!AZ237&データ処理!AR237)","v":""},{"$f":"RIGHT(データ処理!AN237,5)","v":""},{"$f":"データ処理!AO237","v":""},{"$f":"データ処理!AP237","v":""}]
[null,{"$f":"RIGHT(データ処理!AI238,5)","v":""},{"$f":"LEFT(データ処理!AJ238,5)","v":""},{"$f":"データ処理!AK238","v":0},{"$f":"IF(データ処理!AK238=\"\",\"\",データ処理!AL238&データ処理!BE238&$G$3)","v":""},{"$f":"IF(データ処理!AK238=\"\",\"\",データ処理!AM238&データ処理!AZ238&データ処理!AR238)","v":""},{"$f":"RIGHT(データ処理!AN238,5)","v":""},{"$f":"データ処理!AO238","v":""},{"$f":"データ処理!AP238","v":""}]
[null,{"$f":"RIGHT(データ処理!AI239,5)","v":""},{"$f":"LEFT(データ処理!AJ239,5)","v":""},{"$f":"データ処理!AK239","v":0},{"$f":"IF(データ処理!AK239=\"\",\"\",データ処理!AL239&データ処理!BE239&$G$3)","v":""},{"$f":"IF(データ処理!AK239=\"\",\"\",データ処理!AM239&データ処理!AZ239&データ処理!AR239)","v":""},{"$f":"RIGHT(データ処理!AN239,5)","v":""},{"$f":"データ処理!AO239","v":""},{"$f":"データ処理!AP239","v":""}]
[null,{"$f":"RIGHT(データ処理!AI240,5)","v":""},{"$f":"LEFT(データ処理!AJ240,5)","v":""},{"$f":"データ処理!AK240","v":0},{"$f":"IF(データ処理!AK240=\"\",\"\",データ処理!AL240&データ処理!BE240&$G$3)","v":""},{"$f":"IF(データ処理!AK240=\"\",\"\",データ処理!AM240&データ処理!AZ240&データ処理!AR240)","v":""},{"$f":"RIGHT(データ処理!AN240,5)","v":""},{"$f":"データ処理!AO240","v":""},{"$f":"データ処理!AP240","v":""}]
[null,{"$f":"RIGHT(データ処理!AI241,5)","v":""},{"$f":"LEFT(データ処理!AJ241,5)","v":""},{"$f":"データ処理!AK241","v":0},{"$f":"IF(データ処理!AK241=\"\",\"\",データ処理!AL241&データ処理!BE241&$G$3)","v":""},{"$f":"IF(データ処理!AK241=\"\",\"\",データ処理!AM241&データ処理!AZ241&データ処理!AR241)","v":""},{"$f":"RIGHT(データ処理!AN241,5)","v":""},{"$f":"データ処理!AO241","v":""},{"$f":"データ処理!AP241","v":""}]
[null,{"$f":"RIGHT(データ処理!AI242,5)","v":""},{"$f":"LEFT(データ処理!AJ242,5)","v":""},{"$f":"データ処理!AK242","v":0},{"$f":"IF(データ処理!AK242=\"\",\"\",データ処理!AL242&データ処理!BE242&$G$3)","v":""},{"$f":"IF(データ処理!AK242=\"\",\"\",データ処理!AM242&データ処理!AZ242&データ処理!AR242)","v":""},{"$f":"RIGHT(データ処理!AN242,5)","v":""},{"$f":"データ処理!AO242","v":""},{"$f":"データ処理!AP242","v":""}]
[null,{"$f":"RIGHT(データ処理!AI243,5)","v":""},{"$f":"LEFT(データ処理!AJ243,5)","v":""},{"$f":"データ処理!AK243","v":0},{"$f":"IF(データ処理!AK243=\"\",\"\",データ処理!AL243&データ処理!BE243&$G$3)","v":""},{"$f":"IF(データ処理!AK243=\"\",\"\",データ処理!AM243&データ処理!AZ243&データ処理!AR243)","v":""},{"$f":"RIGHT(データ処理!AN243,5)","v":""},{"$f":"データ処理!AO243","v":""},{"$f":"データ処理!AP243","v":""}]
[40,{"$f":"RIGHT(データ処理!AI244,5)","v":""},{"$f":"LEFT(データ処理!AJ244,5)","v":""},{"$f":"データ処理!AK244","v":0},{"$f":"IF(データ処理!AK244=\"\",\"\",データ処理!AL244&データ処理!BE244&$G$3)","v":""},{"$f":"IF(データ処理!AK244=\"\",\"\",データ処理!AM244&データ処理!AZ244&データ処理!AR244)","v":""},{"$f":"RIGHT(データ処理!AN244,5)","v":""},{"$f":"データ処理!AO244","v":""},{"$f":"データ処理!AP244","v":""}]
[null,{"$f":"RIGHT(データ処理!AI245,5)","v":""},{"$f":"LEFT(データ処理!AJ245,5)","v":""},{"$f":"データ処理!AK245","v":0},{"$f":"IF(データ処理!AK245=\"\",\"\",データ処理!AL245&データ処理!BE245&$G$3)","v":""},{"$f":"IF(データ処理!AK245=\"\",\"\",データ処理!AM245&データ処理!AZ245&データ処理!AR245)","v":""},{"$f":"RIGHT(データ処理!AN245,5)","v":""},{"$f":"データ処理!AO245","v":""},{"$f":"データ処理!AP245","v":""}]
[null,{"$f":"RIGHT(データ処理!AI246,5)","v":""},{"$f":"LEFT(データ処理!AJ246,5)","v":""},{"$f":"データ処理!AK246","v":0},{"$f":"IF(データ処理!AK246=\"\",\"\",データ処理!AL246&データ処理!BE246&$G$3)","v":""},{"$f":"IF(データ処理!AK246=\"\",\"\",データ処理!AM246&データ処理!AZ246&データ処理!AR246)","v":""},{"$f":"RIGHT(データ処理!AN246,5)","v":""},{"$f":"データ処理!AO246","v":""},{"$f":"データ処理!AP246","v":""}]
[null,{"$f":"RIGHT(データ処理!AI247,5)","v":""},{"$f":"LEFT(データ処理!AJ247,5)","v":""},{"$f":"データ処理!AK247","v":0},{"$f":"IF(データ処理!AK247=\"\",\"\",データ処理!AL247&データ処理!BE247&$G$3)","v":""},{"$f":"IF(データ処理!AK247=\"\",\"\",データ処理!AM247&データ処理!AZ247&データ処理!AR247)","v":""},{"$f":"RIGHT(データ処理!AN247,5)","v":""},{"$f":"データ処理!AO247","v":""},{"$f":"データ処理!AP247","v":""}]
[null,{"$f":"RIGHT(データ処理!AI248,5)","v":""},{"$f":"LEFT(データ処理!AJ248,5)","v":""},{"$f":"データ処理!AK248","v":0},{"$f":"IF(データ処理!AK248=\"\",\"\",データ処理!AL248&データ処理!BE248&$G$3)","v":""},{"$f":"IF(データ処理!AK248=\"\",\"\",データ処理!AM248&データ処理!AZ248&データ処理!AR248)","v":""},{"$f":"RIGHT(データ処理!AN248,5)","v":""},{"$f":"データ処理!AO248","v":""},{"$f":"データ処理!AP248","v":""}]
[null,{"$f":"RIGHT(データ処理!AI249,5)","v":""},{"$f":"LEFT(データ処理!AJ249,5)","v":""},{"$f":"データ処理!AK249","v":0},{"$f":"IF(データ処理!AK249=\"\",\"\",データ処理!AL249&データ処理!BE249&$G$3)","v":""},{"$f":"IF(データ処理!AK249=\"\",\"\",データ処理!AM249&データ処理!AZ249&データ処理!AR249)","v":""},{"$f":"RIGHT(データ処理!AN249,5)","v":""},{"$f":"データ処理!AO249","v":""},{"$f":"データ処理!AP249","v":""}]
[null,{"$f":"RIGHT(データ処理!AI250,5)","v":""},{"$f":"LEFT(データ処理!AJ250,5)","v":""},{"$f":"データ処理!AK250","v":0},{"$f":"IF(データ処理!AK250=\"\",\"\",データ処理!AL250&データ処理!BE250&$G$3)","v":""},{"$f":"IF(データ処理!AK250=\"\",\"\",データ処理!AM250&データ処理!AZ250&データ処理!AR250)","v":""},{"$f":"RIGHT(データ処理!AN250,5)","v":""},{"$f":"データ処理!AO250","v":""},{"$f":"データ処理!AP250","v":""}]
[null,{"$f":"RIGHT(データ処理!AI251,5)","v":""},{"$f":"LEFT(データ処理!AJ251,5)","v":""},{"$f":"データ処理!AK251","v":0},{"$f":"IF(データ処理!AK251=\"\",\"\",データ処理!AL251&データ処理!BE251&$G$3)","v":""},{"$f":"IF(データ処理!AK251=\"\",\"\",データ処理!AM251&データ処理!AZ251&データ処理!AR251)","v":""},{"$f":"RIGHT(データ処理!AN251,5)","v":""},{"$f":"データ処理!AO251","v":""},{"$f":"データ処理!AP251","v":""}]
[null,{"$f":"RIGHT(データ処理!AI252,5)","v":""},{"$f":"LEFT(データ処理!AJ252,5)","v":""},{"$f":"データ処理!AK252","v":0},{"$f":"IF(データ処理!AK252=\"\",\"\",データ処理!AL252&データ処理!BE252&$G$3)","v":""},{"$f":"IF(データ処理!AK252=\"\",\"\",データ処理!AM252&データ処理!AZ252&データ処理!AR252)","v":""},{"$f":"RIGHT(データ処理!AN252,5)","v":""},{"$f":"データ処理!AO252","v":""},{"$f":"データ処理!AP252","v":""}]
[null,{"$f":"RIGHT(データ処理!AI253,5)","v":""},{"$f":"LEFT(データ処理!AJ253,5)","v":""},{"$f":"データ処理!AK253","v":0},{"$f":"IF(データ処理!AK253=\"\",\"\",データ処理!AL253&データ処理!BE253&$G$3)","v":""},{"$f":"IF(データ処理!AK253=\"\",\"\",データ処理!AM253&データ処理!AZ253&データ処理!AR253)","v":""},{"$f":"RIGHT(データ処理!AN253,5)","v":""},{"$f":"データ処理!AO253","v":""},{"$f":"データ処理!AP253","v":""}]
[50,{"$f":"RIGHT(データ処理!AI254,5)","v":""},{"$f":"LEFT(データ処理!AJ254,5)","v":""},{"$f":"データ処理!AK254","v":0},{"$f":"IF(データ処理!AK254=\"\",\"\",データ処理!AL254&データ処理!BE254&$G$3)","v":""},{"$f":"IF(データ処理!AK254=\"\",\"\",データ処理!AM254&データ処理!AZ254&データ処理!AR254)","v":""},{"$f":"RIGHT(データ処理!AN254,5)","v":""},{"$f":"データ処理!AO254","v":""},{"$f":"データ処理!AP254","v":""}]
[null,"Total  (合計)",null,{"$f":"COUNTIF(B251:B300,\"*/*\")","v":0},null,"Total  (合計)",{"$f":"COUNTIF(G251:G300,\"*/*\")","v":0},{"$f":"50-COUNTBLANK(H251:H300)","v":0},{"$f":"SUM(I251:I300)","v":0}]
[]
[null,"総 合 計",null,{"$f":"IF(K247=\"\",\"\",D301+ログシート!D244)","v":""},null,"総 合 計",{"$f":"IF(K247=\"\",\"\",G301+ログシート!G244)","v":""},{"$f":"IF(K247=\"\",\"\",H301+ログシート!H244)","v":""},{"$f":"IF(K247=\"\",\"\",I301+ログシート!I244)","v":""}]
[]
[null,"ＬＯＧ　ＳＨＥＥＴ (ログシート）",null,null,"Year (年)",{"$f":"$F$10","v":"2024"},{"$f":"$G$10","v":"第38回 滋賀2mSSB\nアクティブコンテスト"}]
[null,"Callsign (ｺｰﾙｻｲﾝ)",null,{"$f":"$D$11","v":0},"BAND（バンド）",{"$f":"$F$11","v":144},"MHz/SSB",null,"Sheet No.",null,{"$f":"IF(E310=\"\",\"\",L309&\"/\"&$E$3)","v":""}]
[]
[null,"Date Time",null,"Station Wkd","Exchange (ｺﾝﾃｽﾄﾅﾝﾊﾞｰ)",null,"Multi.（マルチ）",null,"Pts.","Op.","備考"]
[null,"月/日","時分JST","交信局","Sent (送信)","Received (受信)","日数マルチ","テールレター","得点","運用者",null,6]
[null,{"$f":"RIGHT(データ処理!AI255,5)","v":""},{"$f":"LEFT(データ処理!AJ255,5)","v":""},{"$f":"データ処理!AK255","v":0},{"$f":"IF(データ処理!AK255=\"\",\"\",データ処理!AL255&データ処理!BE255&$G$3)","v":""},{"$f":"IF(データ処理!AK255=\"\",\"\",データ処理!AM255&データ処理!AZ255&データ処理!AR255)","v":""},{"$f":"RIGHT(データ処理!AN255,5)","v":""},{"$f":"データ処理!AO255","v":""},{"$f":"データ処理!AP255","v":""}]
[null,{"$f":"RIGHT(データ処理!AI256,5)","v":""},{"$f":"LEFT(データ処理!AJ256,5)","v":""},{"$f":"データ処理!AK256","v":0},{"$f":"IF(データ処理!AK256=\"\",\"\",データ処理!AL256&データ処理!BE256&$G$3)","v":""},{"$f":"IF(データ処理!AK256=\"\",\"\",データ処理!AM256&データ処理!AZ256&データ処理!AR256)","v":""},{"$f":"RIGHT(データ処理!AN256,5)","v":""},{"$f":"データ処理!AO256","v":""},{"$f":"データ処理!AP256","v":""}]
[null,{"$f":"RIGHT(データ処理!AI257,5)","v":""},{"$f":"LEFT(データ処理!AJ257,5)","v":""},{"$f":"データ処理!AK257","v":0},{"$f":"IF(データ処理!AK257=\"\",\"\",データ処理!AL257&データ処理!BE257&$G$3)","v":""},{"$f":"IF(データ処理!AK257=\"\",\"\",データ処理!AM257&データ処理!AZ257&データ処理!AR257)","v":""},{"$f":"RIGHT(データ処理!AN257,5)","v":""},{"$f":"データ処理!AO257","v":""},{"$f":"データ処理!AP257","v":""}]
[null,{"$f":"RIGHT(データ処理!AI258,5)","v":""},{"$f":"LEFT(データ処理!AJ258,5)","v":""},{"$f":"データ処理!AK258","v":0},{"$f":"IF(データ処理!AK258=\"\",\"\",データ処理!AL258&データ処理!BE258&$G$3)","v":""},{"$f":"IF(データ処理!AK258=\"\",\"\",データ処理!AM258&データ処理!AZ258&データ処理!AR258)","v":""},{"$f":"RIGHT(データ処理!AN258,5)","v":""},{"$f":"データ処理!AO258","v":""},{"$f":"データ処理!AP258","v":""}]
[null,{"$f":"RIGHT(データ処理!AI259,5)","v":""},{"$f":"LEFT(データ処理!AJ259,5)","v":""},{"$f":"データ処理!AK259","v":0},{"$f":"IF(データ処理!AK259=\"\",\"\",データ処理!AL259&データ処理!BE259&$G$3)","v":""},{"$f":"IF(データ処理!AK259=\"\",\"\",データ処理!AM259&データ処理!AZ259&データ処理!AR259)","v":""},{"$f":"RIGHT(データ処理!AN259,5)","v":""},{"$f":"データ処理!AO259","v":""},{"$f":"データ処理!AP259","v":""}]
[null,{"$f":"RIGHT(データ処理!AI260,5)","v":""},{"$f":"LEFT(データ処理!AJ260,5)","v":""},{"$f":"データ処理!AK260","v":0},{"$f":"IF(データ処理!AK260=\"\",\"\",データ処理!AL260&データ処理!BE260&$G$3)","v":""},{"$f":"IF(データ処理!AK260=\"\",\"\",データ処理!AM260&データ処理!AZ260&データ処理!AR260)","v":""},{"$f":"RIGHT(データ処理!AN260,5)","v":""},{"$f":"データ処理!AO260","v":""},{"$f":"データ処理!AP260","v":""}]
[null,{"$f":"RIGHT(データ処理!AI261,5)","v":""},{"$f":"LEFT(データ処理!AJ261,5)","v":""},{"$f":"データ処理!AK261","v":0},{"$f":"IF(データ処理!AK261=\"\",\"\",データ処理!AL261&データ処理!BE261&$G$3)","v":""},{"$f":"IF(データ処理!AK261=\"\",\"\",データ処理!AM261&データ処理!AZ261&データ処理!AR261)","v":""},{"$f":"RIGHT(データ処理!AN261,5)","v":""},{"$f":"データ処理!AO261","v":""},{"$f":"データ処理!AP261","v":""}]
[null,{"$f":"RIGHT(データ処理!AI262,5)","v":""},{"$f":"LEFT(データ処理!AJ262,5)","v":""},{"$f":"データ処理!AK262","v":0},{"$f":"IF(データ処理!AK262=\"\",\"\",データ処理!AL262&データ処理!BE262&$G$3)","v":""},{"$f":"IF(データ処理!AK262=\"\",\"\",データ処理!AM262&データ処理!AZ262&データ処理!AR262)","v":""},{"$f":"RIGHT(データ処理!AN262,5)","v":""},{"$f":"データ処理!AO262","v":""},{"$f":"データ処理!AP262","v":""}]
[null,{"$f":"RIGHT(データ処理!AI263,5)","v":""},{"$f":"LEFT(データ処理!AJ263,5)","v":""},{"$f":"データ処理!AK263","v":0},{"$f":"IF(データ処理!AK263=\"\",\"\",データ処理!AL263&データ処理!BE263&$G$3)","v":""},{"$f":"IF(データ処理!AK263=\"\",\"\",データ処理!AM263&データ処理!AZ263&データ処理!AR263)","v":""},{"$f":"RIGHT(データ処理!AN263,5)","v":""},{"$f":"データ処理!AO263","v":""},{"$f":"データ処理!AP263","v":""}]
[10,{"$f":"RIGHT(データ処理!AI264,5)","v":""},{"$f":"LEFT(データ処理!AJ264,5)","v":""},{"$f":"データ処理!AK264","v":0},{"$f":"IF(データ処理!AK264=\"\",\"\",データ処理!AL264&データ処理!BE264&$G$3)","v":""},{"$f":"IF(データ処理!AK264=\"\",\"\",データ処理!AM264&データ処理!AZ264&データ処理!AR264)","v":""},{"$f":"RIGHT(データ処理!AN264,5)","v":""},{"$f":"データ処理!AO264","v":""},{"$f":"データ処理!AP264","v":""}]
[null,{"$f":"RIGHT(データ処理!AI265,5)","v":""},{"$f":"LEFT(データ処理!AJ265,5)","v":""},{"$f":"データ処理!AK265","v":0},{"$f":"IF(データ処理!AK265=\"\",\"\",データ処理!AL265&データ処理!BE265&$G$3)","v":""},{"$f":"IF(データ処理!AK265=\"\",\"\",データ処理!AM265&データ処理!AZ265&データ処理!AR265)","v":""},{"$f":"RIGHT(データ処理!AN265,5)","v":""},{"$f":"データ処理!AO265","v":""},{"$f":"データ処理!AP265","v":""}]
[null,{"$f":"RIGHT(データ処理!AI266,5)","v":""},{"$f":"LEFT(データ処理!AJ266,5)","v":""},{"$f":"データ処理!AK266","v":0},{"$f":"IF(データ処理!AK266=\"\",\"\",データ処理!AL266&データ処理!BE266&$G$3)","v":""},{"$f":"IF(データ処理!AK266=\"\",\"\",データ処理!AM266&データ処理!AZ266&データ処理!AR266)","v":""},{"$f":"RIGHT(データ処理!AN266,5)","v":""},{"$f":"データ処理!AO266","v":""},{"$f":"データ処理!AP266","v":""}]
[null,{"$f":"RIGHT(データ処理!AI267,5)","v":""},{"$f":"LEFT(データ処理!AJ267,5)","v":""},{"$f":"データ処理!AK267","v":0},{"$f":"IF(データ処理!AK267=\"\",\"\",データ処理!AL267&データ処理!BE267&$G$3)","v":""},{"$f":"IF(データ処理!AK267=\"\",\"\",データ処理!AM267&データ処理!AZ267&データ処理!AR267)","v":""},{"$f":"RIGHT(データ処理!AN267,5)","v":""},{"$f":"データ処理!AO267","v":""},{"$f":"データ処理!AP267","v":""}]
[null,{"$f":"RIGHT(データ処理!AI268,5)","v":""},{"$f":"LEFT(データ処理!AJ268,5)","v":""},{"$f":"データ処理!AK268","v":0},{"$f":"IF(データ処理!AK268=\"\",\"\",データ処理!AL268&データ処理!BE268&$G$3)","v":""},{"$f":"IF(データ処理!AK268=\"\",\"\",データ処理!AM268&データ処理!AZ268&データ処理!AR268)","v":""},{"$f":"RIGHT(データ処理!AN268,5)","v":""},{"$f":"データ処理!AO268","v":""},{"$f":"データ処理!AP268","v":""}]
[null,{"$f":"RIGHT(データ処理!AI269,5)","v":""},{"$f":"LEFT(データ処理!AJ269,5)","v":""},{"$f":"データ処理!AK269","v":0},{"$f":"IF(データ処理!AK269=\"\",\"\",データ処理!AL269&データ処理!BE269&$G$3)","v":""},{"$f":"IF(データ処理!AK269=\"\",\"\",データ処理!AM269&データ処理!AZ269&データ処理!AR269)","v":""},{"$f":"RIGHT(データ処理!AN269,5)","v":""},{"$f":"データ処理!AO269","v":""},{"$f":"データ処理!AP269","v":""}]
[null,{"$f":"RIGHT(データ処理!AI270,5)","v":""},{"$f":"LEFT(データ処理!AJ270,5)","v":""},{"$f":"データ処理!AK270","v":0},{"$f":"IF(データ処理!AK270=\"\",\"\",データ処理!AL270&データ処理!BE270&$G$3)","v":""},{"$f":"IF(データ処理!AK270=\"\",\"\",データ処理!AM270&データ処理!AZ270&データ処理!AR270)","v":""},{"$f":"RIGHT(データ処理!AN270,5)","v":""},{"$f":"データ処理!AO270","v":""},{"$f":"データ処理!AP270","v":""}]
[null,{"$f":"RIGHT(データ処理!AI271,5)","v":""},{"$f":"LEFT(データ処理!AJ271,5)","v":""},{"$f":"データ処理!AK271","v":0},{"$f":"IF(データ処理!AK271=\"\",\"\",データ処理!AL271&データ処理!BE271&$G$3)","v":""},{"$f":"IF(データ処理!AK271=\"\",\"\",データ処理!AM271&データ処理!AZ271&データ処理!AR271)","v":""},{"$f":"RIGHT(データ処理!AN271,5)","v":""},{"$f":"データ処理!AO271","v":""},{"$f":"データ処理!AP271","v":""}]
[null,{"$f":"RIGHT(データ処理!AI272,5)","v":""},{"$f":"LEFT(データ処理!AJ272,5)","v":""},{"$f":"データ処理!AK272","v":0},{"$f":"IF(データ処理!AK272=\"\",\"\",データ処理!AL272&データ処理!BE272&$G$3)","v":""},{"$f":"IF(データ処理!AK272=\"\",\"\",データ処理!AM272&データ処理!AZ272&データ処理!AR272)","v":""},{"$f":"RIGHT(データ処理!AN272,5)","v":""},{"$f":"データ処理!AO272","v":""},{"$f":"データ処理!AP272","v":""}]
[null,{"$f":"RIGHT(データ処理!AI273,5)","v":""},{"$f":"LEFT(データ処理!AJ273,5)","v":""},{"$f":"データ処理!AK273","v":0},{"$f":"IF(データ処理!AK273=\"\",\"\",データ処理!AL273&データ処理!BE273&$G$3)","v":""},{"$f":"IF(データ処理!AK273=\"\",\"\",データ処理!AM273&データ処理!AZ273&データ処理!AR273)","v":""},{"$f":"RIGHT(データ処理!AN273,5)","v":""},{"$f":"データ処理!AO273","v":""},{"$f":"データ処理!AP273","v":""}]
[20,{"$f":"RIGHT(データ処理!AI274,5)","v":""},{"$f":"LEFT(データ処理!AJ274,5)","v":""},{"$f":"データ処理!AK274","v":0},{"$f":"IF(データ処理!AK274=\"\",\"\",データ処理!AL274&データ処理!BE274&$G$3)","v":""},{"$f":"IF(データ処理!AK274=\"\",\"\",データ処理!AM274&データ処理!AZ274&データ処理!AR274)","v":""},{"$f":"RIGHT(データ処理!AN274,5)","v":""},{"$f":"データ処理!AO274","v":""},{"$f":"データ処理!AP274","v":""}]
[null,{"$f":"RIGHT(データ処理!AI275,5)","v":""},{"$f":"LEFT(データ処理!AJ275,5)","v":""},{"$f":"データ処理!AK275","v":0},{"$f":"IF(データ処理!AK275=\"\",\"\",データ処理!AL275&データ処理!BE275&$G$3)","v":""},{"$f":"IF(データ処理!AK275=\"\",\"\",データ処理!AM275&データ処理!AZ275&データ処理!AR275)","v":""},{"$f":"RIGHT(データ処理!AN275,5)","v":""},{"$f":"データ処理!AO275","v":""},{"$f":"データ処理!AP275","v":""}]
[null,{"$f":"RIGHT(データ処理!AI276,5)","v":""},{"$f":"LEFT(データ処理!AJ276,5)","v":""},{"$f":"データ処理!AK276","v":0},{"$f":"IF(データ処理!AK276=\"\",\"\",データ処理!AL276&データ処理!BE276&$G$3)","v":""},{"$f":"IF(データ処理!AK276=\"\",\"\",データ処理!AM276&データ処理!AZ276&データ処理!AR276)","v":""},{"$f":"RIGHT(データ処理!AN276,5)","v":""},{"$f":"データ処理!AO276","v":""},{"$f":"データ処理!AP276","v":""}]
[null,{"$f":"RIGHT(データ処理!AI277,5)","v":""},{"$f":"LEFT(データ処理!AJ277,5)","v":""},{"$f":"データ処理!AK277","v":0},{"$f":"IF(データ処理!AK277=\"\",\"\",データ処理!AL277&データ処理!BE277&$G$3)","v":""},{"$f":"IF(データ処理!AK277=\"\",\"\",データ処理!AM277&データ処理!AZ277&データ処理!AR277)","v":""},{"$f":"RIGHT(データ処理!AN277,5)","v":""},{"$f":"データ処理!AO277","v":""},{"$f":"データ処理!AP277","v":""}]
[null,{"$f":"RIGHT(データ処理!AI278,5)","v":""},{"$f":"LEFT(データ処理!AJ278,5)","v":""},{"$f":"データ処理!AK278","v":0},{"$f":"IF(データ処理!AK278=\"\",\"\",データ処理!AL278&データ処理!BE278&$G$3)","v":""},{"$f":"IF(データ処理!AK278=\"\",\"\",データ処理!AM278&データ処理!AZ278&データ処理!AR278)","v":""},{"$f":"RIGHT(データ処理!AN278,5)","v":""},{"$f":"データ処理!AO278","v":""},{"$f":"データ処理!AP278","v":""}]
[null,{"$f":"RIGHT(データ処理!AI279,5)","v":""},{"$f":"LEFT(データ処理!AJ279,5)","v":""},{"$f":"データ処理!AK279","v":0},{"$f":"IF(データ処理!AK279=\"\",\"\",データ処理!AL279&データ処理!BE279&$G$3)","v":""},{"$f":"IF(データ処理!AK279=\"\",\"\",データ処理!AM279&データ処理!AZ279&データ処理!AR279)","v":""},{"$f":"RIGHT(データ処理!AN279,5)","v":""},{"$f":"データ処理!AO279","v":""},{"$f":"データ処理!AP279","v":""}]
[null,{"$f":"RIGHT(データ処理!AI280,5)","v":""},{"$f":"LEFT(データ処理!AJ280,5)","v":""},{"$f":"データ処理!AK280","v":0},{"$f":"IF(データ処理!AK280=\"\",\"\",データ処理!AL280&データ処理!BE280&$G$3)","v":""},{"$f":"IF(データ処理!AK280=\"\",\"\",データ処理!AM280&データ処理!AZ280&データ処理!AR280)","v":""},{"$f":"RIGHT(データ処理!AN280,5)","v":""},{"$f":"データ処理!AO280","v":""},{"$f":"データ処理!AP280","v":""}]
[null,{"$f":"RIGHT(データ処理!AI281,5)","v":""},{"$f":"LEFT(データ処理!AJ281,5)","v":""},{"$f":"データ処理!AK281","v":0},{"$f":"IF(データ処理!AK281=\"\",\"\",データ処理!AL281&データ処理!BE281&$G$3)","v":""},{"$f":"IF(データ処理!AK281=\"\",\"\",データ処理!AM281&データ処理!AZ281&データ処理!AR281)","v":""},{"$f":"RIGHT(データ処理!AN281,5)","v":""},{"$f":"データ処理!AO281","v":""},{"$f":"データ処理!AP281","v":""}]
[null,{"$f":"RIGHT(データ処理!AI282,5)","v":""},{"$f":"LEFT(データ処理!AJ282,5)","v":""},{"$f":"データ処理!AK282","v":0},{"$f":"IF(データ処理!AK282=\"\",\"\",データ処理!AL282&データ処理!BE282&$G$3)","v":""},{"$f":"IF(データ処理!AK282=\"\",\"\",データ処理!AM282&データ処理!AZ282&データ処理!AR282)","v":""},{"$f":"RIGHT(データ処理!AN282,5)","v":""},{"$f":"データ処理!AO282","v":""},{"$f":"データ処理!AP282","v":""}]
[null,{"$f":"RIGHT(データ処理!AI283,5)","v":""},{"$f":"LEFT(データ処理!AJ283,5)","v":""},{"$f":"データ処理!AK283","v":0},{"$f":"IF(データ処理!AK283=\"\",\"\",データ処理!AL283&データ処理!BE283&$G$3)","v":""},{"$f":"IF(データ処理!AK283=\"\",\"\",データ処理!AM283&データ処理!AZ283&データ処理!AR283)","v":""},{"$f":"RIGHT(データ処理!AN283,5)","v":""},{"$f":"データ処理!AO283","v":""},{"$f":"データ処理!AP283","v":""}]
[30,{"$f":"RIGHT(データ処理!AI284,5)","v":""},{"$f":"LEFT(データ処理!AJ284,5)","v":""},{"$f":"データ処理!AK284","v":0},{"$f":"IF(データ処理!AK284=\"\",\"\",データ処理!AL284&データ処理!BE284&$G$3)","v":""},{"$f":"IF(データ処理!AK284=\"\",\"\",データ処理!AM284&データ処理!AZ284&データ処理!AR284)","v":""},{"$f":"RIGHT(データ処理!AN284,5)","v":""},{"$f":"データ処理!AO284","v":""},{"$f":"データ処理!AP284","v":""}]
[null,{"$f":"RIGHT(データ処理!AI285,5)","v":""},{"$f":"LEFT(データ処理!AJ285,5)","v":""},{"$f":"データ処理!AK285","v":0},{"$f":"IF(データ処理!AK285=\"\",\"\",データ処理!AL285&データ処理!BE285&$G$3)","v":""},{"$f":"IF(データ処理!AK285=\"\",\"\",データ処理!AM285&データ処理!AZ285&データ処理!AR285)","v":""},{"$f":"RIGHT(データ処理!AN285,5)","v":""},{"$f":"データ処理!AO285","v":""},{"$f":"データ処理!AP285","v":""}]
[null,{"$f":"RIGHT(データ処理!AI286,5)","v":""},{"$f":"LEFT(データ処理!AJ286,5)","v":""},{"$f":"データ処理!AK286","v":0},{"$f":"IF(データ処理!AK286=\"\",\"\",データ処理!AL286&データ処理!BE286&$G$3)","v":""},{"$f":"IF(データ処理!AK286=\"\",\"\",データ処理!AM286&データ処理!AZ286&データ処理!AR286)","v":""},{"$f":"RIGHT(データ処理!AN286,5)","v":""},{"$f":"データ処理!AO286","v":""},{"$f":"データ処理!AP286","v":""}]
[null,{"$f":"RIGHT(データ処理!AI287,5)","v":""},{"$f":"LEFT(データ処理!AJ287,5)","v":""},{"$f":"データ処理!AK287","v":0},{"$f":"IF(データ処理!AK287=\"\",\"\",データ処理!AL287&データ処理!BE287&$G$3)","v":""},{"$f":"IF(データ処理!AK287=\"\",\"\",データ処理!AM287&データ処理!AZ287&データ処理!AR287)","v":""},{"$f":"RIGHT(データ処理!AN287,5)","v":""},{"$f":"データ処理!AO287","v":""},{"$f":"データ処理!AP287","v":""}]
[null,{"$f":"RIGHT(データ処理!AI288,5)","v":""},{"$f":"LEFT(データ処理!AJ288,5)","v":""},{"$f":"データ処理!AK288","v":0},{"$f":"IF(データ処理!AK288=\"\",\"\",データ処理!AL288&データ処理!BE288&$G$3)","v":""},{"$f":"IF(データ処理!AK288=\"\",\"\",データ処理!AM288&データ処理!AZ288&データ処理!AR288)","v":""},{"$f":"RIGHT(データ処理!AN288,5)","v":""},{"$f":"データ処理!AO288","v":""},{"$f":"データ処理!AP288","v":""}]
[null,{"$f":"RIGHT(データ処理!AI289,5)","v":""},{"$f":"LEFT(データ処理!AJ289,5)","v":""},{"$f":"データ処理!AK289","v":0},{"$f":"IF(データ処理!AK289=\"\",\"\",データ処理!AL289&データ処理!BE289&$G$3)","v":""},{"$f":"IF(データ処理!AK289=\"\",\"\",データ処理!AM289&データ処理!AZ289&データ処理!AR289)","v":""},{"$f":"RIGHT(データ処理!AN289,5)","v":""},{"$f":"データ処理!AO289","v":""},{"$f":"データ処理!AP289","v":""}]
[null,{"$f":"RIGHT(データ処理!AI290,5)","v":""},{"$f":"LEFT(データ処理!AJ290,5)","v":""},{"$f":"データ処理!AK290","v":0},{"$f":"IF(データ処理!AK290=\"\",\"\",データ処理!AL290&データ処理!BE290&$G$3)","v":""},{"$f":"IF(データ処理!AK290=\"\",\"\",データ処理!AM290&データ処理!AZ290&データ処理!AR290)","v":""},{"$f":"RIGHT(データ処理!AN290,5)","v":""},{"$f":"データ処理!AO290","v":""},{"$f":"データ処理!AP290","v":""}]
[null,{"$f":"RIGHT(データ処理!AI291,5)","v":""},{"$f":"LEFT(データ処理!AJ291,5)","v":""},{"$f":"データ処理!AK291","v":0},{"$f":"IF(データ処理!AK291=\"\",\"\",データ処理!AL291&データ処理!BE291&$G$3)","v":""},{"$f":"IF(データ処理!AK291=\"\",\"\",データ処理!AM291&データ処理!AZ291&データ処理!AR291)","v":""},{"$f":"RIGHT(データ処理!AN291,5)","v":""},{"$f":"データ処理!AO291","v":""},{"$f":"データ処理!AP291","v":""}]
[null,{"$f":"RIGHT(データ処理!AI292,5)","v":""},{"$f":"LEFT(データ処理!AJ292,5)","v":""},{"$f":"データ処理!AK292","v":0},{"$f":"IF(データ処理!AK292=\"\",\"\",データ処理!AL292&データ処理!BE292&$G$3)","v":""},{"$f":"IF(データ処理!AK292=\"\",\"\",データ処理!AM292&データ処理!AZ292&データ処理!AR292)","v":""},{"$f":"RIGHT(データ処理!AN292,5)","v":""},{"$f":"データ処理!AO292","v":""},{"$f":"データ処理!AP292","v":""}]
[null,{"$f":"RIGHT(データ処理!AI293,5)","v":""},{"$f":"LEFT(データ処理!AJ293,5)","v":""},{"$f":"データ処理!AK293","v":0},{"$f":"IF(データ処理!AK293=\"\",\"\",データ処理!AL293&データ処理!BE293&$G$3)","v":""},{"$f":"IF(データ処理!AK293=\"\",\"\",データ処理!AM293&データ処理!AZ293&データ処理!AR293)","v":""},{"$f":"RIGHT(データ処理!AN293,5)","v":""},{"$f":"データ処理!AO293","v":""},{"$f":"データ処理!AP293","v":""}]
[40,{"$f":"RIGHT(データ処理!AI294,5)","v":""},{"$f":"LEFT(データ処理!AJ294,5)","v":""},{"$f":"データ処理!AK294","v":0},{"$f":"IF(データ処理!AK294=\"\",\"\",データ処理!AL294&データ処理!BE294&$G$3)","v":""},{"$f":"IF(データ処理!AK294=\"\",\"\",データ処理!AM294&データ処理!AZ294&データ処理!AR294)","v":""},{"$f":"RIGHT(データ処理!AN294,5)","v":""},{"$f":"データ処理!AO294","v":""},{"$f":"データ処理!AP294","v":""}]
[null,{"$f":"RIGHT(データ処理!AI295,5)","v":""},{"$f":"LEFT(データ処理!AJ295,5)","v":""},{"$f":"データ処理!AK295","v":0},{"$f":"IF(データ処理!AK295=\"\",\"\",データ処理!AL295&データ処理!BE295&$G$3)","v":""},{"$f":"IF(データ処理!AK295=\"\",\"\",データ処理!AM295&データ処理!AZ295&データ処理!AR295)","v":""},{"$f":"RIGHT(データ処理!AN295,5)","v":""},{"$f":"データ処理!AO295","v":""},{"$f":"データ処理!AP295","v":""}]
[null,{"$f":"RIGHT(データ処理!AI296,5)","v":""},{"$f":"LEFT(データ処理!AJ296,5)","v":""},{"$f":"データ処理!AK296","v":0},{"$f":"IF(データ処理!AK296=\"\",\"\",データ処理!AL296&データ処理!BE296&$G$3)","v":""},{"$f":"IF(データ処理!AK296=\"\",\"\",データ処理!AM296&データ処理!AZ296&データ処理!AR296)","v":""},{"$f":"RIGHT(データ処理!AN296,5)","v":""},{"$f":"データ処理!AO296","v":""},{"$f":"データ処理!AP296","v":""}]
[null,{"$f":"RIGHT(データ処理!AI297,5)","v":""},{"$f":"LEFT(データ処理!AJ297,5)","v":""},{"$f":"データ処理!AK297","v":0},{"$f":"IF(データ処理!AK297=\"\",\"\",データ処理!AL297&データ処理!BE297&$G$3)","v":""},{"$f":"IF(データ処理!AK297=\"\",\"\",データ処理!AM297&データ処理!AZ297&データ処理!AR297)","v":""},{"$f":"RIGHT(データ処理!AN297,5)","v":""},{"$f":"データ処理!AO297","v":""},{"$f":"データ処理!AP297","v":""}]
[null,{"$f":"RIGHT(データ処理!AI298,5)","v":""},{"$f":"LEFT(データ処理!AJ298,5)","v":""},{"$f":"データ処理!AK298","v":0},{"$f":"IF(データ処理!AK298=\"\",\"\",データ処理!AL298&データ処理!BE298&$G$3)","v":""},{"$f":"IF(データ処理!AK298=\"\",\"\",データ処理!AM298&データ処理!AZ298&データ処理!AR298)","v":""},{"$f":"RIGHT(データ処理!AN298,5)","v":""},{"$f":"データ処理!AO298","v":""},{"$f":"データ処理!AP298","v":""}]
[null,{"$f":"RIGHT(データ処理!AI299,5)","v":""},{"$f":"LEFT(データ処理!AJ299,5)","v":""},{"$f":"データ処理!AK299","v":0},{"$f":"IF(データ処理!AK299=\"\",\"\",データ処理!AL299&データ処理!BE299&$G$3)","v":""},{"$f":"IF(データ処理!AK299=\"\",\"\",データ処理!AM299&データ処理!AZ299&データ処理!AR299)","v":""},{"$f":"RIGHT(データ処理!AN299,5)","v":""},{"$f":"データ処理!AO299","v":""},{"$f":"データ処理!AP299","v":""}]
[null,{"$f":"RIGHT(データ処理!AI300,5)","v":""},{"$f":"LEFT(データ処理!AJ300,5)","v":""},{"$f":"データ処理!AK300","v":0},{"$f":"IF(データ処理!AK300=\"\",\"\",データ処理!AL300&データ処理!BE300&$G$3)","v":""},{"$f":"IF(データ処理!AK300=\"\",\"\",データ処理!AM300&データ処理!AZ300&データ処理!AR300)","v":""},{"$f":"RIGHT(データ処理!AN300,5)","v":""},{"$f":"データ処理!AO300","v":""},{"$f":"データ処理!AP300","v":""}]
[null,{"$f":"RIGHT(データ処理!AI301,5)","v":""},{"$f":"LEFT(データ処理!AJ301,5)","v":""},{"$f":"データ処理!AK301","v":0},{"$f":"IF(データ処理!AK301=\"\",\"\",データ処理!AL301&データ処理!BE301&$G$3)","v":""},{"$f":"IF(データ処理!AK301=\"\",\"\",データ処理!AM301&データ処理!AZ301&データ処理!AR301)","v":""},{"$f":"RIGHT(データ処理!AN301,5)","v":""},{"$f":"データ処理!AO301","v":""},{"$f":"データ処理!AP301","v":""}]
[null,{"$f":"RIGHT(データ処理!AI302,5)","v":""},{"$f":"LEFT(データ処理!AJ302,5)","v":""},{"$f":"データ処理!AK302","v":0},{"$f":"IF(データ処理!AK302=\"\",\"\",データ処理!AL302&データ処理!BE302&$G$3)","v":""},{"$f":"IF(データ処理!AK302=\"\",\"\",データ処理!AM302&データ処理!AZ302&データ処理!AR302)","v":""},{"$f":"RIGHT(データ処理!AN302,5)","v":""},{"$f":"データ処理!AO302","v":""},{"$f":"データ処理!AP302","v":""}]
[null,{"$f":"RIGHT(データ処理!AI303,5)","v":""},{"$f":"LEFT(データ処理!AJ303,5)","v":""},{"$f":"データ処理!AK303","v":0},{"$f":"IF(データ処理!AK303=\"\",\"\",データ処理!AL303&データ処理!BE303&$G$3)","v":""},{"$f":"IF(データ処理!AK303=\"\",\"\",データ処理!AM303&データ処理!AZ303&データ処理!AR303)","v":""},{"$f":"RIGHT(データ処理!AN303,5)","v":""},{"$f":"データ処理!AO303","v":""},{"$f":"データ処理!AP303","v":""}]
[50,{"$f":"RIGHT(データ処理!AI304,5)","v":""},{"$f":"LEFT(データ処理!AJ304,5)","v":""},{"$f":"データ処理!AK304","v":0},{"$f":"IF(データ処理!AK304=\"\",\"\",データ処理!AL304&データ処理!BE304&$G$3)","v":""},{"$f":"IF(データ処理!AK304=\"\",\"\",データ処理!AM304&データ処理!AZ304&データ処理!AR304)","v":""},{"$f":"RIGHT(データ処理!AN304,5)","v":""},{"$f":"データ処理!AO304","v":""},{"$f":"データ処理!AP304","v":""}]
[null,"Total  (合計)",null,{"$f":"COUNTIF(B310:B359,\"*/*\")","v":0},null,"Total  (合計)",{"$f":"COUNTIF(G310:G359,\"*/*\")","v":0},{"$f":"50-COUNTBLANK(H310:H359)","v":0},{"$f":"SUM(I310:I359)","v":0}]
[]
[null,"総 合 計",null,{"$f":"IF(K306=\"\",\"\",D360+ログシート!D303)","v":""},null,"総 合 計",{"$f":"IF(K306=\"\",\"\",G360+ログシート!G303)","v":""},{"$f":"IF(K306=\"\",\"\",H360+ログシート!H303)","v":""},{"$f":"IF(K306=\"\",\"\",I360+ログシート!I303)","v":""}]
[]
[null,"ＬＯＧ　ＳＨＥＥＴ (ログシート）",null,null,"Year (年)",{"$f":"$F$10","v":"2024"},{"$f":"$G$10","v":"第38回 滋賀2mSSB\nアクティブコンテスト"}]
[null,"Callsign (ｺｰﾙｻｲﾝ)",null,{"$f":"$D$11","v":0},"BAND（バンド）",{"$f":"$F$11","v":144},"MHz/SSB",null,"Sheet No.",null,{"$f":"IF(E369=\"\",\"\",L368&\"/\"&$E$3)","v":""}]
[]
[null,"Date Time",null,"Station Wkd","Exchange (ｺﾝﾃｽﾄﾅﾝﾊﾞｰ)",null,"Multi.（マルチ）",null,"Pts.","Op.","備考"]
[null,"月/日","時分JST","交信局","Sent (送信)","Received (受信)","日数マルチ","テールレター","得点","運用者",null,7]
[null,{"$f":"RIGHT(データ処理!AI305,5)","v":""},{"$f":"LEFT(データ処理!AJ305,5)","v":""},{"$f":"データ処理!AK305","v":0},{"$f":"IF(データ処理!AK305=\"\",\"\",データ処理!AL305&データ処理!BE305&$G$3)","v":""},{"$f":"IF(データ処理!AK305=\"\",\"\",データ処理!AM305&データ処理!AZ305&データ処理!AR305)","v":""},{"$f":"RIGHT(データ処理!AN305,5)","v":""},{"$f":"データ処理!AO305","v":""},{"$f":"データ処理!AP305","v":""}]
[null,{"$f":"RIGHT(データ処理!AI306,5)","v":""},{"$f":"LEFT(データ処理!AJ306,5)","v":""},{"$f":"データ処理!AK306","v":0},{"$f":"IF(データ処理!AK306=\"\",\"\",データ処理!AL306&データ処理!BE306&$G$3)","v":""},{"$f":"IF(データ処理!AK306=\"\",\"\",データ処理!AM306&データ処理!AZ306&データ処理!AR306)","v":""},{"$f":"RIGHT(データ処理!AN306,5)","v":""},{"$f":"データ処理!AO306","v":""},{"$f":"データ処理!AP306","v":""}]
[null,{"$f":"RIGHT(データ処理!AI307,5)","v":""},{"$f":"LEFT(データ処理!AJ307,5)","v":""},{"$f":"データ処理!AK307","v":0},{"$f":"IF(データ処理!AK307=\"\",\"\",データ処理!AL307&データ処理!BE307&$G$3)","v":""},{"$f":"IF(データ処理!AK307=\"\",\"\",データ処理!AM307&データ処理!AZ307&データ処理!AR307)","v":""},{"$f":"RIGHT(データ処理!AN307,5)","v":""},{"$f":"データ処理!AO307","v":""},{"$f":"データ処理!AP307","v":""}]
[null,{"$f":"RIGHT(データ処理!AI308,5)","v":""},{"$f":"LEFT(データ処理!AJ308,5)","v":""},{"$f":"データ処理!AK308","v":0},{"$f":"IF(データ処理!AK308=\"\",\"\",データ処理!AL308&データ処理!BE308&$G$3)","v":""},{"$f":"IF(データ処理!AK308=\"\",\"\",データ処理!AM308&データ処理!AZ308&データ処理!AR308)","v":""},{"$f":"RIGHT(データ処理!AN308,5)","v":""},{"$f":"データ処理!AO308","v":""},{"$f":"データ処理!AP308","v":""}]
[null,{"$f":"RIGHT(データ処理!AI309,5)","v":""},{"$f":"LEFT(データ処理!AJ309,5)","v":""},{"$f":"データ処理!AK309","v":0},{"$f":"IF(データ処理!AK309=\"\",\"\",データ処理!AL309&データ処理!BE309&$G$3)","v":""},{"$f":"IF(データ処理!AK309=\"\",\"\",データ処理!AM309&データ処理!AZ309&データ処理!AR309)","v":""},{"$f":"RIGHT(データ処理!AN309,5)","v":""},{"$f":"データ処理!AO309","v":""},{"$f":"データ処理!AP309","v":""}]
[null,{"$f":"RIGHT(データ処理!AI310,5)","v":""},{"$f":"LEFT(データ処理!AJ310,5)","v":""},{"$f":"データ処理!AK310","v":0},{"$f":"IF(データ処理!AK310=\"\",\"\",データ処理!AL310&データ処理!BE310&$G$3)","v":""},{"$f":"IF(データ処理!AK310=\"\",\"\",データ処理!AM310&データ処理!AZ310&データ処理!AR310)","v":""},{"$f":"RIGHT(データ処理!AN310,5)","v":""},{"$f":"データ処理!AO310","v":""},{"$f":"データ処理!AP310","v":""}]
[null,{"$f":"RIGHT(データ処理!AI311,5)","v":""},{"$f":"LEFT(データ処理!AJ311,5)","v":""},{"$f":"データ処理!AK311","v":0},{"$f":"IF(データ処理!AK311=\"\",\"\",データ処理!AL311&データ処理!BE311&$G$3)","v":""},{"$f":"IF(データ処理!AK311=\"\",\"\",データ処理!AM311&データ処理!AZ311&データ処理!AR311)","v":""},{"$f":"RIGHT(データ処理!AN311,5)","v":""},{"$f":"データ処理!AO311","v":""},{"$f":"データ処理!AP311","v":""}]
[null,{"$f":"RIGHT(データ処理!AI312,5)","v":""},{"$f":"LEFT(データ処理!AJ312,5)","v":""},{"$f":"データ処理!AK312","v":0},{"$f":"IF(データ処理!AK312=\"\",\"\",データ処理!AL312&データ処理!BE312&$G$3)","v":""},{"$f":"IF(データ処理!AK312=\"\",\"\",データ処理!AM312&データ処理!AZ312&データ処理!AR312)","v":""},{"$f":"RIGHT(データ処理!AN312,5)","v":""},{"$f":"データ処理!AO312","v":""},{"$f":"データ処理!AP312","v":""}]
[null,{"$f":"RIGHT(データ処理!AI313,5)","v":""},{"$f":"LEFT(データ処理!AJ313,5)","v":""},{"$f":"データ処理!AK313","v":0},{"$f":"IF(データ処理!AK313=\"\",\"\",データ処理!AL313&データ処理!BE313&$G$3)","v":""},{"$f":"IF(データ処理!AK313=\"\",\"\",データ処理!AM313&データ処理!AZ313&データ処理!AR313)","v":""},{"$f":"RIGHT(データ処理!AN313,5)","v":""},{"$f":"データ処理!AO313","v":""},{"$f":"データ処理!AP313","v":""}]
[10,{"$f":"RIGHT(データ処理!AI314,5)","v":""},{"$f":"LEFT(データ処理!AJ314,5)","v":""},{"$f":"データ処理!AK314","v":0},{"$f":"IF(データ処理!AK314=\"\",\"\",データ処理!AL314&データ処理!BE314&$G$3)","v":""},{"$f":"IF(データ処理!AK314=\"\",\"\",データ処理!AM314&データ処理!AZ314&データ処理!AR314)","v":""},{"$f":"RIGHT(データ処理!AN314,5)","v":""},{"$f":"データ処理!AO314","v":""},{"$f":"データ処理!AP314","v":""}]
[null,{"$f":"RIGHT(データ処理!AI315,5)","v":""},{"$f":"LEFT(データ処理!AJ315,5)","v":""},{"$f":"データ処理!AK315","v":0},{"$f":"IF(データ処理!AK315=\"\",\"\",データ処理!AL315&データ処理!BE315&$G$3)","v":""},{"$f":"IF(データ処理!AK315=\"\",\"\",データ処理!AM315&データ処理!AZ315&データ処理!AR315)","v":""},{"$f":"RIGHT(データ処理!AN315,5)","v":""},{"$f":"データ処理!AO315","v":""},{"$f":"データ処理!AP315","v":""}]
[null,{"$f":"RIGHT(データ処理!AI316,5)","v":""},{"$f":"LEFT(データ処理!AJ316,5)","v":""},{"$f":"データ処理!AK316","v":0},{"$f":"IF(データ処理!AK316=\"\",\"\",データ処理!AL316&データ処理!BE316&$G$3)","v":""},{"$f":"IF(データ処理!AK316=\"\",\"\",データ処理!AM316&データ処理!AZ316&データ処理!AR316)","v":""},{"$f":"RIGHT(データ処理!AN316,5)","v":""},{"$f":"データ処理!AO316","v":""},{"$f":"データ処理!AP316","v":""}]
[null,{"$f":"RIGHT(データ処理!AI317,5)","v":""},{"$f":"LEFT(データ処理!AJ317,5)","v":""},{"$f":"データ処理!AK317","v":0},{"$f":"IF(データ処理!AK317=\"\",\"\",データ処理!AL317&データ処理!BE317&$G$3)","v":""},{"$f":"IF(データ処理!AK317=\"\",\"\",データ処理!AM317&データ処理!AZ317&データ処理!AR317)","v":""},{"$f":"RIGHT(データ処理!AN317,5)","v":""},{"$f":"データ処理!AO317","v":""},{"$f":"データ処理!AP317","v":""}]
[null,{"$f":"RIGHT(データ処理!AI318,5)","v":""},{"$f":"LEFT(データ処理!AJ318,5)","v":""},{"$f":"データ処理!AK318","v":0},{"$f":"IF(データ処理!AK318=\"\",\"\",データ処理!AL318&データ処理!BE318&$G$3)","v":""},{"$f":"IF(データ処理!AK318=\"\",\"\",データ処理!AM318&データ処理!AZ318&データ処理!AR318)","v":""},{"$f":"RIGHT(データ処理!AN318,5)","v":""},{"$f":"データ処理!AO318","v":""},{"$f":"データ処理!AP318","v":""}]
[null,{"$f":"RIGHT(データ処理!AI319,5)","v":""},{"$f":"LEFT(データ処理!AJ319,5)","v":""},{"$f":"データ処理!AK319","v":0},{"$f":"IF(データ処理!AK319=\"\",\"\",データ処理!AL319&データ処理!BE319&$G$3)","v":""},{"$f":"IF(データ処理!AK319=\"\",\"\",データ処理!AM319&データ処理!AZ319&データ処理!AR319)","v":""},{"$f":"RIGHT(データ処理!AN319,5)","v":""},{"$f":"データ処理!AO319","v":""},{"$f":"データ処理!AP319","v":""}]
[null,{"$f":"RIGHT(データ処理!AI320,5)","v":""},{"$f":"LEFT(データ処理!AJ320,5)","v":""},{"$f":"データ処理!AK320","v":0},{"$f":"IF(データ処理!AK320=\"\",\"\",データ処理!AL320&データ処理!BE320&$G$3)","v":""},{"$f":"IF(データ処理!AK320=\"\",\"\",データ処理!AM320&データ処理!AZ320&データ処理!AR320)","v":""},{"$f":"RIGHT(データ処理!AN320,5)","v":""},{"$f":"データ処理!AO320","v":""},{"$f":"データ処理!AP320","v":""}]
[null,{"$f":"RIGHT(データ処理!AI321,5)","v":""},{"$f":"LEFT(データ処理!AJ321,5)","v":""},{"$f":"データ処理!AK321","v":0},{"$f":"IF(データ処理!AK321=\"\",\"\",データ処理!AL321&データ処理!BE321&$G$3)","v":""},{"$f":"IF(データ処理!AK321=\"\",\"\",データ処理!AM321&データ処理!AZ321&データ処理!AR321)","v":""},{"$f":"RIGHT(データ処理!AN321,5)","v":""},{"$f":"データ処理!AO321","v":""},{"$f":"データ処理!AP321","v":""}]
[null,{"$f":"RIGHT(データ処理!AI322,5)","v":""},{"$f":"LEFT(データ処理!AJ322,5)","v":""},{"$f":"データ処理!AK322","v":0},{"$f":"IF(データ処理!AK322=\"\",\"\",データ処理!AL322&データ処理!BE322&$G$3)","v":""},{"$f":"IF(データ処理!AK322=\"\",\"\",データ処理!AM322&データ処理!AZ322&データ処理!AR322)","v":""},{"$f":"RIGHT(データ処理!AN322,5)","v":""},{"$f":"データ処理!AO322","v":""},{"$f":"データ処理!AP322","v":""}]
[null,{"$f":"RIGHT(データ処理!AI323,5)","v":""},{"$f":"LEFT(データ処理!AJ323,5)","v":""},{"$f":"データ処理!AK323","v":0},{"$f":"IF(データ処理!AK323=\"\",\"\",データ処理!AL323&データ処理!BE323&$G$3)","v":""},{"$f":"IF(データ処理!AK323=\"\",\"\",データ処理!AM323&データ処理!AZ323&データ処理!AR323)","v":""},{"$f":"RIGHT(データ処理!AN323,5)","v":""},{"$f":"データ処理!AO323","v":""},{"$f":"データ処理!AP323","v":""}]
[20,{"$f":"RIGHT(データ処理!AI324,5)","v":""},{"$f":"LEFT(データ処理!AJ324,5)","v":""},{"$f":"データ処理!AK324","v":0},{"$f":"IF(データ処理!AK324=\"\",\"\",データ処理!AL324&データ処理!BE324&$G$3)","v":""},{"$f":"IF(データ処理!AK324=\"\",\"\",データ処理!AM324&データ処理!AZ324&データ処理!AR324)","v":""},{"$f":"RIGHT(データ処理!AN324,5)","v":""},{"$f":"データ処理!AO324","v":""},{"$f":"データ処理!AP324","v":""}]
[null,{"$f":"RIGHT(データ処理!AI325,5)","v":""},{"$f":"LEFT(データ処理!AJ325,5)","v":""},{"$f":"データ処理!AK325","v":0},{"$f":"IF(データ処理!AK325=\"\",\"\",データ処理!AL325&データ処理!BE325&$G$3)","v":""},{"$f":"IF(データ処理!AK325=\"\",\"\",データ処理!AM325&データ処理!AZ325&データ処理!AR325)","v":""},{"$f":"RIGHT(データ処理!AN325,5)","v":""},{"$f":"データ処理!AO325","v":""},{"$f":"データ処理!AP325","v":""}]
[null,{"$f":"RIGHT(データ処理!AI326,5)","v":""},{"$f":"LEFT(データ処理!AJ326,5)","v":""},{"$f":"データ処理!AK326","v":0},{"$f":"IF(データ処理!AK326=\"\",\"\",データ処理!AL326&データ処理!BE326&$G$3)","v":""},{"$f":"IF(データ処理!AK326=\"\",\"\",データ処理!AM326&データ処理!AZ326&データ処理!AR326)","v":""},{"$f":"RIGHT(データ処理!AN326,5)","v":""},{"$f":"データ処理!AO326","v":""},{"$f":"データ処理!AP326","v":""}]
[null,{"$f":"RIGHT(データ処理!AI327,5)","v":""},{"$f":"LEFT(データ処理!AJ327,5)","v":""},{"$f":"データ処理!AK327","v":0},{"$f":"IF(データ処理!AK327=\"\",\"\",データ処理!AL327&データ処理!BE327&$G$3)","v":""},{"$f":"IF(データ処理!AK327=\"\",\"\",データ処理!AM327&データ処理!AZ327&データ処理!AR327)","v":""},{"$f":"RIGHT(データ処理!AN327,5)","v":""},{"$f":"データ処理!AO327","v":""},{"$f":"データ処理!AP327","v":""}]
[null,{"$f":"RIGHT(データ処理!AI328,5)","v":""},{"$f":"LEFT(データ処理!AJ328,5)","v":""},{"$f":"データ処理!AK328","v":0},{"$f":"IF(データ処理!AK328=\"\",\"\",データ処理!AL328&データ処理!BE328&$G$3)","v":""},{"$f":"IF(データ処理!AK328=\"\",\"\",データ処理!AM328&データ処理!AZ328&データ処理!AR328)","v":""},{"$f":"RIGHT(データ処理!AN328,5)","v":""},{"$f":"データ処理!AO328","v":""},{"$f":"データ処理!AP328","v":""}]
[null,{"$f":"RIGHT(データ処理!AI329,5)","v":""},{"$f":"LEFT(データ処理!AJ329,5)","v":""},{"$f":"データ処理!AK329","v":0},{"$f":"IF(データ処理!AK329=\"\",\"\",データ処理!AL329&データ処理!BE329&$G$3)","v":""},{"$f":"IF(データ処理!AK329=\"\",\"\",データ処理!AM329&データ処理!AZ329&データ処理!AR329)","v":""},{"$f":"RIGHT(データ処理!AN329,5)","v":""},{"$f":"データ処理!AO329","v":""},{"$f":"データ処理!AP329","v":""}]
[null,{"$f":"RIGHT(データ処理!AI330,5)","v":""},{"$f":"LEFT(データ処理!AJ330,5)","v":""},{"$f":"データ処理!AK330","v":0},{"$f":"IF(データ処理!AK330=\"\",\"\",データ処理!AL330&データ処理!BE330&$G$3)","v":""},{"$f":"IF(データ処理!AK330=\"\",\"\",データ処理!AM330&データ処理!AZ330&データ処理!AR330)","v":""},{"$f":"RIGHT(データ処理!AN330,5)","v":""},{"$f":"データ処理!AO330","v":""},{"$f":"データ処理!AP330","v":""}]
[null,{"$f":"RIGHT(データ処理!AI331,5)","v":""},{"$f":"LEFT(データ処理!AJ331,5)","v":""},{"$f":"データ処理!AK331","v":0},{"$f":"IF(データ処理!AK331=\"\",\"\",データ処理!AL331&データ処理!BE331&$G$3)","v":""},{"$f":"IF(データ処理!AK331=\"\",\"\",データ処理!AM331&データ処理!AZ331&データ処理!AR331)","v":""},{"$f":"RIGHT(データ処理!AN331,5)","v":""},{"$f":"データ処理!AO331","v":""},{"$f":"データ処理!AP331","v":""}]
[null,{"$f":"RIGHT(データ処理!AI332,5)","v":""},{"$f":"LEFT(データ処理!AJ332,5)","v":""},{"$f":"データ処理!AK332","v":0},{"$f":"IF(データ処理!AK332=\"\",\"\",データ処理!AL332&データ処理!BE332&$G$3)","v":""},{"$f":"IF(データ処理!AK332=\"\",\"\",データ処理!AM332&データ処理!AZ332&データ処理!AR332)","v":""},{"$f":"RIGHT(データ処理!AN332,5)","v":""},{"$f":"データ処理!AO332","v":""},{"$f":"データ処理!AP332","v":""}]
[null,{"$f":"RIGHT(データ処理!AI333,5)","v":""},{"$f":"LEFT(データ処理!AJ333,5)","v":""},{"$f":"データ処理!AK333","v":0},{"$f":"IF(データ処理!AK333=\"\",\"\",データ処理!AL333&データ処理!BE333&$G$3)","v":""},{"$f":"IF(データ処理!AK333=\"\",\"\",データ処理!AM333&データ処理!AZ333&データ処理!AR333)","v":""},{"$f":"RIGHT(データ処理!AN333,5)","v":""},{"$f":"データ処理!AO333","v":""},{"$f":"データ処理!AP333","v":""}]
[30,{"$f":"RIGHT(データ処理!AI334,5)","v":""},{"$f":"LEFT(データ処理!AJ334,5)","v":""},{"$f":"データ処理!AK334","v":0},{"$f":"IF(データ処理!AK334=\"\",\"\",データ処理!AL334&データ処理!BE334&$G$3)","v":""},{"$f":"IF(データ処理!AK334=\"\",\"\",データ処理!AM334&データ処理!AZ334&データ処理!AR334)","v":""},{"$f":"RIGHT(データ処理!AN334,5)","v":""},{"$f":"データ処理!AO334","v":""},{"$f":"データ処理!AP334","v":""}]
[null,{"$f":"RIGHT(データ処理!AI335,5)","v":""},{"$f":"LEFT(データ処理!AJ335,5)","v":""},{"$f":"データ処理!AK335","v":0},{"$f":"IF(データ処理!AK335=\"\",\"\",データ処理!AL335&データ処理!BE335&$G$3)","v":""},{"$f":"IF(データ処理!AK335=\"\",\"\",データ処理!AM335&データ処理!AZ335&データ処理!AR335)","v":""},{"$f":"RIGHT(データ処理!AN335,5)","v":""},{"$f":"データ処理!AO335","v":""},{"$f":"データ処理!AP335","v":""}]
[null,{"$f":"RIGHT(データ処理!AI336,5)","v":""},{"$f":"LEFT(データ処理!AJ336,5)","v":""},{"$f":"データ処理!AK336","v":0},{"$f":"IF(データ処理!AK336=\"\",\"\",データ処理!AL336&データ処理!BE336&$G$3)","v":""},{"$f":"IF(データ処理!AK336=\"\",\"\",データ処理!AM336&データ処理!AZ336&データ処理!AR336)","v":""},{"$f":"RIGHT(データ処理!AN336,5)","v":""},{"$f":"データ処理!AO336","v":""},{"$f":"データ処理!AP336","v":""}]
[null,{"$f":"RIGHT(データ処理!AI337,5)","v":""},{"$f":"LEFT(データ処理!AJ337,5)","v":""},{"$f":"データ処理!AK337","v":0},{"$f":"IF(データ処理!AK337=\"\",\"\",データ処理!AL337&データ処理!BE337&$G$3)","v":""},{"$f":"IF(データ処理!AK337=\"\",\"\",データ処理!AM337&データ処理!AZ337&データ処理!AR337)","v":""},{"$f":"RIGHT(データ処理!AN337,5)","v":""},{"$f":"データ処理!AO337","v":""},{"$f":"データ処理!AP337","v":""}]
[null,{"$f":"RIGHT(データ処理!AI338,5)","v":""},{"$f":"LEFT(データ処理!AJ338,5)","v":""},{"$f":"データ処理!AK338","v":0},{"$f":"IF(データ処理!AK338=\"\",\"\",データ処理!AL338&データ処理!BE338&$G$3)","v":""},{"$f":"IF(データ処理!AK338=\"\",\"\",データ処理!AM338&データ処理!AZ338&データ処理!AR338)","v":""},{"$f":"RIGHT(データ処理!AN338,5)","v":""},{"$f":"データ処理!AO338","v":""},{"$f":"データ処理!AP338","v":""}]
[null,{"$f":"RIGHT(データ処理!AI339,5)","v":""},{"$f":"LEFT(データ処理!AJ339,5)","v":""},{"$f":"データ処理!AK339","v":0},{"$f":"IF(データ処理!AK339=\"\",\"\",データ処理!AL339&データ処理!BE339&$G$3)","v":""},{"$f":"IF(データ処理!AK339=\"\",\"\",データ処理!AM339&データ処理!AZ339&データ処理!AR339)","v":""},{"$f":"RIGHT(データ処理!AN339,5)","v":""},{"$f":"データ処理!AO339","v":""},{"$f":"データ処理!AP339","v":""}]
[null,{"$f":"RIGHT(データ処理!AI340,5)","v":""},{"$f":"LEFT(データ処理!AJ340,5)","v":""},{"$f":"データ処理!AK340","v":0},{"$f":"IF(データ処理!AK340=\"\",\"\",データ処理!AL340&データ処理!BE340&$G$3)","v":""},{"$f":"IF(データ処理!AK340=\"\",\"\",データ処理!AM340&データ処理!AZ340&データ処理!AR340)","v":""},{"$f":"RIGHT(データ処理!AN340,5)","v":""},{"$f":"データ処理!AO340","v":""},{"$f":"データ処理!AP340","v":""}]
[null,{"$f":"RIGHT(データ処理!AI341,5)","v":""},{"$f":"LEFT(データ処理!AJ341,5)","v":""},{"$f":"データ処理!AK341","v":0},{"$f":"IF(データ処理!AK341=\"\",\"\",データ処理!AL341&データ処理!BE341&$G$3)","v":""},{"$f":"IF(データ処理!AK341=\"\",\"\",データ処理!AM341&データ処理!AZ341&データ処理!AR341)","v":""},{"$f":"RIGHT(データ処理!AN341,5)","v":""},{"$f":"データ処理!AO341","v":""},{"$f":"データ処理!AP341","v":""}]
[null,{"$f":"RIGHT(データ処理!AI342,5)","v":""},{"$f":"LEFT(データ処理!AJ342,5)","v":""},{"$f":"データ処理!AK342","v":0},{"$f":"IF(データ処理!AK342=\"\",\"\",データ処理!AL342&データ処理!BE342&$G$3)","v":""},{"$f":"IF(データ処理!AK342=\"\",\"\",データ処理!AM342&データ処理!AZ342&データ処理!AR342)","v":""},{"$f":"RIGHT(データ処理!AN342,5)","v":""},{"$f":"データ処理!AO342","v":""},{"$f":"データ処理!AP342","v":""}]
[null,{"$f":"RIGHT(データ処理!AI343,5)","v":""},{"$f":"LEFT(データ処理!AJ343,5)","v":""},{"$f":"データ処理!AK343","v":0},{"$f":"IF(データ処理!AK343=\"\",\"\",データ処理!AL343&データ処理!BE343&$G$3)","v":""},{"$f":"IF(データ処理!AK343=\"\",\"\",データ処理!AM343&データ処理!AZ343&データ処理!AR343)","v":""},{"$f":"RIGHT(データ処理!AN343,5)","v":""},{"$f":"データ処理!AO343","v":""},{"$f":"データ処理!AP343","v":""}]
[40,{"$f":"RIGHT(データ処理!AI344,5)","v":""},{"$f":"LEFT(データ処理!AJ344,5)","v":""},{"$f":"データ処理!AK344","v":0},{"$f":"IF(データ処理!AK344=\"\",\"\",データ処理!AL344&データ処理!BE344&$G$3)","v":""},{"$f":"IF(データ処理!AK344=\"\",\"\",データ処理!AM344&データ処理!AZ344&データ処理!AR344)","v":""},{"$f":"RIGHT(データ処理!AN344,5)","v":""},{"$f":"データ処理!AO344","v":""},{"$f":"データ処理!AP344","v":""}]
[null,{"$f":"RIGHT(データ処理!AI345,5)","v":""},{"$f":"LEFT(データ処理!AJ345,5)","v":""},{"$f":"データ処理!AK345","v":0},{"$f":"IF(データ処理!AK345=\"\",\"\",データ処理!AL345&データ処理!BE345&$G$3)","v":""},{"$f":"IF(データ処理!AK345=\"\",\"\",データ処理!AM345&データ処理!AZ345&データ処理!AR345)","v":""},{"$f":"RIGHT(データ処理!AN345,5)","v":""},{"$f":"データ処理!AO345","v":""},{"$f":"データ処理!AP345","v":""}]
[null,{"$f":"RIGHT(データ処理!AI346,5)","v":""},{"$f":"LEFT(データ処理!AJ346,5)","v":""},{"$f":"データ処理!AK346","v":0},{"$f":"IF(データ処理!AK346=\"\",\"\",データ処理!AL346&データ処理!BE346&$G$3)","v":""},{"$f":"IF(データ処理!AK346=\"\",\"\",データ処理!AM346&データ処理!AZ346&データ処理!AR346)","v":""},{"$f":"RIGHT(データ処理!AN346,5)","v":""},{"$f":"データ処理!AO346","v":""},{"$f":"データ処理!AP346","v":""}]
[null,{"$f":"RIGHT(データ処理!AI347,5)","v":""},{"$f":"LEFT(データ処理!AJ347,5)","v":""},{"$f":"データ処理!AK347","v":0},{"$f":"IF(データ処理!AK347=\"\",\"\",データ処理!AL347&データ処理!BE347&$G$3)","v":""},{"$f":"IF(データ処理!AK347=\"\",\"\",データ処理!AM347&データ処理!AZ347&データ処理!AR347)","v":""},{"$f":"RIGHT(データ処理!AN347,5)","v":""},{"$f":"データ処理!AO347","v":""},{"$f":"データ処理!AP347","v":""}]
[null,{"$f":"RIGHT(データ処理!AI348,5)","v":""},{"$f":"LEFT(データ処理!AJ348,5)","v":""},{"$f":"データ処理!AK348","v":0},{"$f":"IF(データ処理!AK348=\"\",\"\",データ処理!AL348&データ処理!BE348&$G$3)","v":""},{"$f":"IF(データ処理!AK348=\"\",\"\",データ処理!AM348&データ処理!AZ348&データ処理!AR348)","v":""},{"$f":"RIGHT(データ処理!AN348,5)","v":""},{"$f":"データ処理!AO348","v":""},{"$f":"データ処理!AP348","v":""}]
[null,{"$f":"RIGHT(データ処理!AI349,5)","v":""},{"$f":"LEFT(データ処理!AJ349,5)","v":""},{"$f":"データ処理!AK349","v":0},{"$f":"IF(データ処理!AK349=\"\",\"\",データ処理!AL349&データ処理!BE349&$G$3)","v":""},{"$f":"IF(データ処理!AK349=\"\",\"\",データ処理!AM349&データ処理!AZ349&データ処理!AR349)","v":""},{"$f":"RIGHT(データ処理!AN349,5)","v":""},{"$f":"データ処理!AO349","v":""},{"$f":"データ処理!AP349","v":""}]
[null,{"$f":"RIGHT(データ処理!AI350,5)","v":""},{"$f":"LEFT(データ処理!AJ350,5)","v":""},{"$f":"データ処理!AK350","v":0},{"$f":"IF(データ処理!AK350=\"\",\"\",データ処理!AL350&データ処理!BE350&$G$3)","v":""},{"$f":"IF(データ処理!AK350=\"\",\"\",データ処理!AM350&データ処理!AZ350&データ処理!AR350)","v":""},{"$f":"RIGHT(データ処理!AN350,5)","v":""},{"$f":"データ処理!AO350","v":""},{"$f":"データ処理!AP350","v":""}]
[null,{"$f":"RIGHT(データ処理!AI351,5)","v":""},{"$f":"LEFT(データ処理!AJ351,5)","v":""},{"$f":"データ処理!AK351","v":0},{"$f":"IF(データ処理!AK351=\"\",\"\",データ処理!AL351&データ処理!BE351&$G$3)","v":""},{"$f":"IF(データ処理!AK351=\"\",\"\",データ処理!AM351&データ処理!AZ351&データ処理!AR351)","v":""},{"$f":"RIGHT(データ処理!AN351,5)","v":""},{"$f":"データ処理!AO351","v":""},{"$f":"データ処理!AP351","v":""}]
[null,{"$f":"RIGHT(データ処理!AI352,5)","v":""},{"$f":"LEFT(データ処理!AJ352,5)","v":""},{"$f":"データ処理!AK352","v":0},{"$f":"IF(データ処理!AK352=\"\",\"\",データ処理!AL352&データ処理!BE352&$G$3)","v":""},{"$f":"IF(データ処理!AK352=\"\",\"\",データ処理!AM352&データ処理!AZ352&データ処理!AR352)","v":""},{"$f":"RIGHT(データ処理!AN352,5)","v":""},{"$f":"データ処理!AO352","v":""},{"$f":"データ処理!AP352","v":""}]
[null,{"$f":"RIGHT(データ処理!AI353,5)","v":""},{"$f":"LEFT(データ処理!AJ353,5)","v":""},{"$f":"データ処理!AK353","v":0},{"$f":"IF(データ処理!AK353=\"\",\"\",データ処理!AL353&データ処理!BE353&$G$3)","v":""},{"$f":"IF(データ処理!AK353=\"\",\"\",データ処理!AM353&データ処理!AZ353&データ処理!AR353)","v":""},{"$f":"RIGHT(データ処理!AN353,5)","v":""},{"$f":"データ処理!AO353","v":""},{"$f":"データ処理!AP353","v":""}]
[50,{"$f":"RIGHT(データ処理!AI354,5)","v":""},{"$f":"LEFT(データ処理!AJ354,5)","v":""},{"$f":"データ処理!AK354","v":0},{"$f":"IF(データ処理!AK354=\"\",\"\",データ処理!AL354&データ処理!BE354&$G$3)","v":""},{"$f":"IF(データ処理!AK354=\"\",\"\",データ処理!AM354&データ処理!AZ354&データ処理!AR354)","v":""},{"$f":"RIGHT(データ処理!AN354,5)","v":""},{"$f":"データ処理!AO354","v":""},{"$f":"データ処理!AP354","v":""}]
[null,"Total  (合計)",null,{"$f":"COUNTIF(B369:B418,\"*/*\")","v":0},null,"Total  (合計)",{"$f":"COUNTIF(G369:G418,\"*/*\")","v":0},{"$f":"50-COUNTBLANK(H369:H418)","v":0},{"$f":"SUM(I369:I418)","v":0}]
[]
[null,"総 合 計",null,{"$f":"IF(K365=\"\",\"\",D419+ログシート!D362)","v":""},null,"総 合 計",{"$f":"IF(K365=\"\",\"\",G419+ログシート!G362)","v":""},{"$f":"IF(K365=\"\",\"\",H419+ログシート!H362)","v":""},{"$f":"IF(K365=\"\",\"\",I419+ログシート!I362)","v":""}]
[]
[null,"ＬＯＧ　ＳＨＥＥＴ (ログシート）",null,null,"Year (年)",{"$f":"$F$10","v":"2024"},{"$f":"$G$10","v":"第38回 滋賀2mSSB\nアクティブコンテスト"}]
[null,"Callsign (ｺｰﾙｻｲﾝ)",null,{"$f":"$D$11","v":0},"BAND（バンド）",{"$f":"$F$11","v":144},"MHz/SSB",null,"Sheet No.",null,{"$f":"IF(E428=\"\",\"\",L427&\"/\"&$E$3)","v":""}]
[]
[null,"Date Time",null,"Station Wkd","Exchange (ｺﾝﾃｽﾄﾅﾝﾊﾞｰ)",null,"Multi.（マルチ）",null,"Pts.","Op.","備考"]
[null,"月/日","時分JST","交信局","Sent (送信)","Received (受信)","日数マルチ","テールレター","得点","運用者",null,8]
[null,{"$f":"RIGHT(データ処理!AI355,5)","v":""},{"$f":"LEFT(データ処理!AJ355,5)","v":""},{"$f":"データ処理!AK355","v":0},{"$f":"IF(データ処理!AK355=\"\",\"\",データ処理!AL355&データ処理!BE355&$G$3)","v":""},{"$f":"IF(データ処理!AK355=\"\",\"\",データ処理!AM355&データ処理!AZ355&データ処理!AR355)","v":""},{"$f":"RIGHT(データ処理!AN355,5)","v":""},{"$f":"データ処理!AO355","v":""},{"$f":"データ処理!AP355","v":""}]
[null,{"$f":"RIGHT(データ処理!AI356,5)","v":""},{"$f":"LEFT(データ処理!AJ356,5)","v":""},{"$f":"データ処理!AK356","v":0},{"$f":"IF(データ処理!AK356=\"\",\"\",データ処理!AL356&データ処理!BE356&$G$3)","v":""},{"$f":"IF(データ処理!AK356=\"\",\"\",データ処理!AM356&データ処理!AZ356&データ処理!AR356)","v":""},{"$f":"RIGHT(データ処理!AN356,5)","v":""},{"$f":"データ処理!AO356","v":""},{"$f":"データ処理!AP356","v":""}]
[null,{"$f":"RIGHT(データ処理!AI357,5)","v":""},{"$f":"LEFT(データ処理!AJ357,5)","v":""},{"$f":"データ処理!AK357","v":0},{"$f":"IF(データ処理!AK357=\"\",\"\",データ処理!AL357&データ処理!BE357&$G$3)","v":""},{"$f":"IF(データ処理!AK357=\"\",\"\",データ処理!AM357&データ処理!AZ357&データ処理!AR357)","v":""},{"$f":"RIGHT(データ処理!AN357,5)","v":""},{"$f":"データ処理!AO357","v":""},{"$f":"データ処理!AP357","v":""}]
[null,{"$f":"RIGHT(データ処理!AI358,5)","v":""},{"$f":"LEFT(データ処理!AJ358,5)","v":""},{"$f":"データ処理!AK358","v":0},{"$f":"IF(データ処理!AK358=\"\",\"\",データ処理!AL358&データ処理!BE358&$G$3)","v":""},{"$f":"IF(データ処理!AK358=\"\",\"\",データ処理!AM358&データ処理!AZ358&データ処理!AR358)","v":""},{"$f":"RIGHT(データ処理!AN358,5)","v":""},{"$f":"データ処理!AO358","v":""},{"$f":"データ処理!AP358","v":""}]
[null,{"$f":"RIGHT(データ処理!AI359,5)","v":""},{"$f":"LEFT(データ処理!AJ359,5)","v":""},{"$f":"データ処理!AK359","v":0},{"$f":"IF(データ処理!AK359=\"\",\"\",データ処理!AL359&データ処理!BE359&$G$3)","v":""},{"$f":"IF(データ処理!AK359=\"\",\"\",データ処理!AM359&データ処理!AZ359&データ処理!AR359)","v":""},{"$f":"RIGHT(データ処理!AN359,5)","v":""},{"$f":"データ処理!AO359","v":""},{"$f":"データ処理!AP359","v":""}]
[null,{"$f":"RIGHT(データ処理!AI360,5)","v":""},{"$f":"LEFT(データ処理!AJ360,5)","v":""},{"$f":"データ処理!AK360","v":0},{"$f":"IF(データ処理!AK360=\"\",\"\",データ処理!AL360&データ処理!BE360&$G$3)","v":""},{"$f":"IF(データ処理!AK360=\"\",\"\",データ処理!AM360&データ処理!AZ360&データ処理!AR360)","v":""},{"$f":"RIGHT(データ処理!AN360,5)","v":""},{"$f":"データ処理!AO360","v":""},{"$f":"データ処理!AP360","v":""}]
[null,{"$f":"RIGHT(データ処理!AI361,5)","v":""},{"$f":"LEFT(データ処理!AJ361,5)","v":""},{"$f":"データ処理!AK361","v":0},{"$f":"IF(データ処理!AK361=\"\",\"\",データ処理!AL361&データ処理!BE361&$G$3)","v":""},{"$f":"IF(データ処理!AK361=\"\",\"\",データ処理!AM361&データ処理!AZ361&データ処理!AR361)","v":""},{"$f":"RIGHT(データ処理!AN361,5)","v":""},{"$f":"データ処理!AO361","v":""},{"$f":"データ処理!AP361","v":""}]
[null,{"$f":"RIGHT(データ処理!AI362,5)","v":""},{"$f":"LEFT(データ処理!AJ362,5)","v":""},{"$f":"データ処理!AK362","v":0},{"$f":"IF(データ処理!AK362=\"\",\"\",データ処理!AL362&データ処理!BE362&$G$3)","v":""},{"$f":"IF(データ処理!AK362=\"\",\"\",データ処理!AM362&データ処理!AZ362&データ処理!AR362)","v":""},{"$f":"RIGHT(データ処理!AN362,5)","v":""},{"$f":"データ処理!AO362","v":""},{"$f":"データ処理!AP362","v":""}]
[null,{"$f":"RIGHT(データ処理!AI363,5)","v":""},{"$f":"LEFT(データ処理!AJ363,5)","v":""},{"$f":"データ処理!AK363","v":0},{"$f":"IF(データ処理!AK363=\"\",\"\",データ処理!AL363&データ処理!BE363&$G$3)","v":""},{"$f":"IF(データ処理!AK363=\"\",\"\",データ処理!AM363&データ処理!AZ363&データ処理!AR363)","v":""},{"$f":"RIGHT(データ処理!AN363,5)","v":""},{"$f":"データ処理!AO363","v":""},{"$f":"データ処理!AP363","v":""}]
[10,{"$f":"RIGHT(データ処理!AI364,5)","v":""},{"$f":"LEFT(データ処理!AJ364,5)","v":""},{"$f":"データ処理!AK364","v":0},{"$f":"IF(データ処理!AK364=\"\",\"\",データ処理!AL364&データ処理!BE364&$G$3)","v":""},{"$f":"IF(データ処理!AK364=\"\",\"\",データ処理!AM364&データ処理!AZ364&データ処理!AR364)","v":""},{"$f":"RIGHT(データ処理!AN364,5)","v":""},{"$f":"データ処理!AO364","v":""},{"$f":"データ処理!AP364","v":""}]
[null,{"$f":"RIGHT(データ処理!AI365,5)","v":""},{"$f":"LEFT(データ処理!AJ365,5)","v":""},{"$f":"データ処理!AK365","v":0},{"$f":"IF(データ処理!AK365=\"\",\"\",データ処理!AL365&データ処理!BE365&$G$3)","v":""},{"$f":"IF(データ処理!AK365=\"\",\"\",データ処理!AM365&データ処理!AZ365&データ処理!AR365)","v":""},{"$f":"RIGHT(データ処理!AN365,5)","v":""},{"$f":"データ処理!AO365","v":""},{"$f":"データ処理!AP365","v":""}]
[null,{"$f":"RIGHT(データ処理!AI366,5)","v":""},{"$f":"LEFT(データ処理!AJ366,5)","v":""},{"$f":"データ処理!AK366","v":0},{"$f":"IF(データ処理!AK366=\"\",\"\",データ処理!AL366&データ処理!BE366&$G$3)","v":""},{"$f":"IF(データ処理!AK366=\"\",\"\",データ処理!AM366&データ処理!AZ366&データ処理!AR366)","v":""},{"$f":"RIGHT(データ処理!AN366,5)","v":""},{"$f":"データ処理!AO366","v":""},{"$f":"データ処理!AP366","v":""}]
[null,{"$f":"RIGHT(データ処理!AI367,5)","v":""},{"$f":"LEFT(データ処理!AJ367,5)","v":""},{"$f":"データ処理!AK367","v":0},{"$f":"IF(データ処理!AK367=\"\",\"\",データ処理!AL367&データ処理!BE367&$G$3)","v":""},{"$f":"IF(データ処理!AK367=\"\",\"\",データ処理!AM367&データ処理!AZ367&データ処理!AR367)","v":""},{"$f":"RIGHT(データ処理!AN367,5)","v":""},{"$f":"データ処理!AO367","v":""},{"$f":"データ処理!AP367","v":""}]
[null,{"$f":"RIGHT(データ処理!AI368,5)","v":""},{"$f":"LEFT(データ処理!AJ368,5)","v":""},{"$f":"データ処理!AK368","v":0},{"$f":"IF(データ処理!AK368=\"\",\"\",データ処理!AL368&データ処理!BE368&$G$3)","v":""},{"$f":"IF(データ処理!AK368=\"\",\"\",データ処理!AM368&データ処理!AZ368&データ処理!AR368)","v":""},{"$f":"RIGHT(データ処理!AN368,5)","v":""},{"$f":"データ処理!AO368","v":""},{"$f":"データ処理!AP368","v":""}]
[null,{"$f":"RIGHT(データ処理!AI369,5)","v":""},{"$f":"LEFT(データ処理!AJ369,5)","v":""},{"$f":"データ処理!AK369","v":0},{"$f":"IF(データ処理!AK369=\"\",\"\",データ処理!AL369&データ処理!BE369&$G$3)","v":""},{"$f":"IF(データ処理!AK369=\"\",\"\",データ処理!AM369&データ処理!AZ369&データ処理!AR369)","v":""},{"$f":"RIGHT(データ処理!AN369,5)","v":""},{"$f":"データ処理!AO369","v":""},{"$f":"データ処理!AP369","v":""}]
[null,{"$f":"RIGHT(データ処理!AI370,5)","v":""},{"$f":"LEFT(データ処理!AJ370,5)","v":""},{"$f":"データ処理!AK370","v":0},{"$f":"IF(データ処理!AK370=\"\",\"\",データ処理!AL370&データ処理!BE370&$G$3)","v":""},{"$f":"IF(データ処理!AK370=\"\",\"\",データ処理!AM370&データ処理!AZ370&データ処理!AR370)","v":""},{"$f":"RIGHT(データ処理!AN370,5)","v":""},{"$f":"データ処理!AO370","v":""},{"$f":"データ処理!AP370","v":""}]
[null,{"$f":"RIGHT(データ処理!AI371,5)","v":""},{"$f":"LEFT(データ処理!AJ371,5)","v":""},{"$f":"データ処理!AK371","v":0},{"$f":"IF(データ処理!AK371=\"\",\"\",データ処理!AL371&データ処理!BE371&$G$3)","v":""},{"$f":"IF(データ処理!AK371=\"\",\"\",データ処理!AM371&データ処理!AZ371&データ処理!AR371)","v":""},{"$f":"RIGHT(データ処理!AN371,5)","v":""},{"$f":"データ処理!AO371","v":""},{"$f":"データ処理!AP371","v":""}]
[null,{"$f":"RIGHT(データ処理!AI372,5)","v":""},{"$f":"LEFT(データ処理!AJ372,5)","v":""},{"$f":"データ処理!AK372","v":0},{"$f":"IF(データ処理!AK372=\"\",\"\",データ処理!AL372&データ処理!BE372&$G$3)","v":""},{"$f":"IF(データ処理!AK372=\"\",\"\",データ処理!AM372&データ処理!AZ372&データ処理!AR372)","v":""},{"$f":"RIGHT(データ処理!AN372,5)","v":""},{"$f":"データ処理!AO372","v":""},{"$f":"データ処理!AP372","v":""}]
[null,{"$f":"RIGHT(データ処理!AI373,5)","v":""},{"$f":"LEFT(データ処理!AJ373,5)","v":""},{"$f":"データ処理!AK373","v":0},{"$f":"IF(データ処理!AK373=\"\",\"\",データ処理!AL373&データ処理!BE373&$G$3)","v":""},{"$f":"IF(データ処理!AK373=\"\",\"\",データ処理!AM373&データ処理!AZ373&データ処理!AR373)","v":""},{"$f":"RIGHT(データ処理!AN373,5)","v":""},{"$f":"データ処理!AO373","v":""},{"$f":"データ処理!AP373","v":""}]
[20,{"$f":"RIGHT(データ処理!AI374,5)","v":""},{"$f":"LEFT(データ処理!AJ374,5)","v":""},{"$f":"データ処理!AK374","v":0},{"$f":"IF(データ処理!AK374=\"\",\"\",データ処理!AL374&データ処理!BE374&$G$3)","v":""},{"$f":"IF(データ処理!AK374=\"\",\"\",データ処理!AM374&データ処理!AZ374&データ処理!AR374)","v":""},{"$f":"RIGHT(データ処理!AN374,5)","v":""},{"$f":"データ処理!AO374","v":""},{"$f":"データ処理!AP374","v":""}]
[null,{"$f":"RIGHT(データ処理!AI375,5)","v":""},{"$f":"LEFT(データ処理!AJ375,5)","v":""},{"$f":"データ処理!AK375","v":0},{"$f":"IF(データ処理!AK375=\"\",\"\",データ処理!AL375&データ処理!BE375&$G$3)","v":""},{"$f":"IF(データ処理!AK375=\"\",\"\",データ処理!AM375&データ処理!AZ375&データ処理!AR375)","v":""},{"$f":"RIGHT(データ処理!AN375,5)","v":""},{"$f":"データ処理!AO375","v":""},{"$f":"データ処理!AP375","v":""}]
[null,{"$f":"RIGHT(データ処理!AI376,5)","v":""},{"$f":"LEFT(データ処理!AJ376,5)","v":""},{"$f":"データ処理!AK376","v":0},{"$f":"IF(データ処理!AK376=\"\",\"\",データ処理!AL376&データ処理!BE376&$G$3)","v":""},{"$f":"IF(データ処理!AK376=\"\",\"\",データ処理!AM376&データ処理!AZ376&データ処理!AR376)","v":""},{"$f":"RIGHT(データ処理!AN376,5)","v":""},{"$f":"データ処理!AO376","v":""},{"$f":"データ処理!AP376","v":""}]
[null,{"$f":"RIGHT(データ処理!AI377,5)","v":""},{"$f":"LEFT(データ処理!AJ377,5)","v":""},{"$f":"データ処理!AK377","v":0},{"$f":"IF(データ処理!AK377=\"\",\"\",データ処理!AL377&データ処理!BE377&$G$3)","v":""},{"$f":"IF(データ処理!AK377=\"\",\"\",データ処理!AM377&データ処理!AZ377&データ処理!AR377)","v":""},{"$f":"RIGHT(データ処理!AN377,5)","v":""},{"$f":"データ処理!AO377","v":""},{"$f":"データ処理!AP377","v":""}]
[null,{"$f":"RIGHT(データ処理!AI378,5)","v":""},{"$f":"LEFT(データ処理!AJ378,5)","v":""},{"$f":"データ処理!AK378","v":0},{"$f":"IF(データ処理!AK378=\"\",\"\",データ処理!AL378&データ処理!BE378&$G$3)","v":""},{"$f":"IF(データ処理!AK378=\"\",\"\",データ処理!AM378&データ処理!AZ378&データ処理!AR378)","v":""},{"$f":"RIGHT(データ処理!AN378,5)","v":""},{"$f":"データ処理!AO378","v":""},{"$f":"データ処理!AP378","v":""}]
[null,{"$f":"RIGHT(データ処理!AI379,5)","v":""},{"$f":"LEFT(データ処理!AJ379,5)","v":""},{"$f":"データ処理!AK379","v":0},{"$f":"IF(データ処理!AK379=\"\",\"\",データ処理!AL379&データ処理!BE379&$G$3)","v":""},{"$f":"IF(データ処理!AK379=\"\",\"\",データ処理!AM379&データ処理!AZ379&データ処理!AR379)","v":""},{"$f":"RIGHT(データ処理!AN379,5)","v":""},{"$f":"データ処理!AO379","v":""},{"$f":"データ処理!AP379","v":""}]
[null,{"$f":"RIGHT(データ処理!AI380,5)","v":""},{"$f":"LEFT(データ処理!AJ380,5)","v":""},{"$f":"データ処理!AK380","v":0},{"$f":"IF(データ処理!AK380=\"\",\"\",データ処理!AL380&データ処理!BE380&$G$3)","v":""},{"$f":"IF(データ処理!AK380=\"\",\"\",データ処理!AM380&データ処理!AZ380&データ処理!AR380)","v":""},{"$f":"RIGHT(データ処理!AN380,5)","v":""},{"$f":"データ処理!AO380","v":""},{"$f":"データ処理!AP380","v":""}]
[null,{"$f":"RIGHT(データ処理!AI381,5)","v":""},{"$f":"LEFT(データ処理!AJ381,5)","v":""},{"$f":"データ処理!AK381","v":0},{"$f":"IF(データ処理!AK381=\"\",\"\",データ処理!AL381&データ処理!BE381&$G$3)","v":""},{"$f":"IF(データ処理!AK381=\"\",\"\",データ処理!AM381&データ処理!AZ381&データ処理!AR381)","v":""},{"$f":"RIGHT(データ処理!AN381,5)","v":""},{"$f":"データ処理!AO381","v":""},{"$f":"データ処理!AP381","v":""}]
[null,{"$f":"RIGHT(データ処理!AI382,5)","v":""},{"$f":"LEFT(データ処理!AJ382,5)","v":""},{"$f":"データ処理!AK382","v":0},{"$f":"IF(データ処理!AK382=\"\",\"\",データ処理!AL382&データ処理!BE382&$G$3)","v":""},{"$f":"IF(データ処理!AK382=\"\",\"\",データ処理!AM382&データ処理!AZ382&データ処理!AR382)","v":""},{"$f":"RIGHT(データ処理!AN382,5)","v":""},{"$f":"データ処理!AO382","v":""},{"$f":"データ処理!AP382","v":""}]
[null,{"$f":"RIGHT(データ処理!AI383,5)","v":""},{"$f":"LEFT(データ処理!AJ383,5)","v":""},{"$f":"データ処理!AK383","v":0},{"$f":"IF(データ処理!AK383=\"\",\"\",データ処理!AL383&データ処理!BE383&$G$3)","v":""},{"$f":"IF(データ処理!AK383=\"\",\"\",データ処理!AM383&データ処理!AZ383&データ処理!AR383)","v":""},{"$f":"RIGHT(データ処理!AN383,5)","v":""},{"$f":"データ処理!AO383","v":""},{"$f":"データ処理!AP383","v":""}]
[30,{"$f":"RIGHT(データ処理!AI384,5)","v":""},{"$f":"LEFT(データ処理!AJ384,5)","v":""},{"$f":"データ処理!AK384","v":0},{"$f":"IF(データ処理!AK384=\"\",\"\",データ処理!AL384&データ処理!BE384&$G$3)","v":""},{"$f":"IF(データ処理!AK384=\"\",\"\",データ処理!AM384&データ処理!AZ384&データ処理!AR384)","v":""},{"$f":"RIGHT(データ処理!AN384,5)","v":""},{"$f":"データ処理!AO384","v":""},{"$f":"データ処理!AP384","v":""}]
[null,{"$f":"RIGHT(データ処理!AI385,5)","v":""},{"$f":"LEFT(データ処理!AJ385,5)","v":""},{"$f":"データ処理!AK385","v":0},{"$f":"IF(データ処理!AK385=\"\",\"\",データ処理!AL385&データ処理!BE385&$G$3)","v":""},{"$f":"IF(データ処理!AK385=\"\",\"\",データ処理!AM385&データ処理!AZ385&データ処理!AR385)","v":""},{"$f":"RIGHT(データ処理!AN385,5)","v":""},{"$f":"データ処理!AO385","v":""},{"$f":"データ処理!AP385","v":""}]
[null,{"$f":"RIGHT(データ処理!AI386,5)","v":""},{"$f":"LEFT(データ処理!AJ386,5)","v":""},{"$f":"データ処理!AK386","v":0},{"$f":"IF(データ処理!AK386=\"\",\"\",データ処理!AL386&データ処理!BE386&$G$3)","v":""},{"$f":"IF(データ処理!AK386=\"\",\"\",データ処理!AM386&データ処理!AZ386&データ処理!AR386)","v":""},{"$f":"RIGHT(データ処理!AN386,5)","v":""},{"$f":"データ処理!AO386","v":""},{"$f":"データ処理!AP386","v":""}]
[null,{"$f":"RIGHT(データ処理!AI387,5)","v":""},{"$f":"LEFT(データ処理!AJ387,5)","v":""},{"$f":"データ処理!AK387","v":0},{"$f":"IF(データ処理!AK387=\"\",\"\",データ処理!AL387&データ処理!BE387&$G$3)","v":""},{"$f":"IF(データ処理!AK387=\"\",\"\",データ処理!AM387&データ処理!AZ387&データ処理!AR387)","v":""},{"$f":"RIGHT(データ処理!AN387,5)","v":""},{"$f":"データ処理!AO387","v":""},{"$f":"データ処理!AP387","v":""}]
[null,{"$f":"RIGHT(データ処理!AI388,5)","v":""},{"$f":"LEFT(データ処理!AJ388,5)","v":""},{"$f":"データ処理!AK388","v":0},{"$f":"IF(データ処理!AK388=\"\",\"\",データ処理!AL388&データ処理!BE388&$G$3)","v":""},{"$f":"IF(データ処理!AK388=\"\",\"\",データ処理!AM388&データ処理!AZ388&データ処理!AR388)","v":""},{"$f":"RIGHT(データ処理!AN388,5)","v":""},{"$f":"データ処理!AO388","v":""},{"$f":"データ処理!AP388","v":""}]
[null,{"$f":"RIGHT(データ処理!AI389,5)","v":""},{"$f":"LEFT(データ処理!AJ389,5)","v":""},{"$f":"データ処理!AK389","v":0},{"$f":"IF(データ処理!AK389=\"\",\"\",データ処理!AL389&データ処理!BE389&$G$3)","v":""},{"$f":"IF(データ処理!AK389=\"\",\"\",データ処理!AM389&データ処理!AZ389&データ処理!AR389)","v":""},{"$f":"RIGHT(データ処理!AN389,5)","v":""},{"$f":"データ処理!AO389","v":""},{"$f":"データ処理!AP389","v":""}]
[null,{"$f":"RIGHT(データ処理!AI390,5)","v":""},{"$f":"LEFT(データ処理!AJ390,5)","v":""},{"$f":"データ処理!AK390","v":0},{"$f":"IF(データ処理!AK390=\"\",\"\",データ処理!AL390&データ処理!BE390&$G$3)","v":""},{"$f":"IF(データ処理!AK390=\"\",\"\",データ処理!AM390&データ処理!AZ390&データ処理!AR390)","v":""},{"$f":"RIGHT(データ処理!AN390,5)","v":""},{"$f":"データ処理!AO390","v":""},{"$f":"データ処理!AP390","v":""}]
[null,{"$f":"RIGHT(データ処理!AI391,5)","v":""},{"$f":"LEFT(データ処理!AJ391,5)","v":""},{"$f":"データ処理!AK391","v":0},{"$f":"IF(データ処理!AK391=\"\",\"\",データ処理!AL391&データ処理!BE391&$G$3)","v":""},{"$f":"IF(データ処理!AK391=\"\",\"\",データ処理!AM391&データ処理!AZ391&データ処理!AR391)","v":""},{"$f":"RIGHT(データ処理!AN391,5)","v":""},{"$f":"データ処理!AO391","v":""},{"$f":"データ処理!AP391","v":""}]
[null,{"$f":"RIGHT(データ処理!AI392,5)","v":""},{"$f":"LEFT(データ処理!AJ392,5)","v":""},{"$f":"データ処理!AK392","v":0},{"$f":"IF(データ処理!AK392=\"\",\"\",データ処理!AL392&データ処理!BE392&$G$3)","v":""},{"$f":"IF(データ処理!AK392=\"\",\"\",データ処理!AM392&データ処理!AZ392&データ処理!AR392)","v":""},{"$f":"RIGHT(データ処理!AN392,5)","v":""},{"$f":"データ処理!AO392","v":""},{"$f":"データ処理!AP392","v":""}]
[null,{"$f":"RIGHT(データ処理!AI393,5)","v":""},{"$f":"LEFT(データ処理!AJ393,5)","v":""},{"$f":"データ処理!AK393","v":0},{"$f":"IF(データ処理!AK393=\"\",\"\",データ処理!AL393&データ処理!BE393&$G$3)","v":""},{"$f":"IF(データ処理!AK393=\"\",\"\",データ処理!AM393&データ処理!AZ393&データ処理!AR393)","v":""},{"$f":"RIGHT(データ処理!AN393,5)","v":""},{"$f":"データ処理!AO393","v":""},{"$f":"データ処理!AP393","v":""}]
[40,{"$f":"RIGHT(データ処理!AI394,5)","v":""},{"$f":"LEFT(データ処理!AJ394,5)","v":""},{"$f":"データ処理!AK394","v":0},{"$f":"IF(データ処理!AK394=\"\",\"\",データ処理!AL394&データ処理!BE394&$G$3)","v":""},{"$f":"IF(データ処理!AK394=\"\",\"\",データ処理!AM394&データ処理!AZ394&データ処理!AR394)","v":""},{"$f":"RIGHT(データ処理!AN394,5)","v":""},{"$f":"データ処理!AO394","v":""},{"$f":"データ処理!AP394","v":""}]
[null,{"$f":"RIGHT(データ処理!AI395,5)","v":""},{"$f":"LEFT(データ処理!AJ395,5)","v":""},{"$f":"データ処理!AK395","v":0},{"$f":"IF(データ処理!AK395=\"\",\"\",データ処理!AL395&データ処理!BE395&$G$3)","v":""},{"$f":"IF(データ処理!AK395=\"\",\"\",データ処理!AM395&データ処理!AZ395&データ処理!AR395)","v":""},{"$f":"RIGHT(データ処理!AN395,5)","v":""},{"$f":"データ処理!AO395","v":""},{"$f":"データ処理!AP395","v":""}]
[null,{"$f":"RIGHT(データ処理!AI396,5)","v":""},{"$f":"LEFT(データ処理!AJ396,5)","v":""},{"$f":"データ処理!AK396","v":0},{"$f":"IF(データ処理!AK396=\"\",\"\",データ処理!AL396&データ処理!BE396&$G$3)","v":""},{"$f":"IF(データ処理!AK396=\"\",\"\",データ処理!AM396&データ処理!AZ396&データ処理!AR396)","v":""},{"$f":"RIGHT(データ処理!AN396,5)","v":""},{"$f":"データ処理!AO396","v":""},{"$f":"データ処理!AP396","v":""}]
[null,{"$f":"RIGHT(データ処理!AI397,5)","v":""},{"$f":"LEFT(データ処理!AJ397,5)","v":""},{"$f":"データ処理!AK397","v":0},{"$f":"IF(データ処理!AK397=\"\",\"\",データ処理!AL397&データ処理!BE397&$G$3)","v":""},{"$f":"IF(データ処理!AK397=\"\",\"\",データ処理!AM397&データ処理!AZ397&データ処理!AR397)","v":""},{"$f":"RIGHT(データ処理!AN397,5)","v":""},{"$f":"データ処理!AO397","v":""},{"$f":"データ処理!AP397","v":""}]
[null,{"$f":"RIGHT(データ処理!AI398,5)","v":""},{"$f":"LEFT(データ処理!AJ398,5)","v":""},{"$f":"データ処理!AK398","v":0},{"$f":"IF(データ処理!AK398=\"\",\"\",データ処理!AL398&データ処理!BE398&$G$3)","v":""},{"$f":"IF(データ処理!AK398=\"\",\"\",データ処理!AM398&データ処理!AZ398&データ処理!AR398)","v":""},{"$f":"RIGHT(データ処理!AN398,5)","v":""},{"$f":"データ処理!AO398","v":""},{"$f":"データ処理!AP398","v":""}]
[null,{"$f":"RIGHT(データ処理!AI399,5)","v":""},{"$f":"LEFT(データ処理!AJ399,5)","v":""},{"$f":"データ処理!AK399","v":0},{"$f":"IF(データ処理!AK399=\"\",\"\",データ処理!AL399&データ処理!BE399&$G$3)","v":""},{"$f":"IF(データ処理!AK399=\"\",\"\",データ処理!AM399&データ処理!AZ399&データ処理!AR399)","v":""},{"$f":"RIGHT(データ処理!AN399,5)","v":""},{"$f":"データ処理!AO399","v":""},{"$f":"データ処理!AP399","v":""}]
[null,{"$f":"RIGHT(データ処理!AI400,5)","v":""},{"$f":"LEFT(データ処理!AJ400,5)","v":""},{"$f":"データ処理!AK400","v":0},{"$f":"IF(データ処理!AK400=\"\",\"\",データ処理!AL400&データ処理!BE400&$G$3)","v":""},{"$f":"IF(データ処理!AK400=\"\",\"\",データ処理!AM400&データ処理!AZ400&データ処理!AR400)","v":""},{"$f":"RIGHT(データ処理!AN400,5)","v":""},{"$f":"データ処理!AO400","v":""},{"$f":"データ処理!AP400","v":""}]
[null,{"$f":"RIGHT(データ処理!AI401,5)","v":""},{"$f":"LEFT(データ処理!AJ401,5)","v":""},{"$f":"データ処理!AK401","v":0},{"$f":"IF(データ処理!AK401=\"\",\"\",データ処理!AL401&データ処理!BE401&$G$3)","v":""},{"$f":"IF(データ処理!AK401=\"\",\"\",データ処理!AM401&データ処理!AZ401&データ処理!AR401)","v":""},{"$f":"RIGHT(データ処理!AN401,5)","v":""},{"$f":"データ処理!AO401","v":""},{"$f":"データ処理!AP401","v":""}]
[null,{"$f":"RIGHT(データ処理!AI402,5)","v":""},{"$f":"LEFT(データ処理!AJ402,5)","v":""},{"$f":"データ処理!AK402","v":0},{"$f":"IF(データ処理!AK402=\"\",\"\",データ処理!AL402&データ処理!BE402&$G$3)","v":""},{"$f":"IF(データ処理!AK402=\"\",\"\",データ処理!AM402&データ処理!AZ402&データ処理!AR402)","v":""},{"$f":"RIGHT(データ処理!AN402,5)","v":""},{"$f":"データ処理!AO402","v":""},{"$f":"データ処理!AP402","v":""}]
[null,{"$f":"RIGHT(データ処理!AI403,5)","v":""},{"$f":"LEFT(データ処理!AJ403,5)","v":""},{"$f":"データ処理!AK403","v":0},{"$f":"IF(データ処理!AK403=\"\",\"\",データ処理!AL403&データ処理!BE403&$G$3)","v":""},{"$f":"IF(データ処理!AK403=\"\",\"\",データ処理!AM403&データ処理!AZ403&データ処理!AR403)","v":""},{"$f":"RIGHT(データ処理!AN403,5)","v":""},{"$f":"データ処理!AO403","v":""},{"$f":"データ処理!AP403","v":""}]
[50,{"$f":"RIGHT(データ処理!AI404,5)","v":""},{"$f":"LEFT(データ処理!AJ404,5)","v":""},{"$f":"データ処理!AK404","v":0},{"$f":"IF(データ処理!AK404=\"\",\"\",データ処理!AL404&データ処理!BE404&$G$3)","v":""},{"$f":"IF(データ処理!AK404=\"\",\"\",データ処理!AM404&データ処理!AZ404&データ処理!AR404)","v":""},{"$f":"RIGHT(データ処理!AN404,5)","v":""},{"$f":"データ処理!AO404","v":""},{"$f":"データ処理!AP404","v":""}]
[null,"Total  (合計)",null,{"$f":"COUNTIF(B428:B477,\"*/*\")","v":0},null,"Total  (合計)",{"$f":"COUNTIF(G428:G477,\"*/*\")","v":0},{"$f":"50-COUNTBLANK(H428:H477)","v":0},{"$f":"SUM(I428:I477)","v":0}]
[]
[null,"総 合 計",null,{"$f":"IF(K424=\"\",\"\",D478+ログシート!D421)","v":""},null,"総 合 計",{"$f":"IF(K424=\"\",\"\",G478+ログシート!G421)","v":""},{"$f":"IF(K424=\"\",\"\",H478+ログシート!H421)","v":""},{"$f":"IF(K424=\"\",\"\",I478+ログシート!I421)","v":""}]
[]
[null,"ＬＯＧ　ＳＨＥＥＴ (ログシート）",null,null,"Year (年)",{"$f":"$F$10","v":"2024"},{"$f":"$G$10","v":"第38回 滋賀2mSSB\nアクティブコンテスト"}]
[null,"Callsign (ｺｰﾙｻｲﾝ)",null,{"$f":"$D$11","v":0},"BAND（バンド）",{"$f":"$F$11","v":144},"MHz/SSB",null,"Sheet No.",null,{"$f":"IF(E487=\"\",\"\",L486&\"/\"&$E$3)","v":""}]
[]
[null,"Date Time",null,"Station Wkd","Exchange (ｺﾝﾃｽﾄﾅﾝﾊﾞｰ)",null,"Multi.（マルチ）",null,"Pts.","Op.","備考"]
[null,"月/日","時分JST","交信局","Sent (送信)","Received (受信)","日数マルチ","テールレター","得点","運用者",null,9]
[null,{"$f":"RIGHT(データ処理!AI405,5)","v":""},{"$f":"LEFT(データ処理!AJ405,5)","v":""},{"$f":"データ処理!AK405","v":0},{"$f":"IF(データ処理!AK405=\"\",\"\",データ処理!AL405&データ処理!BE405&$G$3)","v":""},{"$f":"IF(データ処理!AK405=\"\",\"\",データ処理!AM405&データ処理!AZ405&データ処理!AR405)","v":""},{"$f":"RIGHT(データ処理!AN405,5)","v":""},{"$f":"データ処理!AO405","v":""},{"$f":"データ処理!AP405","v":""}]
[null,{"$f":"RIGHT(データ処理!AI406,5)","v":""},{"$f":"LEFT(データ処理!AJ406,5)","v":""},{"$f":"データ処理!AK406","v":0},{"$f":"IF(データ処理!AK406=\"\",\"\",データ処理!AL406&データ処理!BE406&$G$3)","v":""},{"$f":"IF(データ処理!AK406=\"\",\"\",データ処理!AM406&データ処理!AZ406&データ処理!AR406)","v":""},{"$f":"RIGHT(データ処理!AN406,5)","v":""},{"$f":"データ処理!AO406","v":""},{"$f":"データ処理!AP406","v":""}]
[null,{"$f":"RIGHT(データ処理!AI407,5)","v":""},{"$f":"LEFT(データ処理!AJ407,5)","v":""},{"$f":"データ処理!AK407","v":0},{"$f":"IF(データ処理!AK407=\"\",\"\",データ処理!AL407&データ処理!BE407&$G$3)","v":""},{"$f":"IF(データ処理!AK407=\"\",\"\",データ処理!AM407&データ処理!AZ407&データ処理!AR407)","v":""},{"$f":"RIGHT(データ処理!AN407,5)","v":""},{"$f":"データ処理!AO407","v":""},{"$f":"データ処理!AP407","v":""}]
[null,{"$f":"RIGHT(データ処理!AI408,5)","v":""},{"$f":"LEFT(データ処理!AJ408,5)","v":""},{"$f":"データ処理!AK408","v":0},{"$f":"IF(データ処理!AK408=\"\",\"\",データ処理!AL408&データ処理!BE408&$G$3)","v":""},{"$f":"IF(データ処理!AK408=\"\",\"\",データ処理!AM408&データ処理!AZ408&データ処理!AR408)","v":""},{"$f":"RIGHT(データ処理!AN408,5)","v":""},{"$f":"データ処理!AO408","v":""},{"$f":"データ処理!AP408","v":""}]
[null,{"$f":"RIGHT(データ処理!AI409,5)","v":""},{"$f":"LEFT(データ処理!AJ409,5)","v":""},{"$f":"データ処理!AK409","v":0},{"$f":"IF(データ処理!AK409=\"\",\"\",データ処理!AL409&データ処理!BE409&$G$3)","v":""},{"$f":"IF(データ処理!AK409=\"\",\"\",データ処理!AM409&データ処理!AZ409&データ処理!AR409)","v":""},{"$f":"RIGHT(データ処理!AN409,5)","v":""},{"$f":"データ処理!AO409","v":""},{"$f":"データ処理!AP409","v":""}]
[null,{"$f":"RIGHT(データ処理!AI410,5)","v":""},{"$f":"LEFT(データ処理!AJ410,5)","v":""},{"$f":"データ処理!AK410","v":0},{"$f":"IF(データ処理!AK410=\"\",\"\",データ処理!AL410&データ処理!BE410&$G$3)","v":""},{"$f":"IF(データ処理!AK410=\"\",\"\",データ処理!AM410&データ処理!AZ410&データ処理!AR410)","v":""},{"$f":"RIGHT(データ処理!AN410,5)","v":""},{"$f":"データ処理!AO410","v":""},{"$f":"データ処理!AP410","v":""}]
[null,{"$f":"RIGHT(データ処理!AI411,5)","v":""},{"$f":"LEFT(データ処理!AJ411,5)","v":""},{"$f":"データ処理!AK411","v":0},{"$f":"IF(データ処理!AK411=\"\",\"\",データ処理!AL411&データ処理!BE411&$G$3)","v":""},{"$f":"IF(データ処理!AK411=\"\",\"\",データ処理!AM411&データ処理!AZ411&データ処理!AR411)","v":""},{"$f":"RIGHT(データ処理!AN411,5)","v":""},{"$f":"データ処理!AO411","v":""},{"$f":"データ処理!AP411","v":""}]
[null,{"$f":"RIGHT(データ処理!AI412,5)","v":""},{"$f":"LEFT(データ処理!AJ412,5)","v":""},{"$f":"データ処理!AK412","v":0},{"$f":"IF(データ処理!AK412=\"\",\"\",データ処理!AL412&データ処理!BE412&$G$3)","v":""},{"$f":"IF(データ処理!AK412=\"\",\"\",データ処理!AM412&データ処理!AZ412&データ処理!AR412)","v":""},{"$f":"RIGHT(データ処理!AN412,5)","v":""},{"$f":"データ処理!AO412","v":""},{"$f":"データ処理!AP412","v":""}]
[null,{"$f":"RIGHT(データ処理!AI413,5)","v":""},{"$f":"LEFT(データ処理!AJ413,5)","v":""},{"$f":"データ処理!AK413","v":0},{"$f":"IF(データ処理!AK413=\"\",\"\",データ処理!AL413&データ処理!BE413&$G$3)","v":""},{"$f":"IF(データ処理!AK413=\"\",\"\",データ処理!AM413&データ処理!AZ413&データ処理!AR413)","v":""},{"$f":"RIGHT(データ処理!AN413,5)","v":""},{"$f":"データ処理!AO413","v":""},{"$f":"データ処理!AP413","v":""}]
[10,{"$f":"RIGHT(データ処理!AI414,5)","v":""},{"$f":"LEFT(データ処理!AJ414,5)","v":""},{"$f":"データ処理!AK414","v":0},{"$f":"IF(データ処理!AK414=\"\",\"\",データ処理!AL414&データ処理!BE414&$G$3)","v":""},{"$f":"IF(データ処理!AK414=\"\",\"\",データ処理!AM414&データ処理!AZ414&データ処理!AR414)","v":""},{"$f":"RIGHT(データ処理!AN414,5)","v":""},{"$f":"データ処理!AO414","v":""},{"$f":"データ処理!AP414","v":""}]
[null,{"$f":"RIGHT(データ処理!AI415,5)","v":""},{"$f":"LEFT(データ処理!AJ415,5)","v":""},{"$f":"データ処理!AK415","v":0},{"$f":"IF(データ処理!AK415=\"\",\"\",データ処理!AL415&データ処理!BE415&$G$3)","v":""},{"$f":"IF(データ処理!AK415=\"\",\"\",データ処理!AM415&データ処理!AZ415&データ処理!AR415)","v":""},{"$f":"RIGHT(データ処理!AN415,5)","v":""},{"$f":"データ処理!AO415","v":""},{"$f":"データ処理!AP415","v":""}]
[null,{"$f":"RIGHT(データ処理!AI416,5)","v":""},{"$f":"LEFT(データ処理!AJ416,5)","v":""},{"$f":"データ処理!AK416","v":0},{"$f":"IF(データ処理!AK416=\"\",\"\",データ処理!AL416&データ処理!BE416&$G$3)","v":""},{"$f":"IF(データ処理!AK416=\"\",\"\",データ処理!AM416&データ処理!AZ416&データ処理!AR416)","v":""},{"$f":"RIGHT(データ処理!AN416,5)","v":""},{"$f":"データ処理!AO416","v":""},{"$f":"データ処理!AP416","v":""}]
[null,{"$f":"RIGHT(データ処理!AI417,5)","v":""},{"$f":"LEFT(データ処理!AJ417,5)","v":""},{"$f":"データ処理!AK417","v":0},{"$f":"IF(データ処理!AK417=\"\",\"\",データ処理!AL417&データ処理!BE417&$G$3)","v":""},{"$f":"IF(データ処理!AK417=\"\",\"\",データ処理!AM417&データ処理!AZ417&データ処理!AR417)","v":""},{"$f":"RIGHT(データ処理!AN417,5)","v":""},{"$f":"データ処理!AO417","v":""},{"$f":"データ処理!AP417","v":""}]
[null,{"$f":"RIGHT(データ処理!AI418,5)","v":""},{"$f":"LEFT(データ処理!AJ418,5)","v":""},{"$f":"データ処理!AK418","v":0},{"$f":"IF(データ処理!AK418=\"\",\"\",データ処理!AL418&データ処理!BE418&$G$3)","v":""},{"$f":"IF(データ処理!AK418=\"\",\"\",データ処理!AM418&データ処理!AZ418&データ処理!AR418)","v":""},{"$f":"RIGHT(データ処理!AN418,5)","v":""},{"$f":"データ処理!AO418","v":""},{"$f":"データ処理!AP418","v":""}]
[null,{"$f":"RIGHT(データ処理!AI419,5)","v":""},{"$f":"LEFT(データ処理!AJ419,5)","v":""},{"$f":"データ処理!AK419","v":0},{"$f":"IF(データ処理!AK419=\"\",\"\",データ処理!AL419&データ処理!BE419&$G$3)","v":""},{"$f":"IF(データ処理!AK419=\"\",\"\",データ処理!AM419&データ処理!AZ419&データ処理!AR419)","v":""},{"$f":"RIGHT(データ処理!AN419,5)","v":""},{"$f":"データ処理!AO419","v":""},{"$f":"データ処理!AP419","v":""}]
[null,{"$f":"RIGHT(データ処理!AI420,5)","v":""},{"$f":"LEFT(データ処理!AJ420,5)","v":""},{"$f":"データ処理!AK420","v":0},{"$f":"IF(データ処理!AK420=\"\",\"\",データ処理!AL420&データ処理!BE420&$G$3)","v":""},{"$f":"IF(データ処理!AK420=\"\",\"\",データ処理!AM420&データ処理!AZ420&データ処理!AR420)","v":""},{"$f":"RIGHT(データ処理!AN420,5)","v":""},{"$f":"データ処理!AO420","v":""},{"$f":"データ処理!AP420","v":""}]
[null,{"$f":"RIGHT(データ処理!AI421,5)","v":""},{"$f":"LEFT(データ処理!AJ421,5)","v":""},{"$f":"データ処理!AK421","v":0},{"$f":"IF(データ処理!AK421=\"\",\"\",データ処理!AL421&データ処理!BE421&$G$3)","v":""},{"$f":"IF(データ処理!AK421=\"\",\"\",データ処理!AM421&データ処理!AZ421&データ処理!AR421)","v":""},{"$f":"RIGHT(データ処理!AN421,5)","v":""},{"$f":"データ処理!AO421","v":""},{"$f":"データ処理!AP421","v":""}]
[null,{"$f":"RIGHT(データ処理!AI422,5)","v":""},{"$f":"LEFT(データ処理!AJ422,5)","v":""},{"$f":"データ処理!AK422","v":0},{"$f":"IF(データ処理!AK422=\"\",\"\",データ処理!AL422&データ処理!BE422&$G$3)","v":""},{"$f":"IF(データ処理!AK422=\"\",\"\",データ処理!AM422&データ処理!AZ422&データ処理!AR422)","v":""},{"$f":"RIGHT(データ処理!AN422,5)","v":""},{"$f":"データ処理!AO422","v":""},{"$f":"データ処理!AP422","v":""}]
[null,{"$f":"RIGHT(データ処理!AI423,5)","v":""},{"$f":"LEFT(データ処理!AJ423,5)","v":""},{"$f":"データ処理!AK423","v":0},{"$f":"IF(データ処理!AK423=\"\",\"\",データ処理!AL423&データ処理!BE423&$G$3)","v":""},{"$f":"IF(データ処理!AK423=\"\",\"\",データ処理!AM423&データ処理!AZ423&データ処理!AR423)","v":""},{"$f":"RIGHT(データ処理!AN423,5)","v":""},{"$f":"データ処理!AO423","v":""},{"$f":"データ処理!AP423","v":""}]
[20,{"$f":"RIGHT(データ処理!AI424,5)","v":""},{"$f":"LEFT(データ処理!AJ424,5)","v":""},{"$f":"データ処理!AK424","v":0},{"$f":"IF(データ処理!AK424=\"\",\"\",データ処理!AL424&データ処理!BE424&$G$3)","v":""},{"$f":"IF(データ処理!AK424=\"\",\"\",データ処理!AM424&データ処理!AZ424&データ処理!AR424)","v":""},{"$f":"RIGHT(データ処理!AN424,5)","v":""},{"$f":"データ処理!AO424","v":""},{"$f":"データ処理!AP424","v":""}]
[null,{"$f":"RIGHT(データ処理!AI425,5)","v":""},{"$f":"LEFT(データ処理!AJ425,5)","v":""},{"$f":"データ処理!AK425","v":0},{"$f":"IF(データ処理!AK425=\"\",\"\",データ処理!AL425&データ処理!BE425&$G$3)","v":""},{"$f":"IF(データ処理!AK425=\"\",\"\",データ処理!AM425&データ処理!AZ425&データ処理!AR425)","v":""},{"$f":"RIGHT(データ処理!AN425,5)","v":""},{"$f":"データ処理!AO425","v":""},{"$f":"データ処理!AP425","v":""}]
[null,{"$f":"RIGHT(データ処理!AI426,5)","v":""},{"$f":"LEFT(データ処理!AJ426,5)","v":""},{"$f":"データ処理!AK426","v":0},{"$f":"IF(データ処理!AK426=\"\",\"\",データ処理!AL426&データ処理!BE426&$G$3)","v":""},{"$f":"IF(データ処理!AK426=\"\",\"\",データ処理!AM426&データ処理!AZ426&データ処理!AR426)","v":""},{"$f":"RIGHT(データ処理!AN426,5)","v":""},{"$f":"データ処理!AO426","v":""},{"$f":"データ処理!AP426","v":""}]
[null,{"$f":"RIGHT(データ処理!AI427,5)","v":""},{"$f":"LEFT(データ処理!AJ427,5)","v":""},{"$f":"データ処理!AK427","v":0},{"$f":"IF(データ処理!AK427=\"\",\"\",データ処理!AL427&データ処理!BE427&$G$3)","v":""},{"$f":"IF(データ処理!AK427=\"\",\"\",データ処理!AM427&データ処理!AZ427&データ処理!AR427)","v":""},{"$f":"RIGHT(データ処理!AN427,5)","v":""},{"$f":"データ処理!AO427","v":""},{"$f":"データ処理!AP427","v":""}]
[null,{"$f":"RIGHT(データ処理!AI428,5)","v":""},{"$f":"LEFT(データ処理!AJ428,5)","v":""},{"$f":"データ処理!AK428","v":0},{"$f":"IF(データ処理!AK428=\"\",\"\",データ処理!AL428&データ処理!BE428&$G$3)","v":""},{"$f":"IF(データ処理!AK428=\"\",\"\",データ処理!AM428&データ処理!AZ428&データ処理!AR428)","v":""},{"$f":"RIGHT(データ処理!AN428,5)","v":""},{"$f":"データ処理!AO428","v":""},{"$f":"データ処理!AP428","v":""}]
[null,{"$f":"RIGHT(データ処理!AI429,5)","v":""},{"$f":"LEFT(データ処理!AJ429,5)","v":""},{"$f":"データ処理!AK429","v":0},{"$f":"IF(データ処理!AK429=\"\",\"\",データ処理!AL429&データ処理!BE429&$G$3)","v":""},{"$f":"IF(データ処理!AK429=\"\",\"\",データ処理!AM429&データ処理!AZ429&データ処理!AR429)","v":""},{"$f":"RIGHT(データ処理!AN429,5)","v":""},{"$f":"データ処理!AO429","v":""},{"$f":"データ処理!AP429","v":""}]
[null,{"$f":"RIGHT(データ処理!AI430,5)","v":""},{"$f":"LEFT(データ処理!AJ430,5)","v":""},{"$f":"データ処理!AK430","v":0},{"$f":"IF(データ処理!AK430=\"\",\"\",データ処理!AL430&データ処理!BE430&$G$3)","v":""},{"$f":"IF(データ処理!AK430=\"\",\"\",データ処理!AM430&データ処理!AZ430&データ処理!AR430)","v":""},{"$f":"RIGHT(データ処理!AN430,5)","v":""},{"$f":"データ処理!AO430","v":""},{"$f":"データ処理!AP430","v":""}]
[null,{"$f":"RIGHT(データ処理!AI431,5)","v":""},{"$f":"LEFT(データ処理!AJ431,5)","v":""},{"$f":"データ処理!AK431","v":0},{"$f":"IF(データ処理!AK431=\"\",\"\",データ処理!AL431&データ処理!BE431&$G$3)","v":""},{"$f":"IF(データ処理!AK431=\"\",\"\",データ処理!AM431&データ処理!AZ431&データ処理!AR431)","v":""},{"$f":"RIGHT(データ処理!AN431,5)","v":""},{"$f":"データ処理!AO431","v":""},{"$f":"データ処理!AP431","v":""}]
[null,{"$f":"RIGHT(データ処理!AI432,5)","v":""},{"$f":"LEFT(データ処理!AJ432,5)","v":""},{"$f":"データ処理!AK432","v":0},{"$f":"IF(データ処理!AK432=\"\",\"\",データ処理!AL432&データ処理!BE432&$G$3)","v":""},{"$f":"IF(データ処理!AK432=\"\",\"\",データ処理!AM432&データ処理!AZ432&データ処理!AR432)","v":""},{"$f":"RIGHT(データ処理!AN432,5)","v":""},{"$f":"データ処理!AO432","v":""},{"$f":"データ処理!AP432","v":""}]
[null,{"$f":"RIGHT(データ処理!AI433,5)","v":""},{"$f":"LEFT(データ処理!AJ433,5)","v":""},{"$f":"データ処理!AK433","v":0},{"$f":"IF(データ処理!AK433=\"\",\"\",データ処理!AL433&データ処理!BE433&$G$3)","v":""},{"$f":"IF(データ処理!AK433=\"\",\"\",データ処理!AM433&データ処理!AZ433&データ処理!AR433)","v":""},{"$f":"RIGHT(データ処理!AN433,5)","v":""},{"$f":"データ処理!AO433","v":""},{"$f":"データ処理!AP433","v":""}]
[30,{"$f":"RIGHT(データ処理!AI434,5)","v":""},{"$f":"LEFT(データ処理!AJ434,5)","v":""},{"$f":"データ処理!AK434","v":0},{"$f":"IF(データ処理!AK434=\"\",\"\",データ処理!AL434&データ処理!BE434&$G$3)","v":""},{"$f":"IF(データ処理!AK434=\"\",\"\",データ処理!AM434&データ処理!AZ434&データ処理!AR434)","v":""},{"$f":"RIGHT(データ処理!AN434,5)","v":""},{"$f":"データ処理!AO434","v":""},{"$f":"データ処理!AP434","v":""}]
[null,{"$f":"RIGHT(データ処理!AI435,5)","v":""},{"$f":"LEFT(データ処理!AJ435,5)","v":""},{"$f":"データ処理!AK435","v":0},{"$f":"IF(データ処理!AK435=\"\",\"\",データ処理!AL435&データ処理!BE435&$G$3)","v":""},{"$f":"IF(データ処理!AK435=\"\",\"\",データ処理!AM435&データ処理!AZ435&データ処理!AR435)","v":""},{"$f":"RIGHT(データ処理!AN435,5)","v":""},{"$f":"データ処理!AO435","v":""},{"$f":"データ処理!AP435","v":""}]
[null,{"$f":"RIGHT(データ処理!AI436,5)","v":""},{"$f":"LEFT(データ処理!AJ436,5)","v":""},{"$f":"データ処理!AK436","v":0},{"$f":"IF(データ処理!AK436=\"\",\"\",データ処理!AL436&データ処理!BE436&$G$3)","v":""},{"$f":"IF(データ処理!AK436=\"\",\"\",データ処理!AM436&データ処理!AZ436&データ処理!AR436)","v":""},{"$f":"RIGHT(データ処理!AN436,5)","v":""},{"$f":"データ処理!AO436","v":""},{"$f":"データ処理!AP436","v":""}]
[null,{"$f":"RIGHT(データ処理!AI437,5)","v":""},{"$f":"LEFT(データ処理!AJ437,5)","v":""},{"$f":"データ処理!AK437","v":0},{"$f":"IF(データ処理!AK437=\"\",\"\",データ処理!AL437&データ処理!BE437&$G$3)","v":""},{"$f":"IF(データ処理!AK437=\"\",\"\",データ処理!AM437&データ処理!AZ437&データ処理!AR437)","v":""},{"$f":"RIGHT(データ処理!AN437,5)","v":""},{"$f":"データ処理!AO437","v":""},{"$f":"データ処理!AP437","v":""}]
[null,{"$f":"RIGHT(データ処理!AI438,5)","v":""},{"$f":"LEFT(データ処理!AJ438,5)","v":""},{"$f":"データ処理!AK438","v":0},{"$f":"IF(データ処理!AK438=\"\",\"\",データ処理!AL438&データ処理!BE438&$G$3)","v":""},{"$f":"IF(データ処理!AK438=\"\",\"\",データ処理!AM438&データ処理!AZ438&データ処理!AR438)","v":""},{"$f":"RIGHT(データ処理!AN438,5)","v":""},{"$f":"データ処理!AO438","v":""},{"$f":"データ処理!AP438","v":""}]
[null,{"$f":"RIGHT(データ処理!AI439,5)","v":""},{"$f":"LEFT(データ処理!AJ439,5)","v":""},{"$f":"データ処理!AK439","v":0},{"$f":"IF(データ処理!AK439=\"\",\"\",データ処理!AL439&データ処理!BE439&$G$3)","v":""},{"$f":"IF(データ処理!AK439=\"\",\"\",データ処理!AM439&データ処理!AZ439&データ処理!AR439)","v":""},{"$f":"RIGHT(データ処理!AN439,5)","v":""},{"$f":"データ処理!AO439","v":""},{"$f":"データ処理!AP439","v":""}]
[null,{"$f":"RIGHT(データ処理!AI440,5)","v":""},{"$f":"LEFT(データ処理!AJ440,5)","v":""},{"$f":"データ処理!AK440","v":0},{"$f":"IF(データ処理!AK440=\"\",\"\",データ処理!AL440&データ処理!BE440&$G$3)","v":""},{"$f":"IF(データ処理!AK440=\"\",\"\",データ処理!AM440&データ処理!AZ440&データ処理!AR440)","v":""},{"$f":"RIGHT(データ処理!AN440,5)","v":""},{"$f":"データ処理!AO440","v":""},{"$f":"データ処理!AP440","v":""}]
[null,{"$f":"RIGHT(データ処理!AI441,5)","v":""},{"$f":"LEFT(データ処理!AJ441,5)","v":""},{"$f":"データ処理!AK441","v":0},{"$f":"IF(データ処理!AK441=\"\",\"\",データ処理!AL441&データ処理!BE441&$G$3)","v":""},{"$f":"IF(データ処理!AK441=\"\",\"\",データ処理!AM441&データ処理!AZ441&データ処理!AR441)","v":""},{"$f":"RIGHT(データ処理!AN441,5)","v":""},{"$f":"データ処理!AO441","v":""},{"$f":"データ処理!AP441","v":""}]
[null,{"$f":"RIGHT(データ処理!AI442,5)","v":""},{"$f":"LEFT(データ処理!AJ442,5)","v":""},{"$f":"データ処理!AK442","v":0},{"$f":"IF(データ処理!AK442=\"\",\"\",データ処理!AL442&データ処理!BE442&$G$3)","v":""},{"$f":"IF(データ処理!AK442=\"\",\"\",データ処理!AM442&データ処理!AZ442&データ処理!AR442)","v":""},{"$f":"RIGHT(データ処理!AN442,5)","v":""},{"$f":"データ処理!AO442","v":""},{"$f":"データ処理!AP442","v":""}]
[null,{"$f":"RIGHT(データ処理!AI443,5)","v":""},{"$f":"LEFT(データ処理!AJ443,5)","v":""},{"$f":"データ処理!AK443","v":0},{"$f":"IF(データ処理!AK443=\"\",\"\",データ処理!AL443&データ処理!BE443&$G$3)","v":""},{"$f":"IF(データ処理!AK443=\"\",\"\",データ処理!AM443&データ処理!AZ443&データ処理!AR443)","v":""},{"$f":"RIGHT(データ処理!AN443,5)","v":""},{"$f":"データ処理!AO443","v":""},{"$f":"データ処理!AP443","v":""}]
[40,{"$f":"RIGHT(データ処理!AI444,5)","v":""},{"$f":"LEFT(データ処理!AJ444,5)","v":""},{"$f":"データ処理!AK444","v":0},{"$f":"IF(データ処理!AK444=\"\",\"\",データ処理!AL444&データ処理!BE444&$G$3)","v":""},{"$f":"IF(データ処理!AK444=\"\",\"\",データ処理!AM444&データ処理!AZ444&データ処理!AR444)","v":""},{"$f":"RIGHT(データ処理!AN444,5)","v":""},{"$f":"データ処理!AO444","v":""},{"$f":"データ処理!AP444","v":""}]
[null,{"$f":"RIGHT(データ処理!AI445,5)","v":""},{"$f":"LEFT(データ処理!AJ445,5)","v":""},{"$f":"データ処理!AK445","v":0},{"$f":"IF(データ処理!AK445=\"\",\"\",データ処理!AL445&データ処理!BE445&$G$3)","v":""},{"$f":"IF(データ処理!AK445=\"\",\"\",データ処理!AM445&データ処理!AZ445&データ処理!AR445)","v":""},{"$f":"RIGHT(データ処理!AN445,5)","v":""},{"$f":"データ処理!AO445","v":""},{"$f":"データ処理!AP445","v":""}]
[null,{"$f":"RIGHT(データ処理!AI446,5)","v":""},{"$f":"LEFT(データ処理!AJ446,5)","v":""},{"$f":"データ処理!AK446","v":0},{"$f":"IF(データ処理!AK446=\"\",\"\",データ処理!AL446&データ処理!BE446&$G$3)","v":""},{"$f":"IF(データ処理!AK446=\"\",\"\",データ処理!AM446&データ処理!AZ446&データ処理!AR446)","v":""},{"$f":"RIGHT(データ処理!AN446,5)","v":""},{"$f":"データ処理!AO446","v":""},{"$f":"データ処理!AP446","v":""}]
[null,{"$f":"RIGHT(データ処理!AI447,5)","v":""},{"$f":"LEFT(データ処理!AJ447,5)","v":""},{"$f":"データ処理!AK447","v":0},{"$f":"IF(データ処理!AK447=\"\",\"\",データ処理!AL447&データ処理!BE447&$G$3)","v":""},{"$f":"IF(データ処理!AK447=\"\",\"\",データ処理!AM447&データ処理!AZ447&データ処理!AR447)","v":""},{"$f":"RIGHT(データ処理!AN447,5)","v":""},{"$f":"データ処理!AO447","v":""},{"$f":"データ処理!AP447","v":""}]
[null,{"$f":"RIGHT(データ処理!AI448,5)","v":""},{"$f":"LEFT(データ処理!AJ448,5)","v":""},{"$f":"データ処理!AK448","v":0},{"$f":"IF(データ処理!AK448=\"\",\"\",データ処理!AL448&データ処理!BE448&$G$3)","v":""},{"$f":"IF(データ処理!AK448=\"\",\"\",データ処理!AM448&データ処理!AZ448&データ処理!AR448)","v":""},{"$f":"RIGHT(データ処理!AN448,5)","v":""},{"$f":"データ処理!AO448","v":""},{"$f":"データ処理!AP448","v":""}]
[null,{"$f":"RIGHT(データ処理!AI449,5)","v":""},{"$f":"LEFT(データ処理!AJ449,5)","v":""},{"$f":"データ処理!AK449","v":0},{"$f":"IF(データ処理!AK449=\"\",\"\",データ処理!AL449&データ処理!BE449&$G$3)","v":""},{"$f":"IF(データ処理!AK449=\"\",\"\",データ処理!AM449&データ処理!AZ449&データ処理!AR449)","v":""},{"$f":"RIGHT(データ処理!AN449,5)","v":""},{"$f":"データ処理!AO449","v":""},{"$f":"データ処理!AP449","v":""}]
[null,{"$f":"RIGHT(データ処理!AI450,5)","v":""},{"$f":"LEFT(データ処理!AJ450,5)","v":""},{"$f":"データ処理!AK450","v":0},{"$f":"IF(データ処理!AK450=\"\",\"\",データ処理!AL450&データ処理!BE450&$G$3)","v":""},{"$f":"IF(データ処理!AK450=\"\",\"\",データ処理!AM450&データ処理!AZ450&データ処理!AR450)","v":""},{"$f":"RIGHT(データ処理!AN450,5)","v":""},{"$f":"データ処理!AO450","v":""},{"$f":"データ処理!AP450","v":""}]
[null,{"$f":"RIGHT(データ処理!AI451,5)","v":""},{"$f":"LEFT(データ処理!AJ451,5)","v":""},{"$f":"データ処理!AK451","v":0},{"$f":"IF(データ処理!AK451=\"\",\"\",データ処理!AL451&データ処理!BE451&$G$3)","v":""},{"$f":"IF(データ処理!AK451=\"\",\"\",データ処理!AM451&データ処理!AZ451&データ処理!AR451)","v":""},{"$f":"RIGHT(データ処理!AN451,5)","v":""},{"$f":"データ処理!AO451","v":""},{"$f":"データ処理!AP451","v":""}]
[null,{"$f":"RIGHT(データ処理!AI452,5)","v":""},{"$f":"LEFT(データ処理!AJ452,5)","v":""},{"$f":"データ処理!AK452","v":0},{"$f":"IF(データ処理!AK452=\"\",\"\",データ処理!AL452&データ処理!BE452&$G$3)","v":""},{"$f":"IF(データ処理!AK452=\"\",\"\",データ処理!AM452&データ処理!AZ452&データ処理!AR452)","v":""},{"$f":"RIGHT(データ処理!AN452,5)","v":""},{"$f":"データ処理!AO452","v":""},{"$f":"データ処理!AP452","v":""}]
[null,{"$f":"RIGHT(データ処理!AI453,5)","v":""},{"$f":"LEFT(データ処理!AJ453,5)","v":""},{"$f":"データ処理!AK453","v":0},{"$f":"IF(データ処理!AK453=\"\",\"\",データ処理!AL453&データ処理!BE453&$G$3)","v":""},{"$f":"IF(データ処理!AK453=\"\",\"\",データ処理!AM453&データ処理!AZ453&データ処理!AR453)","v":""},{"$f":"RIGHT(データ処理!AN453,5)","v":""},{"$f":"データ処理!AO453","v":""},{"$f":"データ処理!AP453","v":""}]
[50,{"$f":"RIGHT(データ処理!AI454,5)","v":""},{"$f":"LEFT(データ処理!AJ454,5)","v":""},{"$f":"データ処理!AK454","v":0},{"$f":"IF(データ処理!AK454=\"\",\"\",データ処理!AL454&データ処理!BE454&$G$3)","v":""},{"$f":"IF(データ処理!AK454=\"\",\"\",データ処理!AM454&データ処理!AZ454&データ処理!AR454)","v":""},{"$f":"RIGHT(データ処理!AN454,5)","v":""},{"$f":"データ処理!AO454","v":""},{"$f":"データ処理!AP454","v":""}]
[null,"Total  (合計)",null,{"$f":"COUNTIF(B487:B536,\"*/*\")","v":0},null,"Total  (合計)",{"$f":"COUNTIF(G487:G536,\"*/*\")","v":0},{"$f":"50-COUNTBLANK(H487:H536)","v":0},{"$f":"SUM(I487:I536)","v":0}]
[]
[null,"総 合 計",null,{"$f":"IF(K483=\"\",\"\",D537+ログシート!D480)","v":""},null,"総 合 計",{"$f":"IF(K483=\"\",\"\",G537+ログシート!G480)","v":""},{"$f":"IF(K483=\"\",\"\",H537+ログシート!H480)","v":""},{"$f":"IF(K483=\"\",\"\",I537+ログシート!I480)","v":""}]
[]
[null,"ＬＯＧ　ＳＨＥＥＴ (ログシート）",null,null,"Year (年)",{"$f":"$F$10","v":"2024"},{"$f":"$G$10","v":"第38回 滋賀2mSSB\nアクティブコンテスト"}]
[null,"Callsign (ｺｰﾙｻｲﾝ)",null,{"$f":"$D$11","v":0},"BAND（バンド）",{"$f":"$F$11","v":144},"MHz/SSB",null,"Sheet No.",null,{"$f":"IF(E546=\"\",\"\",L545&\"/\"&$E$3)","v":""}]
[]
[null,"Date Time",null,"Station Wkd","Exchange (ｺﾝﾃｽﾄﾅﾝﾊﾞｰ)",null,"Multi.（マルチ）",null,"Pts.","Op.","備考"]
[null,"月/日","時分JST","交信局","Sent (送信)","Received (受信)","日数マルチ","テールレター","得点","運用者",null,10]
[null,{"$f":"RIGHT(データ処理!AI455,5)","v":""},{"$f":"LEFT(データ処理!AJ455,5)","v":""},{"$f":"データ処理!AK455","v":0},{"$f":"IF(データ処理!AK455=\"\",\"\",データ処理!AL455&データ処理!BE455&$G$3)","v":""},{"$f":"IF(データ処理!AK455=\"\",\"\",データ処理!AM455&データ処理!AZ455&データ処理!AR455)","v":""},{"$f":"RIGHT(データ処理!AN455,5)","v":""},{"$f":"データ処理!AO455","v":""},{"$f":"データ処理!AP455","v":""}]
[null,{"$f":"RIGHT(データ処理!AI456,5)","v":""},{"$f":"LEFT(データ処理!AJ456,5)","v":""},{"$f":"データ処理!AK456","v":0},{"$f":"IF(データ処理!AK456=\"\",\"\",データ処理!AL456&データ処理!BE456&$G$3)","v":""},{"$f":"IF(データ処理!AK456=\"\",\"\",データ処理!AM456&データ処理!AZ456&データ処理!AR456)","v":""},{"$f":"RIGHT(データ処理!AN456,5)","v":""},{"$f":"データ処理!AO456","v":""},{"$f":"データ処理!AP456","v":""}]
[null,{"$f":"RIGHT(データ処理!AI457,5)","v":""},{"$f":"LEFT(データ処理!AJ457,5)","v":""},{"$f":"データ処理!AK457","v":0},{"$f":"IF(データ処理!AK457=\"\",\"\",データ処理!AL457&データ処理!BE457&$G$3)","v":""},{"$f":"IF(データ処理!AK457=\"\",\"\",データ処理!AM457&データ処理!AZ457&データ処理!AR457)","v":""},{"$f":"RIGHT(データ処理!AN457,5)","v":""},{"$f":"データ処理!AO457","v":""},{"$f":"データ処理!AP457","v":""}]
[null,{"$f":"RIGHT(データ処理!AI458,5)","v":""},{"$f":"LEFT(データ処理!AJ458,5)","v":""},{"$f":"データ処理!AK458","v":0},{"$f":"IF(データ処理!AK458=\"\",\"\",データ処理!AL458&データ処理!BE458&$G$3)","v":""},{"$f":"IF(データ処理!AK458=\"\",\"\",データ処理!AM458&データ処理!AZ458&データ処理!AR458)","v":""},{"$f":"RIGHT(データ処理!AN458,5)","v":""},{"$f":"データ処理!AO458","v":""},{"$f":"データ処理!AP458","v":""}]
[null,{"$f":"RIGHT(データ処理!AI459,5)","v":""},{"$f":"LEFT(データ処理!AJ459,5)","v":""},{"$f":"データ処理!AK459","v":0},{"$f":"IF(データ処理!AK459=\"\",\"\",データ処理!AL459&データ処理!BE459&$G$3)","v":""},{"$f":"IF(データ処理!AK459=\"\",\"\",データ処理!AM459&データ処理!AZ459&データ処理!AR459)","v":""},{"$f":"RIGHT(データ処理!AN459,5)","v":""},{"$f":"データ処理!AO459","v":""},{"$f":"データ処理!AP459","v":""}]
[null,{"$f":"RIGHT(データ処理!AI460,5)","v":""},{"$f":"LEFT(データ処理!AJ460,5)","v":""},{"$f":"データ処理!AK460","v":0},{"$f":"IF(データ処理!AK460=\"\",\"\",データ処理!AL460&データ処理!BE460&$G$3)","v":""},{"$f":"IF(データ処理!AK460=\"\",\"\",データ処理!AM460&データ処理!AZ460&データ処理!AR460)","v":""},{"$f":"RIGHT(データ処理!AN460,5)","v":""},{"$f":"データ処理!AO460","v":""},{"$f":"データ処理!AP460","v":""}]
[null,{"$f":"RIGHT(データ処理!AI461,5)","v":""},{"$f":"LEFT(データ処理!AJ461,5)","v":""},{"$f":"データ処理!AK461","v":0},{"$f":"IF(データ処理!AK461=\"\",\"\",データ処理!AL461&データ処理!BE461&$G$3)","v":""},{"$f":"IF(データ処理!AK461=\"\",\"\",データ処理!AM461&データ処理!AZ461&データ処理!AR461)","v":""},{"$f":"RIGHT(データ処理!AN461,5)","v":""},{"$f":"データ処理!AO461","v":""},{"$f":"データ処理!AP461","v":""}]
[null,{"$f":"RIGHT(データ処理!AI462,5)","v":""},{"$f":"LEFT(データ処理!AJ462,5)","v":""},{"$f":"データ処理!AK462","v":0},{"$f":"IF(データ処理!AK462=\"\",\"\",データ処理!AL462&データ処理!BE462&$G$3)","v":""},{"$f":"IF(データ処理!AK462=\"\",\"\",データ処理!AM462&データ処理!AZ462&データ処理!AR462)","v":""},{"$f":"RIGHT(データ処理!AN462,5)","v":""},{"$f":"データ処理!AO462","v":""},{"$f":"データ処理!AP462","v":""}]
[null,{"$f":"RIGHT(データ処理!AI463,5)","v":""},{"$f":"LEFT(データ処理!AJ463,5)","v":""},{"$f":"データ処理!AK463","v":0},{"$f":"IF(データ処理!AK463=\"\",\"\",データ処理!AL463&データ処理!BE463&$G$3)","v":""},{"$f":"IF(データ処理!AK463=\"\",\"\",データ処理!AM463&データ処理!AZ463&データ処理!AR463)","v":""},{"$f":"RIGHT(データ処理!AN463,5)","v":""},{"$f":"データ処理!AO463","v":""},{"$f":"データ処理!AP463","v":""}]
[10,{"$f":"RIGHT(データ処理!AI464,5)","v":""},{"$f":"LEFT(データ処理!AJ464,5)","v":""},{"$f":"データ処理!AK464","v":0},{"$f":"IF(データ処理!AK464=\"\",\"\",データ処理!AL464&データ処理!BE464&$G$3)","v":""},{"$f":"IF(データ処理!AK464=\"\",\"\",データ処理!AM464&データ処理!AZ464&データ処理!AR464)","v":""},{"$f":"RIGHT(データ処理!AN464,5)","v":""},{"$f":"データ処理!AO464","v":""},{"$f":"データ処理!AP464","v":""}]
[null,{"$f":"RIGHT(データ処理!AI465,5)","v":""},{"$f":"LEFT(データ処理!AJ465,5)","v":""},{"$f":"データ処理!AK465","v":0},{"$f":"IF(データ処理!AK465=\"\",\"\",データ処理!AL465&データ処理!BE465&$G$3)","v":""},{"$f":"IF(データ処理!AK465=\"\",\"\",データ処理!AM465&データ処理!AZ465&データ処理!AR465)","v":""},{"$f":"RIGHT(データ処理!AN465,5)","v":""},{"$f":"データ処理!AO465","v":""},{"$f":"データ処理!AP465","v":""}]
[null,{"$f":"RIGHT(データ処理!AI466,5)","v":""},{"$f":"LEFT(データ処理!AJ466,5)","v":""},{"$f":"データ処理!AK466","v":0},{"$f":"IF(データ処理!AK466=\"\",\"\",データ処理!AL466&データ処理!BE466&$G$3)","v":""},{"$f":"IF(データ処理!AK466=\"\",\"\",データ処理!AM466&データ処理!AZ466&データ処理!AR466)","v":""},{"$f":"RIGHT(データ処理!AN466,5)","v":""},{"$f":"データ処理!AO466","v":""},{"$f":"データ処理!AP466","v":""}]
[null,{"$f":"RIGHT(データ処理!AI467,5)","v":""},{"$f":"LEFT(データ処理!AJ467,5)","v":""},{"$f":"データ処理!AK467","v":0},{"$f":"IF(データ処理!AK467=\"\",\"\",データ処理!AL467&データ処理!BE467&$G$3)","v":""},{"$f":"IF(データ処理!AK467=\"\",\"\",データ処理!AM467&データ処理!AZ467&データ処理!AR467)","v":""},{"$f":"RIGHT(データ処理!AN467,5)","v":""},{"$f":"データ処理!AO467","v":""},{"$f":"データ処理!AP467","v":""}]
[null,{"$f":"RIGHT(データ処理!AI468,5)","v":""},{"$f":"LEFT(データ処理!AJ468,5)","v":""},{"$f":"データ処理!AK468","v":0},{"$f":"IF(データ処理!AK468=\"\",\"\",データ処理!AL468&データ処理!BE468&$G$3)","v":""},{"$f":"IF(データ処理!AK468=\"\",\"\",データ処理!AM468&データ処理!AZ468&データ処理!AR468)","v":""},{"$f":"RIGHT(データ処理!AN468,5)","v":""},{"$f":"データ処理!AO468","v":""},{"$f":"データ処理!AP468","v":""}]
[null,{"$f":"RIGHT(データ処理!AI469,5)","v":""},{"$f":"LEFT(データ処理!AJ469,5)","v":""},{"$f":"データ処理!AK469","v":0},{"$f":"IF(データ処理!AK469=\"\",\"\",データ処理!AL469&データ処理!BE469&$G$3)","v":""},{"$f":"IF(データ処理!AK469=\"\",\"\",データ処理!AM469&データ処理!AZ469&データ処理!AR469)","v":""},{"$f":"RIGHT(データ処理!AN469,5)","v":""},{"$f":"データ処理!AO469","v":""},{"$f":"データ処理!AP469","v":""}]
[null,{"$f":"RIGHT(データ処理!AI470,5)","v":""},{"$f":"LEFT(データ処理!AJ470,5)","v":""},{"$f":"データ処理!AK470","v":0},{"$f":"IF(データ処理!AK470=\"\",\"\",データ処理!AL470&データ処理!BE470&$G$3)","v":""},{"$f":"IF(データ処理!AK470=\"\",\"\",データ処理!AM470&データ処理!AZ470&データ処理!AR470)","v":""},{"$f":"RIGHT(データ処理!AN470,5)","v":""},{"$f":"データ処理!AO470","v":""},{"$f":"データ処理!AP470","v":""}]
[null,{"$f":"RIGHT(データ処理!AI471,5)","v":""},{"$f":"LEFT(データ処理!AJ471,5)","v":""},{"$f":"データ処理!AK471","v":0},{"$f":"IF(データ処理!AK471=\"\",\"\",データ処理!AL471&データ処理!BE471&$G$3)","v":""},{"$f":"IF(データ処理!AK471=\"\",\"\",データ処理!AM471&データ処理!AZ471&データ処理!AR471)","v":""},{"$f":"RIGHT(データ処理!AN471,5)","v":""},{"$f":"データ処理!AO471","v":""},{"$f":"データ処理!AP471","v":""}]
[null,{"$f":"RIGHT(データ処理!AI472,5)","v":""},{"$f":"LEFT(データ処理!AJ472,5)","v":""},{"$f":"データ処理!AK472","v":0},{"$f":"IF(データ処理!AK472=\"\",\"\",データ処理!AL472&データ処理!BE472&$G$3)","v":""},{"$f":"IF(データ処理!AK472=\"\",\"\",データ処理!AM472&データ処理!AZ472&データ処理!AR472)","v":""},{"$f":"RIGHT(データ処理!AN472,5)","v":""},{"$f":"データ処理!AO472","v":""},{"$f":"データ処理!AP472","v":""}]
[null,{"$f":"RIGHT(データ処理!AI473,5)","v":""},{"$f":"LEFT(データ処理!AJ473,5)","v":""},{"$f":"データ処理!AK473","v":0},{"$f":"IF(データ処理!AK473=\"\",\"\",データ処理!AL473&データ処理!BE473&$G$3)","v":""},{"$f":"IF(データ処理!AK473=\"\",\"\",データ処理!AM473&データ処理!AZ473&データ処理!AR473)","v":""},{"$f":"RIGHT(データ処理!AN473,5)","v":""},{"$f":"データ処理!AO473","v":""},{"$f":"データ処理!AP473","v":""}]
[20,{"$f":"RIGHT(データ処理!AI474,5)","v":""},{"$f":"LEFT(データ処理!AJ474,5)","v":""},{"$f":"データ処理!AK474","v":0},{"$f":"IF(データ処理!AK474=\"\",\"\",データ処理!AL474&データ処理!BE474&$G$3)","v":""},{"$f":"IF(データ処理!AK474=\"\",\"\",データ処理!AM474&データ処理!AZ474&データ処理!AR474)","v":""},{"$f":"RIGHT(データ処理!AN474,5)","v":""},{"$f":"データ処理!AO474","v":""},{"$f":"データ処理!AP474","v":""}]
[null,{"$f":"RIGHT(データ処理!AI475,5)","v":""},{"$f":"LEFT(データ処理!AJ475,5)","v":""},{"$f":"データ処理!AK475","v":0},{"$f":"IF(データ処理!AK475=\"\",\"\",データ処理!AL475&データ処理!BE475&$G$3)","v":""},{"$f":"IF(データ処理!AK475=\"\",\"\",データ処理!AM475&データ処理!AZ475&データ処理!AR475)","v":""},{"$f":"RIGHT(データ処理!AN475,5)","v":""},{"$f":"データ処理!AO475","v":""},{"$f":"データ処理!AP475","v":""}]
[null,{"$f":"RIGHT(データ処理!AI476,5)","v":""},{"$f":"LEFT(データ処理!AJ476,5)","v":""},{"$f":"データ処理!AK476","v":0},{"$f":"IF(データ処理!AK476=\"\",\"\",データ処理!AL476&データ処理!BE476&$G$3)","v":""},{"$f":"IF(データ処理!AK476=\"\",\"\",データ処理!AM476&データ処理!AZ476&データ処理!AR476)","v":""},{"$f":"RIGHT(データ処理!AN476,5)","v":""},{"$f":"データ処理!AO476","v":""},{"$f":"データ処理!AP476","v":""}]
[null,{"$f":"RIGHT(データ処理!AI477,5)","v":""},{"$f":"LEFT(データ処理!AJ477,5)","v":""},{"$f":"データ処理!AK477","v":0},{"$f":"IF(データ処理!AK477=\"\",\"\",データ処理!AL477&データ処理!BE477&$G$3)","v":""},{"$f":"IF(データ処理!AK477=\"\",\"\",データ処理!AM477&データ処理!AZ477&データ処理!AR477)","v":""},{"$f":"RIGHT(データ処理!AN477,5)","v":""},{"$f":"データ処理!AO477","v":""},{"$f":"データ処理!AP477","v":""}]
[null,{"$f":"RIGHT(データ処理!AI478,5)","v":""},{"$f":"LEFT(データ処理!AJ478,5)","v":""},{"$f":"データ処理!AK478","v":0},{"$f":"IF(データ処理!AK478=\"\",\"\",データ処理!AL478&データ処理!BE478&$G$3)","v":""},{"$f":"IF(データ処理!AK478=\"\",\"\",データ処理!AM478&データ処理!AZ478&データ処理!AR478)","v":""},{"$f":"RIGHT(データ処理!AN478,5)","v":""},{"$f":"データ処理!AO478","v":""},{"$f":"データ処理!AP478","v":""}]
[null,{"$f":"RIGHT(データ処理!AI479,5)","v":""},{"$f":"LEFT(データ処理!AJ479,5)","v":""},{"$f":"データ処理!AK479","v":0},{"$f":"IF(データ処理!AK479=\"\",\"\",データ処理!AL479&データ処理!BE479&$G$3)","v":""},{"$f":"IF(データ処理!AK479=\"\",\"\",データ処理!AM479&データ処理!AZ479&データ処理!AR479)","v":""},{"$f":"RIGHT(データ処理!AN479,5)","v":""},{"$f":"データ処理!AO479","v":""},{"$f":"データ処理!AP479","v":""}]
[null,{"$f":"RIGHT(データ処理!AI480,5)","v":""},{"$f":"LEFT(データ処理!AJ480,5)","v":""},{"$f":"データ処理!AK480","v":0},{"$f":"IF(データ処理!AK480=\"\",\"\",データ処理!AL480&データ処理!BE480&$G$3)","v":""},{"$f":"IF(データ処理!AK480=\"\",\"\",データ処理!AM480&データ処理!AZ480&データ処理!AR480)","v":""},{"$f":"RIGHT(データ処理!AN480,5)","v":""},{"$f":"データ処理!AO480","v":""},{"$f":"データ処理!AP480","v":""}]
[null,{"$f":"RIGHT(データ処理!AI481,5)","v":""},{"$f":"LEFT(データ処理!AJ481,5)","v":""},{"$f":"データ処理!AK481","v":0},{"$f":"IF(データ処理!AK481=\"\",\"\",データ処理!AL481&データ処理!BE481&$G$3)","v":""},{"$f":"IF(データ処理!AK481=\"\",\"\",データ処理!AM481&データ処理!AZ481&データ処理!AR481)","v":""},{"$f":"RIGHT(データ処理!AN481,5)","v":""},{"$f":"データ処理!AO481","v":""},{"$f":"データ処理!AP481","v":""}]
[null,{"$f":"RIGHT(データ処理!AI482,5)","v":""},{"$f":"LEFT(データ処理!AJ482,5)","v":""},{"$f":"データ処理!AK482","v":0},{"$f":"IF(データ処理!AK482=\"\",\"\",データ処理!AL482&データ処理!BE482&$G$3)","v":""},{"$f":"IF(データ処理!AK482=\"\",\"\",データ処理!AM482&データ処理!AZ482&データ処理!AR482)","v":""},{"$f":"RIGHT(データ処理!AN482,5)","v":""},{"$f":"データ処理!AO482","v":""},{"$f":"データ処理!AP482","v":""}]
[null,{"$f":"RIGHT(データ処理!AI483,5)","v":""},{"$f":"LEFT(データ処理!AJ483,5)","v":""},{"$f":"データ処理!AK483","v":0},{"$f":"IF(データ処理!AK483=\"\",\"\",データ処理!AL483&データ処理!BE483&$G$3)","v":""},{"$f":"IF(データ処理!AK483=\"\",\"\",データ処理!AM483&データ処理!AZ483&データ処理!AR483)","v":""},{"$f":"RIGHT(データ処理!AN483,5)","v":""},{"$f":"データ処理!AO483","v":""},{"$f":"データ処理!AP483","v":""}]
[30,{"$f":"RIGHT(データ処理!AI484,5)","v":""},{"$f":"LEFT(データ処理!AJ484,5)","v":""},{"$f":"データ処理!AK484","v":0},{"$f":"IF(データ処理!AK484=\"\",\"\",データ処理!AL484&データ処理!BE484&$G$3)","v":""},{"$f":"IF(データ処理!AK484=\"\",\"\",データ処理!AM484&データ処理!AZ484&データ処理!AR484)","v":""},{"$f":"RIGHT(データ処理!AN484,5)","v":""},{"$f":"データ処理!AO484","v":""},{"$f":"データ処理!AP484","v":""}]
[null,{"$f":"RIGHT(データ処理!AI485,5)","v":""},{"$f":"LEFT(データ処理!AJ485,5)","v":""},{"$f":"データ処理!AK485","v":0},{"$f":"IF(データ処理!AK485=\"\",\"\",データ処理!AL485&データ処理!BE485&$G$3)","v":""},{"$f":"IF(データ処理!AK485=\"\",\"\",データ処理!AM485&データ処理!AZ485&データ処理!AR485)","v":""},{"$f":"RIGHT(データ処理!AN485,5)","v":""},{"$f":"データ処理!AO485","v":""},{"$f":"データ処理!AP485","v":""}]
[null,{"$f":"RIGHT(データ処理!AI486,5)","v":""},{"$f":"LEFT(データ処理!AJ486,5)","v":""},{"$f":"データ処理!AK486","v":0},{"$f":"IF(データ処理!AK486=\"\",\"\",データ処理!AL486&データ処理!BE486&$G$3)","v":""},{"$f":"IF(データ処理!AK486=\"\",\"\",データ処理!AM486&データ処理!AZ486&データ処理!AR486)","v":""},{"$f":"RIGHT(データ処理!AN486,5)","v":""},{"$f":"データ処理!AO486","v":""},{"$f":"データ処理!AP486","v":""}]
[null,{"$f":"RIGHT(データ処理!AI487,5)","v":""},{"$f":"LEFT(データ処理!AJ487,5)","v":""},{"$f":"データ処理!AK487","v":0},{"$f":"IF(データ処理!AK487=\"\",\"\",データ処理!AL487&データ処理!BE487&$G$3)","v":""},{"$f":"IF(データ処理!AK487=\"\",\"\",データ処理!AM487&データ処理!AZ487&データ処理!AR487)","v":""},{"$f":"RIGHT(データ処理!AN487,5)","v":""},{"$f":"データ処理!AO487","v":""},{"$f":"データ処理!AP487","v":""}]
[null,{"$f":"RIGHT(データ処理!AI488,5)","v":""},{"$f":"LEFT(データ処理!AJ488,5)","v":""},{"$f":"データ処理!AK488","v":0},{"$f":"IF(データ処理!AK488=\"\",\"\",データ処理!AL488&データ処理!BE488&$G$3)","v":""},{"$f":"IF(データ処理!AK488=\"\",\"\",データ処理!AM488&データ処理!AZ488&データ処理!AR488)","v":""},{"$f":"RIGHT(データ処理!AN488,5)","v":""},{"$f":"データ処理!AO488","v":""},{"$f":"データ処理!AP488","v":""}]
[null,{"$f":"RIGHT(データ処理!AI489,5)","v":""},{"$f":"LEFT(データ処理!AJ489,5)","v":""},{"$f":"データ処理!AK489","v":0},{"$f":"IF(データ処理!AK489=\"\",\"\",データ処理!AL489&データ処理!BE489&$G$3)","v":""},{"$f":"IF(データ処理!AK489=\"\",\"\",データ処理!AM489&データ処理!AZ489&データ処理!AR489)","v":""},{"$f":"RIGHT(データ処理!AN489,5)","v":""},{"$f":"データ処理!AO489","v":""},{"$f":"データ処理!AP489","v":""}]
[null,{"$f":"RIGHT(データ処理!AI490,5)","v":""},{"$f":"LEFT(データ処理!AJ490,5)","v":""},{"$f":"データ処理!AK490","v":0},{"$f":"IF(データ処理!AK490=\"\",\"\",データ処理!AL490&データ処理!BE490&$G$3)","v":""},{"$f":"IF(データ処理!AK490=\"\",\"\",データ処理!AM490&データ処理!AZ490&データ処理!AR490)","v":""},{"$f":"RIGHT(データ処理!AN490,5)","v":""},{"$f":"データ処理!AO490","v":""},{"$f":"データ処理!AP490","v":""}]
[null,{"$f":"RIGHT(データ処理!AI491,5)","v":""},{"$f":"LEFT(データ処理!AJ491,5)","v":""},{"$f":"データ処理!AK491","v":0},{"$f":"IF(データ処理!AK491=\"\",\"\",データ処理!AL491&データ処理!BE491&$G$3)","v":""},{"$f":"IF(データ処理!AK491=\"\",\"\",データ処理!AM491&データ処理!AZ491&データ処理!AR491)","v":""},{"$f":"RIGHT(データ処理!AN491,5)","v":""},{"$f":"データ処理!AO491","v":""},{"$f":"データ処理!AP491","v":""}]
[null,{"$f":"RIGHT(データ処理!AI492,5)","v":""},{"$f":"LEFT(データ処理!AJ492,5)","v":""},{"$f":"データ処理!AK492","v":0},{"$f":"IF(データ処理!AK492=\"\",\"\",データ処理!AL492&データ処理!BE492&$G$3)","v":""},{"$f":"IF(データ処理!AK492=\"\",\"\",データ処理!AM492&データ処理!AZ492&データ処理!AR492)","v":""},{"$f":"RIGHT(データ処理!AN492,5)","v":""},{"$f":"データ処理!AO492","v":""},{"$f":"データ処理!AP492","v":""}]
[null,{"$f":"RIGHT(データ処理!AI493,5)","v":""},{"$f":"LEFT(データ処理!AJ493,5)","v":""},{"$f":"データ処理!AK493","v":0},{"$f":"IF(データ処理!AK493=\"\",\"\",データ処理!AL493&データ処理!BE493&$G$3)","v":""},{"$f":"IF(データ処理!AK493=\"\",\"\",データ処理!AM493&データ処理!AZ493&データ処理!AR493)","v":""},{"$f":"RIGHT(データ処理!AN493,5)","v":""},{"$f":"データ処理!AO493","v":""},{"$f":"データ処理!AP493","v":""}]
[40,{"$f":"RIGHT(データ処理!AI494,5)","v":""},{"$f":"LEFT(データ処理!AJ494,5)","v":""},{"$f":"データ処理!AK494","v":0},{"$f":"IF(データ処理!AK494=\"\",\"\",データ処理!AL494&データ処理!BE494&$G$3)","v":""},{"$f":"IF(データ処理!AK494=\"\",\"\",データ処理!AM494&データ処理!AZ494&データ処理!AR494)","v":""},{"$f":"RIGHT(データ処理!AN494,5)","v":""},{"$f":"データ処理!AO494","v":""},{"$f":"データ処理!AP494","v":""}]
[null,{"$f":"RIGHT(データ処理!AI495,5)","v":""},{"$f":"LEFT(データ処理!AJ495,5)","v":""},{"$f":"データ処理!AK495","v":0},{"$f":"IF(データ処理!AK495=\"\",\"\",データ処理!AL495&データ処理!BE495&$G$3)","v":""},{"$f":"IF(データ処理!AK495=\"\",\"\",データ処理!AM495&データ処理!AZ495&データ処理!AR495)","v":""},{"$f":"RIGHT(データ処理!AN495,5)","v":""},{"$f":"データ処理!AO495","v":""},{"$f":"データ処理!AP495","v":""}]
[null,{"$f":"RIGHT(データ処理!AI496,5)","v":""},{"$f":"LEFT(データ処理!AJ496,5)","v":""},{"$f":"データ処理!AK496","v":0},{"$f":"IF(データ処理!AK496=\"\",\"\",データ処理!AL496&データ処理!BE496&$G$3)","v":""},{"$f":"IF(データ処理!AK496=\"\",\"\",データ処理!AM496&データ処理!AZ496&データ処理!AR496)","v":""},{"$f":"RIGHT(データ処理!AN496,5)","v":""},{"$f":"データ処理!AO496","v":""},{"$f":"データ処理!AP496","v":""}]
[null,{"$f":"RIGHT(データ処理!AI497,5)","v":""},{"$f":"LEFT(データ処理!AJ497,5)","v":""},{"$f":"データ処理!AK497","v":0},{"$f":"IF(データ処理!AK497=\"\",\"\",データ処理!AL497&データ処理!BE497&$G$3)","v":""},{"$f":"IF(データ処理!AK497=\"\",\"\",データ処理!AM497&データ処理!AZ497&データ処理!AR497)","v":""},{"$f":"RIGHT(データ処理!AN497,5)","v":""},{"$f":"データ処理!AO497","v":""},{"$f":"データ処理!AP497","v":""}]
[null,{"$f":"RIGHT(データ処理!AI498,5)","v":""},{"$f":"LEFT(データ処理!AJ498,5)","v":""},{"$f":"データ処理!AK498","v":0},{"$f":"IF(データ処理!AK498=\"\",\"\",データ処理!AL498&データ処理!BE498&$G$3)","v":""},{"$f":"IF(データ処理!AK498=\"\",\"\",データ処理!AM498&データ処理!AZ498&データ処理!AR498)","v":""},{"$f":"RIGHT(データ処理!AN498,5)","v":""},{"$f":"データ処理!AO498","v":""},{"$f":"データ処理!AP498","v":""}]
[null,{"$f":"RIGHT(データ処理!AI499,5)","v":""},{"$f":"LEFT(データ処理!AJ499,5)","v":""},{"$f":"データ処理!AK499","v":0},{"$f":"IF(データ処理!AK499=\"\",\"\",データ処理!AL499&データ処理!BE499&$G$3)","v":""},{"$f":"IF(データ処理!AK499=\"\",\"\",データ処理!AM499&データ処理!AZ499&データ処理!AR499)","v":""},{"$f":"RIGHT(データ処理!AN499,5)","v":""},{"$f":"データ処理!AO499","v":""},{"$f":"データ処理!AP499","v":""}]
[null,{"$f":"RIGHT(データ処理!AI500,5)","v":""},{"$f":"LEFT(データ処理!AJ500,5)","v":""},{"$f":"データ処理!AK500","v":0},{"$f":"IF(データ処理!AK500=\"\",\"\",データ処理!AL500&データ処理!BE500&$G$3)","v":""},{"$f":"IF(データ処理!AK500=\"\",\"\",データ処理!AM500&データ処理!AZ500&データ処理!AR500)","v":""},{"$f":"RIGHT(データ処理!AN500,5)","v":""},{"$f":"データ処理!AO500","v":""},{"$f":"データ処理!AP500","v":""}]
[null,{"$f":"RIGHT(データ処理!AI501,5)","v":""},{"$f":"LEFT(データ処理!AJ501,5)","v":""},{"$f":"データ処理!AK501","v":0},{"$f":"IF(データ処理!AK501=\"\",\"\",データ処理!AL501&データ処理!BE501&$G$3)","v":""},{"$f":"IF(データ処理!AK501=\"\",\"\",データ処理!AM501&データ処理!AZ501&データ処理!AR501)","v":""},{"$f":"RIGHT(データ処理!AN501,5)","v":""},{"$f":"データ処理!AO501","v":""},{"$f":"データ処理!AP501","v":""}]
[null,{"$f":"RIGHT(データ処理!AI502,5)","v":""},{"$f":"LEFT(データ処理!AJ502,5)","v":""},{"$f":"データ処理!AK502","v":0},{"$f":"IF(データ処理!AK502=\"\",\"\",データ処理!AL502&データ処理!BE502&$G$3)","v":""},{"$f":"IF(データ処理!AK502=\"\",\"\",データ処理!AM502&データ処理!AZ502&データ処理!AR502)","v":""},{"$f":"RIGHT(データ処理!AN502,5)","v":""},{"$f":"データ処理!AO502","v":""},{"$f":"データ処理!AP502","v":""}]
[null,{"$f":"RIGHT(データ処理!AI503,5)","v":""},{"$f":"LEFT(データ処理!AJ503,5)","v":""},{"$f":"データ処理!AK503","v":0},{"$f":"IF(データ処理!AK503=\"\",\"\",データ処理!AL503&データ処理!BE503&$G$3)","v":""},{"$f":"IF(データ処理!AK503=\"\",\"\",データ処理!AM503&データ処理!AZ503&データ処理!AR503)","v":""},{"$f":"RIGHT(データ処理!AN503,5)","v":""},{"$f":"データ処理!AO503","v":""},{"$f":"データ処理!AP503","v":""}]
[50,{"$f":"RIGHT(データ処理!AI504,5)","v":""},{"$f":"LEFT(データ処理!AJ504,5)","v":""},{"$f":"データ処理!AK504","v":0},{"$f":"IF(データ処理!AK504=\"\",\"\",データ処理!AL504&データ処理!BE504&$G$3)","v":""},{"$f":"IF(データ処理!AK504=\"\",\"\",データ処理!AM504&データ処理!AZ504&データ処理!AR504)","v":""},{"$f":"RIGHT(データ処理!AN504,5)","v":""},{"$f":"データ処理!AO504","v":""},{"$f":"データ処理!AP504","v":""}]
[null,"Total  (合計)",null,{"$f":"COUNTIF(B546:B595,\"*/*\")","v":0},null,"Total  (合計)",{"$f":"COUNTIF(G546:G595,\"*/*\")","v":0},{"$f":"50-COUNTBLANK(H546:H595)","v":0},{"$f":"SUM(I546:I595)","v":0}]
[]
[null,"総 合 計",null,{"$f":"IF(K542=\"\",\"\",D596+ログシート!D539)","v":""},null,"総 合 計",{"$f":"IF(K542=\"\",\"\",G596+ログシート!G539)","v":""},{"$f":"IF(K542=\"\",\"\",H596+ログシート!H539)","v":""},{"$f":"IF(K542=\"\",\"\",I596+ログシート!I539)","v":""}]
[]
[null,"ＬＯＧ　ＳＨＥＥＴ (ログシート）",null,null,"Year (年)",{"$f":"$F$10","v":"2024"},{"$f":"$G$10","v":"第38回 滋賀2mSSB\nアクティブコンテスト"}]
[null,"Callsign (ｺｰﾙｻｲﾝ)",null,{"$f":"$D$11","v":0},"BAND（バンド）",{"$f":"$F$11","v":144},"MHz/SSB",null,"Sheet No.",null,{"$f":"IF(E605=\"\",\"\",L604&\"/\"&$E$3)","v":""}]
[]
[null,"Date Time",null,"Station Wkd","Exchange (ｺﾝﾃｽﾄﾅﾝﾊﾞｰ)",null,"Multi.（マルチ）",null,"Pts.","Op.","備考"]
[null,"月/日","時分JST","交信局","Sent (送信)","Received (受信)","日数マルチ","テールレター","得点","運用者",null,11]
[null,{"$f":"RIGHT(データ処理!AI505,5)","v":""},{"$f":"LEFT(データ処理!AJ505,5)","v":""},{"$f":"データ処理!AK505","v":0},{"$f":"IF(データ処理!AK505=\"\",\"\",データ処理!AL505&データ処理!BE505&$G$3)","v":""},{"$f":"IF(データ処理!AK505=\"\",\"\",データ処理!AM505&データ処理!AZ505&データ処理!AR505)","v":""},{"$f":"RIGHT(データ処理!AN505,5)","v":""},{"$f":"データ処理!AO505","v":""},{"$f":"データ処理!AP505","v":""}]
[null,{"$f":"RIGHT(データ処理!AI506,5)","v":""},{"$f":"LEFT(データ処理!AJ506,5)","v":""},{"$f":"データ処理!AK506","v":0},{"$f":"IF(データ処理!AK506=\"\",\"\",データ処理!AL506&データ処理!BE506&$G$3)","v":""},{"$f":"IF(データ処理!AK506=\"\",\"\",データ処理!AM506&データ処理!AZ506&データ処理!AR506)","v":""},{"$f":"RIGHT(データ処理!AN506,5)","v":""},{"$f":"データ処理!AO506","v":""},{"$f":"データ処理!AP506","v":""}]
[null,{"$f":"RIGHT(データ処理!AI507,5)","v":""},{"$f":"LEFT(データ処理!AJ507,5)","v":""},{"$f":"データ処理!AK507","v":0},{"$f":"IF(データ処理!AK507=\"\",\"\",データ処理!AL507&データ処理!BE507&$G$3)","v":""},{"$f":"IF(データ処理!AK507=\"\",\"\",データ処理!AM507&データ処理!AZ507&データ処理!AR507)","v":""},{"$f":"RIGHT(データ処理!AN507,5)","v":""},{"$f":"データ処理!AO507","v":""},{"$f":"データ処理!AP507","v":""}]
[null,{"$f":"RIGHT(データ処理!AI508,5)","v":""},{"$f":"LEFT(データ処理!AJ508,5)","v":""},{"$f":"データ処理!AK508","v":0},{"$f":"IF(データ処理!AK508=\"\",\"\",データ処理!AL508&データ処理!BE508&$G$3)","v":""},{"$f":"IF(データ処理!AK508=\"\",\"\",データ処理!AM508&データ処理!AZ508&データ処理!AR508)","v":""},{"$f":"RIGHT(データ処理!AN508,5)","v":""},{"$f":"データ処理!AO508","v":""},{"$f":"データ処理!AP508","v":""}]
[null,{"$f":"RIGHT(データ処理!AI509,5)","v":""},{"$f":"LEFT(データ処理!AJ509,5)","v":""},{"$f":"データ処理!AK509","v":0},{"$f":"IF(データ処理!AK509=\"\",\"\",データ処理!AL509&データ処理!BE509&$G$3)","v":""},{"$f":"IF(データ処理!AK509=\"\",\"\",データ処理!AM509&データ処理!AZ509&データ処理!AR509)","v":""},{"$f":"RIGHT(データ処理!AN509,5)","v":""},{"$f":"データ処理!AO509","v":""},{"$f":"データ処理!AP509","v":""}]
[null,{"$f":"RIGHT(データ処理!AI510,5)","v":""},{"$f":"LEFT(データ処理!AJ510,5)","v":""},{"$f":"データ処理!AK510","v":0},{"$f":"IF(データ処理!AK510=\"\",\"\",データ処理!AL510&データ処理!BE510&$G$3)","v":""},{"$f":"IF(データ処理!AK510=\"\",\"\",データ処理!AM510&データ処理!AZ510&データ処理!AR510)","v":""},{"$f":"RIGHT(データ処理!AN510,5)","v":""},{"$f":"データ処理!AO510","v":""},{"$f":"データ処理!AP510","v":""}]
[null,{"$f":"RIGHT(データ処理!AI511,5)","v":""},{"$f":"LEFT(データ処理!AJ511,5)","v":""},{"$f":"データ処理!AK511","v":0},{"$f":"IF(データ処理!AK511=\"\",\"\",データ処理!AL511&データ処理!BE511&$G$3)","v":""},{"$f":"IF(データ処理!AK511=\"\",\"\",データ処理!AM511&データ処理!AZ511&データ処理!AR511)","v":""},{"$f":"RIGHT(データ処理!AN511,5)","v":""},{"$f":"データ処理!AO511","v":""},{"$f":"データ処理!AP511","v":""}]
[null,{"$f":"RIGHT(データ処理!AI512,5)","v":""},{"$f":"LEFT(データ処理!AJ512,5)","v":""},{"$f":"データ処理!AK512","v":0},{"$f":"IF(データ処理!AK512=\"\",\"\",データ処理!AL512&データ処理!BE512&$G$3)","v":""},{"$f":"IF(データ処理!AK512=\"\",\"\",データ処理!AM512&データ処理!AZ512&データ処理!AR512)","v":""},{"$f":"RIGHT(データ処理!AN512,5)","v":""},{"$f":"データ処理!AO512","v":""},{"$f":"データ処理!AP512","v":""}]
[null,{"$f":"RIGHT(データ処理!AI513,5)","v":""},{"$f":"LEFT(データ処理!AJ513,5)","v":""},{"$f":"データ処理!AK513","v":0},{"$f":"IF(データ処理!AK513=\"\",\"\",データ処理!AL513&データ処理!BE513&$G$3)","v":""},{"$f":"IF(データ処理!AK513=\"\",\"\",データ処理!AM513&データ処理!AZ513&データ処理!AR513)","v":""},{"$f":"RIGHT(データ処理!AN513,5)","v":""},{"$f":"データ処理!AO513","v":""},{"$f":"データ処理!AP513","v":""}]
[10,{"$f":"RIGHT(データ処理!AI514,5)","v":""},{"$f":"LEFT(データ処理!AJ514,5)","v":""},{"$f":"データ処理!AK514","v":0},{"$f":"IF(データ処理!AK514=\"\",\"\",データ処理!AL514&データ処理!BE514&$G$3)","v":""},{"$f":"IF(データ処理!AK514=\"\",\"\",データ処理!AM514&データ処理!AZ514&データ処理!AR514)","v":""},{"$f":"RIGHT(データ処理!AN514,5)","v":""},{"$f":"データ処理!AO514","v":""},{"$f":"データ処理!AP514","v":""}]
[null,{"$f":"RIGHT(データ処理!AI515,5)","v":""},{"$f":"LEFT(データ処理!AJ515,5)","v":""},{"$f":"データ処理!AK515","v":0},{"$f":"IF(データ処理!AK515=\"\",\"\",データ処理!AL515&データ処理!BE515&$G$3)","v":""},{"$f":"IF(データ処理!AK515=\"\",\"\",データ処理!AM515&データ処理!AZ515&データ処理!AR515)","v":""},{"$f":"RIGHT(データ処理!AN515,5)","v":""},{"$f":"データ処理!AO515","v":""},{"$f":"データ処理!AP515","v":""}]
[null,{"$f":"RIGHT(データ処理!AI516,5)","v":""},{"$f":"LEFT(データ処理!AJ516,5)","v":""},{"$f":"データ処理!AK516","v":0},{"$f":"IF(データ処理!AK516=\"\",\"\",データ処理!AL516&データ処理!BE516&$G$3)","v":""},{"$f":"IF(データ処理!AK516=\"\",\"\",データ処理!AM516&データ処理!AZ516&データ処理!AR516)","v":""},{"$f":"RIGHT(データ処理!AN516,5)","v":""},{"$f":"データ処理!AO516","v":""},{"$f":"データ処理!AP516","v":""}]
[null,{"$f":"RIGHT(データ処理!AI517,5)","v":""},{"$f":"LEFT(データ処理!AJ517,5)","v":""},{"$f":"データ処理!AK517","v":0},{"$f":"IF(データ処理!AK517=\"\",\"\",データ処理!AL517&データ処理!BE517&$G$3)","v":""},{"$f":"IF(データ処理!AK517=\"\",\"\",データ処理!AM517&データ処理!AZ517&データ処理!AR517)","v":""},{"$f":"RIGHT(データ処理!AN517,5)","v":""},{"$f":"データ処理!AO517","v":""},{"$f":"データ処理!AP517","v":""}]
[null,{"$f":"RIGHT(データ処理!AI518,5)","v":""},{"$f":"LEFT(データ処理!AJ518,5)","v":""},{"$f":"データ処理!AK518","v":0},{"$f":"IF(データ処理!AK518=\"\",\"\",データ処理!AL518&データ処理!BE518&$G$3)","v":""},{"$f":"IF(データ処理!AK518=\"\",\"\",データ処理!AM518&データ処理!AZ518&データ処理!AR518)","v":""},{"$f":"RIGHT(データ処理!AN518,5)","v":""},{"$f":"データ処理!AO518","v":""},{"$f":"データ処理!AP518","v":""}]
[null,{"$f":"RIGHT(データ処理!AI519,5)","v":""},{"$f":"LEFT(データ処理!AJ519,5)","v":""},{"$f":"データ処理!AK519","v":0},{"$f":"IF(データ処理!AK519=\"\",\"\",データ処理!AL519&データ処理!BE519&$G$3)","v":""},{"$f":"IF(データ処理!AK519=\"\",\"\",データ処理!AM519&データ処理!AZ519&データ処理!AR519)","v":""},{"$f":"RIGHT(データ処理!AN519,5)","v":""},{"$f":"データ処理!AO519","v":""},{"$f":"データ処理!AP519","v":""}]
[null,{"$f":"RIGHT(データ処理!AI520,5)","v":""},{"$f":"LEFT(データ処理!AJ520,5)","v":""},{"$f":"データ処理!AK520","v":0},{"$f":"IF(データ処理!AK520=\"\",\"\",データ処理!AL520&データ処理!BE520&$G$3)","v":""},{"$f":"IF(データ処理!AK520=\"\",\"\",データ処理!AM520&データ処理!AZ520&データ処理!AR520)","v":""},{"$f":"RIGHT(データ処理!AN520,5)","v":""},{"$f":"データ処理!AO520","v":""},{"$f":"データ処理!AP520","v":""}]
[null,{"$f":"RIGHT(データ処理!AI521,5)","v":""},{"$f":"LEFT(データ処理!AJ521,5)","v":""},{"$f":"データ処理!AK521","v":0},{"$f":"IF(データ処理!AK521=\"\",\"\",データ処理!AL521&データ処理!BE521&$G$3)","v":""},{"$f":"IF(データ処理!AK521=\"\",\"\",データ処理!AM521&データ処理!AZ521&データ処理!AR521)","v":""},{"$f":"RIGHT(データ処理!AN521,5)","v":""},{"$f":"データ処理!AO521","v":""},{"$f":"データ処理!AP521","v":""}]
[null,{"$f":"RIGHT(データ処理!AI522,5)","v":""},{"$f":"LEFT(データ処理!AJ522,5)","v":""},{"$f":"データ処理!AK522","v":0},{"$f":"IF(データ処理!AK522=\"\",\"\",データ処理!AL522&データ処理!BE522&$G$3)","v":""},{"$f":"IF(データ処理!AK522=\"\",\"\",データ処理!AM522&データ処理!AZ522&データ処理!AR522)","v":""},{"$f":"RIGHT(データ処理!AN522,5)","v":""},{"$f":"データ処理!AO522","v":""},{"$f":"データ処理!AP522","v":""}]
[null,{"$f":"RIGHT(データ処理!AI523,5)","v":""},{"$f":"LEFT(データ処理!AJ523,5)","v":""},{"$f":"データ処理!AK523","v":0},{"$f":"IF(データ処理!AK523=\"\",\"\",データ処理!AL523&データ処理!BE523&$G$3)","v":""},{"$f":"IF(データ処理!AK523=\"\",\"\",データ処理!AM523&データ処理!AZ523&データ処理!AR523)","v":""},{"$f":"RIGHT(データ処理!AN523,5)","v":""},{"$f":"データ処理!AO523","v":""},{"$f":"データ処理!AP523","v":""}]
[20,{"$f":"RIGHT(データ処理!AI524,5)","v":""},{"$f":"LEFT(データ処理!AJ524,5)","v":""},{"$f":"データ処理!AK524","v":0},{"$f":"IF(データ処理!AK524=\"\",\"\",データ処理!AL524&データ処理!BE524&$G$3)","v":""},{"$f":"IF(データ処理!AK524=\"\",\"\",データ処理!AM524&データ処理!AZ524&データ処理!AR524)","v":""},{"$f":"RIGHT(データ処理!AN524,5)","v":""},{"$f":"データ処理!AO524","v":""},{"$f":"データ処理!AP524","v":""}]
[null,{"$f":"RIGHT(データ処理!AI525,5)","v":""},{"$f":"LEFT(データ処理!AJ525,5)","v":""},{"$f":"データ処理!AK525","v":0},{"$f":"IF(データ処理!AK525=\"\",\"\",データ処理!AL525&データ処理!BE525&$G$3)","v":""},{"$f":"IF(データ処理!AK525=\"\",\"\",データ処理!AM525&データ処理!AZ525&データ処理!AR525)","v":""},{"$f":"RIGHT(データ処理!AN525,5)","v":""},{"$f":"データ処理!AO525","v":""},{"$f":"データ処理!AP525","v":""}]
[null,{"$f":"RIGHT(データ処理!AI526,5)","v":""},{"$f":"LEFT(データ処理!AJ526,5)","v":""},{"$f":"データ処理!AK526","v":0},{"$f":"IF(データ処理!AK526=\"\",\"\",データ処理!AL526&データ処理!BE526&$G$3)","v":""},{"$f":"IF(データ処理!AK526=\"\",\"\",データ処理!AM526&データ処理!AZ526&データ処理!AR526)","v":""},{"$f":"RIGHT(データ処理!AN526,5)","v":""},{"$f":"データ処理!AO526","v":""},{"$f":"データ処理!AP526","v":""}]
[null,{"$f":"RIGHT(データ処理!AI527,5)","v":""},{"$f":"LEFT(データ処理!AJ527,5)","v":""},{"$f":"データ処理!AK527","v":0},{"$f":"IF(データ処理!AK527=\"\",\"\",データ処理!AL527&データ処理!BE527&$G$3)","v":""},{"$f":"IF(データ処理!AK527=\"\",\"\",データ処理!AM527&データ処理!AZ527&データ処理!AR527)","v":""},{"$f":"RIGHT(データ処理!AN527,5)","v":""},{"$f":"データ処理!AO527","v":""},{"$f":"データ処理!AP527","v":""}]
[null,{"$f":"RIGHT(データ処理!AI528,5)","v":""},{"$f":"LEFT(データ処理!AJ528,5)","v":""},{"$f":"データ処理!AK528","v":0},{"$f":"IF(データ処理!AK528=\"\",\"\",データ処理!AL528&データ処理!BE528&$G$3)","v":""},{"$f":"IF(データ処理!AK528=\"\",\"\",データ処理!AM528&データ処理!AZ528&データ処理!AR528)","v":""},{"$f":"RIGHT(データ処理!AN528,5)","v":""},{"$f":"データ処理!AO528","v":""},{"$f":"データ処理!AP528","v":""}]
[null,{"$f":"RIGHT(データ処理!AI529,5)","v":""},{"$f":"LEFT(データ処理!AJ529,5)","v":""},{"$f":"データ処理!AK529","v":0},{"$f":"IF(データ処理!AK529=\"\",\"\",データ処理!AL529&データ処理!BE529&$G$3)","v":""},{"$f":"IF(データ処理!AK529=\"\",\"\",データ処理!AM529&データ処理!AZ529&データ処理!AR529)","v":""},{"$f":"RIGHT(データ処理!AN529,5)","v":""},{"$f":"データ処理!AO529","v":""},{"$f":"データ処理!AP529","v":""}]
[null,{"$f":"RIGHT(データ処理!AI530,5)","v":""},{"$f":"LEFT(データ処理!AJ530,5)","v":""},{"$f":"データ処理!AK530","v":0},{"$f":"IF(データ処理!AK530=\"\",\"\",データ処理!AL530&データ処理!BE530&$G$3)","v":""},{"$f":"IF(データ処理!AK530=\"\",\"\",データ処理!AM530&データ処理!AZ530&データ処理!AR530)","v":""},{"$f":"RIGHT(データ処理!AN530,5)","v":""},{"$f":"データ処理!AO530","v":""},{"$f":"データ処理!AP530","v":""}]
[null,{"$f":"RIGHT(データ処理!AI531,5)","v":""},{"$f":"LEFT(データ処理!AJ531,5)","v":""},{"$f":"データ処理!AK531","v":0},{"$f":"IF(データ処理!AK531=\"\",\"\",データ処理!AL531&データ処理!BE531&$G$3)","v":""},{"$f":"IF(データ処理!AK531=\"\",\"\",データ処理!AM531&データ処理!AZ531&データ処理!AR531)","v":""},{"$f":"RIGHT(データ処理!AN531,5)","v":""},{"$f":"データ処理!AO531","v":""},{"$f":"データ処理!AP531","v":""}]
[null,{"$f":"RIGHT(データ処理!AI532,5)","v":""},{"$f":"LEFT(データ処理!AJ532,5)","v":""},{"$f":"データ処理!AK532","v":0},{"$f":"IF(データ処理!AK532=\"\",\"\",データ処理!AL532&データ処理!BE532&$G$3)","v":""},{"$f":"IF(データ処理!AK532=\"\",\"\",データ処理!AM532&データ処理!AZ532&データ処理!AR532)","v":""},{"$f":"RIGHT(データ処理!AN532,5)","v":""},{"$f":"データ処理!AO532","v":""},{"$f":"データ処理!AP532","v":""}]
[null,{"$f":"RIGHT(データ処理!AI533,5)","v":""},{"$f":"LEFT(データ処理!AJ533,5)","v":""},{"$f":"データ処理!AK533","v":0},{"$f":"IF(データ処理!AK533=\"\",\"\",データ処理!AL533&データ処理!BE533&$G$3)","v":""},{"$f":"IF(データ処理!AK533=\"\",\"\",データ処理!AM533&データ処理!AZ533&データ処理!AR533)","v":""},{"$f":"RIGHT(データ処理!AN533,5)","v":""},{"$f":"データ処理!AO533","v":""},{"$f":"データ処理!AP533","v":""}]
[30,{"$f":"RIGHT(データ処理!AI534,5)","v":""},{"$f":"LEFT(データ処理!AJ534,5)","v":""},{"$f":"データ処理!AK534","v":0},{"$f":"IF(データ処理!AK534=\"\",\"\",データ処理!AL534&データ処理!BE534&$G$3)","v":""},{"$f":"IF(データ処理!AK534=\"\",\"\",データ処理!AM534&データ処理!AZ534&データ処理!AR534)","v":""},{"$f":"RIGHT(データ処理!AN534,5)","v":""},{"$f":"データ処理!AO534","v":""},{"$f":"データ処理!AP534","v":""}]
[null,{"$f":"RIGHT(データ処理!AI535,5)","v":""},{"$f":"LEFT(データ処理!AJ535,5)","v":""},{"$f":"データ処理!AK535","v":0},{"$f":"IF(データ処理!AK535=\"\",\"\",データ処理!AL535&データ処理!BE535&$G$3)","v":""},{"$f":"IF(データ処理!AK535=\"\",\"\",データ処理!AM535&データ処理!AZ535&データ処理!AR535)","v":""},{"$f":"RIGHT(データ処理!AN535,5)","v":""},{"$f":"データ処理!AO535","v":""},{"$f":"データ処理!AP535","v":""}]
[null,{"$f":"RIGHT(データ処理!AI536,5)","v":""},{"$f":"LEFT(データ処理!AJ536,5)","v":""},{"$f":"データ処理!AK536","v":0},{"$f":"IF(データ処理!AK536=\"\",\"\",データ処理!AL536&データ処理!BE536&$G$3)","v":""},{"$f":"IF(データ処理!AK536=\"\",\"\",データ処理!AM536&データ処理!AZ536&データ処理!AR536)","v":""},{"$f":"RIGHT(データ処理!AN536,5)","v":""},{"$f":"データ処理!AO536","v":""},{"$f":"データ処理!AP536","v":""}]
[null,{"$f":"RIGHT(データ処理!AI537,5)","v":""},{"$f":"LEFT(データ処理!AJ537,5)","v":""},{"$f":"データ処理!AK537","v":0},{"$f":"IF(データ処理!AK537=\"\",\"\",データ処理!AL537&データ処理!BE537&$G$3)","v":""},{"$f":"IF(データ処理!AK537=\"\",\"\",データ処理!AM537&データ処理!AZ537&データ処理!AR537)","v":""},{"$f":"RIGHT(データ処理!AN537,5)","v":""},{"$f":"データ処理!AO537","v":""},{"$f":"データ処理!AP537","v":""}]
[null,{"$f":"RIGHT(データ処理!AI538,5)","v":""},{"$f":"LEFT(データ処理!AJ538,5)","v":""},{"$f":"データ処理!AK538","v":0},{"$f":"IF(データ処理!AK538=\"\",\"\",データ処理!AL538&データ処理!BE538&$G$3)","v":""},{"$f":"IF(データ処理!AK538=\"\",\"\",データ処理!AM538&データ処理!AZ538&データ処理!AR538)","v":""},{"$f":"RIGHT(データ処理!AN538,5)","v":""},{"$f":"データ処理!AO538","v":""},{"$f":"データ処理!AP538","v":""}]
[null,{"$f":"RIGHT(データ処理!AI539,5)","v":""},{"$f":"LEFT(データ処理!AJ539,5)","v":""},{"$f":"データ処理!AK539","v":0},{"$f":"IF(データ処理!AK539=\"\",\"\",データ処理!AL539&データ処理!BE539&$G$3)","v":""},{"$f":"IF(データ処理!AK539=\"\",\"\",データ処理!AM539&データ処理!AZ539&データ処理!AR539)","v":""},{"$f":"RIGHT(データ処理!AN539,5)","v":""},{"$f":"データ処理!AO539","v":""},{"$f":"データ処理!AP539","v":""}]
[null,{"$f":"RIGHT(データ処理!AI540,5)","v":""},{"$f":"LEFT(データ処理!AJ540,5)","v":""},{"$f":"データ処理!AK540","v":0},{"$f":"IF(データ処理!AK540=\"\",\"\",データ処理!AL540&データ処理!BE540&$G$3)","v":""},{"$f":"IF(データ処理!AK540=\"\",\"\",データ処理!AM540&データ処理!AZ540&データ処理!AR540)","v":""},{"$f":"RIGHT(データ処理!AN540,5)","v":""},{"$f":"データ処理!AO540","v":""},{"$f":"データ処理!AP540","v":""}]
[null,{"$f":"RIGHT(データ処理!AI541,5)","v":""},{"$f":"LEFT(データ処理!AJ541,5)","v":""},{"$f":"データ処理!AK541","v":0},{"$f":"IF(データ処理!AK541=\"\",\"\",データ処理!AL541&データ処理!BE541&$G$3)","v":""},{"$f":"IF(データ処理!AK541=\"\",\"\",データ処理!AM541&データ処理!AZ541&データ処理!AR541)","v":""},{"$f":"RIGHT(データ処理!AN541,5)","v":""},{"$f":"データ処理!AO541","v":""},{"$f":"データ処理!AP541","v":""}]
[null,{"$f":"RIGHT(データ処理!AI542,5)","v":""},{"$f":"LEFT(データ処理!AJ542,5)","v":""},{"$f":"データ処理!AK542","v":0},{"$f":"IF(データ処理!AK542=\"\",\"\",データ処理!AL542&データ処理!BE542&$G$3)","v":""},{"$f":"IF(データ処理!AK542=\"\",\"\",データ処理!AM542&データ処理!AZ542&データ処理!AR542)","v":""},{"$f":"RIGHT(データ処理!AN542,5)","v":""},{"$f":"データ処理!AO542","v":""},{"$f":"データ処理!AP542","v":""}]
[null,{"$f":"RIGHT(データ処理!AI543,5)","v":""},{"$f":"LEFT(データ処理!AJ543,5)","v":""},{"$f":"データ処理!AK543","v":0},{"$f":"IF(データ処理!AK543=\"\",\"\",データ処理!AL543&データ処理!BE543&$G$3)","v":""},{"$f":"IF(データ処理!AK543=\"\",\"\",データ処理!AM543&データ処理!AZ543&データ処理!AR543)","v":""},{"$f":"RIGHT(データ処理!AN543,5)","v":""},{"$f":"データ処理!AO543","v":""},{"$f":"データ処理!AP543","v":""}]
[40,{"$f":"RIGHT(データ処理!AI544,5)","v":""},{"$f":"LEFT(データ処理!AJ544,5)","v":""},{"$f":"データ処理!AK544","v":0},{"$f":"IF(データ処理!AK544=\"\",\"\",データ処理!AL544&データ処理!BE544&$G$3)","v":""},{"$f":"IF(データ処理!AK544=\"\",\"\",データ処理!AM544&データ処理!AZ544&データ処理!AR544)","v":""},{"$f":"RIGHT(データ処理!AN544,5)","v":""},{"$f":"データ処理!AO544","v":""},{"$f":"データ処理!AP544","v":""}]
[null,{"$f":"RIGHT(データ処理!AI545,5)","v":""},{"$f":"LEFT(データ処理!AJ545,5)","v":""},{"$f":"データ処理!AK545","v":0},{"$f":"IF(データ処理!AK545=\"\",\"\",データ処理!AL545&データ処理!BE545&$G$3)","v":""},{"$f":"IF(データ処理!AK545=\"\",\"\",データ処理!AM545&データ処理!AZ545&データ処理!AR545)","v":""},{"$f":"RIGHT(データ処理!AN545,5)","v":""},{"$f":"データ処理!AO545","v":""},{"$f":"データ処理!AP545","v":""}]
[null,{"$f":"RIGHT(データ処理!AI546,5)","v":""},{"$f":"LEFT(データ処理!AJ546,5)","v":""},{"$f":"データ処理!AK546","v":0},{"$f":"IF(データ処理!AK546=\"\",\"\",データ処理!AL546&データ処理!BE546&$G$3)","v":""},{"$f":"IF(データ処理!AK546=\"\",\"\",データ処理!AM546&データ処理!AZ546&データ処理!AR546)","v":""},{"$f":"RIGHT(データ処理!AN546,5)","v":""},{"$f":"データ処理!AO546","v":""},{"$f":"データ処理!AP546","v":""}]
[null,{"$f":"RIGHT(データ処理!AI547,5)","v":""},{"$f":"LEFT(データ処理!AJ547,5)","v":""},{"$f":"データ処理!AK547","v":0},{"$f":"IF(データ処理!AK547=\"\",\"\",データ処理!AL547&データ処理!BE547&$G$3)","v":""},{"$f":"IF(データ処理!AK547=\"\",\"\",データ処理!AM547&データ処理!AZ547&データ処理!AR547)","v":""},{"$f":"RIGHT(データ処理!AN547,5)","v":""},{"$f":"データ処理!AO547","v":""},{"$f":"データ処理!AP547","v":""}]
[null,{"$f":"RIGHT(データ処理!AI548,5)","v":""},{"$f":"LEFT(データ処理!AJ548,5)","v":""},{"$f":"データ処理!AK548","v":0},{"$f":"IF(データ処理!AK548=\"\",\"\",データ処理!AL548&データ処理!BE548&$G$3)","v":""},{"$f":"IF(データ処理!AK548=\"\",\"\",データ処理!AM548&データ処理!AZ548&データ処理!AR548)","v":""},{"$f":"RIGHT(データ処理!AN548,5)","v":""},{"$f":"データ処理!AO548","v":""},{"$f":"データ処理!AP548","v":""}]
[null,{"$f":"RIGHT(データ処理!AI549,5)","v":""},{"$f":"LEFT(データ処理!AJ549,5)","v":""},{"$f":"データ処理!AK549","v":0},{"$f":"IF(データ処理!AK549=\"\",\"\",データ処理!AL549&データ処理!BE549&$G$3)","v":""},{"$f":"IF(データ処理!AK549=\"\",\"\",データ処理!AM549&データ処理!AZ549&データ処理!AR549)","v":""},{"$f":"RIGHT(データ処理!AN549,5)","v":""},{"$f":"データ処理!AO549","v":""},{"$f":"データ処理!AP549","v":""}]
[null,{"$f":"RIGHT(データ処理!AI550,5)","v":""},{"$f":"LEFT(データ処理!AJ550,5)","v":""},{"$f":"データ処理!AK550","v":0},{"$f":"IF(データ処理!AK550=\"\",\"\",データ処理!AL550&データ処理!BE550&$G$3)","v":""},{"$f":"IF(データ処理!AK550=\"\",\"\",データ処理!AM550&データ処理!AZ550&データ処理!AR550)","v":""},{"$f":"RIGHT(データ処理!AN550,5)","v":""},{"$f":"データ処理!AO550","v":""},{"$f":"データ処理!AP550","v":""}]
[null,{"$f":"RIGHT(データ処理!AI551,5)","v":""},{"$f":"LEFT(データ処理!AJ551,5)","v":""},{"$f":"データ処理!AK551","v":0},{"$f":"IF(データ処理!AK551=\"\",\"\",データ処理!AL551&データ処理!BE551&$G$3)","v":""},{"$f":"IF(データ処理!AK551=\"\",\"\",データ処理!AM551&データ処理!AZ551&データ処理!AR551)","v":""},{"$f":"RIGHT(データ処理!AN551,5)","v":""},{"$f":"データ処理!AO551","v":""},{"$f":"データ処理!AP551","v":""}]
[null,{"$f":"RIGHT(データ処理!AI552,5)","v":""},{"$f":"LEFT(データ処理!AJ552,5)","v":""},{"$f":"データ処理!AK552","v":0},{"$f":"IF(データ処理!AK552=\"\",\"\",データ処理!AL552&データ処理!BE552&$G$3)","v":""},{"$f":"IF(データ処理!AK552=\"\",\"\",データ処理!AM552&データ処理!AZ552&データ処理!AR552)","v":""},{"$f":"RIGHT(データ処理!AN552,5)","v":""},{"$f":"データ処理!AO552","v":""},{"$f":"データ処理!AP552","v":""}]
[null,{"$f":"RIGHT(データ処理!AI553,5)","v":""},{"$f":"LEFT(データ処理!AJ553,5)","v":""},{"$f":"データ処理!AK553","v":0},{"$f":"IF(データ処理!AK553=\"\",\"\",データ処理!AL553&データ処理!BE553&$G$3)","v":""},{"$f":"IF(データ処理!AK553=\"\",\"\",データ処理!AM553&データ処理!AZ553&データ処理!AR553)","v":""},{"$f":"RIGHT(データ処理!AN553,5)","v":""},{"$f":"データ処理!AO553","v":""},{"$f":"データ処理!AP553","v":""}]
[50,{"$f":"RIGHT(データ処理!AI554,5)","v":""},{"$f":"LEFT(データ処理!AJ554,5)","v":""},{"$f":"データ処理!AK554","v":0},{"$f":"IF(データ処理!AK554=\"\",\"\",データ処理!AL554&データ処理!BE554&$G$3)","v":""},{"$f":"IF(データ処理!AK554=\"\",\"\",データ処理!AM554&データ処理!AZ554&データ処理!AR554)","v":""},{"$f":"RIGHT(データ処理!AN554,5)","v":""},{"$f":"データ処理!AO554","v":""},{"$f":"データ処理!AP554","v":""}]
[null,"Total  (合計)",null,{"$f":"COUNTIF(B605:B654,\"*/*\")","v":0},null,"Total  (合計)",{"$f":"COUNTIF(G605:G654,\"*/*\")","v":0},{"$f":"50-COUNTBLANK(H605:H654)","v":0},{"$f":"SUM(I605:I654)","v":0}]
[]
[null,"総 合 計",null,{"$f":"IF(K601=\"\",\"\",D655+ログシート!D598)","v":""},null,"総 合 計",{"$f":"IF(K601=\"\",\"\",G655+ログシート!G598)","v":""},{"$f":"IF(K601=\"\",\"\",H655+ログシート!H598)","v":""},{"$f":"IF(K601=\"\",\"\",I655+ログシート!I598)","v":""}]
[]
[null,"ＬＯＧ　ＳＨＥＥＴ (ログシート）",null,null,"Year (年)",{"$f":"$F$10","v":"2024"},{"$f":"$G$10","v":"第38回 滋賀2mSSB\nアクティブコンテスト"}]
[null,"Callsign (ｺｰﾙｻｲﾝ)",null,{"$f":"$D$11","v":0},"BAND（バンド）",{"$f":"$F$11","v":144},"MHz/SSB",null,"Sheet No.",null,{"$f":"IF(E664=\"\",\"\",L663&\"/\"&$E$3)","v":""}]
[]
[null,"Date Time",null,"Station Wkd","Exchange (ｺﾝﾃｽﾄﾅﾝﾊﾞｰ)",null,"Multi.（マルチ）",null,"Pts.","Op.","備考"]
[null,"月/日","時分JST","交信局","Sent (送信)","Received (受信)","日数マルチ","テールレター","得点","運用者",null,12]
[null,{"$f":"RIGHT(データ処理!AI555,5)","v":""},{"$f":"LEFT(データ処理!AJ555,5)","v":""},{"$f":"データ処理!AK555","v":0},{"$f":"IF(データ処理!AK555=\"\",\"\",データ処理!AL555&データ処理!BE555&$G$3)","v":""},{"$f":"IF(データ処理!AK555=\"\",\"\",データ処理!AM555&データ処理!AZ555&データ処理!AR555)","v":""},{"$f":"RIGHT(データ処理!AN555,5)","v":""},{"$f":"データ処理!AO555","v":""},{"$f":"データ処理!AP555","v":""}]
[null,{"$f":"RIGHT(データ処理!AI556,5)","v":""},{"$f":"LEFT(データ処理!AJ556,5)","v":""},{"$f":"データ処理!AK556","v":0},{"$f":"IF(データ処理!AK556=\"\",\"\",データ処理!AL556&データ処理!BE556&$G$3)","v":""},{"$f":"IF(データ処理!AK556=\"\",\"\",データ処理!AM556&データ処理!AZ556&データ処理!AR556)","v":""},{"$f":"RIGHT(データ処理!AN556,5)","v":""},{"$f":"データ処理!AO556","v":""},{"$f":"データ処理!AP556","v":""}]
[null,{"$f":"RIGHT(データ処理!AI557,5)","v":""},{"$f":"LEFT(データ処理!AJ557,5)","v":""},{"$f":"データ処理!AK557","v":0},{"$f":"IF(データ処理!AK557=\"\",\"\",データ処理!AL557&データ処理!BE557&$G$3)","v":""},{"$f":"IF(データ処理!AK557=\"\",\"\",データ処理!AM557&データ処理!AZ557&データ処理!AR557)","v":""},{"$f":"RIGHT(データ処理!AN557,5)","v":""},{"$f":"データ処理!AO557","v":""},{"$f":"データ処理!AP557","v":""}]
[null,{"$f":"RIGHT(データ処理!AI558,5)","v":""},{"$f":"LEFT(データ処理!AJ558,5)","v":""},{"$f":"データ処理!AK558","v":0},{"$f":"IF(データ処理!AK558=\"\",\"\",データ処理!AL558&データ処理!BE558&$G$3)","v":""},{"$f":"IF(データ処理!AK558=\"\",\"\",データ処理!AM558&データ処理!AZ558&データ処理!AR558)","v":""},{"$f":"RIGHT(データ処理!AN558,5)","v":""},{"$f":"データ処理!AO558","v":""},{"$f":"データ処理!AP558","v":""}]
[null,{"$f":"RIGHT(データ処理!AI559,5)","v":""},{"$f":"LEFT(データ処理!AJ559,5)","v":""},{"$f":"データ処理!AK559","v":0},{"$f":"IF(データ処理!AK559=\"\",\"\",データ処理!AL559&データ処理!BE559&$G$3)","v":""},{"$f":"IF(データ処理!AK559=\"\",\"\",データ処理!AM559&データ処理!AZ559&データ処理!AR559)","v":""},{"$f":"RIGHT(データ処理!AN559,5)","v":""},{"$f":"データ処理!AO559","v":""},{"$f":"データ処理!AP559","v":""}]
[null,{"$f":"RIGHT(データ処理!AI560,5)","v":""},{"$f":"LEFT(データ処理!AJ560,5)","v":""},{"$f":"データ処理!AK560","v":0},{"$f":"IF(データ処理!AK560=\"\",\"\",データ処理!AL560&データ処理!BE560&$G$3)","v":""},{"$f":"IF(データ処理!AK560=\"\",\"\",データ処理!AM560&データ処理!AZ560&データ処理!AR560)","v":""},{"$f":"RIGHT(データ処理!AN560,5)","v":""},{"$f":"データ処理!AO560","v":""},{"$f":"データ処理!AP560","v":""}]
[null,{"$f":"RIGHT(データ処理!AI561,5)","v":""},{"$f":"LEFT(データ処理!AJ561,5)","v":""},{"$f":"データ処理!AK561","v":0},{"$f":"IF(データ処理!AK561=\"\",\"\",データ処理!AL561&データ処理!BE561&$G$3)","v":""},{"$f":"IF(データ処理!AK561=\"\",\"\",データ処理!AM561&データ処理!AZ561&データ処理!AR561)","v":""},{"$f":"RIGHT(データ処理!AN561,5)","v":""},{"$f":"データ処理!AO561","v":""},{"$f":"データ処理!AP561","v":""}]
[null,{"$f":"RIGHT(データ処理!AI562,5)","v":""},{"$f":"LEFT(データ処理!AJ562,5)","v":""},{"$f":"データ処理!AK562","v":0},{"$f":"IF(データ処理!AK562=\"\",\"\",データ処理!AL562&データ処理!BE562&$G$3)","v":""},{"$f":"IF(データ処理!AK562=\"\",\"\",データ処理!AM562&データ処理!AZ562&データ処理!AR562)","v":""},{"$f":"RIGHT(データ処理!AN562,5)","v":""},{"$f":"データ処理!AO562","v":""},{"$f":"データ処理!AP562","v":""}]
[null,{"$f":"RIGHT(データ処理!AI563,5)","v":""},{"$f":"LEFT(データ処理!AJ563,5)","v":""},{"$f":"データ処理!AK563","v":0},{"$f":"IF(データ処理!AK563=\"\",\"\",データ処理!AL563&データ処理!BE563&$G$3)","v":""},{"$f":"IF(データ処理!AK563=\"\",\"\",データ処理!AM563&データ処理!AZ563&データ処理!AR563)","v":""},{"$f":"RIGHT(データ処理!AN563,5)","v":""},{"$f":"データ処理!AO563","v":""},{"$f":"データ処理!AP563","v":""}]
[10,{"$f":"RIGHT(データ処理!AI564,5)","v":""},{"$f":"LEFT(データ処理!AJ564,5)","v":""},{"$f":"データ処理!AK564","v":0},{"$f":"IF(データ処理!AK564=\"\",\"\",データ処理!AL564&データ処理!BE564&$G$3)","v":""},{"$f":"IF(データ処理!AK564=\"\",\"\",データ処理!AM564&データ処理!AZ564&データ処理!AR564)","v":""},{"$f":"RIGHT(データ処理!AN564,5)","v":""},{"$f":"データ処理!AO564","v":""},{"$f":"データ処理!AP564","v":""}]
[null,{"$f":"RIGHT(データ処理!AI565,5)","v":""},{"$f":"LEFT(データ処理!AJ565,5)","v":""},{"$f":"データ処理!AK565","v":0},{"$f":"IF(データ処理!AK565=\"\",\"\",データ処理!AL565&データ処理!BE565&$G$3)","v":""},{"$f":"IF(データ処理!AK565=\"\",\"\",データ処理!AM565&データ処理!AZ565&データ処理!AR565)","v":""},{"$f":"RIGHT(データ処理!AN565,5)","v":""},{"$f":"データ処理!AO565","v":""},{"$f":"データ処理!AP565","v":""}]
[null,{"$f":"RIGHT(データ処理!AI566,5)","v":""},{"$f":"LEFT(データ処理!AJ566,5)","v":""},{"$f":"データ処理!AK566","v":0},{"$f":"IF(データ処理!AK566=\"\",\"\",データ処理!AL566&データ処理!BE566&$G$3)","v":""},{"$f":"IF(データ処理!AK566=\"\",\"\",データ処理!AM566&データ処理!AZ566&データ処理!AR566)","v":""},{"$f":"RIGHT(データ処理!AN566,5)","v":""},{"$f":"データ処理!AO566","v":""},{"$f":"データ処理!AP566","v":""}]
[null,{"$f":"RIGHT(データ処理!AI567,5)","v":""},{"$f":"LEFT(データ処理!AJ567,5)","v":""},{"$f":"データ処理!AK567","v":0},{"$f":"IF(データ処理!AK567=\"\",\"\",データ処理!AL567&データ処理!BE567&$G$3)","v":""},{"$f":"IF(データ処理!AK567=\"\",\"\",データ処理!AM567&データ処理!AZ567&データ処理!AR567)","v":""},{"$f":"RIGHT(データ処理!AN567,5)","v":""},{"$f":"データ処理!AO567","v":""},{"$f":"データ処理!AP567","v":""}]
[null,{"$f":"RIGHT(データ処理!AI568,5)","v":""},{"$f":"LEFT(データ処理!AJ568,5)","v":""},{"$f":"データ処理!AK568","v":0},{"$f":"IF(データ処理!AK568=\"\",\"\",データ処理!AL568&データ処理!BE568&$G$3)","v":""},{"$f":"IF(データ処理!AK568=\"\",\"\",データ処理!AM568&データ処理!AZ568&データ処理!AR568)","v":""},{"$f":"RIGHT(データ処理!AN568,5)","v":""},{"$f":"データ処理!AO568","v":""},{"$f":"データ処理!AP568","v":""}]
[null,{"$f":"RIGHT(データ処理!AI569,5)","v":""},{"$f":"LEFT(データ処理!AJ569,5)","v":""},{"$f":"データ処理!AK569","v":0},{"$f":"IF(データ処理!AK569=\"\",\"\",データ処理!AL569&データ処理!BE569&$G$3)","v":""},{"$f":"IF(データ処理!AK569=\"\",\"\",データ処理!AM569&データ処理!AZ569&データ処理!AR569)","v":""},{"$f":"RIGHT(データ処理!AN569,5)","v":""},{"$f":"データ処理!AO569","v":""},{"$f":"データ処理!AP569","v":""}]
[null,{"$f":"RIGHT(データ処理!AI570,5)","v":""},{"$f":"LEFT(データ処理!AJ570,5)","v":""},{"$f":"データ処理!AK570","v":0},{"$f":"IF(データ処理!AK570=\"\",\"\",データ処理!AL570&データ処理!BE570&$G$3)","v":""},{"$f":"IF(データ処理!AK570=\"\",\"\",データ処理!AM570&データ処理!AZ570&データ処理!AR570)","v":""},{"$f":"RIGHT(データ処理!AN570,5)","v":""},{"$f":"データ処理!AO570","v":""},{"$f":"データ処理!AP570","v":""}]
[null,{"$f":"RIGHT(データ処理!AI571,5)","v":""},{"$f":"LEFT(データ処理!AJ571,5)","v":""},{"$f":"データ処理!AK571","v":0},{"$f":"IF(データ処理!AK571=\"\",\"\",データ処理!AL571&データ処理!BE571&$G$3)","v":""},{"$f":"IF(データ処理!AK571=\"\",\"\",データ処理!AM571&データ処理!AZ571&データ処理!AR571)","v":""},{"$f":"RIGHT(データ処理!AN571,5)","v":""},{"$f":"データ処理!AO571","v":""},{"$f":"データ処理!AP571","v":""}]
[null,{"$f":"RIGHT(データ処理!AI572,5)","v":""},{"$f":"LEFT(データ処理!AJ572,5)","v":""},{"$f":"データ処理!AK572","v":0},{"$f":"IF(データ処理!AK572=\"\",\"\",データ処理!AL572&データ処理!BE572&$G$3)","v":""},{"$f":"IF(データ処理!AK572=\"\",\"\",データ処理!AM572&データ処理!AZ572&データ処理!AR572)","v":""},{"$f":"RIGHT(データ処理!AN572,5)","v":""},{"$f":"データ処理!AO572","v":""},{"$f":"データ処理!AP572","v":""}]
[null,{"$f":"RIGHT(データ処理!AI573,5)","v":""},{"$f":"LEFT(データ処理!AJ573,5)","v":""},{"$f":"データ処理!AK573","v":0},{"$f":"IF(データ処理!AK573=\"\",\"\",データ処理!AL573&データ処理!BE573&$G$3)","v":""},{"$f":"IF(データ処理!AK573=\"\",\"\",データ処理!AM573&データ処理!AZ573&データ処理!AR573)","v":""},{"$f":"RIGHT(データ処理!AN573,5)","v":""},{"$f":"データ処理!AO573","v":""},{"$f":"データ処理!AP573","v":""}]
[20,{"$f":"RIGHT(データ処理!AI574,5)","v":""},{"$f":"LEFT(データ処理!AJ574,5)","v":""},{"$f":"データ処理!AK574","v":0},{"$f":"IF(データ処理!AK574=\"\",\"\",データ処理!AL574&データ処理!BE574&$G$3)","v":""},{"$f":"IF(データ処理!AK574=\"\",\"\",データ処理!AM574&データ処理!AZ574&データ処理!AR574)","v":""},{"$f":"RIGHT(データ処理!AN574,5)","v":""},{"$f":"データ処理!AO574","v":""},{"$f":"データ処理!AP574","v":""}]
[null,{"$f":"RIGHT(データ処理!AI575,5)","v":""},{"$f":"LEFT(データ処理!AJ575,5)","v":""},{"$f":"データ処理!AK575","v":0},{"$f":"IF(データ処理!AK575=\"\",\"\",データ処理!AL575&データ処理!BE575&$G$3)","v":""},{"$f":"IF(データ処理!AK575=\"\",\"\",データ処理!AM575&データ処理!AZ575&データ処理!AR575)","v":""},{"$f":"RIGHT(データ処理!AN575,5)","v":""},{"$f":"データ処理!AO575","v":""},{"$f":"データ処理!AP575","v":""}]
[null,{"$f":"RIGHT(データ処理!AI576,5)","v":""},{"$f":"LEFT(データ処理!AJ576,5)","v":""},{"$f":"データ処理!AK576","v":0},{"$f":"IF(データ処理!AK576=\"\",\"\",データ処理!AL576&データ処理!BE576&$G$3)","v":""},{"$f":"IF(データ処理!AK576=\"\",\"\",データ処理!AM576&データ処理!AZ576&データ処理!AR576)","v":""},{"$f":"RIGHT(データ処理!AN576,5)","v":""},{"$f":"データ処理!AO576","v":""},{"$f":"データ処理!AP576","v":""}]
[null,{"$f":"RIGHT(データ処理!AI577,5)","v":""},{"$f":"LEFT(データ処理!AJ577,5)","v":""},{"$f":"データ処理!AK577","v":0},{"$f":"IF(データ処理!AK577=\"\",\"\",データ処理!AL577&データ処理!BE577&$G$3)","v":""},{"$f":"IF(データ処理!AK577=\"\",\"\",データ処理!AM577&データ処理!AZ577&データ処理!AR577)","v":""},{"$f":"RIGHT(データ処理!AN577,5)","v":""},{"$f":"データ処理!AO577","v":""},{"$f":"データ処理!AP577","v":""}]
[null,{"$f":"RIGHT(データ処理!AI578,5)","v":""},{"$f":"LEFT(データ処理!AJ578,5)","v":""},{"$f":"データ処理!AK578","v":0},{"$f":"IF(データ処理!AK578=\"\",\"\",データ処理!AL578&データ処理!BE578&$G$3)","v":""},{"$f":"IF(データ処理!AK578=\"\",\"\",データ処理!AM578&データ処理!AZ578&データ処理!AR578)","v":""},{"$f":"RIGHT(データ処理!AN578,5)","v":""},{"$f":"データ処理!AO578","v":""},{"$f":"データ処理!AP578","v":""}]
[null,{"$f":"RIGHT(データ処理!AI579,5)","v":""},{"$f":"LEFT(データ処理!AJ579,5)","v":""},{"$f":"データ処理!AK579","v":0},{"$f":"IF(データ処理!AK579=\"\",\"\",データ処理!AL579&データ処理!BE579&$G$3)","v":""},{"$f":"IF(データ処理!AK579=\"\",\"\",データ処理!AM579&データ処理!AZ579&データ処理!AR579)","v":""},{"$f":"RIGHT(データ処理!AN579,5)","v":""},{"$f":"データ処理!AO579","v":""},{"$f":"データ処理!AP579","v":""}]
[null,{"$f":"RIGHT(データ処理!AI580,5)","v":""},{"$f":"LEFT(データ処理!AJ580,5)","v":""},{"$f":"データ処理!AK580","v":0},{"$f":"IF(データ処理!AK580=\"\",\"\",データ処理!AL580&データ処理!BE580&$G$3)","v":""},{"$f":"IF(データ処理!AK580=\"\",\"\",データ処理!AM580&データ処理!AZ580&データ処理!AR580)","v":""},{"$f":"RIGHT(データ処理!AN580,5)","v":""},{"$f":"データ処理!AO580","v":""},{"$f":"データ処理!AP580","v":""}]
[null,{"$f":"RIGHT(データ処理!AI581,5)","v":""},{"$f":"LEFT(データ処理!AJ581,5)","v":""},{"$f":"データ処理!AK581","v":0},{"$f":"IF(データ処理!AK581=\"\",\"\",データ処理!AL581&データ処理!BE581&$G$3)","v":""},{"$f":"IF(データ処理!AK581=\"\",\"\",データ処理!AM581&データ処理!AZ581&データ処理!AR581)","v":""},{"$f":"RIGHT(データ処理!AN581,5)","v":""},{"$f":"データ処理!AO581","v":""},{"$f":"データ処理!AP581","v":""}]
[null,{"$f":"RIGHT(データ処理!AI582,5)","v":""},{"$f":"LEFT(データ処理!AJ582,5)","v":""},{"$f":"データ処理!AK582","v":0},{"$f":"IF(データ処理!AK582=\"\",\"\",データ処理!AL582&データ処理!BE582&$G$3)","v":""},{"$f":"IF(データ処理!AK582=\"\",\"\",データ処理!AM582&データ処理!AZ582&データ処理!AR582)","v":""},{"$f":"RIGHT(データ処理!AN582,5)","v":""},{"$f":"データ処理!AO582","v":""},{"$f":"データ処理!AP582","v":""}]
[null,{"$f":"RIGHT(データ処理!AI583,5)","v":""},{"$f":"LEFT(データ処理!AJ583,5)","v":""},{"$f":"データ処理!AK583","v":0},{"$f":"IF(データ処理!AK583=\"\",\"\",データ処理!AL583&データ処理!BE583&$G$3)","v":""},{"$f":"IF(データ処理!AK583=\"\",\"\",データ処理!AM583&データ処理!AZ583&データ処理!AR583)","v":""},{"$f":"RIGHT(データ処理!AN583,5)","v":""},{"$f":"データ処理!AO583","v":""},{"$f":"データ処理!AP583","v":""}]
[30,{"$f":"RIGHT(データ処理!AI584,5)","v":""},{"$f":"LEFT(データ処理!AJ584,5)","v":""},{"$f":"データ処理!AK584","v":0},{"$f":"IF(データ処理!AK584=\"\",\"\",データ処理!AL584&データ処理!BE584&$G$3)","v":""},{"$f":"IF(データ処理!AK584=\"\",\"\",データ処理!AM584&データ処理!AZ584&データ処理!AR584)","v":""},{"$f":"RIGHT(データ処理!AN584,5)","v":""},{"$f":"データ処理!AO584","v":""},{"$f":"データ処理!AP584","v":""}]
[null,{"$f":"RIGHT(データ処理!AI585,5)","v":""},{"$f":"LEFT(データ処理!AJ585,5)","v":""},{"$f":"データ処理!AK585","v":0},{"$f":"IF(データ処理!AK585=\"\",\"\",データ処理!AL585&データ処理!BE585&$G$3)","v":""},{"$f":"IF(データ処理!AK585=\"\",\"\",データ処理!AM585&データ処理!AZ585&データ処理!AR585)","v":""},{"$f":"RIGHT(データ処理!AN585,5)","v":""},{"$f":"データ処理!AO585","v":""},{"$f":"データ処理!AP585","v":""}]
[null,{"$f":"RIGHT(データ処理!AI586,5)","v":""},{"$f":"LEFT(データ処理!AJ586,5)","v":""},{"$f":"データ処理!AK586","v":0},{"$f":"IF(データ処理!AK586=\"\",\"\",データ処理!AL586&データ処理!BE586&$G$3)","v":""},{"$f":"IF(データ処理!AK586=\"\",\"\",データ処理!AM586&データ処理!AZ586&データ処理!AR586)","v":""},{"$f":"RIGHT(データ処理!AN586,5)","v":""},{"$f":"データ処理!AO586","v":""},{"$f":"データ処理!AP586","v":""}]
[null,{"$f":"RIGHT(データ処理!AI587,5)","v":""},{"$f":"LEFT(データ処理!AJ587,5)","v":""},{"$f":"データ処理!AK587","v":0},{"$f":"IF(データ処理!AK587=\"\",\"\",データ処理!AL587&データ処理!BE587&$G$3)","v":""},{"$f":"IF(データ処理!AK587=\"\",\"\",データ処理!AM587&データ処理!AZ587&データ処理!AR587)","v":""},{"$f":"RIGHT(データ処理!AN587,5)","v":""},{"$f":"データ処理!AO587","v":""},{"$f":"データ処理!AP587","v":""}]
[null,{"$f":"RIGHT(データ処理!AI588,5)","v":""},{"$f":"LEFT(データ処理!AJ588,5)","v":""},{"$f":"データ処理!AK588","v":0},{"$f":"IF(データ処理!AK588=\"\",\"\",データ処理!AL588&データ処理!BE588&$G$3)","v":""},{"$f":"IF(データ処理!AK588=\"\",\"\",データ処理!AM588&データ処理!AZ588&データ処理!AR588)","v":""},{"$f":"RIGHT(データ処理!AN588,5)","v":""},{"$f":"データ処理!AO588","v":""},{"$f":"データ処理!AP588","v":""}]
[null,{"$f":"RIGHT(データ処理!AI589,5)","v":""},{"$f":"LEFT(データ処理!AJ589,5)","v":""},{"$f":"データ処理!AK589","v":0},{"$f":"IF(データ処理!AK589=\"\",\"\",データ処理!AL589&データ処理!BE589&$G$3)","v":""},{"$f":"IF(データ処理!AK589=\"\",\"\",データ処理!AM589&データ処理!AZ589&データ処理!AR589)","v":""},{"$f":"RIGHT(データ処理!AN589,5)","v":""},{"$f":"データ処理!AO589","v":""},{"$f":"データ処理!AP589","v":""}]
[null,{"$f":"RIGHT(データ処理!AI590,5)","v":""},{"$f":"LEFT(データ処理!AJ590,5)","v":""},{"$f":"データ処理!AK590","v":0},{"$f":"IF(データ処理!AK590=\"\",\"\",データ処理!AL590&データ処理!BE590&$G$3)","v":""},{"$f":"IF(データ処理!AK590=\"\",\"\",データ処理!AM590&データ処理!AZ590&データ処理!AR590)","v":""},{"$f":"RIGHT(データ処理!AN590,5)","v":""},{"$f":"データ処理!AO590","v":""},{"$f":"データ処理!AP590","v":""}]
[null,{"$f":"RIGHT(データ処理!AI591,5)","v":""},{"$f":"LEFT(データ処理!AJ591,5)","v":""},{"$f":"データ処理!AK591","v":0},{"$f":"IF(データ処理!AK591=\"\",\"\",データ処理!AL591&データ処理!BE591&$G$3)","v":""},{"$f":"IF(データ処理!AK591=\"\",\"\",データ処理!AM591&データ処理!AZ591&データ処理!AR591)","v":""},{"$f":"RIGHT(データ処理!AN591,5)","v":""},{"$f":"データ処理!AO591","v":""},{"$f":"データ処理!AP591","v":""}]
[null,{"$f":"RIGHT(データ処理!AI592,5)","v":""},{"$f":"LEFT(データ処理!AJ592,5)","v":""},{"$f":"データ処理!AK592","v":0},{"$f":"IF(データ処理!AK592=\"\",\"\",データ処理!AL592&データ処理!BE592&$G$3)","v":""},{"$f":"IF(データ処理!AK592=\"\",\"\",データ処理!AM592&データ処理!AZ592&データ処理!AR592)","v":""},{"$f":"RIGHT(データ処理!AN592,5)","v":""},{"$f":"データ処理!AO592","v":""},{"$f":"データ処理!AP592","v":""}]
[null,{"$f":"RIGHT(データ処理!AI593,5)","v":""},{"$f":"LEFT(データ処理!AJ593,5)","v":""},{"$f":"データ処理!AK593","v":0},{"$f":"IF(データ処理!AK593=\"\",\"\",データ処理!AL593&データ処理!BE593&$G$3)","v":""},{"$f":"IF(データ処理!AK593=\"\",\"\",データ処理!AM593&データ処理!AZ593&データ処理!AR593)","v":""},{"$f":"RIGHT(データ処理!AN593,5)","v":""},{"$f":"データ処理!AO593","v":""},{"$f":"データ処理!AP593","v":""}]
[40,{"$f":"RIGHT(データ処理!AI594,5)","v":""},{"$f":"LEFT(データ処理!AJ594,5)","v":""},{"$f":"データ処理!AK594","v":0},{"$f":"IF(データ処理!AK594=\"\",\"\",データ処理!AL594&データ処理!BE594&$G$3)","v":""},{"$f":"IF(データ処理!AK594=\"\",\"\",データ処理!AM594&データ処理!AZ594&データ処理!AR594)","v":""},{"$f":"RIGHT(データ処理!AN594,5)","v":""},{"$f":"データ処理!AO594","v":""},{"$f":"データ処理!AP594","v":""}]
[null,{"$f":"RIGHT(データ処理!AI595,5)","v":""},{"$f":"LEFT(データ処理!AJ595,5)","v":""},{"$f":"データ処理!AK595","v":0},{"$f":"IF(データ処理!AK595=\"\",\"\",データ処理!AL595&データ処理!BE595&$G$3)","v":""},{"$f":"IF(データ処理!AK595=\"\",\"\",データ処理!AM595&データ処理!AZ595&データ処理!AR595)","v":""},{"$f":"RIGHT(データ処理!AN595,5)","v":""},{"$f":"データ処理!AO595","v":""},{"$f":"データ処理!AP595","v":""}]
[null,{"$f":"RIGHT(データ処理!AI596,5)","v":""},{"$f":"LEFT(データ処理!AJ596,5)","v":""},{"$f":"データ処理!AK596","v":0},{"$f":"IF(データ処理!AK596=\"\",\"\",データ処理!AL596&データ処理!BE596&$G$3)","v":""},{"$f":"IF(データ処理!AK596=\"\",\"\",データ処理!AM596&データ処理!AZ596&データ処理!AR596)","v":""},{"$f":"RIGHT(データ処理!AN596,5)","v":""},{"$f":"データ処理!AO596","v":""},{"$f":"データ処理!AP596","v":""}]
[null,{"$f":"RIGHT(データ処理!AI597,5)","v":""},{"$f":"LEFT(データ処理!AJ597,5)","v":""},{"$f":"データ処理!AK597","v":0},{"$f":"IF(データ処理!AK597=\"\",\"\",データ処理!AL597&データ処理!BE597&$G$3)","v":""},{"$f":"IF(データ処理!AK597=\"\",\"\",データ処理!AM597&データ処理!AZ597&データ処理!AR597)","v":""},{"$f":"RIGHT(データ処理!AN597,5)","v":""},{"$f":"データ処理!AO597","v":""},{"$f":"データ処理!AP597","v":""}]
[null,{"$f":"RIGHT(データ処理!AI598,5)","v":""},{"$f":"LEFT(データ処理!AJ598,5)","v":""},{"$f":"データ処理!AK598","v":0},{"$f":"IF(データ処理!AK598=\"\",\"\",データ処理!AL598&データ処理!BE598&$G$3)","v":""},{"$f":"IF(データ処理!AK598=\"\",\"\",データ処理!AM598&データ処理!AZ598&データ処理!AR598)","v":""},{"$f":"RIGHT(データ処理!AN598,5)","v":""},{"$f":"データ処理!AO598","v":""},{"$f":"データ処理!AP598","v":""}]
[null,{"$f":"RIGHT(データ処理!AI599,5)","v":""},{"$f":"LEFT(データ処理!AJ599,5)","v":""},{"$f":"データ処理!AK599","v":0},{"$f":"IF(データ処理!AK599=\"\",\"\",データ処理!AL599&データ処理!BE599&$G$3)","v":""},{"$f":"IF(データ処理!AK599=\"\",\"\",データ処理!AM599&データ処理!AZ599&データ処理!AR599)","v":""},{"$f":"RIGHT(データ処理!AN599,5)","v":""},{"$f":"データ処理!AO599","v":""},{"$f":"データ処理!AP599","v":""}]
[null,{"$f":"RIGHT(データ処理!AI600,5)","v":""},{"$f":"LEFT(データ処理!AJ600,5)","v":""},{"$f":"データ処理!AK600","v":0},{"$f":"IF(データ処理!AK600=\"\",\"\",データ処理!AL600&データ処理!BE600&$G$3)","v":""},{"$f":"IF(データ処理!AK600=\"\",\"\",データ処理!AM600&データ処理!AZ600&データ処理!AR600)","v":""},{"$f":"RIGHT(データ処理!AN600,5)","v":""},{"$f":"データ処理!AO600","v":""},{"$f":"データ処理!AP600","v":""}]
[null,{"$f":"RIGHT(データ処理!AI601,5)","v":""},{"$f":"LEFT(データ処理!AJ601,5)","v":""},{"$f":"データ処理!AK601","v":0},{"$f":"IF(データ処理!AK601=\"\",\"\",データ処理!AL601&データ処理!BE601&$G$3)","v":""},{"$f":"IF(データ処理!AK601=\"\",\"\",データ処理!AM601&データ処理!AZ601&データ処理!AR601)","v":""},{"$f":"RIGHT(データ処理!AN601,5)","v":""},{"$f":"データ処理!AO601","v":""},{"$f":"データ処理!AP601","v":""}]
[null,{"$f":"RIGHT(データ処理!AI602,5)","v":""},{"$f":"LEFT(データ処理!AJ602,5)","v":""},{"$f":"データ処理!AK602","v":0},{"$f":"IF(データ処理!AK602=\"\",\"\",データ処理!AL602&データ処理!BE602&$G$3)","v":""},{"$f":"IF(データ処理!AK602=\"\",\"\",データ処理!AM602&データ処理!AZ602&データ処理!AR602)","v":""},{"$f":"RIGHT(データ処理!AN602,5)","v":""},{"$f":"データ処理!AO602","v":""},{"$f":"データ処理!AP602","v":""}]
[null,{"$f":"RIGHT(データ処理!AI603,5)","v":""},{"$f":"LEFT(データ処理!AJ603,5)","v":""},{"$f":"データ処理!AK603","v":0},{"$f":"IF(データ処理!AK603=\"\",\"\",データ処理!AL603&データ処理!BE603&$G$3)","v":""},{"$f":"IF(データ処理!AK603=\"\",\"\",データ処理!AM603&データ処理!AZ603&データ処理!AR603)","v":""},{"$f":"RIGHT(データ処理!AN603,5)","v":""},{"$f":"データ処理!AO603","v":""},{"$f":"データ処理!AP603","v":""}]
[50,{"$f":"RIGHT(データ処理!AI604,5)","v":""},{"$f":"LEFT(データ処理!AJ604,5)","v":""},{"$f":"データ処理!AK604","v":0},{"$f":"IF(データ処理!AK604=\"\",\"\",データ処理!AL604&データ処理!BE604&$G$3)","v":""},{"$f":"IF(データ処理!AK604=\"\",\"\",データ処理!AM604&データ処理!AZ604&データ処理!AR604)","v":""},{"$f":"RIGHT(データ処理!AN604,5)","v":""},{"$f":"データ処理!AO604","v":""},{"$f":"データ処理!AP604","v":""}]
[null,"Total  (合計)",null,{"$f":"COUNTIF(B664:B713,\"*/*\")","v":0},null,"Total  (合計)",{"$f":"COUNTIF(G664:G713,\"*/*\")","v":0},{"$f":"50-COUNTBLANK(H664:H713)","v":0},{"$f":"SUM(I664:I713)","v":0}]
[]
[null,"総 合 計",null,{"$f":"IF(K660=\"\",\"\",D714+ログシート!D657)","v":""},null,"総 合 計",{"$f":"IF(K660=\"\",\"\",G714+ログシート!G657)","v":""},{"$f":"IF(K660=\"\",\"\",H714+ログシート!H657)","v":""},{"$f":"IF(K660=\"\",\"\",I714+ログシート!I657)","v":""}]
[]
[null,"ＬＯＧ　ＳＨＥＥＴ (ログシート）",null,null,"Year (年)",{"$f":"$F$10","v":"2024"},{"$f":"$G$10","v":"第38回 滋賀2mSSB\nアクティブコンテスト"}]
[null,"Callsign (ｺｰﾙｻｲﾝ)",null,{"$f":"$D$11","v":0},"BAND（バンド）",{"$f":"$F$11","v":144},"MHz/SSB",null,"Sheet No.",null,{"$f":"IF(E723=\"\",\"\",L722&\"/\"&$E$3)","v":""}]
[]
[null,"Date Time",null,"Station Wkd","Exchange (ｺﾝﾃｽﾄﾅﾝﾊﾞｰ)",null,"Multi.（マルチ）",null,"Pts.","Op.","備考"]
[null,"月/日","時分JST","交信局","Sent (送信)","Received (受信)","日数マルチ","テールレター","得点","運用者",null,13]
[null,{"$f":"RIGHT(データ処理!AI605,5)","v":""},{"$f":"LEFT(データ処理!AJ605,5)","v":""},{"$f":"データ処理!AK605","v":0},{"$f":"IF(データ処理!AK605=\"\",\"\",データ処理!AL605&データ処理!BE605&$G$3)","v":""},{"$f":"IF(データ処理!AK605=\"\",\"\",データ処理!AM605&データ処理!AZ605&データ処理!AR605)","v":""},{"$f":"RIGHT(データ処理!AN605,5)","v":""},{"$f":"データ処理!AO605","v":""},{"$f":"データ処理!AP605","v":""}]
[null,{"$f":"RIGHT(データ処理!AI606,5)","v":""},{"$f":"LEFT(データ処理!AJ606,5)","v":""},{"$f":"データ処理!AK606","v":0},{"$f":"IF(データ処理!AK606=\"\",\"\",データ処理!AL606&データ処理!BE606&$G$3)","v":""},{"$f":"IF(データ処理!AK606=\"\",\"\",データ処理!AM606&データ処理!AZ606&データ処理!AR606)","v":""},{"$f":"RIGHT(データ処理!AN606,5)","v":""},{"$f":"データ処理!AO606","v":""},{"$f":"データ処理!AP606","v":""}]
[null,{"$f":"RIGHT(データ処理!AI607,5)","v":""},{"$f":"LEFT(データ処理!AJ607,5)","v":""},{"$f":"データ処理!AK607","v":0},{"$f":"IF(データ処理!AK607=\"\",\"\",データ処理!AL607&データ処理!BE607&$G$3)","v":""},{"$f":"IF(データ処理!AK607=\"\",\"\",データ処理!AM607&データ処理!AZ607&データ処理!AR607)","v":""},{"$f":"RIGHT(データ処理!AN607,5)","v":""},{"$f":"データ処理!AO607","v":""},{"$f":"データ処理!AP607","v":""}]
[null,{"$f":"RIGHT(データ処理!AI608,5)","v":""},{"$f":"LEFT(データ処理!AJ608,5)","v":""},{"$f":"データ処理!AK608","v":0},{"$f":"IF(データ処理!AK608=\"\",\"\",データ処理!AL608&データ処理!BE608&$G$3)","v":""},{"$f":"IF(データ処理!AK608=\"\",\"\",データ処理!AM608&データ処理!AZ608&データ処理!AR608)","v":""},{"$f":"RIGHT(データ処理!AN608,5)","v":""},{"$f":"データ処理!AO608","v":""},{"$f":"データ処理!AP608","v":""}]
[null,{"$f":"RIGHT(データ処理!AI609,5)","v":""},{"$f":"LEFT(データ処理!AJ609,5)","v":""},{"$f":"データ処理!AK609","v":0},{"$f":"IF(データ処理!AK609=\"\",\"\",データ処理!AL609&データ処理!BE609&$G$3)","v":""},{"$f":"IF(データ処理!AK609=\"\",\"\",データ処理!AM609&データ処理!AZ609&データ処理!AR609)","v":""},{"$f":"RIGHT(データ処理!AN609,5)","v":""},{"$f":"データ処理!AO609","v":""},{"$f":"データ処理!AP609","v":""}]
[null,{"$f":"RIGHT(データ処理!AI610,5)","v":""},{"$f":"LEFT(データ処理!AJ610,5)","v":""},{"$f":"データ処理!AK610","v":0},{"$f":"IF(データ処理!AK610=\"\",\"\",データ処理!AL610&データ処理!BE610&$G$3)","v":""},{"$f":"IF(データ処理!AK610=\"\",\"\",データ処理!AM610&データ処理!AZ610&データ処理!AR610)","v":""},{"$f":"RIGHT(データ処理!AN610,5)","v":""},{"$f":"データ処理!AO610","v":""},{"$f":"データ処理!AP610","v":""}]
[null,{"$f":"RIGHT(データ処理!AI611,5)","v":""},{"$f":"LEFT(データ処理!AJ611,5)","v":""},{"$f":"データ処理!AK611","v":0},{"$f":"IF(データ処理!AK611=\"\",\"\",データ処理!AL611&データ処理!BE611&$G$3)","v":""},{"$f":"IF(データ処理!AK611=\"\",\"\",データ処理!AM611&データ処理!AZ611&データ処理!AR611)","v":""},{"$f":"RIGHT(データ処理!AN611,5)","v":""},{"$f":"データ処理!AO611","v":""},{"$f":"データ処理!AP611","v":""}]
[null,{"$f":"RIGHT(データ処理!AI612,5)","v":""},{"$f":"LEFT(データ処理!AJ612,5)","v":""},{"$f":"データ処理!AK612","v":0},{"$f":"IF(データ処理!AK612=\"\",\"\",データ処理!AL612&データ処理!BE612&$G$3)","v":""},{"$f":"IF(データ処理!AK612=\"\",\"\",データ処理!AM612&データ処理!AZ612&データ処理!AR612)","v":""},{"$f":"RIGHT(データ処理!AN612,5)","v":""},{"$f":"データ処理!AO612","v":""},{"$f":"データ処理!AP612","v":""}]
[null,{"$f":"RIGHT(データ処理!AI613,5)","v":""},{"$f":"LEFT(データ処理!AJ613,5)","v":""},{"$f":"データ処理!AK613","v":0},{"$f":"IF(データ処理!AK613=\"\",\"\",データ処理!AL613&データ処理!BE613&$G$3)","v":""},{"$f":"IF(データ処理!AK613=\"\",\"\",データ処理!AM613&データ処理!AZ613&データ処理!AR613)","v":""},{"$f":"RIGHT(データ処理!AN613,5)","v":""},{"$f":"データ処理!AO613","v":""},{"$f":"データ処理!AP613","v":""}]
[10,{"$f":"RIGHT(データ処理!AI614,5)","v":""},{"$f":"LEFT(データ処理!AJ614,5)","v":""},{"$f":"データ処理!AK614","v":0},{"$f":"IF(データ処理!AK614=\"\",\"\",データ処理!AL614&データ処理!BE614&$G$3)","v":""},{"$f":"IF(データ処理!AK614=\"\",\"\",データ処理!AM614&データ処理!AZ614&データ処理!AR614)","v":""},{"$f":"RIGHT(データ処理!AN614,5)","v":""},{"$f":"データ処理!AO614","v":""},{"$f":"データ処理!AP614","v":""}]
[null,{"$f":"RIGHT(データ処理!AI615,5)","v":""},{"$f":"LEFT(データ処理!AJ615,5)","v":""},{"$f":"データ処理!AK615","v":0},{"$f":"IF(データ処理!AK615=\"\",\"\",データ処理!AL615&データ処理!BE615&$G$3)","v":""},{"$f":"IF(データ処理!AK615=\"\",\"\",データ処理!AM615&データ処理!AZ615&データ処理!AR615)","v":""},{"$f":"RIGHT(データ処理!AN615,5)","v":""},{"$f":"データ処理!AO615","v":""},{"$f":"データ処理!AP615","v":""}]
[null,{"$f":"RIGHT(データ処理!AI616,5)","v":""},{"$f":"LEFT(データ処理!AJ616,5)","v":""},{"$f":"データ処理!AK616","v":0},{"$f":"IF(データ処理!AK616=\"\",\"\",データ処理!AL616&データ処理!BE616&$G$3)","v":""},{"$f":"IF(データ処理!AK616=\"\",\"\",データ処理!AM616&データ処理!AZ616&データ処理!AR616)","v":""},{"$f":"RIGHT(データ処理!AN616,5)","v":""},{"$f":"データ処理!AO616","v":""},{"$f":"データ処理!AP616","v":""}]
[null,{"$f":"RIGHT(データ処理!AI617,5)","v":""},{"$f":"LEFT(データ処理!AJ617,5)","v":""},{"$f":"データ処理!AK617","v":0},{"$f":"IF(データ処理!AK617=\"\",\"\",データ処理!AL617&データ処理!BE617&$G$3)","v":""},{"$f":"IF(データ処理!AK617=\"\",\"\",データ処理!AM617&データ処理!AZ617&データ処理!AR617)","v":""},{"$f":"RIGHT(データ処理!AN617,5)","v":""},{"$f":"データ処理!AO617","v":""},{"$f":"データ処理!AP617","v":""}]
[null,{"$f":"RIGHT(データ処理!AI618,5)","v":""},{"$f":"LEFT(データ処理!AJ618,5)","v":""},{"$f":"データ処理!AK618","v":0},{"$f":"IF(データ処理!AK618=\"\",\"\",データ処理!AL618&データ処理!BE618&$G$3)","v":""},{"$f":"IF(データ処理!AK618=\"\",\"\",データ処理!AM618&データ処理!AZ618&データ処理!AR618)","v":""},{"$f":"RIGHT(データ処理!AN618,5)","v":""},{"$f":"データ処理!AO618","v":""},{"$f":"データ処理!AP618","v":""}]
[null,{"$f":"RIGHT(データ処理!AI619,5)","v":""},{"$f":"LEFT(データ処理!AJ619,5)","v":""},{"$f":"データ処理!AK619","v":0},{"$f":"IF(データ処理!AK619=\"\",\"\",データ処理!AL619&データ処理!BE619&$G$3)","v":""},{"$f":"IF(データ処理!AK619=\"\",\"\",データ処理!AM619&データ処理!AZ619&データ処理!AR619)","v":""},{"$f":"RIGHT(データ処理!AN619,5)","v":""},{"$f":"データ処理!AO619","v":""},{"$f":"データ処理!AP619","v":""}]
[null,{"$f":"RIGHT(データ処理!AI620,5)","v":""},{"$f":"LEFT(データ処理!AJ620,5)","v":""},{"$f":"データ処理!AK620","v":0},{"$f":"IF(データ処理!AK620=\"\",\"\",データ処理!AL620&データ処理!BE620&$G$3)","v":""},{"$f":"IF(データ処理!AK620=\"\",\"\",データ処理!AM620&データ処理!AZ620&データ処理!AR620)","v":""},{"$f":"RIGHT(データ処理!AN620,5)","v":""},{"$f":"データ処理!AO620","v":""},{"$f":"データ処理!AP620","v":""}]
[null,{"$f":"RIGHT(データ処理!AI621,5)","v":""},{"$f":"LEFT(データ処理!AJ621,5)","v":""},{"$f":"データ処理!AK621","v":0},{"$f":"IF(データ処理!AK621=\"\",\"\",データ処理!AL621&データ処理!BE621&$G$3)","v":""},{"$f":"IF(データ処理!AK621=\"\",\"\",データ処理!AM621&データ処理!AZ621&データ処理!AR621)","v":""},{"$f":"RIGHT(データ処理!AN621,5)","v":""},{"$f":"データ処理!AO621","v":""},{"$f":"データ処理!AP621","v":""}]
[null,{"$f":"RIGHT(データ処理!AI622,5)","v":""},{"$f":"LEFT(データ処理!AJ622,5)","v":""},{"$f":"データ処理!AK622","v":0},{"$f":"IF(データ処理!AK622=\"\",\"\",データ処理!AL622&データ処理!BE622&$G$3)","v":""},{"$f":"IF(データ処理!AK622=\"\",\"\",データ処理!AM622&データ処理!AZ622&データ処理!AR622)","v":""},{"$f":"RIGHT(データ処理!AN622,5)","v":""},{"$f":"データ処理!AO622","v":""},{"$f":"データ処理!AP622","v":""}]
[null,{"$f":"RIGHT(データ処理!AI623,5)","v":""},{"$f":"LEFT(データ処理!AJ623,5)","v":""},{"$f":"データ処理!AK623","v":0},{"$f":"IF(データ処理!AK623=\"\",\"\",データ処理!AL623&データ処理!BE623&$G$3)","v":""},{"$f":"IF(データ処理!AK623=\"\",\"\",データ処理!AM623&データ処理!AZ623&データ処理!AR623)","v":""},{"$f":"RIGHT(データ処理!AN623,5)","v":""},{"$f":"データ処理!AO623","v":""},{"$f":"データ処理!AP623","v":""}]
[20,{"$f":"RIGHT(データ処理!AI624,5)","v":""},{"$f":"LEFT(データ処理!AJ624,5)","v":""},{"$f":"データ処理!AK624","v":0},{"$f":"IF(データ処理!AK624=\"\",\"\",データ処理!AL624&データ処理!BE624&$G$3)","v":""},{"$f":"IF(データ処理!AK624=\"\",\"\",データ処理!AM624&データ処理!AZ624&データ処理!AR624)","v":""},{"$f":"RIGHT(データ処理!AN624,5)","v":""},{"$f":"データ処理!AO624","v":""},{"$f":"データ処理!AP624","v":""}]
[null,{"$f":"RIGHT(データ処理!AI625,5)","v":""},{"$f":"LEFT(データ処理!AJ625,5)","v":""},{"$f":"データ処理!AK625","v":0},{"$f":"IF(データ処理!AK625=\"\",\"\",データ処理!AL625&データ処理!BE625&$G$3)","v":""},{"$f":"IF(データ処理!AK625=\"\",\"\",データ処理!AM625&データ処理!AZ625&データ処理!AR625)","v":""},{"$f":"RIGHT(データ処理!AN625,5)","v":""},{"$f":"データ処理!AO625","v":""},{"$f":"データ処理!AP625","v":""}]
[null,{"$f":"RIGHT(データ処理!AI626,5)","v":""},{"$f":"LEFT(データ処理!AJ626,5)","v":""},{"$f":"データ処理!AK626","v":0},{"$f":"IF(データ処理!AK626=\"\",\"\",データ処理!AL626&データ処理!BE626&$G$3)","v":""},{"$f":"IF(データ処理!AK626=\"\",\"\",データ処理!AM626&データ処理!AZ626&データ処理!AR626)","v":""},{"$f":"RIGHT(データ処理!AN626,5)","v":""},{"$f":"データ処理!AO626","v":""},{"$f":"データ処理!AP626","v":""}]
[null,{"$f":"RIGHT(データ処理!AI627,5)","v":""},{"$f":"LEFT(データ処理!AJ627,5)","v":""},{"$f":"データ処理!AK627","v":0},{"$f":"IF(データ処理!AK627=\"\",\"\",データ処理!AL627&データ処理!BE627&$G$3)","v":""},{"$f":"IF(データ処理!AK627=\"\",\"\",データ処理!AM627&データ処理!AZ627&データ処理!AR627)","v":""},{"$f":"RIGHT(データ処理!AN627,5)","v":""},{"$f":"データ処理!AO627","v":""},{"$f":"データ処理!AP627","v":""}]
[null,{"$f":"RIGHT(データ処理!AI628,5)","v":""},{"$f":"LEFT(データ処理!AJ628,5)","v":""},{"$f":"データ処理!AK628","v":0},{"$f":"IF(データ処理!AK628=\"\",\"\",データ処理!AL628&データ処理!BE628&$G$3)","v":""},{"$f":"IF(データ処理!AK628=\"\",\"\",データ処理!AM628&データ処理!AZ628&データ処理!AR628)","v":""},{"$f":"RIGHT(データ処理!AN628,5)","v":""},{"$f":"データ処理!AO628","v":""},{"$f":"データ処理!AP628","v":""}]
[null,{"$f":"RIGHT(データ処理!AI629,5)","v":""},{"$f":"LEFT(データ処理!AJ629,5)","v":""},{"$f":"データ処理!AK629","v":0},{"$f":"IF(データ処理!AK629=\"\",\"\",データ処理!AL629&データ処理!BE629&$G$3)","v":""},{"$f":"IF(データ処理!AK629=\"\",\"\",データ処理!AM629&データ処理!AZ629&データ処理!AR629)","v":""},{"$f":"RIGHT(データ処理!AN629,5)","v":""},{"$f":"データ処理!AO629","v":""},{"$f":"データ処理!AP629","v":""}]
[null,{"$f":"RIGHT(データ処理!AI630,5)","v":""},{"$f":"LEFT(データ処理!AJ630,5)","v":""},{"$f":"データ処理!AK630","v":0},{"$f":"IF(データ処理!AK630=\"\",\"\",データ処理!AL630&データ処理!BE630&$G$3)","v":""},{"$f":"IF(データ処理!AK630=\"\",\"\",データ処理!AM630&データ処理!AZ630&データ処理!AR630)","v":""},{"$f":"RIGHT(データ処理!AN630,5)","v":""},{"$f":"データ処理!AO630","v":""},{"$f":"データ処理!AP630","v":""}]
[null,{"$f":"RIGHT(データ処理!AI631,5)","v":""},{"$f":"LEFT(データ処理!AJ631,5)","v":""},{"$f":"データ処理!AK631","v":0},{"$f":"IF(データ処理!AK631=\"\",\"\",データ処理!AL631&データ処理!BE631&$G$3)","v":""},{"$f":"IF(データ処理!AK631=\"\",\"\",データ処理!AM631&データ処理!AZ631&データ処理!AR631)","v":""},{"$f":"RIGHT(データ処理!AN631,5)","v":""},{"$f":"データ処理!AO631","v":""},{"$f":"データ処理!AP631","v":""}]
[null,{"$f":"RIGHT(データ処理!AI632,5)","v":""},{"$f":"LEFT(データ処理!AJ632,5)","v":""},{"$f":"データ処理!AK632","v":0},{"$f":"IF(データ処理!AK632=\"\",\"\",データ処理!AL632&データ処理!BE632&$G$3)","v":""},{"$f":"IF(データ処理!AK632=\"\",\"\",データ処理!AM632&データ処理!AZ632&データ処理!AR632)","v":""},{"$f":"RIGHT(データ処理!AN632,5)","v":""},{"$f":"データ処理!AO632","v":""},{"$f":"データ処理!AP632","v":""}]
[null,{"$f":"RIGHT(データ処理!AI633,5)","v":""},{"$f":"LEFT(データ処理!AJ633,5)","v":""},{"$f":"データ処理!AK633","v":0},{"$f":"IF(データ処理!AK633=\"\",\"\",データ処理!AL633&データ処理!BE633&$G$3)","v":""},{"$f":"IF(データ処理!AK633=\"\",\"\",データ処理!AM633&データ処理!AZ633&データ処理!AR633)","v":""},{"$f":"RIGHT(データ処理!AN633,5)","v":""},{"$f":"データ処理!AO633","v":""},{"$f":"データ処理!AP633","v":""}]
[30,{"$f":"RIGHT(データ処理!AI634,5)","v":""},{"$f":"LEFT(データ処理!AJ634,5)","v":""},{"$f":"データ処理!AK634","v":0},{"$f":"IF(データ処理!AK634=\"\",\"\",データ処理!AL634&データ処理!BE634&$G$3)","v":""},{"$f":"IF(データ処理!AK634=\"\",\"\",データ処理!AM634&データ処理!AZ634&データ処理!AR634)","v":""},{"$f":"RIGHT(データ処理!AN634,5)","v":""},{"$f":"データ処理!AO634","v":""},{"$f":"データ処理!AP634","v":""}]
[null,{"$f":"RIGHT(データ処理!AI635,5)","v":""},{"$f":"LEFT(データ処理!AJ635,5)","v":""},{"$f":"データ処理!AK635","v":0},{"$f":"IF(データ処理!AK635=\"\",\"\",データ処理!AL635&データ処理!BE635&$G$3)","v":""},{"$f":"IF(データ処理!AK635=\"\",\"\",データ処理!AM635&データ処理!AZ635&データ処理!AR635)","v":""},{"$f":"RIGHT(データ処理!AN635,5)","v":""},{"$f":"データ処理!AO635","v":""},{"$f":"データ処理!AP635","v":""}]
[null,{"$f":"RIGHT(データ処理!AI636,5)","v":""},{"$f":"LEFT(データ処理!AJ636,5)","v":""},{"$f":"データ処理!AK636","v":0},{"$f":"IF(データ処理!AK636=\"\",\"\",データ処理!AL636&データ処理!BE636&$G$3)","v":""},{"$f":"IF(データ処理!AK636=\"\",\"\",データ処理!AM636&データ処理!AZ636&データ処理!AR636)","v":""},{"$f":"RIGHT(データ処理!AN636,5)","v":""},{"$f":"データ処理!AO636","v":""},{"$f":"データ処理!AP636","v":""}]
[null,{"$f":"RIGHT(データ処理!AI637,5)","v":""},{"$f":"LEFT(データ処理!AJ637,5)","v":""},{"$f":"データ処理!AK637","v":0},{"$f":"IF(データ処理!AK637=\"\",\"\",データ処理!AL637&データ処理!BE637&$G$3)","v":""},{"$f":"IF(データ処理!AK637=\"\",\"\",データ処理!AM637&データ処理!AZ637&データ処理!AR637)","v":""},{"$f":"RIGHT(データ処理!AN637,5)","v":""},{"$f":"データ処理!AO637","v":""},{"$f":"データ処理!AP637","v":""}]
[null,{"$f":"RIGHT(データ処理!AI638,5)","v":""},{"$f":"LEFT(データ処理!AJ638,5)","v":""},{"$f":"データ処理!AK638","v":0},{"$f":"IF(データ処理!AK638=\"\",\"\",データ処理!AL638&データ処理!BE638&$G$3)","v":""},{"$f":"IF(データ処理!AK638=\"\",\"\",データ処理!AM638&データ処理!AZ638&データ処理!AR638)","v":""},{"$f":"RIGHT(データ処理!AN638,5)","v":""},{"$f":"データ処理!AO638","v":""},{"$f":"データ処理!AP638","v":""}]
[null,{"$f":"RIGHT(データ処理!AI639,5)","v":""},{"$f":"LEFT(データ処理!AJ639,5)","v":""},{"$f":"データ処理!AK639","v":0},{"$f":"IF(データ処理!AK639=\"\",\"\",データ処理!AL639&データ処理!BE639&$G$3)","v":""},{"$f":"IF(データ処理!AK639=\"\",\"\",データ処理!AM639&データ処理!AZ639&データ処理!AR639)","v":""},{"$f":"RIGHT(データ処理!AN639,5)","v":""},{"$f":"データ処理!AO639","v":""},{"$f":"データ処理!AP639","v":""}]
[null,{"$f":"RIGHT(データ処理!AI640,5)","v":""},{"$f":"LEFT(データ処理!AJ640,5)","v":""},{"$f":"データ処理!AK640","v":0},{"$f":"IF(データ処理!AK640=\"\",\"\",データ処理!AL640&データ処理!BE640&$G$3)","v":""},{"$f":"IF(データ処理!AK640=\"\",\"\",データ処理!AM640&データ処理!AZ640&データ処理!AR640)","v":""},{"$f":"RIGHT(データ処理!AN640,5)","v":""},{"$f":"データ処理!AO640","v":""},{"$f":"データ処理!AP640","v":""}]
[null,{"$f":"RIGHT(データ処理!AI641,5)","v":""},{"$f":"LEFT(データ処理!AJ641,5)","v":""},{"$f":"データ処理!AK641","v":0},{"$f":"IF(データ処理!AK641=\"\",\"\",データ処理!AL641&データ処理!BE641&$G$3)","v":""},{"$f":"IF(データ処理!AK641=\"\",\"\",データ処理!AM641&データ処理!AZ641&データ処理!AR641)","v":""},{"$f":"RIGHT(データ処理!AN641,5)","v":""},{"$f":"データ処理!AO641","v":""},{"$f":"データ処理!AP641","v":""}]
[null,{"$f":"RIGHT(データ処理!AI642,5)","v":""},{"$f":"LEFT(データ処理!AJ642,5)","v":""},{"$f":"データ処理!AK642","v":0},{"$f":"IF(データ処理!AK642=\"\",\"\",データ処理!AL642&データ処理!BE642&$G$3)","v":""},{"$f":"IF(データ処理!AK642=\"\",\"\",データ処理!AM642&データ処理!AZ642&データ処理!AR642)","v":""},{"$f":"RIGHT(データ処理!AN642,5)","v":""},{"$f":"データ処理!AO642","v":""},{"$f":"データ処理!AP642","v":""}]
[null,{"$f":"RIGHT(データ処理!AI643,5)","v":""},{"$f":"LEFT(データ処理!AJ643,5)","v":""},{"$f":"データ処理!AK643","v":0},{"$f":"IF(データ処理!AK643=\"\",\"\",データ処理!AL643&データ処理!BE643&$G$3)","v":""},{"$f":"IF(データ処理!AK643=\"\",\"\",データ処理!AM643&データ処理!AZ643&データ処理!AR643)","v":""},{"$f":"RIGHT(データ処理!AN643,5)","v":""},{"$f":"データ処理!AO643","v":""},{"$f":"データ処理!AP643","v":""}]
[40,{"$f":"RIGHT(データ処理!AI644,5)","v":""},{"$f":"LEFT(データ処理!AJ644,5)","v":""},{"$f":"データ処理!AK644","v":0},{"$f":"IF(データ処理!AK644=\"\",\"\",データ処理!AL644&データ処理!BE644&$G$3)","v":""},{"$f":"IF(データ処理!AK644=\"\",\"\",データ処理!AM644&データ処理!AZ644&データ処理!AR644)","v":""},{"$f":"RIGHT(データ処理!AN644,5)","v":""},{"$f":"データ処理!AO644","v":""},{"$f":"データ処理!AP644","v":""}]
[null,{"$f":"RIGHT(データ処理!AI645,5)","v":""},{"$f":"LEFT(データ処理!AJ645,5)","v":""},{"$f":"データ処理!AK645","v":0},{"$f":"IF(データ処理!AK645=\"\",\"\",データ処理!AL645&データ処理!BE645&$G$3)","v":""},{"$f":"IF(データ処理!AK645=\"\",\"\",データ処理!AM645&データ処理!AZ645&データ処理!AR645)","v":""},{"$f":"RIGHT(データ処理!AN645,5)","v":""},{"$f":"データ処理!AO645","v":""},{"$f":"データ処理!AP645","v":""}]
[null,{"$f":"RIGHT(データ処理!AI646,5)","v":""},{"$f":"LEFT(データ処理!AJ646,5)","v":""},{"$f":"データ処理!AK646","v":0},{"$f":"IF(データ処理!AK646=\"\",\"\",データ処理!AL646&データ処理!BE646&$G$3)","v":""},{"$f":"IF(データ処理!AK646=\"\",\"\",データ処理!AM646&データ処理!AZ646&データ処理!AR646)","v":""},{"$f":"RIGHT(データ処理!AN646,5)","v":""},{"$f":"データ処理!AO646","v":""},{"$f":"データ処理!AP646","v":""}]
[null,{"$f":"RIGHT(データ処理!AI647,5)","v":""},{"$f":"LEFT(データ処理!AJ647,5)","v":""},{"$f":"データ処理!AK647","v":0},{"$f":"IF(データ処理!AK647=\"\",\"\",データ処理!AL647&データ処理!BE647&$G$3)","v":""},{"$f":"IF(データ処理!AK647=\"\",\"\",データ処理!AM647&データ処理!AZ647&データ処理!AR647)","v":""},{"$f":"RIGHT(データ処理!AN647,5)","v":""},{"$f":"データ処理!AO647","v":""},{"$f":"データ処理!AP647","v":""}]
[null,{"$f":"RIGHT(データ処理!AI648,5)","v":""},{"$f":"LEFT(データ処理!AJ648,5)","v":""},{"$f":"データ処理!AK648","v":0},{"$f":"IF(データ処理!AK648=\"\",\"\",データ処理!AL648&データ処理!BE648&$G$3)","v":""},{"$f":"IF(データ処理!AK648=\"\",\"\",データ処理!AM648&データ処理!AZ648&データ処理!AR648)","v":""},{"$f":"RIGHT(データ処理!AN648,5)","v":""},{"$f":"データ処理!AO648","v":""},{"$f":"データ処理!AP648","v":""}]
[null,{"$f":"RIGHT(データ処理!AI649,5)","v":""},{"$f":"LEFT(データ処理!AJ649,5)","v":""},{"$f":"データ処理!AK649","v":0},{"$f":"IF(データ処理!AK649=\"\",\"\",データ処理!AL649&データ処理!BE649&$G$3)","v":""},{"$f":"IF(データ処理!AK649=\"\",\"\",データ処理!AM649&データ処理!AZ649&データ処理!AR649)","v":""},{"$f":"RIGHT(データ処理!AN649,5)","v":""},{"$f":"データ処理!AO649","v":""},{"$f":"データ処理!AP649","v":""}]
[null,{"$f":"RIGHT(データ処理!AI650,5)","v":""},{"$f":"LEFT(データ処理!AJ650,5)","v":""},{"$f":"データ処理!AK650","v":0},{"$f":"IF(データ処理!AK650=\"\",\"\",データ処理!AL650&データ処理!BE650&$G$3)","v":""},{"$f":"IF(データ処理!AK650=\"\",\"\",データ処理!AM650&データ処理!AZ650&データ処理!AR650)","v":""},{"$f":"RIGHT(データ処理!AN650,5)","v":""},{"$f":"データ処理!AO650","v":""},{"$f":"データ処理!AP650","v":""}]
[null,{"$f":"RIGHT(データ処理!AI651,5)","v":""},{"$f":"LEFT(データ処理!AJ651,5)","v":""},{"$f":"データ処理!AK651","v":0},{"$f":"IF(データ処理!AK651=\"\",\"\",データ処理!AL651&データ処理!BE651&$G$3)","v":""},{"$f":"IF(データ処理!AK651=\"\",\"\",データ処理!AM651&データ処理!AZ651&データ処理!AR651)","v":""},{"$f":"RIGHT(データ処理!AN651,5)","v":""},{"$f":"データ処理!AO651","v":""},{"$f":"データ処理!AP651","v":""}]
[null,{"$f":"RIGHT(データ処理!AI652,5)","v":""},{"$f":"LEFT(データ処理!AJ652,5)","v":""},{"$f":"データ処理!AK652","v":0},{"$f":"IF(データ処理!AK652=\"\",\"\",データ処理!AL652&データ処理!BE652&$G$3)","v":""},{"$f":"IF(データ処理!AK652=\"\",\"\",データ処理!AM652&データ処理!AZ652&データ処理!AR652)","v":""},{"$f":"RIGHT(データ処理!AN652,5)","v":""},{"$f":"データ処理!AO652","v":""},{"$f":"データ処理!AP652","v":""}]
[null,{"$f":"RIGHT(データ処理!AI653,5)","v":""},{"$f":"LEFT(データ処理!AJ653,5)","v":""},{"$f":"データ処理!AK653","v":0},{"$f":"IF(データ処理!AK653=\"\",\"\",データ処理!AL653&データ処理!BE653&$G$3)","v":""},{"$f":"IF(データ処理!AK653=\"\",\"\",データ処理!AM653&データ処理!AZ653&データ処理!AR653)","v":""},{"$f":"RIGHT(データ処理!AN653,5)","v":""},{"$f":"データ処理!AO653","v":""},{"$f":"データ処理!AP653","v":""}]
[50,{"$f":"RIGHT(データ処理!AI654,5)","v":""},{"$f":"LEFT(データ処理!AJ654,5)","v":""},{"$f":"データ処理!AK654","v":0},{"$f":"IF(データ処理!AK654=\"\",\"\",データ処理!AL654&データ処理!BE654&$G$3)","v":""},{"$f":"IF(データ処理!AK654=\"\",\"\",データ処理!AM654&データ処理!AZ654&データ処理!AR654)","v":""},{"$f":"RIGHT(データ処理!AN654,5)","v":""},{"$f":"データ処理!AO654","v":""},{"$f":"データ処理!AP654","v":""}]
[null,"Total  (合計)",null,{"$f":"COUNTIF(B723:B772,\"*/*\")","v":0},null,"Total  (合計)",{"$f":"COUNTIF(G723:G772,\"*/*\")","v":0},{"$f":"50-COUNTBLANK(H723:H772)","v":0},{"$f":"SUM(I723:I772)","v":0}]
[]
[null,"総 合 計",null,{"$f":"IF(K719=\"\",\"\",D773+ログシート!D716)","v":""},null,"総 合 計",{"$f":"IF(K719=\"\",\"\",G773+ログシート!G716)","v":""},{"$f":"IF(K719=\"\",\"\",H773+ログシート!H716)","v":""},{"$f":"IF(K719=\"\",\"\",I773+ログシート!I716)","v":""}]
[]
[null,"ＬＯＧ　ＳＨＥＥＴ (ログシート）",null,null,"Year (年)",{"$f":"$F$10","v":"2024"},{"$f":"$G$10","v":"第38回 滋賀2mSSB\nアクティブコンテスト"}]
[null,"Callsign (ｺｰﾙｻｲﾝ)",null,{"$f":"$D$11","v":0},"BAND（バンド）",{"$f":"$F$11","v":144},"MHz/SSB",null,"Sheet No.",null,{"$f":"IF(E782=\"\",\"\",L781&\"/\"&$E$3)","v":""}]
[]
[null,"Date Time",null,"Station Wkd","Exchange (ｺﾝﾃｽﾄﾅﾝﾊﾞｰ)",null,"Multi.（マルチ）",null,"Pts.","Op.","備考"]
[null,"月/日","時分JST","交信局","Sent (送信)","Received (受信)","日数マルチ","テールレター","得点","運用者",null,14]
[null,{"$f":"RIGHT(データ処理!AI655,5)","v":""},{"$f":"LEFT(データ処理!AJ655,5)","v":""},{"$f":"データ処理!AK655","v":0},{"$f":"IF(データ処理!AK655=\"\",\"\",データ処理!AL655&データ処理!BE655&$G$3)","v":""},{"$f":"IF(データ処理!AK655=\"\",\"\",データ処理!AM655&データ処理!AZ655&データ処理!AR655)","v":""},{"$f":"RIGHT(データ処理!AN655,5)","v":""},{"$f":"データ処理!AO655","v":""},{"$f":"データ処理!AP655","v":""}]
[null,{"$f":"RIGHT(データ処理!AI656,5)","v":""},{"$f":"LEFT(データ処理!AJ656,5)","v":""},{"$f":"データ処理!AK656","v":0},{"$f":"IF(データ処理!AK656=\"\",\"\",データ処理!AL656&データ処理!BE656&$G$3)","v":""},{"$f":"IF(データ処理!AK656=\"\",\"\",データ処理!AM656&データ処理!AZ656&データ処理!AR656)","v":""},{"$f":"RIGHT(データ処理!AN656,5)","v":""},{"$f":"データ処理!AO656","v":""},{"$f":"データ処理!AP656","v":""}]
[null,{"$f":"RIGHT(データ処理!AI657,5)","v":""},{"$f":"LEFT(データ処理!AJ657,5)","v":""},{"$f":"データ処理!AK657","v":0},{"$f":"IF(データ処理!AK657=\"\",\"\",データ処理!AL657&データ処理!BE657&$G$3)","v":""},{"$f":"IF(データ処理!AK657=\"\",\"\",データ処理!AM657&データ処理!AZ657&データ処理!AR657)","v":""},{"$f":"RIGHT(データ処理!AN657,5)","v":""},{"$f":"データ処理!AO657","v":""},{"$f":"データ処理!AP657","v":""}]
[null,{"$f":"RIGHT(データ処理!AI658,5)","v":""},{"$f":"LEFT(データ処理!AJ658,5)","v":""},{"$f":"データ処理!AK658","v":0},{"$f":"IF(データ処理!AK658=\"\",\"\",データ処理!AL658&データ処理!BE658&$G$3)","v":""},{"$f":"IF(データ処理!AK658=\"\",\"\",データ処理!AM658&データ処理!AZ658&データ処理!AR658)","v":""},{"$f":"RIGHT(データ処理!AN658,5)","v":""},{"$f":"データ処理!AO658","v":""},{"$f":"データ処理!AP658","v":""}]
[null,{"$f":"RIGHT(データ処理!AI659,5)","v":""},{"$f":"LEFT(データ処理!AJ659,5)","v":""},{"$f":"データ処理!AK659","v":0},{"$f":"IF(データ処理!AK659=\"\",\"\",データ処理!AL659&データ処理!BE659&$G$3)","v":""},{"$f":"IF(データ処理!AK659=\"\",\"\",データ処理!AM659&データ処理!AZ659&データ処理!AR659)","v":""},{"$f":"RIGHT(データ処理!AN659,5)","v":""},{"$f":"データ処理!AO659","v":""},{"$f":"データ処理!AP659","v":""}]
[null,{"$f":"RIGHT(データ処理!AI660,5)","v":""},{"$f":"LEFT(データ処理!AJ660,5)","v":""},{"$f":"データ処理!AK660","v":0},{"$f":"IF(データ処理!AK660=\"\",\"\",データ処理!AL660&データ処理!BE660&$G$3)","v":""},{"$f":"IF(データ処理!AK660=\"\",\"\",データ処理!AM660&データ処理!AZ660&データ処理!AR660)","v":""},{"$f":"RIGHT(データ処理!AN660,5)","v":""},{"$f":"データ処理!AO660","v":""},{"$f":"データ処理!AP660","v":""}]
[null,{"$f":"RIGHT(データ処理!AI661,5)","v":""},{"$f":"LEFT(データ処理!AJ661,5)","v":""},{"$f":"データ処理!AK661","v":0},{"$f":"IF(データ処理!AK661=\"\",\"\",データ処理!AL661&データ処理!BE661&$G$3)","v":""},{"$f":"IF(データ処理!AK661=\"\",\"\",データ処理!AM661&データ処理!AZ661&データ処理!AR661)","v":""},{"$f":"RIGHT(データ処理!AN661,5)","v":""},{"$f":"データ処理!AO661","v":""},{"$f":"データ処理!AP661","v":""}]
[null,{"$f":"RIGHT(データ処理!AI662,5)","v":""},{"$f":"LEFT(データ処理!AJ662,5)","v":""},{"$f":"データ処理!AK662","v":0},{"$f":"IF(データ処理!AK662=\"\",\"\",データ処理!AL662&データ処理!BE662&$G$3)","v":""},{"$f":"IF(データ処理!AK662=\"\",\"\",データ処理!AM662&データ処理!AZ662&データ処理!AR662)","v":""},{"$f":"RIGHT(データ処理!AN662,5)","v":""},{"$f":"データ処理!AO662","v":""},{"$f":"データ処理!AP662","v":""}]
[null,{"$f":"RIGHT(データ処理!AI663,5)","v":""},{"$f":"LEFT(データ処理!AJ663,5)","v":""},{"$f":"データ処理!AK663","v":0},{"$f":"IF(データ処理!AK663=\"\",\"\",データ処理!AL663&データ処理!BE663&$G$3)","v":""},{"$f":"IF(データ処理!AK663=\"\",\"\",データ処理!AM663&データ処理!AZ663&データ処理!AR663)","v":""},{"$f":"RIGHT(データ処理!AN663,5)","v":""},{"$f":"データ処理!AO663","v":""},{"$f":"データ処理!AP663","v":""}]
[10,{"$f":"RIGHT(データ処理!AI664,5)","v":""},{"$f":"LEFT(データ処理!AJ664,5)","v":""},{"$f":"データ処理!AK664","v":0},{"$f":"IF(データ処理!AK664=\"\",\"\",データ処理!AL664&データ処理!BE664&$G$3)","v":""},{"$f":"IF(データ処理!AK664=\"\",\"\",データ処理!AM664&データ処理!AZ664&データ処理!AR664)","v":""},{"$f":"RIGHT(データ処理!AN664,5)","v":""},{"$f":"データ処理!AO664","v":""},{"$f":"データ処理!AP664","v":""}]
[null,{"$f":"RIGHT(データ処理!AI665,5)","v":""},{"$f":"LEFT(データ処理!AJ665,5)","v":""},{"$f":"データ処理!AK665","v":0},{"$f":"IF(データ処理!AK665=\"\",\"\",データ処理!AL665&データ処理!BE665&$G$3)","v":""},{"$f":"IF(データ処理!AK665=\"\",\"\",データ処理!AM665&データ処理!AZ665&データ処理!AR665)","v":""},{"$f":"RIGHT(データ処理!AN665,5)","v":""},{"$f":"データ処理!AO665","v":""},{"$f":"データ処理!AP665","v":""}]
[null,{"$f":"RIGHT(データ処理!AI666,5)","v":""},{"$f":"LEFT(データ処理!AJ666,5)","v":""},{"$f":"データ処理!AK666","v":0},{"$f":"IF(データ処理!AK666=\"\",\"\",データ処理!AL666&データ処理!BE666&$G$3)","v":""},{"$f":"IF(データ処理!AK666=\"\",\"\",データ処理!AM666&データ処理!AZ666&データ処理!AR666)","v":""},{"$f":"RIGHT(データ処理!AN666,5)","v":""},{"$f":"データ処理!AO666","v":""},{"$f":"データ処理!AP666","v":""}]
[null,{"$f":"RIGHT(データ処理!AI667,5)","v":""},{"$f":"LEFT(データ処理!AJ667,5)","v":""},{"$f":"データ処理!AK667","v":0},{"$f":"IF(データ処理!AK667=\"\",\"\",データ処理!AL667&データ処理!BE667&$G$3)","v":""},{"$f":"IF(データ処理!AK667=\"\",\"\",データ処理!AM667&データ処理!AZ667&データ処理!AR667)","v":""},{"$f":"RIGHT(データ処理!AN667,5)","v":""},{"$f":"データ処理!AO667","v":""},{"$f":"データ処理!AP667","v":""}]
[null,{"$f":"RIGHT(データ処理!AI668,5)","v":""},{"$f":"LEFT(データ処理!AJ668,5)","v":""},{"$f":"データ処理!AK668","v":0},{"$f":"IF(データ処理!AK668=\"\",\"\",データ処理!AL668&データ処理!BE668&$G$3)","v":""},{"$f":"IF(データ処理!AK668=\"\",\"\",データ処理!AM668&データ処理!AZ668&データ処理!AR668)","v":""},{"$f":"RIGHT(データ処理!AN668,5)","v":""},{"$f":"データ処理!AO668","v":""},{"$f":"データ処理!AP668","v":""}]
[null,{"$f":"RIGHT(データ処理!AI669,5)","v":""},{"$f":"LEFT(データ処理!AJ669,5)","v":""},{"$f":"データ処理!AK669","v":0},{"$f":"IF(データ処理!AK669=\"\",\"\",データ処理!AL669&データ処理!BE669&$G$3)","v":""},{"$f":"IF(データ処理!AK669=\"\",\"\",データ処理!AM669&データ処理!AZ669&データ処理!AR669)","v":""},{"$f":"RIGHT(データ処理!AN669,5)","v":""},{"$f":"データ処理!AO669","v":""},{"$f":"データ処理!AP669","v":""}]
[null,{"$f":"RIGHT(データ処理!AI670,5)","v":""},{"$f":"LEFT(データ処理!AJ670,5)","v":""},{"$f":"データ処理!AK670","v":0},{"$f":"IF(データ処理!AK670=\"\",\"\",データ処理!AL670&データ処理!BE670&$G$3)","v":""},{"$f":"IF(データ処理!AK670=\"\",\"\",データ処理!AM670&データ処理!AZ670&データ処理!AR670)","v":""},{"$f":"RIGHT(データ処理!AN670,5)","v":""},{"$f":"データ処理!AO670","v":""},{"$f":"データ処理!AP670","v":""}]
[null,{"$f":"RIGHT(データ処理!AI671,5)","v":""},{"$f":"LEFT(データ処理!AJ671,5)","v":""},{"$f":"データ処理!AK671","v":0},{"$f":"IF(データ処理!AK671=\"\",\"\",データ処理!AL671&データ処理!BE671&$G$3)","v":""},{"$f":"IF(データ処理!AK671=\"\",\"\",データ処理!AM671&データ処理!AZ671&データ処理!AR671)","v":""},{"$f":"RIGHT(データ処理!AN671,5)","v":""},{"$f":"データ処理!AO671","v":""},{"$f":"データ処理!AP671","v":""}]
[null,{"$f":"RIGHT(データ処理!AI672,5)","v":""},{"$f":"LEFT(データ処理!AJ672,5)","v":""},{"$f":"データ処理!AK672","v":0},{"$f":"IF(データ処理!AK672=\"\",\"\",データ処理!AL672&データ処理!BE672&$G$3)","v":""},{"$f":"IF(データ処理!AK672=\"\",\"\",データ処理!AM672&データ処理!AZ672&データ処理!AR672)","v":""},{"$f":"RIGHT(データ処理!AN672,5)","v":""},{"$f":"データ処理!AO672","v":""},{"$f":"データ処理!AP672","v":""}]
[null,{"$f":"RIGHT(データ処理!AI673,5)","v":""},{"$f":"LEFT(データ処理!AJ673,5)","v":""},{"$f":"データ処理!AK673","v":0},{"$f":"IF(データ処理!AK673=\"\",\"\",データ処理!AL673&データ処理!BE673&$G$3)","v":""},{"$f":"IF(データ処理!AK673=\"\",\"\",データ処理!AM673&データ処理!AZ673&データ処理!AR673)","v":""},{"$f":"RIGHT(データ処理!AN673,5)","v":""},{"$f":"データ処理!AO673","v":""},{"$f":"データ処理!AP673","v":""}]
[20,{"$f":"RIGHT(データ処理!AI674,5)","v":""},{"$f":"LEFT(データ処理!AJ674,5)","v":""},{"$f":"データ処理!AK674","v":0},{"$f":"IF(データ処理!AK674=\"\",\"\",データ処理!AL674&データ処理!BE674&$G$3)","v":""},{"$f":"IF(データ処理!AK674=\"\",\"\",データ処理!AM674&データ処理!AZ674&データ処理!AR674)","v":""},{"$f":"RIGHT(データ処理!AN674,5)","v":""},{"$f":"データ処理!AO674","v":""},{"$f":"データ処理!AP674","v":""}]
[null,{"$f":"RIGHT(データ処理!AI675,5)","v":""},{"$f":"LEFT(データ処理!AJ675,5)","v":""},{"$f":"データ処理!AK675","v":0},{"$f":"IF(データ処理!AK675=\"\",\"\",データ処理!AL675&データ処理!BE675&$G$3)","v":""},{"$f":"IF(データ処理!AK675=\"\",\"\",データ処理!AM675&データ処理!AZ675&データ処理!AR675)","v":""},{"$f":"RIGHT(データ処理!AN675,5)","v":""},{"$f":"データ処理!AO675","v":""},{"$f":"データ処理!AP675","v":""}]
[null,{"$f":"RIGHT(データ処理!AI676,5)","v":""},{"$f":"LEFT(データ処理!AJ676,5)","v":""},{"$f":"データ処理!AK676","v":0},{"$f":"IF(データ処理!AK676=\"\",\"\",データ処理!AL676&データ処理!BE676&$G$3)","v":""},{"$f":"IF(データ処理!AK676=\"\",\"\",データ処理!AM676&データ処理!AZ676&データ処理!AR676)","v":""},{"$f":"RIGHT(データ処理!AN676,5)","v":""},{"$f":"データ処理!AO676","v":""},{"$f":"データ処理!AP676","v":""}]
[null,{"$f":"RIGHT(データ処理!AI677,5)","v":""},{"$f":"LEFT(データ処理!AJ677,5)","v":""},{"$f":"データ処理!AK677","v":0},{"$f":"IF(データ処理!AK677=\"\",\"\",データ処理!AL677&データ処理!BE677&$G$3)","v":""},{"$f":"IF(データ処理!AK677=\"\",\"\",データ処理!AM677&データ処理!AZ677&データ処理!AR677)","v":""},{"$f":"RIGHT(データ処理!AN677,5)","v":""},{"$f":"データ処理!AO677","v":""},{"$f":"データ処理!AP677","v":""}]
[null,{"$f":"RIGHT(データ処理!AI678,5)","v":""},{"$f":"LEFT(データ処理!AJ678,5)","v":""},{"$f":"データ処理!AK678","v":0},{"$f":"IF(データ処理!AK678=\"\",\"\",データ処理!AL678&データ処理!BE678&$G$3)","v":""},{"$f":"IF(データ処理!AK678=\"\",\"\",データ処理!AM678&データ処理!AZ678&データ処理!AR678)","v":""},{"$f":"RIGHT(データ処理!AN678,5)","v":""},{"$f":"データ処理!AO678","v":""},{"$f":"データ処理!AP678","v":""}]
[null,{"$f":"RIGHT(データ処理!AI679,5)","v":""},{"$f":"LEFT(データ処理!AJ679,5)","v":""},{"$f":"データ処理!AK679","v":0},{"$f":"IF(データ処理!AK679=\"\",\"\",データ処理!AL679&データ処理!BE679&$G$3)","v":""},{"$f":"IF(データ処理!AK679=\"\",\"\",データ処理!AM679&データ処理!AZ679&データ処理!AR679)","v":""},{"$f":"RIGHT(データ処理!AN679,5)","v":""},{"$f":"データ処理!AO679","v":""},{"$f":"データ処理!AP679","v":""}]
[null,{"$f":"RIGHT(データ処理!AI680,5)","v":""},{"$f":"LEFT(データ処理!AJ680,5)","v":""},{"$f":"データ処理!AK680","v":0},{"$f":"IF(データ処理!AK680=\"\",\"\",データ処理!AL680&データ処理!BE680&$G$3)","v":""},{"$f":"IF(データ処理!AK680=\"\",\"\",データ処理!AM680&データ処理!AZ680&データ処理!AR680)","v":""},{"$f":"RIGHT(データ処理!AN680,5)","v":""},{"$f":"データ処理!AO680","v":""},{"$f":"データ処理!AP680","v":""}]
[null,{"$f":"RIGHT(データ処理!AI681,5)","v":""},{"$f":"LEFT(データ処理!AJ681,5)","v":""},{"$f":"データ処理!AK681","v":0},{"$f":"IF(データ処理!AK681=\"\",\"\",データ処理!AL681&データ処理!BE681&$G$3)","v":""},{"$f":"IF(データ処理!AK681=\"\",\"\",データ処理!AM681&データ処理!AZ681&データ処理!AR681)","v":""},{"$f":"RIGHT(データ処理!AN681,5)","v":""},{"$f":"データ処理!AO681","v":""},{"$f":"データ処理!AP681","v":""}]
[null,{"$f":"RIGHT(データ処理!AI682,5)","v":""},{"$f":"LEFT(データ処理!AJ682,5)","v":""},{"$f":"データ処理!AK682","v":0},{"$f":"IF(データ処理!AK682=\"\",\"\",データ処理!AL682&データ処理!BE682&$G$3)","v":""},{"$f":"IF(データ処理!AK682=\"\",\"\",データ処理!AM682&データ処理!AZ682&データ処理!AR682)","v":""},{"$f":"RIGHT(データ処理!AN682,5)","v":""},{"$f":"データ処理!AO682","v":""},{"$f":"データ処理!AP682","v":""}]
[null,{"$f":"RIGHT(データ処理!AI683,5)","v":""},{"$f":"LEFT(データ処理!AJ683,5)","v":""},{"$f":"データ処理!AK683","v":0},{"$f":"IF(データ処理!AK683=\"\",\"\",データ処理!AL683&データ処理!BE683&$G$3)","v":""},{"$f":"IF(データ処理!AK683=\"\",\"\",データ処理!AM683&データ処理!AZ683&データ処理!AR683)","v":""},{"$f":"RIGHT(データ処理!AN683,5)","v":""},{"$f":"データ処理!AO683","v":""},{"$f":"データ処理!AP683","v":""}]
[30,{"$f":"RIGHT(データ処理!AI684,5)","v":""},{"$f":"LEFT(データ処理!AJ684,5)","v":""},{"$f":"データ処理!AK684","v":0},{"$f":"IF(データ処理!AK684=\"\",\"\",データ処理!AL684&データ処理!BE684&$G$3)","v":""},{"$f":"IF(データ処理!AK684=\"\",\"\",データ処理!AM684&データ処理!AZ684&データ処理!AR684)","v":""},{"$f":"RIGHT(データ処理!AN684,5)","v":""},{"$f":"データ処理!AO684","v":""},{"$f":"データ処理!AP684","v":""}]
[null,{"$f":"RIGHT(データ処理!AI685,5)","v":""},{"$f":"LEFT(データ処理!AJ685,5)","v":""},{"$f":"データ処理!AK685","v":0},{"$f":"IF(データ処理!AK685=\"\",\"\",データ処理!AL685&データ処理!BE685&$G$3)","v":""},{"$f":"IF(データ処理!AK685=\"\",\"\",データ処理!AM685&データ処理!AZ685&データ処理!AR685)","v":""},{"$f":"RIGHT(データ処理!AN685,5)","v":""},{"$f":"データ処理!AO685","v":""},{"$f":"データ処理!AP685","v":""}]
[null,{"$f":"RIGHT(データ処理!AI686,5)","v":""},{"$f":"LEFT(データ処理!AJ686,5)","v":""},{"$f":"データ処理!AK686","v":0},{"$f":"IF(データ処理!AK686=\"\",\"\",データ処理!AL686&データ処理!BE686&$G$3)","v":""},{"$f":"IF(データ処理!AK686=\"\",\"\",データ処理!AM686&データ処理!AZ686&データ処理!AR686)","v":""},{"$f":"RIGHT(データ処理!AN686,5)","v":""},{"$f":"データ処理!AO686","v":""},{"$f":"データ処理!AP686","v":""}]
[null,{"$f":"RIGHT(データ処理!AI687,5)","v":""},{"$f":"LEFT(データ処理!AJ687,5)","v":""},{"$f":"データ処理!AK687","v":0},{"$f":"IF(データ処理!AK687=\"\",\"\",データ処理!AL687&データ処理!BE687&$G$3)","v":""},{"$f":"IF(データ処理!AK687=\"\",\"\",データ処理!AM687&データ処理!AZ687&データ処理!AR687)","v":""},{"$f":"RIGHT(データ処理!AN687,5)","v":""},{"$f":"データ処理!AO687","v":""},{"$f":"データ処理!AP687","v":""}]
[null,{"$f":"RIGHT(データ処理!AI688,5)","v":""},{"$f":"LEFT(データ処理!AJ688,5)","v":""},{"$f":"データ処理!AK688","v":0},{"$f":"IF(データ処理!AK688=\"\",\"\",データ処理!AL688&データ処理!BE688&$G$3)","v":""},{"$f":"IF(データ処理!AK688=\"\",\"\",データ処理!AM688&データ処理!AZ688&データ処理!AR688)","v":""},{"$f":"RIGHT(データ処理!AN688,5)","v":""},{"$f":"データ処理!AO688","v":""},{"$f":"データ処理!AP688","v":""}]
[null,{"$f":"RIGHT(データ処理!AI689,5)","v":""},{"$f":"LEFT(データ処理!AJ689,5)","v":""},{"$f":"データ処理!AK689","v":0},{"$f":"IF(データ処理!AK689=\"\",\"\",データ処理!AL689&データ処理!BE689&$G$3)","v":""},{"$f":"IF(データ処理!AK689=\"\",\"\",データ処理!AM689&データ処理!AZ689&データ処理!AR689)","v":""},{"$f":"RIGHT(データ処理!AN689,5)","v":""},{"$f":"データ処理!AO689","v":""},{"$f":"データ処理!AP689","v":""}]
[null,{"$f":"RIGHT(データ処理!AI690,5)","v":""},{"$f":"LEFT(データ処理!AJ690,5)","v":""},{"$f":"データ処理!AK690","v":0},{"$f":"IF(データ処理!AK690=\"\",\"\",データ処理!AL690&データ処理!BE690&$G$3)","v":""},{"$f":"IF(データ処理!AK690=\"\",\"\",データ処理!AM690&データ処理!AZ690&データ処理!AR690)","v":""},{"$f":"RIGHT(データ処理!AN690,5)","v":""},{"$f":"データ処理!AO690","v":""},{"$f":"データ処理!AP690","v":""}]
[null,{"$f":"RIGHT(データ処理!AI691,5)","v":""},{"$f":"LEFT(データ処理!AJ691,5)","v":""},{"$f":"データ処理!AK691","v":0},{"$f":"IF(データ処理!AK691=\"\",\"\",データ処理!AL691&データ処理!BE691&$G$3)","v":""},{"$f":"IF(データ処理!AK691=\"\",\"\",データ処理!AM691&データ処理!AZ691&データ処理!AR691)","v":""},{"$f":"RIGHT(データ処理!AN691,5)","v":""},{"$f":"データ処理!AO691","v":""},{"$f":"データ処理!AP691","v":""}]
[null,{"$f":"RIGHT(データ処理!AI692,5)","v":""},{"$f":"LEFT(データ処理!AJ692,5)","v":""},{"$f":"データ処理!AK692","v":0},{"$f":"IF(データ処理!AK692=\"\",\"\",データ処理!AL692&データ処理!BE692&$G$3)","v":""},{"$f":"IF(データ処理!AK692=\"\",\"\",データ処理!AM692&データ処理!AZ692&データ処理!AR692)","v":""},{"$f":"RIGHT(データ処理!AN692,5)","v":""},{"$f":"データ処理!AO692","v":""},{"$f":"データ処理!AP692","v":""}]
[null,{"$f":"RIGHT(データ処理!AI693,5)","v":""},{"$f":"LEFT(データ処理!AJ693,5)","v":""},{"$f":"データ処理!AK693","v":0},{"$f":"IF(データ処理!AK693=\"\",\"\",データ処理!AL693&データ処理!BE693&$G$3)","v":""},{"$f":"IF(データ処理!AK693=\"\",\"\",データ処理!AM693&データ処理!AZ693&データ処理!AR693)","v":""},{"$f":"RIGHT(データ処理!AN693,5)","v":""},{"$f":"データ処理!AO693","v":""},{"$f":"データ処理!AP693","v":""}]
[40,{"$f":"RIGHT(データ処理!AI694,5)","v":""},{"$f":"LEFT(データ処理!AJ694,5)","v":""},{"$f":"データ処理!AK694","v":0},{"$f":"IF(データ処理!AK694=\"\",\"\",データ処理!AL694&データ処理!BE694&$G$3)","v":""},{"$f":"IF(データ処理!AK694=\"\",\"\",データ処理!AM694&データ処理!AZ694&データ処理!AR694)","v":""},{"$f":"RIGHT(データ処理!AN694,5)","v":""},{"$f":"データ処理!AO694","v":""},{"$f":"データ処理!AP694","v":""}]
[null,{"$f":"RIGHT(データ処理!AI695,5)","v":""},{"$f":"LEFT(データ処理!AJ695,5)","v":""},{"$f":"データ処理!AK695","v":0},{"$f":"IF(データ処理!AK695=\"\",\"\",データ処理!AL695&データ処理!BE695&$G$3)","v":""},{"$f":"IF(データ処理!AK695=\"\",\"\",データ処理!AM695&データ処理!AZ695&データ処理!AR695)","v":""},{"$f":"RIGHT(データ処理!AN695,5)","v":""},{"$f":"データ処理!AO695","v":""},{"$f":"データ処理!AP695","v":""}]
[null,{"$f":"RIGHT(データ処理!AI696,5)","v":""},{"$f":"LEFT(データ処理!AJ696,5)","v":""},{"$f":"データ処理!AK696","v":0},{"$f":"IF(データ処理!AK696=\"\",\"\",データ処理!AL696&データ処理!BE696&$G$3)","v":""},{"$f":"IF(データ処理!AK696=\"\",\"\",データ処理!AM696&データ処理!AZ696&データ処理!AR696)","v":""},{"$f":"RIGHT(データ処理!AN696,5)","v":""},{"$f":"データ処理!AO696","v":""},{"$f":"データ処理!AP696","v":""}]
[null,{"$f":"RIGHT(データ処理!AI697,5)","v":""},{"$f":"LEFT(データ処理!AJ697,5)","v":""},{"$f":"データ処理!AK697","v":0},{"$f":"IF(データ処理!AK697=\"\",\"\",データ処理!AL697&データ処理!BE697&$G$3)","v":""},{"$f":"IF(データ処理!AK697=\"\",\"\",データ処理!AM697&データ処理!AZ697&データ処理!AR697)","v":""},{"$f":"RIGHT(データ処理!AN697,5)","v":""},{"$f":"データ処理!AO697","v":""},{"$f":"データ処理!AP697","v":""}]
[null,{"$f":"RIGHT(データ処理!AI698,5)","v":""},{"$f":"LEFT(データ処理!AJ698,5)","v":""},{"$f":"データ処理!AK698","v":0},{"$f":"IF(データ処理!AK698=\"\",\"\",データ処理!AL698&データ処理!BE698&$G$3)","v":""},{"$f":"IF(データ処理!AK698=\"\",\"\",データ処理!AM698&データ処理!AZ698&データ処理!AR698)","v":""},{"$f":"RIGHT(データ処理!AN698,5)","v":""},{"$f":"データ処理!AO698","v":""},{"$f":"データ処理!AP698","v":""}]
[null,{"$f":"RIGHT(データ処理!AI699,5)","v":""},{"$f":"LEFT(データ処理!AJ699,5)","v":""},{"$f":"データ処理!AK699","v":0},{"$f":"IF(データ処理!AK699=\"\",\"\",データ処理!AL699&データ処理!BE699&$G$3)","v":""},{"$f":"IF(データ処理!AK699=\"\",\"\",データ処理!AM699&データ処理!AZ699&データ処理!AR699)","v":""},{"$f":"RIGHT(データ処理!AN699,5)","v":""},{"$f":"データ処理!AO699","v":""},{"$f":"データ処理!AP699","v":""}]
[null,{"$f":"RIGHT(データ処理!AI700,5)","v":""},{"$f":"LEFT(データ処理!AJ700,5)","v":""},{"$f":"データ処理!AK700","v":0},{"$f":"IF(データ処理!AK700=\"\",\"\",データ処理!AL700&データ処理!BE700&$G$3)","v":""},{"$f":"IF(データ処理!AK700=\"\",\"\",データ処理!AM700&データ処理!AZ700&データ処理!AR700)","v":""},{"$f":"RIGHT(データ処理!AN700,5)","v":""},{"$f":"データ処理!AO700","v":""},{"$f":"データ処理!AP700","v":""}]
[null,{"$f":"RIGHT(データ処理!AI701,5)","v":""},{"$f":"LEFT(データ処理!AJ701,5)","v":""},{"$f":"データ処理!AK701","v":0},{"$f":"IF(データ処理!AK701=\"\",\"\",データ処理!AL701&データ処理!BE701&$G$3)","v":""},{"$f":"IF(データ処理!AK701=\"\",\"\",データ処理!AM701&データ処理!AZ701&データ処理!AR701)","v":""},{"$f":"RIGHT(データ処理!AN701,5)","v":""},{"$f":"データ処理!AO701","v":""},{"$f":"データ処理!AP701","v":""}]
[null,{"$f":"RIGHT(データ処理!AI702,5)","v":""},{"$f":"LEFT(データ処理!AJ702,5)","v":""},{"$f":"データ処理!AK702","v":0},{"$f":"IF(データ処理!AK702=\"\",\"\",データ処理!AL702&データ処理!BE702&$G$3)","v":""},{"$f":"IF(データ処理!AK702=\"\",\"\",データ処理!AM702&データ処理!AZ702&データ処理!AR702)","v":""},{"$f":"RIGHT(データ処理!AN702,5)","v":""},{"$f":"データ処理!AO702","v":""},{"$f":"データ処理!AP702","v":""}]
[null,{"$f":"RIGHT(データ処理!AI703,5)","v":""},{"$f":"LEFT(データ処理!AJ703,5)","v":""},{"$f":"データ処理!AK703","v":0},{"$f":"IF(データ処理!AK703=\"\",\"\",データ処理!AL703&データ処理!BE703&$G$3)","v":""},{"$f":"IF(データ処理!AK703=\"\",\"\",データ処理!AM703&データ処理!AZ703&データ処理!AR703)","v":""},{"$f":"RIGHT(データ処理!AN703,5)","v":""},{"$f":"データ処理!AO703","v":""},{"$f":"データ処理!AP703","v":""}]
[50,{"$f":"RIGHT(データ処理!AI704,5)","v":""},{"$f":"LEFT(データ処理!AJ704,5)","v":""},{"$f":"データ処理!AK704","v":0},{"$f":"IF(データ処理!AK704=\"\",\"\",データ処理!AL704&データ処理!BE704&$G$3)","v":""},{"$f":"IF(データ処理!AK704=\"\",\"\",データ処理!AM704&データ処理!AZ704&データ処理!AR704)","v":""},{"$f":"RIGHT(データ処理!AN704,5)","v":""},{"$f":"データ処理!AO704","v":""},{"$f":"データ処理!AP704","v":""}]
[null,"Total  (合計)",null,{"$f":"COUNTIF(B782:B831,\"*/*\")","v":0},null,"Total  (合計)",{"$f":"COUNTIF(G782:G831,\"*/*\")","v":0},{"$f":"50-COUNTBLANK(H782:H831)","v":0},{"$f":"SUM(I782:I831)","v":0}]
[]
[null,"総 合 計",null,{"$f":"IF(K778=\"\",\"\",D832+ログシート!D775)","v":""},null,"総 合 計",{"$f":"IF(K778=\"\",\"\",G832+ログシート!G775)","v":""},{"$f":"IF(K778=\"\",\"\",H832+ログシート!H775)","v":""},{"$f":"IF(K778=\"\",\"\",I832+ログシート!I775)","v":""}]
[]
[null,"ＬＯＧ　ＳＨＥＥＴ (ログシート）",null,null,"Year (年)",{"$f":"$F$10","v":"2024"},{"$f":"$G$10","v":"第38回 滋賀2mSSB\nアクティブコンテスト"}]
[null,"Callsign (ｺｰﾙｻｲﾝ)",null,{"$f":"$D$11","v":0},"BAND（バンド）",{"$f":"$F$11","v":144},"MHz/SSB",null,"Sheet No.",null,{"$f":"IF(E841=\"\",\"\",L840&\"/\"&$E$3)","v":""}]
[]
[null,"Date Time",null,"Station Wkd","Exchange (ｺﾝﾃｽﾄﾅﾝﾊﾞｰ)",null,"Multi.（マルチ）",null,"Pts.","Op.","備考"]
[null,"月/日","時分JST","交信局","Sent (送信)","Received (受信)","日数マルチ","テールレター","得点","運用者",null,15]
[null,{"$f":"RIGHT(データ処理!AI705,5)","v":""},{"$f":"LEFT(データ処理!AJ705,5)","v":""},{"$f":"データ処理!AK705","v":0},{"$f":"IF(データ処理!AK705=\"\",\"\",データ処理!AL705&データ処理!BE705&$G$3)","v":""},{"$f":"IF(データ処理!AK705=\"\",\"\",データ処理!AM705&データ処理!AZ705&データ処理!AR705)","v":""},{"$f":"RIGHT(データ処理!AN705,5)","v":""},{"$f":"データ処理!AO705","v":""},{"$f":"データ処理!AP705","v":""}]
[null,{"$f":"RIGHT(データ処理!AI706,5)","v":""},{"$f":"LEFT(データ処理!AJ706,5)","v":""},{"$f":"データ処理!AK706","v":0},{"$f":"IF(データ処理!AK706=\"\",\"\",データ処理!AL706&データ処理!BE706&$G$3)","v":""},{"$f":"IF(データ処理!AK706=\"\",\"\",データ処理!AM706&データ処理!AZ706&データ処理!AR706)","v":""},{"$f":"RIGHT(データ処理!AN706,5)","v":""},{"$f":"データ処理!AO706","v":""},{"$f":"データ処理!AP706","v":""}]
[null,{"$f":"RIGHT(データ処理!AI707,5)","v":""},{"$f":"LEFT(データ処理!AJ707,5)","v":""},{"$f":"データ処理!AK707","v":0},{"$f":"IF(データ処理!AK707=\"\",\"\",データ処理!AL707&データ処理!BE707&$G$3)","v":""},{"$f":"IF(データ処理!AK707=\"\",\"\",データ処理!AM707&データ処理!AZ707&データ処理!AR707)","v":""},{"$f":"RIGHT(データ処理!AN707,5)","v":""},{"$f":"データ処理!AO707","v":""},{"$f":"データ処理!AP707","v":""}]
[null,{"$f":"RIGHT(データ処理!AI708,5)","v":""},{"$f":"LEFT(データ処理!AJ708,5)","v":""},{"$f":"データ処理!AK708","v":0},{"$f":"IF(データ処理!AK708=\"\",\"\",データ処理!AL708&データ処理!BE708&$G$3)","v":""},{"$f":"IF(データ処理!AK708=\"\",\"\",データ処理!AM708&データ処理!AZ708&データ処理!AR708)","v":""},{"$f":"RIGHT(データ処理!AN708,5)","v":""},{"$f":"データ処理!AO708","v":""},{"$f":"データ処理!AP708","v":""}]
[null,{"$f":"RIGHT(データ処理!AI709,5)","v":""},{"$f":"LEFT(データ処理!AJ709,5)","v":""},{"$f":"データ処理!AK709","v":0},{"$f":"IF(データ処理!AK709=\"\",\"\",データ処理!AL709&データ処理!BE709&$G$3)","v":""},{"$f":"IF(データ処理!AK709=\"\",\"\",データ処理!AM709&データ処理!AZ709&データ処理!AR709)","v":""},{"$f":"RIGHT(データ処理!AN709,5)","v":""},{"$f":"データ処理!AO709","v":""},{"$f":"データ処理!AP709","v":""}]
[null,{"$f":"RIGHT(データ処理!AI710,5)","v":""},{"$f":"LEFT(データ処理!AJ710,5)","v":""},{"$f":"データ処理!AK710","v":0},{"$f":"IF(データ処理!AK710=\"\",\"\",データ処理!AL710&データ処理!BE710&$G$3)","v":""},{"$f":"IF(データ処理!AK710=\"\",\"\",データ処理!AM710&データ処理!AZ710&データ処理!AR710)","v":""},{"$f":"RIGHT(データ処理!AN710,5)","v":""},{"$f":"データ処理!AO710","v":""},{"$f":"データ処理!AP710","v":""}]
[null,{"$f":"RIGHT(データ処理!AI711,5)","v":""},{"$f":"LEFT(データ処理!AJ711,5)","v":""},{"$f":"データ処理!AK711","v":0},{"$f":"IF(データ処理!AK711=\"\",\"\",データ処理!AL711&データ処理!BE711&$G$3)","v":""},{"$f":"IF(データ処理!AK711=\"\",\"\",データ処理!AM711&データ処理!AZ711&データ処理!AR711)","v":""},{"$f":"RIGHT(データ処理!AN711,5)","v":""},{"$f":"データ処理!AO711","v":""},{"$f":"データ処理!AP711","v":""}]
[null,{"$f":"RIGHT(データ処理!AI712,5)","v":""},{"$f":"LEFT(データ処理!AJ712,5)","v":""},{"$f":"データ処理!AK712","v":0},{"$f":"IF(データ処理!AK712=\"\",\"\",データ処理!AL712&データ処理!BE712&$G$3)","v":""},{"$f":"IF(データ処理!AK712=\"\",\"\",データ処理!AM712&データ処理!AZ712&データ処理!AR712)","v":""},{"$f":"RIGHT(データ処理!AN712,5)","v":""},{"$f":"データ処理!AO712","v":""},{"$f":"データ処理!AP712","v":""}]
[null,{"$f":"RIGHT(データ処理!AI713,5)","v":""},{"$f":"LEFT(データ処理!AJ713,5)","v":""},{"$f":"データ処理!AK713","v":0},{"$f":"IF(データ処理!AK713=\"\",\"\",データ処理!AL713&データ処理!BE713&$G$3)","v":""},{"$f":"IF(データ処理!AK713=\"\",\"\",データ処理!AM713&データ処理!AZ713&データ処理!AR713)","v":""},{"$f":"RIGHT(データ処理!AN713,5)","v":""},{"$f":"データ処理!AO713","v":""},{"$f":"データ処理!AP713","v":""}]
[10,{"$f":"RIGHT(データ処理!AI714,5)","v":""},{"$f":"LEFT(データ処理!AJ714,5)","v":""},{"$f":"データ処理!AK714","v":0},{"$f":"IF(データ処理!AK714=\"\",\"\",データ処理!AL714&データ処理!BE714&$G$3)","v":""},{"$f":"IF(データ処理!AK714=\"\",\"\",データ処理!AM714&データ処理!AZ714&データ処理!AR714)","v":""},{"$f":"RIGHT(データ処理!AN714,5)","v":""},{"$f":"データ処理!AO714","v":""},{"$f":"データ処理!AP714","v":""}]
[null,{"$f":"RIGHT(データ処理!AI715,5)","v":""},{"$f":"LEFT(データ処理!AJ715,5)","v":""},{"$f":"データ処理!AK715","v":0},{"$f":"IF(データ処理!AK715=\"\",\"\",データ処理!AL715&データ処理!BE715&$G$3)","v":""},{"$f":"IF(データ処理!AK715=\"\",\"\",データ処理!AM715&データ処理!AZ715&データ処理!AR715)","v":""},{"$f":"RIGHT(データ処理!AN715,5)","v":""},{"$f":"データ処理!AO715","v":""},{"$f":"データ処理!AP715","v":""}]
[null,{"$f":"RIGHT(データ処理!AI716,5)","v":""},{"$f":"LEFT(データ処理!AJ716,5)","v":""},{"$f":"データ処理!AK716","v":0},{"$f":"IF(データ処理!AK716=\"\",\"\",データ処理!AL716&データ処理!BE716&$G$3)","v":""},{"$f":"IF(データ処理!AK716=\"\",\"\",データ処理!AM716&データ処理!AZ716&データ処理!AR716)","v":""},{"$f":"RIGHT(データ処理!AN716,5)","v":""},{"$f":"データ処理!AO716","v":""},{"$f":"データ処理!AP716","v":""}]
[null,{"$f":"RIGHT(データ処理!AI717,5)","v":""},{"$f":"LEFT(データ処理!AJ717,5)","v":""},{"$f":"データ処理!AK717","v":0},{"$f":"IF(データ処理!AK717=\"\",\"\",データ処理!AL717&データ処理!BE717&$G$3)","v":""},{"$f":"IF(データ処理!AK717=\"\",\"\",データ処理!AM717&データ処理!AZ717&データ処理!AR717)","v":""},{"$f":"RIGHT(データ処理!AN717,5)","v":""},{"$f":"データ処理!AO717","v":""},{"$f":"データ処理!AP717","v":""}]
[null,{"$f":"RIGHT(データ処理!AI718,5)","v":""},{"$f":"LEFT(データ処理!AJ718,5)","v":""},{"$f":"データ処理!AK718","v":0},{"$f":"IF(データ処理!AK718=\"\",\"\",データ処理!AL718&データ処理!BE718&$G$3)","v":""},{"$f":"IF(データ処理!AK718=\"\",\"\",データ処理!AM718&データ処理!AZ718&データ処理!AR718)","v":""},{"$f":"RIGHT(データ処理!AN718,5)","v":""},{"$f":"データ処理!AO718","v":""},{"$f":"データ処理!AP718","v":""}]
[null,{"$f":"RIGHT(データ処理!AI719,5)","v":""},{"$f":"LEFT(データ処理!AJ719,5)","v":""},{"$f":"データ処理!AK719","v":0},{"$f":"IF(データ処理!AK719=\"\",\"\",データ処理!AL719&データ処理!BE719&$G$3)","v":""},{"$f":"IF(データ処理!AK719=\"\",\"\",データ処理!AM719&データ処理!AZ719&データ処理!AR719)","v":""},{"$f":"RIGHT(データ処理!AN719,5)","v":""},{"$f":"データ処理!AO719","v":""},{"$f":"データ処理!AP719","v":""}]
[null,{"$f":"RIGHT(データ処理!AI720,5)","v":""},{"$f":"LEFT(データ処理!AJ720,5)","v":""},{"$f":"データ処理!AK720","v":0},{"$f":"IF(データ処理!AK720=\"\",\"\",データ処理!AL720&データ処理!BE720&$G$3)","v":""},{"$f":"IF(データ処理!AK720=\"\",\"\",データ処理!AM720&データ処理!AZ720&データ処理!AR720)","v":""},{"$f":"RIGHT(データ処理!AN720,5)","v":""},{"$f":"データ処理!AO720","v":""},{"$f":"データ処理!AP720","v":""}]
[null,{"$f":"RIGHT(データ処理!AI721,5)","v":""},{"$f":"LEFT(データ処理!AJ721,5)","v":""},{"$f":"データ処理!AK721","v":0},{"$f":"IF(データ処理!AK721=\"\",\"\",データ処理!AL721&データ処理!BE721&$G$3)","v":""},{"$f":"IF(データ処理!AK721=\"\",\"\",データ処理!AM721&データ処理!AZ721&データ処理!AR721)","v":""},{"$f":"RIGHT(データ処理!AN721,5)","v":""},{"$f":"データ処理!AO721","v":""},{"$f":"データ処理!AP721","v":""}]
[null,{"$f":"RIGHT(データ処理!AI722,5)","v":""},{"$f":"LEFT(データ処理!AJ722,5)","v":""},{"$f":"データ処理!AK722","v":0},{"$f":"IF(データ処理!AK722=\"\",\"\",データ処理!AL722&データ処理!BE722&$G$3)","v":""},{"$f":"IF(データ処理!AK722=\"\",\"\",データ処理!AM722&データ処理!AZ722&データ処理!AR722)","v":""},{"$f":"RIGHT(データ処理!AN722,5)","v":""},{"$f":"データ処理!AO722","v":""},{"$f":"データ処理!AP722","v":""}]
[null,{"$f":"RIGHT(データ処理!AI723,5)","v":""},{"$f":"LEFT(データ処理!AJ723,5)","v":""},{"$f":"データ処理!AK723","v":0},{"$f":"IF(データ処理!AK723=\"\",\"\",データ処理!AL723&データ処理!BE723&$G$3)","v":""},{"$f":"IF(データ処理!AK723=\"\",\"\",データ処理!AM723&データ処理!AZ723&データ処理!AR723)","v":""},{"$f":"RIGHT(データ処理!AN723,5)","v":""},{"$f":"データ処理!AO723","v":""},{"$f":"データ処理!AP723","v":""}]
[20,{"$f":"RIGHT(データ処理!AI724,5)","v":""},{"$f":"LEFT(データ処理!AJ724,5)","v":""},{"$f":"データ処理!AK724","v":0},{"$f":"IF(データ処理!AK724=\"\",\"\",データ処理!AL724&データ処理!BE724&$G$3)","v":""},{"$f":"IF(データ処理!AK724=\"\",\"\",データ処理!AM724&データ処理!AZ724&データ処理!AR724)","v":""},{"$f":"RIGHT(データ処理!AN724,5)","v":""},{"$f":"データ処理!AO724","v":""},{"$f":"データ処理!AP724","v":""}]
[null,{"$f":"RIGHT(データ処理!AI725,5)","v":""},{"$f":"LEFT(データ処理!AJ725,5)","v":""},{"$f":"データ処理!AK725","v":0},{"$f":"IF(データ処理!AK725=\"\",\"\",データ処理!AL725&データ処理!BE725&$G$3)","v":""},{"$f":"IF(データ処理!AK725=\"\",\"\",データ処理!AM725&データ処理!AZ725&データ処理!AR725)","v":""},{"$f":"RIGHT(データ処理!AN725,5)","v":""},{"$f":"データ処理!AO725","v":""},{"$f":"データ処理!AP725","v":""}]
[null,{"$f":"RIGHT(データ処理!AI726,5)","v":""},{"$f":"LEFT(データ処理!AJ726,5)","v":""},{"$f":"データ処理!AK726","v":0},{"$f":"IF(データ処理!AK726=\"\",\"\",データ処理!AL726&データ処理!BE726&$G$3)","v":""},{"$f":"IF(データ処理!AK726=\"\",\"\",データ処理!AM726&データ処理!AZ726&データ処理!AR726)","v":""},{"$f":"RIGHT(データ処理!AN726,5)","v":""},{"$f":"データ処理!AO726","v":""},{"$f":"データ処理!AP726","v":""}]
[null,{"$f":"RIGHT(データ処理!AI727,5)","v":""},{"$f":"LEFT(データ処理!AJ727,5)","v":""},{"$f":"データ処理!AK727","v":0},{"$f":"IF(データ処理!AK727=\"\",\"\",データ処理!AL727&データ処理!BE727&$G$3)","v":""},{"$f":"IF(データ処理!AK727=\"\",\"\",データ処理!AM727&データ処理!AZ727&データ処理!AR727)","v":""},{"$f":"RIGHT(データ処理!AN727,5)","v":""},{"$f":"データ処理!AO727","v":""},{"$f":"データ処理!AP727","v":""}]
[null,{"$f":"RIGHT(データ処理!AI728,5)","v":""},{"$f":"LEFT(データ処理!AJ728,5)","v":""},{"$f":"データ処理!AK728","v":0},{"$f":"IF(データ処理!AK728=\"\",\"\",データ処理!AL728&データ処理!BE728&$G$3)","v":""},{"$f":"IF(データ処理!AK728=\"\",\"\",データ処理!AM728&データ処理!AZ728&データ処理!AR728)","v":""},{"$f":"RIGHT(データ処理!AN728,5)","v":""},{"$f":"データ処理!AO728","v":""},{"$f":"データ処理!AP728","v":""}]
[null,{"$f":"RIGHT(データ処理!AI729,5)","v":""},{"$f":"LEFT(データ処理!AJ729,5)","v":""},{"$f":"データ処理!AK729","v":0},{"$f":"IF(データ処理!AK729=\"\",\"\",データ処理!AL729&データ処理!BE729&$G$3)","v":""},{"$f":"IF(データ処理!AK729=\"\",\"\",データ処理!AM729&データ処理!AZ729&データ処理!AR729)","v":""},{"$f":"RIGHT(データ処理!AN729,5)","v":""},{"$f":"データ処理!AO729","v":""},{"$f":"データ処理!AP729","v":""}]
[null,{"$f":"RIGHT(データ処理!AI730,5)","v":""},{"$f":"LEFT(データ処理!AJ730,5)","v":""},{"$f":"データ処理!AK730","v":0},{"$f":"IF(データ処理!AK730=\"\",\"\",データ処理!AL730&データ処理!BE730&$G$3)","v":""},{"$f":"IF(データ処理!AK730=\"\",\"\",データ処理!AM730&データ処理!AZ730&データ処理!AR730)","v":""},{"$f":"RIGHT(データ処理!AN730,5)","v":""},{"$f":"データ処理!AO730","v":""},{"$f":"データ処理!AP730","v":""}]
[null,{"$f":"RIGHT(データ処理!AI731,5)","v":""},{"$f":"LEFT(データ処理!AJ731,5)","v":""},{"$f":"データ処理!AK731","v":0},{"$f":"IF(データ処理!AK731=\"\",\"\",データ処理!AL731&データ処理!BE731&$G$3)","v":""},{"$f":"IF(データ処理!AK731=\"\",\"\",データ処理!AM731&データ処理!AZ731&データ処理!AR731)","v":""},{"$f":"RIGHT(データ処理!AN731,5)","v":""},{"$f":"データ処理!AO731","v":""},{"$f":"データ処理!AP731","v":""}]
[null,{"$f":"RIGHT(データ処理!AI732,5)","v":""},{"$f":"LEFT(データ処理!AJ732,5)","v":""},{"$f":"データ処理!AK732","v":0},{"$f":"IF(データ処理!AK732=\"\",\"\",データ処理!AL732&データ処理!BE732&$G$3)","v":""},{"$f":"IF(データ処理!AK732=\"\",\"\",データ処理!AM732&データ処理!AZ732&データ処理!AR732)","v":""},{"$f":"RIGHT(データ処理!AN732,5)","v":""},{"$f":"データ処理!AO732","v":""},{"$f":"データ処理!AP732","v":""}]
[null,{"$f":"RIGHT(データ処理!AI733,5)","v":""},{"$f":"LEFT(データ処理!AJ733,5)","v":""},{"$f":"データ処理!AK733","v":0},{"$f":"IF(データ処理!AK733=\"\",\"\",データ処理!AL733&データ処理!BE733&$G$3)","v":""},{"$f":"IF(データ処理!AK733=\"\",\"\",データ処理!AM733&データ処理!AZ733&データ処理!AR733)","v":""},{"$f":"RIGHT(データ処理!AN733,5)","v":""},{"$f":"データ処理!AO733","v":""},{"$f":"データ処理!AP733","v":""}]
[30,{"$f":"RIGHT(データ処理!AI734,5)","v":""},{"$f":"LEFT(データ処理!AJ734,5)","v":""},{"$f":"データ処理!AK734","v":0},{"$f":"IF(データ処理!AK734=\"\",\"\",データ処理!AL734&データ処理!BE734&$G$3)","v":""},{"$f":"IF(データ処理!AK734=\"\",\"\",データ処理!AM734&データ処理!AZ734&データ処理!AR734)","v":""},{"$f":"RIGHT(データ処理!AN734,5)","v":""},{"$f":"データ処理!AO734","v":""},{"$f":"データ処理!AP734","v":""}]
[null,{"$f":"RIGHT(データ処理!AI735,5)","v":""},{"$f":"LEFT(データ処理!AJ735,5)","v":""},{"$f":"データ処理!AK735","v":0},{"$f":"IF(データ処理!AK735=\"\",\"\",データ処理!AL735&データ処理!BE735&$G$3)","v":""},{"$f":"IF(データ処理!AK735=\"\",\"\",データ処理!AM735&データ処理!AZ735&データ処理!AR735)","v":""},{"$f":"RIGHT(データ処理!AN735,5)","v":""},{"$f":"データ処理!AO735","v":""},{"$f":"データ処理!AP735","v":""}]
[null,{"$f":"RIGHT(データ処理!AI736,5)","v":""},{"$f":"LEFT(データ処理!AJ736,5)","v":""},{"$f":"データ処理!AK736","v":0},{"$f":"IF(データ処理!AK736=\"\",\"\",データ処理!AL736&データ処理!BE736&$G$3)","v":""},{"$f":"IF(データ処理!AK736=\"\",\"\",データ処理!AM736&データ処理!AZ736&データ処理!AR736)","v":""},{"$f":"RIGHT(データ処理!AN736,5)","v":""},{"$f":"データ処理!AO736","v":""},{"$f":"データ処理!AP736","v":""}]
[null,{"$f":"RIGHT(データ処理!AI737,5)","v":""},{"$f":"LEFT(データ処理!AJ737,5)","v":""},{"$f":"データ処理!AK737","v":0},{"$f":"IF(データ処理!AK737=\"\",\"\",データ処理!AL737&データ処理!BE737&$G$3)","v":""},{"$f":"IF(データ処理!AK737=\"\",\"\",データ処理!AM737&データ処理!AZ737&データ処理!AR737)","v":""},{"$f":"RIGHT(データ処理!AN737,5)","v":""},{"$f":"データ処理!AO737","v":""},{"$f":"データ処理!AP737","v":""}]
[null,{"$f":"RIGHT(データ処理!AI738,5)","v":""},{"$f":"LEFT(データ処理!AJ738,5)","v":""},{"$f":"データ処理!AK738","v":0},{"$f":"IF(データ処理!AK738=\"\",\"\",データ処理!AL738&データ処理!BE738&$G$3)","v":""},{"$f":"IF(データ処理!AK738=\"\",\"\",データ処理!AM738&データ処理!AZ738&データ処理!AR738)","v":""},{"$f":"RIGHT(データ処理!AN738,5)","v":""},{"$f":"データ処理!AO738","v":""},{"$f":"データ処理!AP738","v":""}]
[null,{"$f":"RIGHT(データ処理!AI739,5)","v":""},{"$f":"LEFT(データ処理!AJ739,5)","v":""},{"$f":"データ処理!AK739","v":0},{"$f":"IF(データ処理!AK739=\"\",\"\",データ処理!AL739&データ処理!BE739&$G$3)","v":""},{"$f":"IF(データ処理!AK739=\"\",\"\",データ処理!AM739&データ処理!AZ739&データ処理!AR739)","v":""},{"$f":"RIGHT(データ処理!AN739,5)","v":""},{"$f":"データ処理!AO739","v":""},{"$f":"データ処理!AP739","v":""}]
[null,{"$f":"RIGHT(データ処理!AI740,5)","v":""},{"$f":"LEFT(データ処理!AJ740,5)","v":""},{"$f":"データ処理!AK740","v":0},{"$f":"IF(データ処理!AK740=\"\",\"\",データ処理!AL740&データ処理!BE740&$G$3)","v":""},{"$f":"IF(データ処理!AK740=\"\",\"\",データ処理!AM740&データ処理!AZ740&データ処理!AR740)","v":""},{"$f":"RIGHT(データ処理!AN740,5)","v":""},{"$f":"データ処理!AO740","v":""},{"$f":"データ処理!AP740","v":""}]
[null,{"$f":"RIGHT(データ処理!AI741,5)","v":""},{"$f":"LEFT(データ処理!AJ741,5)","v":""},{"$f":"データ処理!AK741","v":0},{"$f":"IF(データ処理!AK741=\"\",\"\",データ処理!AL741&データ処理!BE741&$G$3)","v":""},{"$f":"IF(データ処理!AK741=\"\",\"\",データ処理!AM741&データ処理!AZ741&データ処理!AR741)","v":""},{"$f":"RIGHT(データ処理!AN741,5)","v":""},{"$f":"データ処理!AO741","v":""},{"$f":"データ処理!AP741","v":""}]
[null,{"$f":"RIGHT(データ処理!AI742,5)","v":""},{"$f":"LEFT(データ処理!AJ742,5)","v":""},{"$f":"データ処理!AK742","v":0},{"$f":"IF(データ処理!AK742=\"\",\"\",データ処理!AL742&データ処理!BE742&$G$3)","v":""},{"$f":"IF(データ処理!AK742=\"\",\"\",データ処理!AM742&データ処理!AZ742&データ処理!AR742)","v":""},{"$f":"RIGHT(データ処理!AN742,5)","v":""},{"$f":"データ処理!AO742","v":""},{"$f":"データ処理!AP742","v":""}]
[null,{"$f":"RIGHT(データ処理!AI743,5)","v":""},{"$f":"LEFT(データ処理!AJ743,5)","v":""},{"$f":"データ処理!AK743","v":0},{"$f":"IF(データ処理!AK743=\"\",\"\",データ処理!AL743&データ処理!BE743&$G$3)","v":""},{"$f":"IF(データ処理!AK743=\"\",\"\",データ処理!AM743&データ処理!AZ743&データ処理!AR743)","v":""},{"$f":"RIGHT(データ処理!AN743,5)","v":""},{"$f":"データ処理!AO743","v":""},{"$f":"データ処理!AP743","v":""}]
[40,{"$f":"RIGHT(データ処理!AI744,5)","v":""},{"$f":"LEFT(データ処理!AJ744,5)","v":""},{"$f":"データ処理!AK744","v":0},{"$f":"IF(データ処理!AK744=\"\",\"\",データ処理!AL744&データ処理!BE744&$G$3)","v":""},{"$f":"IF(データ処理!AK744=\"\",\"\",データ処理!AM744&データ処理!AZ744&データ処理!AR744)","v":""},{"$f":"RIGHT(データ処理!AN744,5)","v":""},{"$f":"データ処理!AO744","v":""},{"$f":"データ処理!AP744","v":""}]
[null,{"$f":"RIGHT(データ処理!AI745,5)","v":""},{"$f":"LEFT(データ処理!AJ745,5)","v":""},{"$f":"データ処理!AK745","v":0},{"$f":"IF(データ処理!AK745=\"\",\"\",データ処理!AL745&データ処理!BE745&$G$3)","v":""},{"$f":"IF(データ処理!AK745=\"\",\"\",データ処理!AM745&データ処理!AZ745&データ処理!AR745)","v":""},{"$f":"RIGHT(データ処理!AN745,5)","v":""},{"$f":"データ処理!AO745","v":""},{"$f":"データ処理!AP745","v":""}]
[null,{"$f":"RIGHT(データ処理!AI746,5)","v":""},{"$f":"LEFT(データ処理!AJ746,5)","v":""},{"$f":"データ処理!AK746","v":0},{"$f":"IF(データ処理!AK746=\"\",\"\",データ処理!AL746&データ処理!BE746&$G$3)","v":""},{"$f":"IF(データ処理!AK746=\"\",\"\",データ処理!AM746&データ処理!AZ746&データ処理!AR746)","v":""},{"$f":"RIGHT(データ処理!AN746,5)","v":""},{"$f":"データ処理!AO746","v":""},{"$f":"データ処理!AP746","v":""}]
[null,{"$f":"RIGHT(データ処理!AI747,5)","v":""},{"$f":"LEFT(データ処理!AJ747,5)","v":""},{"$f":"データ処理!AK747","v":0},{"$f":"IF(データ処理!AK747=\"\",\"\",データ処理!AL747&データ処理!BE747&$G$3)","v":""},{"$f":"IF(データ処理!AK747=\"\",\"\",データ処理!AM747&データ処理!AZ747&データ処理!AR747)","v":""},{"$f":"RIGHT(データ処理!AN747,5)","v":""},{"$f":"データ処理!AO747","v":""},{"$f":"データ処理!AP747","v":""}]
[null,{"$f":"RIGHT(データ処理!AI748,5)","v":""},{"$f":"LEFT(データ処理!AJ748,5)","v":""},{"$f":"データ処理!AK748","v":0},{"$f":"IF(データ処理!AK748=\"\",\"\",データ処理!AL748&データ処理!BE748&$G$3)","v":""},{"$f":"IF(データ処理!AK748=\"\",\"\",データ処理!AM748&データ処理!AZ748&データ処理!AR748)","v":""},{"$f":"RIGHT(データ処理!AN748,5)","v":""},{"$f":"データ処理!AO748","v":""},{"$f":"データ処理!AP748","v":""}]
[null,{"$f":"RIGHT(データ処理!AI749,5)","v":""},{"$f":"LEFT(データ処理!AJ749,5)","v":""},{"$f":"データ処理!AK749","v":0},{"$f":"IF(データ処理!AK749=\"\",\"\",データ処理!AL749&データ処理!BE749&$G$3)","v":""},{"$f":"IF(データ処理!AK749=\"\",\"\",データ処理!AM749&データ処理!AZ749&データ処理!AR749)","v":""},{"$f":"RIGHT(データ処理!AN749,5)","v":""},{"$f":"データ処理!AO749","v":""},{"$f":"データ処理!AP749","v":""}]
[null,{"$f":"RIGHT(データ処理!AI750,5)","v":""},{"$f":"LEFT(データ処理!AJ750,5)","v":""},{"$f":"データ処理!AK750","v":0},{"$f":"IF(データ処理!AK750=\"\",\"\",データ処理!AL750&データ処理!BE750&$G$3)","v":""},{"$f":"IF(データ処理!AK750=\"\",\"\",データ処理!AM750&データ処理!AZ750&データ処理!AR750)","v":""},{"$f":"RIGHT(データ処理!AN750,5)","v":""},{"$f":"データ処理!AO750","v":""},{"$f":"データ処理!AP750","v":""}]
[null,{"$f":"RIGHT(データ処理!AI751,5)","v":""},{"$f":"LEFT(データ処理!AJ751,5)","v":""},{"$f":"データ処理!AK751","v":0},{"$f":"IF(データ処理!AK751=\"\",\"\",データ処理!AL751&データ処理!BE751&$G$3)","v":""},{"$f":"IF(データ処理!AK751=\"\",\"\",データ処理!AM751&データ処理!AZ751&データ処理!AR751)","v":""},{"$f":"RIGHT(データ処理!AN751,5)","v":""},{"$f":"データ処理!AO751","v":""},{"$f":"データ処理!AP751","v":""}]
[null,{"$f":"RIGHT(データ処理!AI752,5)","v":""},{"$f":"LEFT(データ処理!AJ752,5)","v":""},{"$f":"データ処理!AK752","v":0},{"$f":"IF(データ処理!AK752=\"\",\"\",データ処理!AL752&データ処理!BE752&$G$3)","v":""},{"$f":"IF(データ処理!AK752=\"\",\"\",データ処理!AM752&データ処理!AZ752&データ処理!AR752)","v":""},{"$f":"RIGHT(データ処理!AN752,5)","v":""},{"$f":"データ処理!AO752","v":""},{"$f":"データ処理!AP752","v":""}]
[null,{"$f":"RIGHT(データ処理!AI753,5)","v":""},{"$f":"LEFT(データ処理!AJ753,5)","v":""},{"$f":"データ処理!AK753","v":0},{"$f":"IF(データ処理!AK753=\"\",\"\",データ処理!AL753&データ処理!BE753&$G$3)","v":""},{"$f":"IF(データ処理!AK753=\"\",\"\",データ処理!AM753&データ処理!AZ753&データ処理!AR753)","v":""},{"$f":"RIGHT(データ処理!AN753,5)","v":""},{"$f":"データ処理!AO753","v":""},{"$f":"データ処理!AP753","v":""}]
[50,{"$f":"RIGHT(データ処理!AI754,5)","v":""},{"$f":"LEFT(データ処理!AJ754,5)","v":""},{"$f":"データ処理!AK754","v":0},{"$f":"IF(データ処理!AK754=\"\",\"\",データ処理!AL754&データ処理!BE754&$G$3)","v":""},{"$f":"IF(データ処理!AK754=\"\",\"\",データ処理!AM754&データ処理!AZ754&データ処理!AR754)","v":""},{"$f":"RIGHT(データ処理!AN754,5)","v":""},{"$f":"データ処理!AO754","v":""},{"$f":"データ処理!AP754","v":""}]
[null,"Total  (合計)",null,{"$f":"COUNTIF(B841:B890,\"*/*\")","v":0},null,"Total  (合計)",{"$f":"COUNTIF(G841:G890,\"*/*\")","v":0},{"$f":"50-COUNTBLANK(H841:H890)","v":0},{"$f":"SUM(I841:I890)","v":0}]
[]
[null,"総 合 計",null,{"$f":"IF(K837=\"\",\"\",D891+ログシート!D834)","v":""},null,"総 合 計",{"$f":"IF(K837=\"\",\"\",G891+ログシート!G834)","v":""},{"$f":"IF(K837=\"\",\"\",H891+ログシート!H834)","v":""},{"$f":"IF(K837=\"\",\"\",I891+ログシート!I834)","v":""}]
[]
[null,"ＬＯＧ　ＳＨＥＥＴ (ログシート）",null,null,"Year (年)",{"$f":"$F$10","v":"2024"},{"$f":"$G$10","v":"第38回 滋賀2mSSB\nアクティブコンテスト"}]
[null,"Callsign (ｺｰﾙｻｲﾝ)",null,{"$f":"$D$11","v":0},"BAND（バンド）",{"$f":"$F$11","v":144},"MHz/SSB",null,"Sheet No.",null,{"$f":"IF(E900=\"\",\"\",L899&\"/\"&$E$3)","v":""}]
[]
[null,"Date Time",null,"Station Wkd","Exchange (ｺﾝﾃｽﾄﾅﾝﾊﾞｰ)",null,"Multi.（マルチ）",null,"Pts.","Op.","備考"]
[null,"月/日","時分JST","交信局","Sent (送信)","Received (受信)","日数マルチ","テールレター","得点","運用者",null,16]
[null,{"$f":"RIGHT(データ処理!AI755,5)","v":""},{"$f":"LEFT(データ処理!AJ755,5)","v":""},{"$f":"データ処理!AK755","v":0},{"$f":"IF(データ処理!AK755=\"\",\"\",データ処理!AL755&データ処理!BE755&$G$3)","v":""},{"$f":"IF(データ処理!AK755=\"\",\"\",データ処理!AM755&データ処理!AZ755&データ処理!AR755)","v":""},{"$f":"RIGHT(データ処理!AN755,5)","v":""},{"$f":"データ処理!AO755","v":""},{"$f":"データ処理!AP755","v":""}]
[null,{"$f":"RIGHT(データ処理!AI756,5)","v":""},{"$f":"LEFT(データ処理!AJ756,5)","v":""},{"$f":"データ処理!AK756","v":0},{"$f":"IF(データ処理!AK756=\"\",\"\",データ処理!AL756&データ処理!BE756&$G$3)","v":""},{"$f":"IF(データ処理!AK756=\"\",\"\",データ処理!AM756&データ処理!AZ756&データ処理!AR756)","v":""},{"$f":"RIGHT(データ処理!AN756,5)","v":""},{"$f":"データ処理!AO756","v":""},{"$f":"データ処理!AP756","v":""}]
[null,{"$f":"RIGHT(データ処理!AI757,5)","v":""},{"$f":"LEFT(データ処理!AJ757,5)","v":""},{"$f":"データ処理!AK757","v":0},{"$f":"IF(データ処理!AK757=\"\",\"\",データ処理!AL757&データ処理!BE757&$G$3)","v":""},{"$f":"IF(データ処理!AK757=\"\",\"\",データ処理!AM757&データ処理!AZ757&データ処理!AR757)","v":""},{"$f":"RIGHT(データ処理!AN757,5)","v":""},{"$f":"データ処理!AO757","v":""},{"$f":"データ処理!AP757","v":""}]
[null,{"$f":"RIGHT(データ処理!AI758,5)","v":""},{"$f":"LEFT(データ処理!AJ758,5)","v":""},{"$f":"データ処理!AK758","v":0},{"$f":"IF(データ処理!AK758=\"\",\"\",データ処理!AL758&データ処理!BE758&$G$3)","v":""},{"$f":"IF(データ処理!AK758=\"\",\"\",データ処理!AM758&データ処理!AZ758&データ処理!AR758)","v":""},{"$f":"RIGHT(データ処理!AN758,5)","v":""},{"$f":"データ処理!AO758","v":""},{"$f":"データ処理!AP758","v":""}]
[null,{"$f":"RIGHT(データ処理!AI759,5)","v":""},{"$f":"LEFT(データ処理!AJ759,5)","v":""},{"$f":"データ処理!AK759","v":0},{"$f":"IF(データ処理!AK759=\"\",\"\",データ処理!AL759&データ処理!BE759&$G$3)","v":""},{"$f":"IF(データ処理!AK759=\"\",\"\",データ処理!AM759&データ処理!AZ759&データ処理!AR759)","v":""},{"$f":"RIGHT(データ処理!AN759,5)","v":""},{"$f":"データ処理!AO759","v":""},{"$f":"データ処理!AP759","v":""}]
[null,{"$f":"RIGHT(データ処理!AI760,5)","v":""},{"$f":"LEFT(データ処理!AJ760,5)","v":""},{"$f":"データ処理!AK760","v":0},{"$f":"IF(データ処理!AK760=\"\",\"\",データ処理!AL760&データ処理!BE760&$G$3)","v":""},{"$f":"IF(データ処理!AK760=\"\",\"\",データ処理!AM760&データ処理!AZ760&データ処理!AR760)","v":""},{"$f":"RIGHT(データ処理!AN760,5)","v":""},{"$f":"データ処理!AO760","v":""},{"$f":"データ処理!AP760","v":""}]
[null,{"$f":"RIGHT(データ処理!AI761,5)","v":""},{"$f":"LEFT(データ処理!AJ761,5)","v":""},{"$f":"データ処理!AK761","v":0},{"$f":"IF(データ処理!AK761=\"\",\"\",データ処理!AL761&データ処理!BE761&$G$3)","v":""},{"$f":"IF(データ処理!AK761=\"\",\"\",データ処理!AM761&データ処理!AZ761&データ処理!AR761)","v":""},{"$f":"RIGHT(データ処理!AN761,5)","v":""},{"$f":"データ処理!AO761","v":""},{"$f":"データ処理!AP761","v":""}]
[null,{"$f":"RIGHT(データ処理!AI762,5)","v":""},{"$f":"LEFT(データ処理!AJ762,5)","v":""},{"$f":"データ処理!AK762","v":0},{"$f":"IF(データ処理!AK762=\"\",\"\",データ処理!AL762&データ処理!BE762&$G$3)","v":""},{"$f":"IF(データ処理!AK762=\"\",\"\",データ処理!AM762&データ処理!AZ762&データ処理!AR762)","v":""},{"$f":"RIGHT(データ処理!AN762,5)","v":""},{"$f":"データ処理!AO762","v":""},{"$f":"データ処理!AP762","v":""}]
[null,{"$f":"RIGHT(データ処理!AI763,5)","v":""},{"$f":"LEFT(データ処理!AJ763,5)","v":""},{"$f":"データ処理!AK763","v":0},{"$f":"IF(データ処理!AK763=\"\",\"\",データ処理!AL763&データ処理!BE763&$G$3)","v":""},{"$f":"IF(データ処理!AK763=\"\",\"\",データ処理!AM763&データ処理!AZ763&データ処理!AR763)","v":""},{"$f":"RIGHT(データ処理!AN763,5)","v":""},{"$f":"データ処理!AO763","v":""},{"$f":"データ処理!AP763","v":""}]
[10,{"$f":"RIGHT(データ処理!AI764,5)","v":""},{"$f":"LEFT(データ処理!AJ764,5)","v":""},{"$f":"データ処理!AK764","v":0},{"$f":"IF(データ処理!AK764=\"\",\"\",データ処理!AL764&データ処理!BE764&$G$3)","v":""},{"$f":"IF(データ処理!AK764=\"\",\"\",データ処理!AM764&データ処理!AZ764&データ処理!AR764)","v":""},{"$f":"RIGHT(データ処理!AN764,5)","v":""},{"$f":"データ処理!AO764","v":""},{"$f":"データ処理!AP764","v":""}]
[null,{"$f":"RIGHT(データ処理!AI765,5)","v":""},{"$f":"LEFT(データ処理!AJ765,5)","v":""},{"$f":"データ処理!AK765","v":0},{"$f":"IF(データ処理!AK765=\"\",\"\",データ処理!AL765&データ処理!BE765&$G$3)","v":""},{"$f":"IF(データ処理!AK765=\"\",\"\",データ処理!AM765&データ処理!AZ765&データ処理!AR765)","v":""},{"$f":"RIGHT(データ処理!AN765,5)","v":""},{"$f":"データ処理!AO765","v":""},{"$f":"データ処理!AP765","v":""}]
[null,{"$f":"RIGHT(データ処理!AI766,5)","v":""},{"$f":"LEFT(データ処理!AJ766,5)","v":""},{"$f":"データ処理!AK766","v":0},{"$f":"IF(データ処理!AK766=\"\",\"\",データ処理!AL766&データ処理!BE766&$G$3)","v":""},{"$f":"IF(データ処理!AK766=\"\",\"\",データ処理!AM766&データ処理!AZ766&データ処理!AR766)","v":""},{"$f":"RIGHT(データ処理!AN766,5)","v":""},{"$f":"データ処理!AO766","v":""},{"$f":"データ処理!AP766","v":""}]
[null,{"$f":"RIGHT(データ処理!AI767,5)","v":""},{"$f":"LEFT(データ処理!AJ767,5)","v":""},{"$f":"データ処理!AK767","v":0},{"$f":"IF(データ処理!AK767=\"\",\"\",データ処理!AL767&データ処理!BE767&$G$3)","v":""},{"$f":"IF(データ処理!AK767=\"\",\"\",データ処理!AM767&データ処理!AZ767&データ処理!AR767)","v":""},{"$f":"RIGHT(データ処理!AN767,5)","v":""},{"$f":"データ処理!AO767","v":""},{"$f":"データ処理!AP767","v":""}]
[null,{"$f":"RIGHT(データ処理!AI768,5)","v":""},{"$f":"LEFT(データ処理!AJ768,5)","v":""},{"$f":"データ処理!AK768","v":0},{"$f":"IF(データ処理!AK768=\"\",\"\",データ処理!AL768&データ処理!BE768&$G$3)","v":""},{"$f":"IF(データ処理!AK768=\"\",\"\",データ処理!AM768&データ処理!AZ768&データ処理!AR768)","v":""},{"$f":"RIGHT(データ処理!AN768,5)","v":""},{"$f":"データ処理!AO768","v":""},{"$f":"データ処理!AP768","v":""}]
[null,{"$f":"RIGHT(データ処理!AI769,5)","v":""},{"$f":"LEFT(データ処理!AJ769,5)","v":""},{"$f":"データ処理!AK769","v":0},{"$f":"IF(データ処理!AK769=\"\",\"\",データ処理!AL769&データ処理!BE769&$G$3)","v":""},{"$f":"IF(データ処理!AK769=\"\",\"\",データ処理!AM769&データ処理!AZ769&データ処理!AR769)","v":""},{"$f":"RIGHT(データ処理!AN769,5)","v":""},{"$f":"データ処理!AO769","v":""},{"$f":"データ処理!AP769","v":""}]
[null,{"$f":"RIGHT(データ処理!AI770,5)","v":""},{"$f":"LEFT(データ処理!AJ770,5)","v":""},{"$f":"データ処理!AK770","v":0},{"$f":"IF(データ処理!AK770=\"\",\"\",データ処理!AL770&データ処理!BE770&$G$3)","v":""},{"$f":"IF(データ処理!AK770=\"\",\"\",データ処理!AM770&データ処理!AZ770&データ処理!AR770)","v":""},{"$f":"RIGHT(データ処理!AN770,5)","v":""},{"$f":"データ処理!AO770","v":""},{"$f":"データ処理!AP770","v":""}]
[null,{"$f":"RIGHT(データ処理!AI771,5)","v":""},{"$f":"LEFT(データ処理!AJ771,5)","v":""},{"$f":"データ処理!AK771","v":0},{"$f":"IF(データ処理!AK771=\"\",\"\",データ処理!AL771&データ処理!BE771&$G$3)","v":""},{"$f":"IF(データ処理!AK771=\"\",\"\",データ処理!AM771&データ処理!AZ771&データ処理!AR771)","v":""},{"$f":"RIGHT(データ処理!AN771,5)","v":""},{"$f":"データ処理!AO771","v":""},{"$f":"データ処理!AP771","v":""}]
[null,{"$f":"RIGHT(データ処理!AI772,5)","v":""},{"$f":"LEFT(データ処理!AJ772,5)","v":""},{"$f":"データ処理!AK772","v":0},{"$f":"IF(データ処理!AK772=\"\",\"\",データ処理!AL772&データ処理!BE772&$G$3)","v":""},{"$f":"IF(データ処理!AK772=\"\",\"\",データ処理!AM772&データ処理!AZ772&データ処理!AR772)","v":""},{"$f":"RIGHT(データ処理!AN772,5)","v":""},{"$f":"データ処理!AO772","v":""},{"$f":"データ処理!AP772","v":""}]
[null,{"$f":"RIGHT(データ処理!AI773,5)","v":""},{"$f":"LEFT(データ処理!AJ773,5)","v":""},{"$f":"データ処理!AK773","v":0},{"$f":"IF(データ処理!AK773=\"\",\"\",データ処理!AL773&データ処理!BE773&$G$3)","v":""},{"$f":"IF(データ処理!AK773=\"\",\"\",データ処理!AM773&データ処理!AZ773&データ処理!AR773)","v":""},{"$f":"RIGHT(データ処理!AN773,5)","v":""},{"$f":"データ処理!AO773","v":""},{"$f":"データ処理!AP773","v":""}]
[20,{"$f":"RIGHT(データ処理!AI774,5)","v":""},{"$f":"LEFT(データ処理!AJ774,5)","v":""},{"$f":"データ処理!AK774","v":0},{"$f":"IF(データ処理!AK774=\"\",\"\",データ処理!AL774&データ処理!BE774&$G$3)","v":""},{"$f":"IF(データ処理!AK774=\"\",\"\",データ処理!AM774&データ処理!AZ774&データ処理!AR774)","v":""},{"$f":"RIGHT(データ処理!AN774,5)","v":""},{"$f":"データ処理!AO774","v":""},{"$f":"データ処理!AP774","v":""}]
[null,{"$f":"RIGHT(データ処理!AI775,5)","v":""},{"$f":"LEFT(データ処理!AJ775,5)","v":""},{"$f":"データ処理!AK775","v":0},{"$f":"IF(データ処理!AK775=\"\",\"\",データ処理!AL775&データ処理!BE775&$G$3)","v":""},{"$f":"IF(データ処理!AK775=\"\",\"\",データ処理!AM775&データ処理!AZ775&データ処理!AR775)","v":""},{"$f":"RIGHT(データ処理!AN775,5)","v":""},{"$f":"データ処理!AO775","v":""},{"$f":"データ処理!AP775","v":""}]
[null,{"$f":"RIGHT(データ処理!AI776,5)","v":""},{"$f":"LEFT(データ処理!AJ776,5)","v":""},{"$f":"データ処理!AK776","v":0},{"$f":"IF(データ処理!AK776=\"\",\"\",データ処理!AL776&データ処理!BE776&$G$3)","v":""},{"$f":"IF(データ処理!AK776=\"\",\"\",データ処理!AM776&データ処理!AZ776&データ処理!AR776)","v":""},{"$f":"RIGHT(データ処理!AN776,5)","v":""},{"$f":"データ処理!AO776","v":""},{"$f":"データ処理!AP776","v":""}]
[null,{"$f":"RIGHT(データ処理!AI777,5)","v":""},{"$f":"LEFT(データ処理!AJ777,5)","v":""},{"$f":"データ処理!AK777","v":0},{"$f":"IF(データ処理!AK777=\"\",\"\",データ処理!AL777&データ処理!BE777&$G$3)","v":""},{"$f":"IF(データ処理!AK777=\"\",\"\",データ処理!AM777&データ処理!AZ777&データ処理!AR777)","v":""},{"$f":"RIGHT(データ処理!AN777,5)","v":""},{"$f":"データ処理!AO777","v":""},{"$f":"データ処理!AP777","v":""}]
[null,{"$f":"RIGHT(データ処理!AI778,5)","v":""},{"$f":"LEFT(データ処理!AJ778,5)","v":""},{"$f":"データ処理!AK778","v":0},{"$f":"IF(データ処理!AK778=\"\",\"\",データ処理!AL778&データ処理!BE778&$G$3)","v":""},{"$f":"IF(データ処理!AK778=\"\",\"\",データ処理!AM778&データ処理!AZ778&データ処理!AR778)","v":""},{"$f":"RIGHT(データ処理!AN778,5)","v":""},{"$f":"データ処理!AO778","v":""},{"$f":"データ処理!AP778","v":""}]
[null,{"$f":"RIGHT(データ処理!AI779,5)","v":""},{"$f":"LEFT(データ処理!AJ779,5)","v":""},{"$f":"データ処理!AK779","v":0},{"$f":"IF(データ処理!AK779=\"\",\"\",データ処理!AL779&データ処理!BE779&$G$3)","v":""},{"$f":"IF(データ処理!AK779=\"\",\"\",データ処理!AM779&データ処理!AZ779&データ処理!AR779)","v":""},{"$f":"RIGHT(データ処理!AN779,5)","v":""},{"$f":"データ処理!AO779","v":""},{"$f":"データ処理!AP779","v":""}]
[null,{"$f":"RIGHT(データ処理!AI780,5)","v":""},{"$f":"LEFT(データ処理!AJ780,5)","v":""},{"$f":"データ処理!AK780","v":0},{"$f":"IF(データ処理!AK780=\"\",\"\",データ処理!AL780&データ処理!BE780&$G$3)","v":""},{"$f":"IF(データ処理!AK780=\"\",\"\",データ処理!AM780&データ処理!AZ780&データ処理!AR780)","v":""},{"$f":"RIGHT(データ処理!AN780,5)","v":""},{"$f":"データ処理!AO780","v":""},{"$f":"データ処理!AP780","v":""}]
[null,{"$f":"RIGHT(データ処理!AI781,5)","v":""},{"$f":"LEFT(データ処理!AJ781,5)","v":""},{"$f":"データ処理!AK781","v":0},{"$f":"IF(データ処理!AK781=\"\",\"\",データ処理!AL781&データ処理!BE781&$G$3)","v":""},{"$f":"IF(データ処理!AK781=\"\",\"\",データ処理!AM781&データ処理!AZ781&データ処理!AR781)","v":""},{"$f":"RIGHT(データ処理!AN781,5)","v":""},{"$f":"データ処理!AO781","v":""},{"$f":"データ処理!AP781","v":""}]
[null,{"$f":"RIGHT(データ処理!AI782,5)","v":""},{"$f":"LEFT(データ処理!AJ782,5)","v":""},{"$f":"データ処理!AK782","v":0},{"$f":"IF(データ処理!AK782=\"\",\"\",データ処理!AL782&データ処理!BE782&$G$3)","v":""},{"$f":"IF(データ処理!AK782=\"\",\"\",データ処理!AM782&データ処理!AZ782&データ処理!AR782)","v":""},{"$f":"RIGHT(データ処理!AN782,5)","v":""},{"$f":"データ処理!AO782","v":""},{"$f":"データ処理!AP782","v":""}]
[null,{"$f":"RIGHT(データ処理!AI783,5)","v":""},{"$f":"LEFT(データ処理!AJ783,5)","v":""},{"$f":"データ処理!AK783","v":0},{"$f":"IF(データ処理!AK783=\"\",\"\",データ処理!AL783&データ処理!BE783&$G$3)","v":""},{"$f":"IF(データ処理!AK783=\"\",\"\",データ処理!AM783&データ処理!AZ783&データ処理!AR783)","v":""},{"$f":"RIGHT(データ処理!AN783,5)","v":""},{"$f":"データ処理!AO783","v":""},{"$f":"データ処理!AP783","v":""}]
[30,{"$f":"RIGHT(データ処理!AI784,5)","v":""},{"$f":"LEFT(データ処理!AJ784,5)","v":""},{"$f":"データ処理!AK784","v":0},{"$f":"IF(データ処理!AK784=\"\",\"\",データ処理!AL784&データ処理!BE784&$G$3)","v":""},{"$f":"IF(データ処理!AK784=\"\",\"\",データ処理!AM784&データ処理!AZ784&データ処理!AR784)","v":""},{"$f":"RIGHT(データ処理!AN784,5)","v":""},{"$f":"データ処理!AO784","v":""},{"$f":"データ処理!AP784","v":""}]
[null,{"$f":"RIGHT(データ処理!AI785,5)","v":""},{"$f":"LEFT(データ処理!AJ785,5)","v":""},{"$f":"データ処理!AK785","v":0},{"$f":"IF(データ処理!AK785=\"\",\"\",データ処理!AL785&データ処理!BE785&$G$3)","v":""},{"$f":"IF(データ処理!AK785=\"\",\"\",データ処理!AM785&データ処理!AZ785&データ処理!AR785)","v":""},{"$f":"RIGHT(データ処理!AN785,5)","v":""},{"$f":"データ処理!AO785","v":""},{"$f":"データ処理!AP785","v":""}]
[null,{"$f":"RIGHT(データ処理!AI786,5)","v":""},{"$f":"LEFT(データ処理!AJ786,5)","v":""},{"$f":"データ処理!AK786","v":0},{"$f":"IF(データ処理!AK786=\"\",\"\",データ処理!AL786&データ処理!BE786&$G$3)","v":""},{"$f":"IF(データ処理!AK786=\"\",\"\",データ処理!AM786&データ処理!AZ786&データ処理!AR786)","v":""},{"$f":"RIGHT(データ処理!AN786,5)","v":""},{"$f":"データ処理!AO786","v":""},{"$f":"データ処理!AP786","v":""}]
[null,{"$f":"RIGHT(データ処理!AI787,5)","v":""},{"$f":"LEFT(データ処理!AJ787,5)","v":""},{"$f":"データ処理!AK787","v":0},{"$f":"IF(データ処理!AK787=\"\",\"\",データ処理!AL787&データ処理!BE787&$G$3)","v":""},{"$f":"IF(データ処理!AK787=\"\",\"\",データ処理!AM787&データ処理!AZ787&データ処理!AR787)","v":""},{"$f":"RIGHT(データ処理!AN787,5)","v":""},{"$f":"データ処理!AO787","v":""},{"$f":"データ処理!AP787","v":""}]
[null,{"$f":"RIGHT(データ処理!AI788,5)","v":""},{"$f":"LEFT(データ処理!AJ788,5)","v":""},{"$f":"データ処理!AK788","v":0},{"$f":"IF(データ処理!AK788=\"\",\"\",データ処理!AL788&データ処理!BE788&$G$3)","v":""},{"$f":"IF(データ処理!AK788=\"\",\"\",データ処理!AM788&データ処理!AZ788&データ処理!AR788)","v":""},{"$f":"RIGHT(データ処理!AN788,5)","v":""},{"$f":"データ処理!AO788","v":""},{"$f":"データ処理!AP788","v":""}]
[null,{"$f":"RIGHT(データ処理!AI789,5)","v":""},{"$f":"LEFT(データ処理!AJ789,5)","v":""},{"$f":"データ処理!AK789","v":0},{"$f":"IF(データ処理!AK789=\"\",\"\",データ処理!AL789&データ処理!BE789&$G$3)","v":""},{"$f":"IF(データ処理!AK789=\"\",\"\",データ処理!AM789&データ処理!AZ789&データ処理!AR789)","v":""},{"$f":"RIGHT(データ処理!AN789,5)","v":""},{"$f":"データ処理!AO789","v":""},{"$f":"データ処理!AP789","v":""}]
[null,{"$f":"RIGHT(データ処理!AI790,5)","v":""},{"$f":"LEFT(データ処理!AJ790,5)","v":""},{"$f":"データ処理!AK790","v":0},{"$f":"IF(データ処理!AK790=\"\",\"\",データ処理!AL790&データ処理!BE790&$G$3)","v":""},{"$f":"IF(データ処理!AK790=\"\",\"\",データ処理!AM790&データ処理!AZ790&データ処理!AR790)","v":""},{"$f":"RIGHT(データ処理!AN790,5)","v":""},{"$f":"データ処理!AO790","v":""},{"$f":"データ処理!AP790","v":""}]
[null,{"$f":"RIGHT(データ処理!AI791,5)","v":""},{"$f":"LEFT(データ処理!AJ791,5)","v":""},{"$f":"データ処理!AK791","v":0},{"$f":"IF(データ処理!AK791=\"\",\"\",データ処理!AL791&データ処理!BE791&$G$3)","v":""},{"$f":"IF(データ処理!AK791=\"\",\"\",データ処理!AM791&データ処理!AZ791&データ処理!AR791)","v":""},{"$f":"RIGHT(データ処理!AN791,5)","v":""},{"$f":"データ処理!AO791","v":""},{"$f":"データ処理!AP791","v":""}]
[null,{"$f":"RIGHT(データ処理!AI792,5)","v":""},{"$f":"LEFT(データ処理!AJ792,5)","v":""},{"$f":"データ処理!AK792","v":0},{"$f":"IF(データ処理!AK792=\"\",\"\",データ処理!AL792&データ処理!BE792&$G$3)","v":""},{"$f":"IF(データ処理!AK792=\"\",\"\",データ処理!AM792&データ処理!AZ792&データ処理!AR792)","v":""},{"$f":"RIGHT(データ処理!AN792,5)","v":""},{"$f":"データ処理!AO792","v":""},{"$f":"データ処理!AP792","v":""}]
[null,{"$f":"RIGHT(データ処理!AI793,5)","v":""},{"$f":"LEFT(データ処理!AJ793,5)","v":""},{"$f":"データ処理!AK793","v":0},{"$f":"IF(データ処理!AK793=\"\",\"\",データ処理!AL793&データ処理!BE793&$G$3)","v":""},{"$f":"IF(データ処理!AK793=\"\",\"\",データ処理!AM793&データ処理!AZ793&データ処理!AR793)","v":""},{"$f":"RIGHT(データ処理!AN793,5)","v":""},{"$f":"データ処理!AO793","v":""},{"$f":"データ処理!AP793","v":""}]
[40,{"$f":"RIGHT(データ処理!AI794,5)","v":""},{"$f":"LEFT(データ処理!AJ794,5)","v":""},{"$f":"データ処理!AK794","v":0},{"$f":"IF(データ処理!AK794=\"\",\"\",データ処理!AL794&データ処理!BE794&$G$3)","v":""},{"$f":"IF(データ処理!AK794=\"\",\"\",データ処理!AM794&データ処理!AZ794&データ処理!AR794)","v":""},{"$f":"RIGHT(データ処理!AN794,5)","v":""},{"$f":"データ処理!AO794","v":""},{"$f":"データ処理!AP794","v":""}]
[null,{"$f":"RIGHT(データ処理!AI795,5)","v":""},{"$f":"LEFT(データ処理!AJ795,5)","v":""},{"$f":"データ処理!AK795","v":0},{"$f":"IF(データ処理!AK795=\"\",\"\",データ処理!AL795&データ処理!BE795&$G$3)","v":""},{"$f":"IF(データ処理!AK795=\"\",\"\",データ処理!AM795&データ処理!AZ795&データ処理!AR795)","v":""},{"$f":"RIGHT(データ処理!AN795,5)","v":""},{"$f":"データ処理!AO795","v":""},{"$f":"データ処理!AP795","v":""}]
[null,{"$f":"RIGHT(データ処理!AI796,5)","v":""},{"$f":"LEFT(データ処理!AJ796,5)","v":""},{"$f":"データ処理!AK796","v":0},{"$f":"IF(データ処理!AK796=\"\",\"\",データ処理!AL796&データ処理!BE796&$G$3)","v":""},{"$f":"IF(データ処理!AK796=\"\",\"\",データ処理!AM796&データ処理!AZ796&データ処理!AR796)","v":""},{"$f":"RIGHT(データ処理!AN796,5)","v":""},{"$f":"データ処理!AO796","v":""},{"$f":"データ処理!AP796","v":""}]
[null,{"$f":"RIGHT(データ処理!AI797,5)","v":""},{"$f":"LEFT(データ処理!AJ797,5)","v":""},{"$f":"データ処理!AK797","v":0},{"$f":"IF(データ処理!AK797=\"\",\"\",データ処理!AL797&データ処理!BE797&$G$3)","v":""},{"$f":"IF(データ処理!AK797=\"\",\"\",データ処理!AM797&データ処理!AZ797&データ処理!AR797)","v":""},{"$f":"RIGHT(データ処理!AN797,5)","v":""},{"$f":"データ処理!AO797","v":""},{"$f":"データ処理!AP797","v":""}]
[null,{"$f":"RIGHT(データ処理!AI798,5)","v":""},{"$f":"LEFT(データ処理!AJ798,5)","v":""},{"$f":"データ処理!AK798","v":0},{"$f":"IF(データ処理!AK798=\"\",\"\",データ処理!AL798&データ処理!BE798&$G$3)","v":""},{"$f":"IF(データ処理!AK798=\"\",\"\",データ処理!AM798&データ処理!AZ798&データ処理!AR798)","v":""},{"$f":"RIGHT(データ処理!AN798,5)","v":""},{"$f":"データ処理!AO798","v":""},{"$f":"データ処理!AP798","v":""}]
[null,{"$f":"RIGHT(データ処理!AI799,5)","v":""},{"$f":"LEFT(データ処理!AJ799,5)","v":""},{"$f":"データ処理!AK799","v":0},{"$f":"IF(データ処理!AK799=\"\",\"\",データ処理!AL799&データ処理!BE799&$G$3)","v":""},{"$f":"IF(データ処理!AK799=\"\",\"\",データ処理!AM799&データ処理!AZ799&データ処理!AR799)","v":""},{"$f":"RIGHT(データ処理!AN799,5)","v":""},{"$f":"データ処理!AO799","v":""},{"$f":"データ処理!AP799","v":""}]
[null,{"$f":"RIGHT(データ処理!AI800,5)","v":""},{"$f":"LEFT(データ処理!AJ800,5)","v":""},{"$f":"データ処理!AK800","v":0},{"$f":"IF(データ処理!AK800=\"\",\"\",データ処理!AL800&データ処理!BE800&$G$3)","v":""},{"$f":"IF(データ処理!AK800=\"\",\"\",データ処理!AM800&データ処理!AZ800&データ処理!AR800)","v":""},{"$f":"RIGHT(データ処理!AN800,5)","v":""},{"$f":"データ処理!AO800","v":""},{"$f":"データ処理!AP800","v":""}]
[null,{"$f":"RIGHT(データ処理!AI801,5)","v":""},{"$f":"LEFT(データ処理!AJ801,5)","v":""},{"$f":"データ処理!AK801","v":0},{"$f":"IF(データ処理!AK801=\"\",\"\",データ処理!AL801&データ処理!BE801&$G$3)","v":""},{"$f":"IF(データ処理!AK801=\"\",\"\",データ処理!AM801&データ処理!AZ801&データ処理!AR801)","v":""},{"$f":"RIGHT(データ処理!AN801,5)","v":""},{"$f":"データ処理!AO801","v":""},{"$f":"データ処理!AP801","v":""}]
[null,{"$f":"RIGHT(データ処理!AI802,5)","v":""},{"$f":"LEFT(データ処理!AJ802,5)","v":""},{"$f":"データ処理!AK802","v":0},{"$f":"IF(データ処理!AK802=\"\",\"\",データ処理!AL802&データ処理!BE802&$G$3)","v":""},{"$f":"IF(データ処理!AK802=\"\",\"\",データ処理!AM802&データ処理!AZ802&データ処理!AR802)","v":""},{"$f":"RIGHT(データ処理!AN802,5)","v":""},{"$f":"データ処理!AO802","v":""},{"$f":"データ処理!AP802","v":""}]
[null,{"$f":"RIGHT(データ処理!AI803,5)","v":""},{"$f":"LEFT(データ処理!AJ803,5)","v":""},{"$f":"データ処理!AK803","v":0},{"$f":"IF(データ処理!AK803=\"\",\"\",データ処理!AL803&データ処理!BE803&$G$3)","v":""},{"$f":"IF(データ処理!AK803=\"\",\"\",データ処理!AM803&データ処理!AZ803&データ処理!AR803)","v":""},{"$f":"RIGHT(データ処理!AN803,5)","v":""},{"$f":"データ処理!AO803","v":""},{"$f":"データ処理!AP803","v":""}]
[50,{"$f":"RIGHT(データ処理!AI804,5)","v":""},{"$f":"LEFT(データ処理!AJ804,5)","v":""},{"$f":"データ処理!AK804","v":0},{"$f":"IF(データ処理!AK804=\"\",\"\",データ処理!AL804&データ処理!BE804&$G$3)","v":""},{"$f":"IF(データ処理!AK804=\"\",\"\",データ処理!AM804&データ処理!AZ804&データ処理!AR804)","v":""},{"$f":"RIGHT(データ処理!AN804,5)","v":""},{"$f":"データ処理!AO804","v":""},{"$f":"データ処理!AP804","v":""}]
[null,"Total  (合計)",null,{"$f":"COUNTIF(B900:B949,\"*/*\")","v":0},null,"Total  (合計)",{"$f":"COUNTIF(G900:G949,\"*/*\")","v":0},{"$f":"50-COUNTBLANK(H900:H949)","v":0},{"$f":"SUM(I900:I949)","v":0}]
[]
[null,"総 合 計",null,{"$f":"IF(K896=\"\",\"\",D950+ログシート!D893)","v":""},null,"総 合 計",{"$f":"IF(K896=\"\",\"\",G950+ログシート!G893)","v":""},{"$f":"IF(K896=\"\",\"\",H950+ログシート!H893)","v":""},{"$f":"IF(K896=\"\",\"\",I950+ログシート!I893)","v":""}]
[]
[null,"ＬＯＧ　ＳＨＥＥＴ (ログシート）",null,null,"Year (年)",{"$f":"$F$10","v":"2024"},{"$f":"$G$10","v":"第38回 滋賀2mSSB\nアクティブコンテスト"}]
[null,"Callsign (ｺｰﾙｻｲﾝ)",null,{"$f":"$D$11","v":0},"BAND（バンド）",{"$f":"$F$11","v":144},"MHz/SSB",null,"Sheet No.",null,{"$f":"IF(E959=\"\",\"\",L958&\"/\"&$E$3)","v":""}]
[]
[null,"Date Time",null,"Station Wkd","Exchange (ｺﾝﾃｽﾄﾅﾝﾊﾞｰ)",null,"Multi.（マルチ）",null,"Pts.","Op.","備考"]
[null,"月/日","時分JST","交信局","Sent (送信)","Received (受信)","日数マルチ","テールレター","得点","運用者",null,17]
[null,{"$f":"RIGHT(データ処理!AI805,5)","v":""},{"$f":"LEFT(データ処理!AJ805,5)","v":""},{"$f":"データ処理!AK805","v":0},{"$f":"IF(データ処理!AK805=\"\",\"\",データ処理!AL805&データ処理!BE805&$G$3)","v":""},{"$f":"IF(データ処理!AK805=\"\",\"\",データ処理!AM805&データ処理!AZ805&データ処理!AR805)","v":""},{"$f":"RIGHT(データ処理!AN805,5)","v":""},{"$f":"データ処理!AO805","v":""},{"$f":"データ処理!AP805","v":""}]
[null,{"$f":"RIGHT(データ処理!AI806,5)","v":""},{"$f":"LEFT(データ処理!AJ806,5)","v":""},{"$f":"データ処理!AK806","v":0},{"$f":"IF(データ処理!AK806=\"\",\"\",データ処理!AL806&データ処理!BE806&$G$3)","v":""},{"$f":"IF(データ処理!AK806=\"\",\"\",データ処理!AM806&データ処理!AZ806&データ処理!AR806)","v":""},{"$f":"RIGHT(データ処理!AN806,5)","v":""},{"$f":"データ処理!AO806","v":""},{"$f":"データ処理!AP806","v":""}]
[null,{"$f":"RIGHT(データ処理!AI807,5)","v":""},{"$f":"LEFT(データ処理!AJ807,5)","v":""},{"$f":"データ処理!AK807","v":0},{"$f":"IF(データ処理!AK807=\"\",\"\",データ処理!AL807&データ処理!BE807&$G$3)","v":""},{"$f":"IF(データ処理!AK807=\"\",\"\",データ処理!AM807&データ処理!AZ807&データ処理!AR807)","v":""},{"$f":"RIGHT(データ処理!AN807,5)","v":""},{"$f":"データ処理!AO807","v":""},{"$f":"データ処理!AP807","v":""}]
[null,{"$f":"RIGHT(データ処理!AI808,5)","v":""},{"$f":"LEFT(データ処理!AJ808,5)","v":""},{"$f":"データ処理!AK808","v":0},{"$f":"IF(データ処理!AK808=\"\",\"\",データ処理!AL808&データ処理!BE808&$G$3)","v":""},{"$f":"IF(データ処理!AK808=\"\",\"\",データ処理!AM808&データ処理!AZ808&データ処理!AR808)","v":""},{"$f":"RIGHT(データ処理!AN808,5)","v":""},{"$f":"データ処理!AO808","v":""},{"$f":"データ処理!AP808","v":""}]
[null,{"$f":"RIGHT(データ処理!AI809,5)","v":""},{"$f":"LEFT(データ処理!AJ809,5)","v":""},{"$f":"データ処理!AK809","v":0},{"$f":"IF(データ処理!AK809=\"\",\"\",データ処理!AL809&データ処理!BE809&$G$3)","v":""},{"$f":"IF(データ処理!AK809=\"\",\"\",データ処理!AM809&データ処理!AZ809&データ処理!AR809)","v":""},{"$f":"RIGHT(データ処理!AN809,5)","v":""},{"$f":"データ処理!AO809","v":""},{"$f":"データ処理!AP809","v":""}]
[null,{"$f":"RIGHT(データ処理!AI810,5)","v":""},{"$f":"LEFT(データ処理!AJ810,5)","v":""},{"$f":"データ処理!AK810","v":0},{"$f":"IF(データ処理!AK810=\"\",\"\",データ処理!AL810&データ処理!BE810&$G$3)","v":""},{"$f":"IF(データ処理!AK810=\"\",\"\",データ処理!AM810&データ処理!AZ810&データ処理!AR810)","v":""},{"$f":"RIGHT(データ処理!AN810,5)","v":""},{"$f":"データ処理!AO810","v":""},{"$f":"データ処理!AP810","v":""}]
[null,{"$f":"RIGHT(データ処理!AI811,5)","v":""},{"$f":"LEFT(データ処理!AJ811,5)","v":""},{"$f":"データ処理!AK811","v":0},{"$f":"IF(データ処理!AK811=\"\",\"\",データ処理!AL811&データ処理!BE811&$G$3)","v":""},{"$f":"IF(データ処理!AK811=\"\",\"\",データ処理!AM811&データ処理!AZ811&データ処理!AR811)","v":""},{"$f":"RIGHT(データ処理!AN811,5)","v":""},{"$f":"データ処理!AO811","v":""},{"$f":"データ処理!AP811","v":""}]
[null,{"$f":"RIGHT(データ処理!AI812,5)","v":""},{"$f":"LEFT(データ処理!AJ812,5)","v":""},{"$f":"データ処理!AK812","v":0},{"$f":"IF(データ処理!AK812=\"\",\"\",データ処理!AL812&データ処理!BE812&$G$3)","v":""},{"$f":"IF(データ処理!AK812=\"\",\"\",データ処理!AM812&データ処理!AZ812&データ処理!AR812)","v":""},{"$f":"RIGHT(データ処理!AN812,5)","v":""},{"$f":"データ処理!AO812","v":""},{"$f":"データ処理!AP812","v":""}]
[null,{"$f":"RIGHT(データ処理!AI813,5)","v":""},{"$f":"LEFT(データ処理!AJ813,5)","v":""},{"$f":"データ処理!AK813","v":0},{"$f":"IF(データ処理!AK813=\"\",\"\",データ処理!AL813&データ処理!BE813&$G$3)","v":""},{"$f":"IF(データ処理!AK813=\"\",\"\",データ処理!AM813&データ処理!AZ813&データ処理!AR813)","v":""},{"$f":"RIGHT(データ処理!AN813,5)","v":""},{"$f":"データ処理!AO813","v":""},{"$f":"データ処理!AP813","v":""}]
[10,{"$f":"RIGHT(データ処理!AI814,5)","v":""},{"$f":"LEFT(データ処理!AJ814,5)","v":""},{"$f":"データ処理!AK814","v":0},{"$f":"IF(データ処理!AK814=\"\",\"\",データ処理!AL814&データ処理!BE814&$G$3)","v":""},{"$f":"IF(データ処理!AK814=\"\",\"\",データ処理!AM814&データ処理!AZ814&データ処理!AR814)","v":""},{"$f":"RIGHT(データ処理!AN814,5)","v":""},{"$f":"データ処理!AO814","v":""},{"$f":"データ処理!AP814","v":""}]
[null,{"$f":"RIGHT(データ処理!AI815,5)","v":""},{"$f":"LEFT(データ処理!AJ815,5)","v":""},{"$f":"データ処理!AK815","v":0},{"$f":"IF(データ処理!AK815=\"\",\"\",データ処理!AL815&データ処理!BE815&$G$3)","v":""},{"$f":"IF(データ処理!AK815=\"\",\"\",データ処理!AM815&データ処理!AZ815&データ処理!AR815)","v":""},{"$f":"RIGHT(データ処理!AN815,5)","v":""},{"$f":"データ処理!AO815","v":""},{"$f":"データ処理!AP815","v":""}]
[null,{"$f":"RIGHT(データ処理!AI816,5)","v":""},{"$f":"LEFT(データ処理!AJ816,5)","v":""},{"$f":"データ処理!AK816","v":0},{"$f":"IF(データ処理!AK816=\"\",\"\",データ処理!AL816&データ処理!BE816&$G$3)","v":""},{"$f":"IF(データ処理!AK816=\"\",\"\",データ処理!AM816&データ処理!AZ816&データ処理!AR816)","v":""},{"$f":"RIGHT(データ処理!AN816,5)","v":""},{"$f":"データ処理!AO816","v":""},{"$f":"データ処理!AP816","v":""}]
[null,{"$f":"RIGHT(データ処理!AI817,5)","v":""},{"$f":"LEFT(データ処理!AJ817,5)","v":""},{"$f":"データ処理!AK817","v":0},{"$f":"IF(データ処理!AK817=\"\",\"\",データ処理!AL817&データ処理!BE817&$G$3)","v":""},{"$f":"IF(データ処理!AK817=\"\",\"\",データ処理!AM817&データ処理!AZ817&データ処理!AR817)","v":""},{"$f":"RIGHT(データ処理!AN817,5)","v":""},{"$f":"データ処理!AO817","v":""},{"$f":"データ処理!AP817","v":""}]
[null,{"$f":"RIGHT(データ処理!AI818,5)","v":""},{"$f":"LEFT(データ処理!AJ818,5)","v":""},{"$f":"データ処理!AK818","v":0},{"$f":"IF(データ処理!AK818=\"\",\"\",データ処理!AL818&データ処理!BE818&$G$3)","v":""},{"$f":"IF(データ処理!AK818=\"\",\"\",データ処理!AM818&データ処理!AZ818&データ処理!AR818)","v":""},{"$f":"RIGHT(データ処理!AN818,5)","v":""},{"$f":"データ処理!AO818","v":""},{"$f":"データ処理!AP818","v":""}]
[null,{"$f":"RIGHT(データ処理!AI819,5)","v":""},{"$f":"LEFT(データ処理!AJ819,5)","v":""},{"$f":"データ処理!AK819","v":0},{"$f":"IF(データ処理!AK819=\"\",\"\",データ処理!AL819&データ処理!BE819&$G$3)","v":""},{"$f":"IF(データ処理!AK819=\"\",\"\",データ処理!AM819&データ処理!AZ819&データ処理!AR819)","v":""},{"$f":"RIGHT(データ処理!AN819,5)","v":""},{"$f":"データ処理!AO819","v":""},{"$f":"データ処理!AP819","v":""}]
[null,{"$f":"RIGHT(データ処理!AI820,5)","v":""},{"$f":"LEFT(データ処理!AJ820,5)","v":""},{"$f":"データ処理!AK820","v":0},{"$f":"IF(データ処理!AK820=\"\",\"\",データ処理!AL820&データ処理!BE820&$G$3)","v":""},{"$f":"IF(データ処理!AK820=\"\",\"\",データ処理!AM820&データ処理!AZ820&データ処理!AR820)","v":""},{"$f":"RIGHT(データ処理!AN820,5)","v":""},{"$f":"データ処理!AO820","v":""},{"$f":"データ処理!AP820","v":""}]
[null,{"$f":"RIGHT(データ処理!AI821,5)","v":""},{"$f":"LEFT(データ処理!AJ821,5)","v":""},{"$f":"データ処理!AK821","v":0},{"$f":"IF(データ処理!AK821=\"\",\"\",データ処理!AL821&データ処理!BE821&$G$3)","v":""},{"$f":"IF(データ処理!AK821=\"\",\"\",データ処理!AM821&データ処理!AZ821&データ処理!AR821)","v":""},{"$f":"RIGHT(データ処理!AN821,5)","v":""},{"$f":"データ処理!AO821","v":""},{"$f":"データ処理!AP821","v":""}]
[null,{"$f":"RIGHT(データ処理!AI822,5)","v":""},{"$f":"LEFT(データ処理!AJ822,5)","v":""},{"$f":"データ処理!AK822","v":0},{"$f":"IF(データ処理!AK822=\"\",\"\",データ処理!AL822&データ処理!BE822&$G$3)","v":""},{"$f":"IF(データ処理!AK822=\"\",\"\",データ処理!AM822&データ処理!AZ822&データ処理!AR822)","v":""},{"$f":"RIGHT(データ処理!AN822,5)","v":""},{"$f":"データ処理!AO822","v":""},{"$f":"データ処理!AP822","v":""}]
[null,{"$f":"RIGHT(データ処理!AI823,5)","v":""},{"$f":"LEFT(データ処理!AJ823,5)","v":""},{"$f":"データ処理!AK823","v":0},{"$f":"IF(データ処理!AK823=\"\",\"\",データ処理!AL823&データ処理!BE823&$G$3)","v":""},{"$f":"IF(データ処理!AK823=\"\",\"\",データ処理!AM823&データ処理!AZ823&データ処理!AR823)","v":""},{"$f":"RIGHT(データ処理!AN823,5)","v":""},{"$f":"データ処理!AO823","v":""},{"$f":"データ処理!AP823","v":""}]
[20,{"$f":"RIGHT(データ処理!AI824,5)","v":""},{"$f":"LEFT(データ処理!AJ824,5)","v":""},{"$f":"データ処理!AK824","v":0},{"$f":"IF(データ処理!AK824=\"\",\"\",データ処理!AL824&データ処理!BE824&$G$3)","v":""},{"$f":"IF(データ処理!AK824=\"\",\"\",データ処理!AM824&データ処理!AZ824&データ処理!AR824)","v":""},{"$f":"RIGHT(データ処理!AN824,5)","v":""},{"$f":"データ処理!AO824","v":""},{"$f":"データ処理!AP824","v":""}]
[null,{"$f":"RIGHT(データ処理!AI825,5)","v":""},{"$f":"LEFT(データ処理!AJ825,5)","v":""},{"$f":"データ処理!AK825","v":0},{"$f":"IF(データ処理!AK825=\"\",\"\",データ処理!AL825&データ処理!BE825&$G$3)","v":""},{"$f":"IF(データ処理!AK825=\"\",\"\",データ処理!AM825&データ処理!AZ825&データ処理!AR825)","v":""},{"$f":"RIGHT(データ処理!AN825,5)","v":""},{"$f":"データ処理!AO825","v":""},{"$f":"データ処理!AP825","v":""}]
[null,{"$f":"RIGHT(データ処理!AI826,5)","v":""},{"$f":"LEFT(データ処理!AJ826,5)","v":""},{"$f":"データ処理!AK826","v":0},{"$f":"IF(データ処理!AK826=\"\",\"\",データ処理!AL826&データ処理!BE826&$G$3)","v":""},{"$f":"IF(データ処理!AK826=\"\",\"\",データ処理!AM826&データ処理!AZ826&データ処理!AR826)","v":""},{"$f":"RIGHT(データ処理!AN826,5)","v":""},{"$f":"データ処理!AO826","v":""},{"$f":"データ処理!AP826","v":""}]
[null,{"$f":"RIGHT(データ処理!AI827,5)","v":""},{"$f":"LEFT(データ処理!AJ827,5)","v":""},{"$f":"データ処理!AK827","v":0},{"$f":"IF(データ処理!AK827=\"\",\"\",データ処理!AL827&データ処理!BE827&$G$3)","v":""},{"$f":"IF(データ処理!AK827=\"\",\"\",データ処理!AM827&データ処理!AZ827&データ処理!AR827)","v":""},{"$f":"RIGHT(データ処理!AN827,5)","v":""},{"$f":"データ処理!AO827","v":""},{"$f":"データ処理!AP827","v":""}]
[null,{"$f":"RIGHT(データ処理!AI828,5)","v":""},{"$f":"LEFT(データ処理!AJ828,5)","v":""},{"$f":"データ処理!AK828","v":0},{"$f":"IF(データ処理!AK828=\"\",\"\",データ処理!AL828&データ処理!BE828&$G$3)","v":""},{"$f":"IF(データ処理!AK828=\"\",\"\",データ処理!AM828&データ処理!AZ828&データ処理!AR828)","v":""},{"$f":"RIGHT(データ処理!AN828,5)","v":""},{"$f":"データ処理!AO828","v":""},{"$f":"データ処理!AP828","v":""}]
[null,{"$f":"RIGHT(データ処理!AI829,5)","v":""},{"$f":"LEFT(データ処理!AJ829,5)","v":""},{"$f":"データ処理!AK829","v":0},{"$f":"IF(データ処理!AK829=\"\",\"\",データ処理!AL829&データ処理!BE829&$G$3)","v":""},{"$f":"IF(データ処理!AK829=\"\",\"\",データ処理!AM829&データ処理!AZ829&データ処理!AR829)","v":""},{"$f":"RIGHT(データ処理!AN829,5)","v":""},{"$f":"データ処理!AO829","v":""},{"$f":"データ処理!AP829","v":""}]
[null,{"$f":"RIGHT(データ処理!AI830,5)","v":""},{"$f":"LEFT(データ処理!AJ830,5)","v":""},{"$f":"データ処理!AK830","v":0},{"$f":"IF(データ処理!AK830=\"\",\"\",データ処理!AL830&データ処理!BE830&$G$3)","v":""},{"$f":"IF(データ処理!AK830=\"\",\"\",データ処理!AM830&データ処理!AZ830&データ処理!AR830)","v":""},{"$f":"RIGHT(データ処理!AN830,5)","v":""},{"$f":"データ処理!AO830","v":""},{"$f":"データ処理!AP830","v":""}]
[null,{"$f":"RIGHT(データ処理!AI831,5)","v":""},{"$f":"LEFT(データ処理!AJ831,5)","v":""},{"$f":"データ処理!AK831","v":0},{"$f":"IF(データ処理!AK831=\"\",\"\",データ処理!AL831&データ処理!BE831&$G$3)","v":""},{"$f":"IF(データ処理!AK831=\"\",\"\",データ処理!AM831&データ処理!AZ831&データ処理!AR831)","v":""},{"$f":"RIGHT(データ処理!AN831,5)","v":""},{"$f":"データ処理!AO831","v":""},{"$f":"データ処理!AP831","v":""}]
[null,{"$f":"RIGHT(データ処理!AI832,5)","v":""},{"$f":"LEFT(データ処理!AJ832,5)","v":""},{"$f":"データ処理!AK832","v":0},{"$f":"IF(データ処理!AK832=\"\",\"\",データ処理!AL832&データ処理!BE832&$G$3)","v":""},{"$f":"IF(データ処理!AK832=\"\",\"\",データ処理!AM832&データ処理!AZ832&データ処理!AR832)","v":""},{"$f":"RIGHT(データ処理!AN832,5)","v":""},{"$f":"データ処理!AO832","v":""},{"$f":"データ処理!AP832","v":""}]
[null,{"$f":"RIGHT(データ処理!AI833,5)","v":""},{"$f":"LEFT(データ処理!AJ833,5)","v":""},{"$f":"データ処理!AK833","v":0},{"$f":"IF(データ処理!AK833=\"\",\"\",データ処理!AL833&データ処理!BE833&$G$3)","v":""},{"$f":"IF(データ処理!AK833=\"\",\"\",データ処理!AM833&データ処理!AZ833&データ処理!AR833)","v":""},{"$f":"RIGHT(データ処理!AN833,5)","v":""},{"$f":"データ処理!AO833","v":""},{"$f":"データ処理!AP833","v":""}]
[30,{"$f":"RIGHT(データ処理!AI834,5)","v":""},{"$f":"LEFT(データ処理!AJ834,5)","v":""},{"$f":"データ処理!AK834","v":0},{"$f":"IF(データ処理!AK834=\"\",\"\",データ処理!AL834&データ処理!BE834&$G$3)","v":""},{"$f":"IF(データ処理!AK834=\"\",\"\",データ処理!AM834&データ処理!AZ834&データ処理!AR834)","v":""},{"$f":"RIGHT(データ処理!AN834,5)","v":""},{"$f":"データ処理!AO834","v":""},{"$f":"データ処理!AP834","v":""}]
[null,{"$f":"RIGHT(データ処理!AI835,5)","v":""},{"$f":"LEFT(データ処理!AJ835,5)","v":""},{"$f":"データ処理!AK835","v":0},{"$f":"IF(データ処理!AK835=\"\",\"\",データ処理!AL835&データ処理!BE835&$G$3)","v":""},{"$f":"IF(データ処理!AK835=\"\",\"\",データ処理!AM835&データ処理!AZ835&データ処理!AR835)","v":""},{"$f":"RIGHT(データ処理!AN835,5)","v":""},{"$f":"データ処理!AO835","v":""},{"$f":"データ処理!AP835","v":""}]
[null,{"$f":"RIGHT(データ処理!AI836,5)","v":""},{"$f":"LEFT(データ処理!AJ836,5)","v":""},{"$f":"データ処理!AK836","v":0},{"$f":"IF(データ処理!AK836=\"\",\"\",データ処理!AL836&データ処理!BE836&$G$3)","v":""},{"$f":"IF(データ処理!AK836=\"\",\"\",データ処理!AM836&データ処理!AZ836&データ処理!AR836)","v":""},{"$f":"RIGHT(データ処理!AN836,5)","v":""},{"$f":"データ処理!AO836","v":""},{"$f":"データ処理!AP836","v":""}]
[null,{"$f":"RIGHT(データ処理!AI837,5)","v":""},{"$f":"LEFT(データ処理!AJ837,5)","v":""},{"$f":"データ処理!AK837","v":0},{"$f":"IF(データ処理!AK837=\"\",\"\",データ処理!AL837&データ処理!BE837&$G$3)","v":""},{"$f":"IF(データ処理!AK837=\"\",\"\",データ処理!AM837&データ処理!AZ837&データ処理!AR837)","v":""},{"$f":"RIGHT(データ処理!AN837,5)","v":""},{"$f":"データ処理!AO837","v":""},{"$f":"データ処理!AP837","v":""}]
[null,{"$f":"RIGHT(データ処理!AI838,5)","v":""},{"$f":"LEFT(データ処理!AJ838,5)","v":""},{"$f":"データ処理!AK838","v":0},{"$f":"IF(データ処理!AK838=\"\",\"\",データ処理!AL838&データ処理!BE838&$G$3)","v":""},{"$f":"IF(データ処理!AK838=\"\",\"\",データ処理!AM838&データ処理!AZ838&データ処理!AR838)","v":""},{"$f":"RIGHT(データ処理!AN838,5)","v":""},{"$f":"データ処理!AO838","v":""},{"$f":"データ処理!AP838","v":""}]
[null,{"$f":"RIGHT(データ処理!AI839,5)","v":""},{"$f":"LEFT(データ処理!AJ839,5)","v":""},{"$f":"データ処理!AK839","v":0},{"$f":"IF(データ処理!AK839=\"\",\"\",データ処理!AL839&データ処理!BE839&$G$3)","v":""},{"$f":"IF(データ処理!AK839=\"\",\"\",データ処理!AM839&データ処理!AZ839&データ処理!AR839)","v":""},{"$f":"RIGHT(データ処理!AN839,5)","v":""},{"$f":"データ処理!AO839","v":""},{"$f":"データ処理!AP839","v":""}]
[null,{"$f":"RIGHT(データ処理!AI840,5)","v":""},{"$f":"LEFT(データ処理!AJ840,5)","v":""},{"$f":"データ処理!AK840","v":0},{"$f":"IF(データ処理!AK840=\"\",\"\",データ処理!AL840&データ処理!BE840&$G$3)","v":""},{"$f":"IF(データ処理!AK840=\"\",\"\",データ処理!AM840&データ処理!AZ840&データ処理!AR840)","v":""},{"$f":"RIGHT(データ処理!AN840,5)","v":""},{"$f":"データ処理!AO840","v":""},{"$f":"データ処理!AP840","v":""}]
[null,{"$f":"RIGHT(データ処理!AI841,5)","v":""},{"$f":"LEFT(データ処理!AJ841,5)","v":""},{"$f":"データ処理!AK841","v":0},{"$f":"IF(データ処理!AK841=\"\",\"\",データ処理!AL841&データ処理!BE841&$G$3)","v":""},{"$f":"IF(データ処理!AK841=\"\",\"\",データ処理!AM841&データ処理!AZ841&データ処理!AR841)","v":""},{"$f":"RIGHT(データ処理!AN841,5)","v":""},{"$f":"データ処理!AO841","v":""},{"$f":"データ処理!AP841","v":""}]
[null,{"$f":"RIGHT(データ処理!AI842,5)","v":""},{"$f":"LEFT(データ処理!AJ842,5)","v":""},{"$f":"データ処理!AK842","v":0},{"$f":"IF(データ処理!AK842=\"\",\"\",データ処理!AL842&データ処理!BE842&$G$3)","v":""},{"$f":"IF(データ処理!AK842=\"\",\"\",データ処理!AM842&データ処理!AZ842&データ処理!AR842)","v":""},{"$f":"RIGHT(データ処理!AN842,5)","v":""},{"$f":"データ処理!AO842","v":""},{"$f":"データ処理!AP842","v":""}]
[null,{"$f":"RIGHT(データ処理!AI843,5)","v":""},{"$f":"LEFT(データ処理!AJ843,5)","v":""},{"$f":"データ処理!AK843","v":0},{"$f":"IF(データ処理!AK843=\"\",\"\",データ処理!AL843&データ処理!BE843&$G$3)","v":""},{"$f":"IF(データ処理!AK843=\"\",\"\",データ処理!AM843&データ処理!AZ843&データ処理!AR843)","v":""},{"$f":"RIGHT(データ処理!AN843,5)","v":""},{"$f":"データ処理!AO843","v":""},{"$f":"データ処理!AP843","v":""}]
[40,{"$f":"RIGHT(データ処理!AI844,5)","v":""},{"$f":"LEFT(データ処理!AJ844,5)","v":""},{"$f":"データ処理!AK844","v":0},{"$f":"IF(データ処理!AK844=\"\",\"\",データ処理!AL844&データ処理!BE844&$G$3)","v":""},{"$f":"IF(データ処理!AK844=\"\",\"\",データ処理!AM844&データ処理!AZ844&データ処理!AR844)","v":""},{"$f":"RIGHT(データ処理!AN844,5)","v":""},{"$f":"データ処理!AO844","v":""},{"$f":"データ処理!AP844","v":""}]
[null,{"$f":"RIGHT(データ処理!AI845,5)","v":""},{"$f":"LEFT(データ処理!AJ845,5)","v":""},{"$f":"データ処理!AK845","v":0},{"$f":"IF(データ処理!AK845=\"\",\"\",データ処理!AL845&データ処理!BE845&$G$3)","v":""},{"$f":"IF(データ処理!AK845=\"\",\"\",データ処理!AM845&データ処理!AZ845&データ処理!AR845)","v":""},{"$f":"RIGHT(データ処理!AN845,5)","v":""},{"$f":"データ処理!AO845","v":""},{"$f":"データ処理!AP845","v":""}]
[null,{"$f":"RIGHT(データ処理!AI846,5)","v":""},{"$f":"LEFT(データ処理!AJ846,5)","v":""},{"$f":"データ処理!AK846","v":0},{"$f":"IF(データ処理!AK846=\"\",\"\",データ処理!AL846&データ処理!BE846&$G$3)","v":""},{"$f":"IF(データ処理!AK846=\"\",\"\",データ処理!AM846&データ処理!AZ846&データ処理!AR846)","v":""},{"$f":"RIGHT(データ処理!AN846,5)","v":""},{"$f":"データ処理!AO846","v":""},{"$f":"データ処理!AP846","v":""}]
[null,{"$f":"RIGHT(データ処理!AI847,5)","v":""},{"$f":"LEFT(データ処理!AJ847,5)","v":""},{"$f":"データ処理!AK847","v":0},{"$f":"IF(データ処理!AK847=\"\",\"\",データ処理!AL847&データ処理!BE847&$G$3)","v":""},{"$f":"IF(データ処理!AK847=\"\",\"\",データ処理!AM847&データ処理!AZ847&データ処理!AR847)","v":""},{"$f":"RIGHT(データ処理!AN847,5)","v":""},{"$f":"データ処理!AO847","v":""},{"$f":"データ処理!AP847","v":""}]
[null,{"$f":"RIGHT(データ処理!AI848,5)","v":""},{"$f":"LEFT(データ処理!AJ848,5)","v":""},{"$f":"データ処理!AK848","v":0},{"$f":"IF(データ処理!AK848=\"\",\"\",データ処理!AL848&データ処理!BE848&$G$3)","v":""},{"$f":"IF(データ処理!AK848=\"\",\"\",データ処理!AM848&データ処理!AZ848&データ処理!AR848)","v":""},{"$f":"RIGHT(データ処理!AN848,5)","v":""},{"$f":"データ処理!AO848","v":""},{"$f":"データ処理!AP848","v":""}]
[null,{"$f":"RIGHT(データ処理!AI849,5)","v":""},{"$f":"LEFT(データ処理!AJ849,5)","v":""},{"$f":"データ処理!AK849","v":0},{"$f":"IF(データ処理!AK849=\"\",\"\",データ処理!AL849&データ処理!BE849&$G$3)","v":""},{"$f":"IF(データ処理!AK849=\"\",\"\",データ処理!AM849&データ処理!AZ849&データ処理!AR849)","v":""},{"$f":"RIGHT(データ処理!AN849,5)","v":""},{"$f":"データ処理!AO849","v":""},{"$f":"データ処理!AP849","v":""}]
[null,{"$f":"RIGHT(データ処理!AI850,5)","v":""},{"$f":"LEFT(データ処理!AJ850,5)","v":""},{"$f":"データ処理!AK850","v":0},{"$f":"IF(データ処理!AK850=\"\",\"\",データ処理!AL850&データ処理!BE850&$G$3)","v":""},{"$f":"IF(データ処理!AK850=\"\",\"\",データ処理!AM850&データ処理!AZ850&データ処理!AR850)","v":""},{"$f":"RIGHT(データ処理!AN850,5)","v":""},{"$f":"データ処理!AO850","v":""},{"$f":"データ処理!AP850","v":""}]
[null,{"$f":"RIGHT(データ処理!AI851,5)","v":""},{"$f":"LEFT(データ処理!AJ851,5)","v":""},{"$f":"データ処理!AK851","v":0},{"$f":"IF(データ処理!AK851=\"\",\"\",データ処理!AL851&データ処理!BE851&$G$3)","v":""},{"$f":"IF(データ処理!AK851=\"\",\"\",データ処理!AM851&データ処理!AZ851&データ処理!AR851)","v":""},{"$f":"RIGHT(データ処理!AN851,5)","v":""},{"$f":"データ処理!AO851","v":""},{"$f":"データ処理!AP851","v":""}]
[null,{"$f":"RIGHT(データ処理!AI852,5)","v":""},{"$f":"LEFT(データ処理!AJ852,5)","v":""},{"$f":"データ処理!AK852","v":0},{"$f":"IF(データ処理!AK852=\"\",\"\",データ処理!AL852&データ処理!BE852&$G$3)","v":""},{"$f":"IF(データ処理!AK852=\"\",\"\",データ処理!AM852&データ処理!AZ852&データ処理!AR852)","v":""},{"$f":"RIGHT(データ処理!AN852,5)","v":""},{"$f":"データ処理!AO852","v":""},{"$f":"データ処理!AP852","v":""}]
[null,{"$f":"RIGHT(データ処理!AI853,5)","v":""},{"$f":"LEFT(データ処理!AJ853,5)","v":""},{"$f":"データ処理!AK853","v":0},{"$f":"IF(データ処理!AK853=\"\",\"\",データ処理!AL853&データ処理!BE853&$G$3)","v":""},{"$f":"IF(データ処理!AK853=\"\",\"\",データ処理!AM853&データ処理!AZ853&データ処理!AR853)","v":""},{"$f":"RIGHT(データ処理!AN853,5)","v":""},{"$f":"データ処理!AO853","v":""},{"$f":"データ処理!AP853","v":""}]
[50,{"$f":"RIGHT(データ処理!AI854,5)","v":""},{"$f":"LEFT(データ処理!AJ854,5)","v":""},{"$f":"データ処理!AK854","v":0},{"$f":"IF(データ処理!AK854=\"\",\"\",データ処理!AL854&データ処理!BE854&$G$3)","v":""},{"$f":"IF(データ処理!AK854=\"\",\"\",データ処理!AM854&データ処理!AZ854&データ処理!AR854)","v":""},{"$f":"RIGHT(データ処理!AN854,5)","v":""},{"$f":"データ処理!AO854","v":""},{"$f":"データ処理!AP854","v":""}]
[null,"Total  (合計)",null,{"$f":"COUNTIF(B959:B1008,\"*/*\")","v":0},null,"Total  (合計)",{"$f":"COUNTIF(G959:G1008,\"*/*\")","v":0},{"$f":"50-COUNTBLANK(H959:H1008)","v":0},{"$f":"SUM(I959:I1008)","v":0}]
[]
[null,"総 合 計",null,{"$f":"IF(K955=\"\",\"\",D1009+ログシート!D952)","v":""},null,"総 合 計",{"$f":"IF(K955=\"\",\"\",G1009+ログシート!G952)","v":""},{"$f":"IF(K955=\"\",\"\",H1009+ログシート!H952)","v":""},{"$f":"IF(K955=\"\",\"\",I1009+ログシート!I952)","v":""}]
[]
[null,"ＬＯＧ　ＳＨＥＥＴ (ログシート）",null,null,"Year (年)",{"$f":"$F$10","v":"2024"},{"$f":"$G$10","v":"第38回 滋賀2mSSB\nアクティブコンテスト"}]
[null,"Callsign (ｺｰﾙｻｲﾝ)",null,{"$f":"$D$11","v":0},"BAND（バンド）",{"$f":"$F$11","v":144},"MHz/SSB",null,"Sheet No.",null,{"$f":"IF(E1018=\"\",\"\",L1017&\"/\"&$E$3)","v":""}]
[]
[null,"Date Time",null,"Station Wkd","Exchange (ｺﾝﾃｽﾄﾅﾝﾊﾞｰ)",null,"Multi.（マルチ）",null,"Pts.","Op.","備考"]
[null,"月/日","時分JST","交信局","Sent (送信)","Received (受信)","日数マルチ","テールレター","得点","運用者",null,18]
[null,{"$f":"RIGHT(データ処理!AI855,5)","v":""},{"$f":"LEFT(データ処理!AJ855,5)","v":""},{"$f":"データ処理!AK855","v":0},{"$f":"IF(データ処理!AK855=\"\",\"\",データ処理!AL855&データ処理!BE855&$G$3)","v":""},{"$f":"IF(データ処理!AK855=\"\",\"\",データ処理!AM855&データ処理!AZ855&データ処理!AR855)","v":""},{"$f":"RIGHT(データ処理!AN855,5)","v":""},{"$f":"データ処理!AO855","v":""},{"$f":"データ処理!AP855","v":""}]
[null,{"$f":"RIGHT(データ処理!AI856,5)","v":""},{"$f":"LEFT(データ処理!AJ856,5)","v":""},{"$f":"データ処理!AK856","v":0},{"$f":"IF(データ処理!AK856=\"\",\"\",データ処理!AL856&データ処理!BE856&$G$3)","v":""},{"$f":"IF(データ処理!AK856=\"\",\"\",データ処理!AM856&データ処理!AZ856&データ処理!AR856)","v":""},{"$f":"RIGHT(データ処理!AN856,5)","v":""},{"$f":"データ処理!AO856","v":""},{"$f":"データ処理!AP856","v":""}]
[null,{"$f":"RIGHT(データ処理!AI857,5)","v":""},{"$f":"LEFT(データ処理!AJ857,5)","v":""},{"$f":"データ処理!AK857","v":0},{"$f":"IF(データ処理!AK857=\"\",\"\",データ処理!AL857&データ処理!BE857&$G$3)","v":""},{"$f":"IF(データ処理!AK857=\"\",\"\",データ処理!AM857&データ処理!AZ857&データ処理!AR857)","v":""},{"$f":"RIGHT(データ処理!AN857,5)","v":""},{"$f":"データ処理!AO857","v":""},{"$f":"データ処理!AP857","v":""}]
[null,{"$f":"RIGHT(データ処理!AI858,5)","v":""},{"$f":"LEFT(データ処理!AJ858,5)","v":""},{"$f":"データ処理!AK858","v":0},{"$f":"IF(データ処理!AK858=\"\",\"\",データ処理!AL858&データ処理!BE858&$G$3)","v":""},{"$f":"IF(データ処理!AK858=\"\",\"\",データ処理!AM858&データ処理!AZ858&データ処理!AR858)","v":""},{"$f":"RIGHT(データ処理!AN858,5)","v":""},{"$f":"データ処理!AO858","v":""},{"$f":"データ処理!AP858","v":""}]
[null,{"$f":"RIGHT(データ処理!AI859,5)","v":""},{"$f":"LEFT(データ処理!AJ859,5)","v":""},{"$f":"データ処理!AK859","v":0},{"$f":"IF(データ処理!AK859=\"\",\"\",データ処理!AL859&データ処理!BE859&$G$3)","v":""},{"$f":"IF(データ処理!AK859=\"\",\"\",データ処理!AM859&データ処理!AZ859&データ処理!AR859)","v":""},{"$f":"RIGHT(データ処理!AN859,5)","v":""},{"$f":"データ処理!AO859","v":""},{"$f":"データ処理!AP859","v":""}]
[null,{"$f":"RIGHT(データ処理!AI860,5)","v":""},{"$f":"LEFT(データ処理!AJ860,5)","v":""},{"$f":"データ処理!AK860","v":0},{"$f":"IF(データ処理!AK860=\"\",\"\",データ処理!AL860&データ処理!BE860&$G$3)","v":""},{"$f":"IF(データ処理!AK860=\"\",\"\",データ処理!AM860&データ処理!AZ860&データ処理!AR860)","v":""},{"$f":"RIGHT(データ処理!AN860,5)","v":""},{"$f":"データ処理!AO860","v":""},{"$f":"データ処理!AP860","v":""}]
[null,{"$f":"RIGHT(データ処理!AI861,5)","v":""},{"$f":"LEFT(データ処理!AJ861,5)","v":""},{"$f":"データ処理!AK861","v":0},{"$f":"IF(データ処理!AK861=\"\",\"\",データ処理!AL861&データ処理!BE861&$G$3)","v":""},{"$f":"IF(データ処理!AK861=\"\",\"\",データ処理!AM861&データ処理!AZ861&データ処理!AR861)","v":""},{"$f":"RIGHT(データ処理!AN861,5)","v":""},{"$f":"データ処理!AO861","v":""},{"$f":"データ処理!AP861","v":""}]
[null,{"$f":"RIGHT(データ処理!AI862,5)","v":""},{"$f":"LEFT(データ処理!AJ862,5)","v":""},{"$f":"データ処理!AK862","v":0},{"$f":"IF(データ処理!AK862=\"\",\"\",データ処理!AL862&データ処理!BE862&$G$3)","v":""},{"$f":"IF(データ処理!AK862=\"\",\"\",データ処理!AM862&データ処理!AZ862&データ処理!AR862)","v":""},{"$f":"RIGHT(データ処理!AN862,5)","v":""},{"$f":"データ処理!AO862","v":""},{"$f":"データ処理!AP862","v":""}]
[null,{"$f":"RIGHT(データ処理!AI863,5)","v":""},{"$f":"LEFT(データ処理!AJ863,5)","v":""},{"$f":"データ処理!AK863","v":0},{"$f":"IF(データ処理!AK863=\"\",\"\",データ処理!AL863&データ処理!BE863&$G$3)","v":""},{"$f":"IF(データ処理!AK863=\"\",\"\",データ処理!AM863&データ処理!AZ863&データ処理!AR863)","v":""},{"$f":"RIGHT(データ処理!AN863,5)","v":""},{"$f":"データ処理!AO863","v":""},{"$f":"データ処理!AP863","v":""}]
[10,{"$f":"RIGHT(データ処理!AI864,5)","v":""},{"$f":"LEFT(データ処理!AJ864,5)","v":""},{"$f":"データ処理!AK864","v":0},{"$f":"IF(データ処理!AK864=\"\",\"\",データ処理!AL864&データ処理!BE864&$G$3)","v":""},{"$f":"IF(データ処理!AK864=\"\",\"\",データ処理!AM864&データ処理!AZ864&データ処理!AR864)","v":""},{"$f":"RIGHT(データ処理!AN864,5)","v":""},{"$f":"データ処理!AO864","v":""},{"$f":"データ処理!AP864","v":""}]
[null,{"$f":"RIGHT(データ処理!AI865,5)","v":""},{"$f":"LEFT(データ処理!AJ865,5)","v":""},{"$f":"データ処理!AK865","v":0},{"$f":"IF(データ処理!AK865=\"\",\"\",データ処理!AL865&データ処理!BE865&$G$3)","v":""},{"$f":"IF(データ処理!AK865=\"\",\"\",データ処理!AM865&データ処理!AZ865&データ処理!AR865)","v":""},{"$f":"RIGHT(データ処理!AN865,5)","v":""},{"$f":"データ処理!AO865","v":""},{"$f":"データ処理!AP865","v":""}]
[null,{"$f":"RIGHT(データ処理!AI866,5)","v":""},{"$f":"LEFT(データ処理!AJ866,5)","v":""},{"$f":"データ処理!AK866","v":0},{"$f":"IF(データ処理!AK866=\"\",\"\",データ処理!AL866&データ処理!BE866&$G$3)","v":""},{"$f":"IF(データ処理!AK866=\"\",\"\",データ処理!AM866&データ処理!AZ866&データ処理!AR866)","v":""},{"$f":"RIGHT(データ処理!AN866,5)","v":""},{"$f":"データ処理!AO866","v":""},{"$f":"データ処理!AP866","v":""}]
[null,{"$f":"RIGHT(データ処理!AI867,5)","v":""},{"$f":"LEFT(データ処理!AJ867,5)","v":""},{"$f":"データ処理!AK867","v":0},{"$f":"IF(データ処理!AK867=\"\",\"\",データ処理!AL867&データ処理!BE867&$G$3)","v":""},{"$f":"IF(データ処理!AK867=\"\",\"\",データ処理!AM867&データ処理!AZ867&データ処理!AR867)","v":""},{"$f":"RIGHT(データ処理!AN867,5)","v":""},{"$f":"データ処理!AO867","v":""},{"$f":"データ処理!AP867","v":""}]
[null,{"$f":"RIGHT(データ処理!AI868,5)","v":""},{"$f":"LEFT(データ処理!AJ868,5)","v":""},{"$f":"データ処理!AK868","v":0},{"$f":"IF(データ処理!AK868=\"\",\"\",データ処理!AL868&データ処理!BE868&$G$3)","v":""},{"$f":"IF(データ処理!AK868=\"\",\"\",データ処理!AM868&データ処理!AZ868&データ処理!AR868)","v":""},{"$f":"RIGHT(データ処理!AN868,5)","v":""},{"$f":"データ処理!AO868","v":""},{"$f":"データ処理!AP868","v":""}]
[null,{"$f":"RIGHT(データ処理!AI869,5)","v":""},{"$f":"LEFT(データ処理!AJ869,5)","v":""},{"$f":"データ処理!AK869","v":0},{"$f":"IF(データ処理!AK869=\"\",\"\",データ処理!AL869&データ処理!BE869&$G$3)","v":""},{"$f":"IF(データ処理!AK869=\"\",\"\",データ処理!AM869&データ処理!AZ869&データ処理!AR869)","v":""},{"$f":"RIGHT(データ処理!AN869,5)","v":""},{"$f":"データ処理!AO869","v":""},{"$f":"データ処理!AP869","v":""}]
[null,{"$f":"RIGHT(データ処理!AI870,5)","v":""},{"$f":"LEFT(データ処理!AJ870,5)","v":""},{"$f":"データ処理!AK870","v":0},{"$f":"IF(データ処理!AK870=\"\",\"\",データ処理!AL870&データ処理!BE870&$G$3)","v":""},{"$f":"IF(データ処理!AK870=\"\",\"\",データ処理!AM870&データ処理!AZ870&データ処理!AR870)","v":""},{"$f":"RIGHT(データ処理!AN870,5)","v":""},{"$f":"データ処理!AO870","v":""},{"$f":"データ処理!AP870","v":""}]
[null,{"$f":"RIGHT(データ処理!AI871,5)","v":""},{"$f":"LEFT(データ処理!AJ871,5)","v":""},{"$f":"データ処理!AK871","v":0},{"$f":"IF(データ処理!AK871=\"\",\"\",データ処理!AL871&データ処理!BE871&$G$3)","v":""},{"$f":"IF(データ処理!AK871=\"\",\"\",データ処理!AM871&データ処理!AZ871&データ処理!AR871)","v":""},{"$f":"RIGHT(データ処理!AN871,5)","v":""},{"$f":"データ処理!AO871","v":""},{"$f":"データ処理!AP871","v":""}]
[null,{"$f":"RIGHT(データ処理!AI872,5)","v":""},{"$f":"LEFT(データ処理!AJ872,5)","v":""},{"$f":"データ処理!AK872","v":0},{"$f":"IF(データ処理!AK872=\"\",\"\",データ処理!AL872&データ処理!BE872&$G$3)","v":""},{"$f":"IF(データ処理!AK872=\"\",\"\",データ処理!AM872&データ処理!AZ872&データ処理!AR872)","v":""},{"$f":"RIGHT(データ処理!AN872,5)","v":""},{"$f":"データ処理!AO872","v":""},{"$f":"データ処理!AP872","v":""}]
[null,{"$f":"RIGHT(データ処理!AI873,5)","v":""},{"$f":"LEFT(データ処理!AJ873,5)","v":""},{"$f":"データ処理!AK873","v":0},{"$f":"IF(データ処理!AK873=\"\",\"\",データ処理!AL873&データ処理!BE873&$G$3)","v":""},{"$f":"IF(データ処理!AK873=\"\",\"\",データ処理!AM873&データ処理!AZ873&データ処理!AR873)","v":""},{"$f":"RIGHT(データ処理!AN873,5)","v":""},{"$f":"データ処理!AO873","v":""},{"$f":"データ処理!AP873","v":""}]
[20,{"$f":"RIGHT(データ処理!AI874,5)","v":""},{"$f":"LEFT(データ処理!AJ874,5)","v":""},{"$f":"データ処理!AK874","v":0},{"$f":"IF(データ処理!AK874=\"\",\"\",データ処理!AL874&データ処理!BE874&$G$3)","v":""},{"$f":"IF(データ処理!AK874=\"\",\"\",データ処理!AM874&データ処理!AZ874&データ処理!AR874)","v":""},{"$f":"RIGHT(データ処理!AN874,5)","v":""},{"$f":"データ処理!AO874","v":""},{"$f":"データ処理!AP874","v":""}]
[null,{"$f":"RIGHT(データ処理!AI875,5)","v":""},{"$f":"LEFT(データ処理!AJ875,5)","v":""},{"$f":"データ処理!AK875","v":0},{"$f":"IF(データ処理!AK875=\"\",\"\",データ処理!AL875&データ処理!BE875&$G$3)","v":""},{"$f":"IF(データ処理!AK875=\"\",\"\",データ処理!AM875&データ処理!AZ875&データ処理!AR875)","v":""},{"$f":"RIGHT(データ処理!AN875,5)","v":""},{"$f":"データ処理!AO875","v":""},{"$f":"データ処理!AP875","v":""}]
[null,{"$f":"RIGHT(データ処理!AI876,5)","v":""},{"$f":"LEFT(データ処理!AJ876,5)","v":""},{"$f":"データ処理!AK876","v":0},{"$f":"IF(データ処理!AK876=\"\",\"\",データ処理!AL876&データ処理!BE876&$G$3)","v":""},{"$f":"IF(データ処理!AK876=\"\",\"\",データ処理!AM876&データ処理!AZ876&データ処理!AR876)","v":""},{"$f":"RIGHT(データ処理!AN876,5)","v":""},{"$f":"データ処理!AO876","v":""},{"$f":"データ処理!AP876","v":""}]
[null,{"$f":"RIGHT(データ処理!AI877,5)","v":""},{"$f":"LEFT(データ処理!AJ877,5)","v":""},{"$f":"データ処理!AK877","v":0},{"$f":"IF(データ処理!AK877=\"\",\"\",データ処理!AL877&データ処理!BE877&$G$3)","v":""},{"$f":"IF(データ処理!AK877=\"\",\"\",データ処理!AM877&データ処理!AZ877&データ処理!AR877)","v":""},{"$f":"RIGHT(データ処理!AN877,5)","v":""},{"$f":"データ処理!AO877","v":""},{"$f":"データ処理!AP877","v":""}]
[null,{"$f":"RIGHT(データ処理!AI878,5)","v":""},{"$f":"LEFT(データ処理!AJ878,5)","v":""},{"$f":"データ処理!AK878","v":0},{"$f":"IF(データ処理!AK878=\"\",\"\",データ処理!AL878&データ処理!BE878&$G$3)","v":""},{"$f":"IF(データ処理!AK878=\"\",\"\",データ処理!AM878&データ処理!AZ878&データ処理!AR878)","v":""},{"$f":"RIGHT(データ処理!AN878,5)","v":""},{"$f":"データ処理!AO878","v":""},{"$f":"データ処理!AP878","v":""}]
[null,{"$f":"RIGHT(データ処理!AI879,5)","v":""},{"$f":"LEFT(データ処理!AJ879,5)","v":""},{"$f":"データ処理!AK879","v":0},{"$f":"IF(データ処理!AK879=\"\",\"\",データ処理!AL879&データ処理!BE879&$G$3)","v":""},{"$f":"IF(データ処理!AK879=\"\",\"\",データ処理!AM879&データ処理!AZ879&データ処理!AR879)","v":""},{"$f":"RIGHT(データ処理!AN879,5)","v":""},{"$f":"データ処理!AO879","v":""},{"$f":"データ処理!AP879","v":""}]
[null,{"$f":"RIGHT(データ処理!AI880,5)","v":""},{"$f":"LEFT(データ処理!AJ880,5)","v":""},{"$f":"データ処理!AK880","v":0},{"$f":"IF(データ処理!AK880=\"\",\"\",データ処理!AL880&データ処理!BE880&$G$3)","v":""},{"$f":"IF(データ処理!AK880=\"\",\"\",データ処理!AM880&データ処理!AZ880&データ処理!AR880)","v":""},{"$f":"RIGHT(データ処理!AN880,5)","v":""},{"$f":"データ処理!AO880","v":""},{"$f":"データ処理!AP880","v":""}]
[null,{"$f":"RIGHT(データ処理!AI881,5)","v":""},{"$f":"LEFT(データ処理!AJ881,5)","v":""},{"$f":"データ処理!AK881","v":0},{"$f":"IF(データ処理!AK881=\"\",\"\",データ処理!AL881&データ処理!BE881&$G$3)","v":""},{"$f":"IF(データ処理!AK881=\"\",\"\",データ処理!AM881&データ処理!AZ881&データ処理!AR881)","v":""},{"$f":"RIGHT(データ処理!AN881,5)","v":""},{"$f":"データ処理!AO881","v":""},{"$f":"データ処理!AP881","v":""}]
[null,{"$f":"RIGHT(データ処理!AI882,5)","v":""},{"$f":"LEFT(データ処理!AJ882,5)","v":""},{"$f":"データ処理!AK882","v":0},{"$f":"IF(データ処理!AK882=\"\",\"\",データ処理!AL882&データ処理!BE882&$G$3)","v":""},{"$f":"IF(データ処理!AK882=\"\",\"\",データ処理!AM882&データ処理!AZ882&データ処理!AR882)","v":""},{"$f":"RIGHT(データ処理!AN882,5)","v":""},{"$f":"データ処理!AO882","v":""},{"$f":"データ処理!AP882","v":""}]
[null,{"$f":"RIGHT(データ処理!AI883,5)","v":""},{"$f":"LEFT(データ処理!AJ883,5)","v":""},{"$f":"データ処理!AK883","v":0},{"$f":"IF(データ処理!AK883=\"\",\"\",データ処理!AL883&データ処理!BE883&$G$3)","v":""},{"$f":"IF(データ処理!AK883=\"\",\"\",データ処理!AM883&データ処理!AZ883&データ処理!AR883)","v":""},{"$f":"RIGHT(データ処理!AN883,5)","v":""},{"$f":"データ処理!AO883","v":""},{"$f":"データ処理!AP883","v":""}]
[30,{"$f":"RIGHT(データ処理!AI884,5)","v":""},{"$f":"LEFT(データ処理!AJ884,5)","v":""},{"$f":"データ処理!AK884","v":0},{"$f":"IF(データ処理!AK884=\"\",\"\",データ処理!AL884&データ処理!BE884&$G$3)","v":""},{"$f":"IF(データ処理!AK884=\"\",\"\",データ処理!AM884&データ処理!AZ884&データ処理!AR884)","v":""},{"$f":"RIGHT(データ処理!AN884,5)","v":""},{"$f":"データ処理!AO884","v":""},{"$f":"データ処理!AP884","v":""}]
[null,{"$f":"RIGHT(データ処理!AI885,5)","v":""},{"$f":"LEFT(データ処理!AJ885,5)","v":""},{"$f":"データ処理!AK885","v":0},{"$f":"IF(データ処理!AK885=\"\",\"\",データ処理!AL885&データ処理!BE885&$G$3)","v":""},{"$f":"IF(データ処理!AK885=\"\",\"\",データ処理!AM885&データ処理!AZ885&データ処理!AR885)","v":""},{"$f":"RIGHT(データ処理!AN885,5)","v":""},{"$f":"データ処理!AO885","v":""},{"$f":"データ処理!AP885","v":""}]
[null,{"$f":"RIGHT(データ処理!AI886,5)","v":""},{"$f":"LEFT(データ処理!AJ886,5)","v":""},{"$f":"データ処理!AK886","v":0},{"$f":"IF(データ処理!AK886=\"\",\"\",データ処理!AL886&データ処理!BE886&$G$3)","v":""},{"$f":"IF(データ処理!AK886=\"\",\"\",データ処理!AM886&データ処理!AZ886&データ処理!AR886)","v":""},{"$f":"RIGHT(データ処理!AN886,5)","v":""},{"$f":"データ処理!AO886","v":""},{"$f":"データ処理!AP886","v":""}]
[null,{"$f":"RIGHT(データ処理!AI887,5)","v":""},{"$f":"LEFT(データ処理!AJ887,5)","v":""},{"$f":"データ処理!AK887","v":0},{"$f":"IF(データ処理!AK887=\"\",\"\",データ処理!AL887&データ処理!BE887&$G$3)","v":""},{"$f":"IF(データ処理!AK887=\"\",\"\",データ処理!AM887&データ処理!AZ887&データ処理!AR887)","v":""},{"$f":"RIGHT(データ処理!AN887,5)","v":""},{"$f":"データ処理!AO887","v":""},{"$f":"データ処理!AP887","v":""}]
[null,{"$f":"RIGHT(データ処理!AI888,5)","v":""},{"$f":"LEFT(データ処理!AJ888,5)","v":""},{"$f":"データ処理!AK888","v":0},{"$f":"IF(データ処理!AK888=\"\",\"\",データ処理!AL888&データ処理!BE888&$G$3)","v":""},{"$f":"IF(データ処理!AK888=\"\",\"\",データ処理!AM888&データ処理!AZ888&データ処理!AR888)","v":""},{"$f":"RIGHT(データ処理!AN888,5)","v":""},{"$f":"データ処理!AO888","v":""},{"$f":"データ処理!AP888","v":""}]
[null,{"$f":"RIGHT(データ処理!AI889,5)","v":""},{"$f":"LEFT(データ処理!AJ889,5)","v":""},{"$f":"データ処理!AK889","v":0},{"$f":"IF(データ処理!AK889=\"\",\"\",データ処理!AL889&データ処理!BE889&$G$3)","v":""},{"$f":"IF(データ処理!AK889=\"\",\"\",データ処理!AM889&データ処理!AZ889&データ処理!AR889)","v":""},{"$f":"RIGHT(データ処理!AN889,5)","v":""},{"$f":"データ処理!AO889","v":""},{"$f":"データ処理!AP889","v":""}]
[null,{"$f":"RIGHT(データ処理!AI890,5)","v":""},{"$f":"LEFT(データ処理!AJ890,5)","v":""},{"$f":"データ処理!AK890","v":0},{"$f":"IF(データ処理!AK890=\"\",\"\",データ処理!AL890&データ処理!BE890&$G$3)","v":""},{"$f":"IF(データ処理!AK890=\"\",\"\",データ処理!AM890&データ処理!AZ890&データ処理!AR890)","v":""},{"$f":"RIGHT(データ処理!AN890,5)","v":""},{"$f":"データ処理!AO890","v":""},{"$f":"データ処理!AP890","v":""}]
[null,{"$f":"RIGHT(データ処理!AI891,5)","v":""},{"$f":"LEFT(データ処理!AJ891,5)","v":""},{"$f":"データ処理!AK891","v":0},{"$f":"IF(データ処理!AK891=\"\",\"\",データ処理!AL891&データ処理!BE891&$G$3)","v":""},{"$f":"IF(データ処理!AK891=\"\",\"\",データ処理!AM891&データ処理!AZ891&データ処理!AR891)","v":""},{"$f":"RIGHT(データ処理!AN891,5)","v":""},{"$f":"データ処理!AO891","v":""},{"$f":"データ処理!AP891","v":""}]
[null,{"$f":"RIGHT(データ処理!AI892,5)","v":""},{"$f":"LEFT(データ処理!AJ892,5)","v":""},{"$f":"データ処理!AK892","v":0},{"$f":"IF(データ処理!AK892=\"\",\"\",データ処理!AL892&データ処理!BE892&$G$3)","v":""},{"$f":"IF(データ処理!AK892=\"\",\"\",データ処理!AM892&データ処理!AZ892&データ処理!AR892)","v":""},{"$f":"RIGHT(データ処理!AN892,5)","v":""},{"$f":"データ処理!AO892","v":""},{"$f":"データ処理!AP892","v":""}]
[null,{"$f":"RIGHT(データ処理!AI893,5)","v":""},{"$f":"LEFT(データ処理!AJ893,5)","v":""},{"$f":"データ処理!AK893","v":0},{"$f":"IF(データ処理!AK893=\"\",\"\",データ処理!AL893&データ処理!BE893&$G$3)","v":""},{"$f":"IF(データ処理!AK893=\"\",\"\",データ処理!AM893&データ処理!AZ893&データ処理!AR893)","v":""},{"$f":"RIGHT(データ処理!AN893,5)","v":""},{"$f":"データ処理!AO893","v":""},{"$f":"データ処理!AP893","v":""}]
[40,{"$f":"RIGHT(データ処理!AI894,5)","v":""},{"$f":"LEFT(データ処理!AJ894,5)","v":""},{"$f":"データ処理!AK894","v":0},{"$f":"IF(データ処理!AK894=\"\",\"\",データ処理!AL894&データ処理!BE894&$G$3)","v":""},{"$f":"IF(データ処理!AK894=\"\",\"\",データ処理!AM894&データ処理!AZ894&データ処理!AR894)","v":""},{"$f":"RIGHT(データ処理!AN894,5)","v":""},{"$f":"データ処理!AO894","v":""},{"$f":"データ処理!AP894","v":""}]
[null,{"$f":"RIGHT(データ処理!AI895,5)","v":""},{"$f":"LEFT(データ処理!AJ895,5)","v":""},{"$f":"データ処理!AK895","v":0},{"$f":"IF(データ処理!AK895=\"\",\"\",データ処理!AL895&データ処理!BE895&$G$3)","v":""},{"$f":"IF(データ処理!AK895=\"\",\"\",データ処理!AM895&データ処理!AZ895&データ処理!AR895)","v":""},{"$f":"RIGHT(データ処理!AN895,5)","v":""},{"$f":"データ処理!AO895","v":""},{"$f":"データ処理!AP895","v":""}]
[null,{"$f":"RIGHT(データ処理!AI896,5)","v":""},{"$f":"LEFT(データ処理!AJ896,5)","v":""},{"$f":"データ処理!AK896","v":0},{"$f":"IF(データ処理!AK896=\"\",\"\",データ処理!AL896&データ処理!BE896&$G$3)","v":""},{"$f":"IF(データ処理!AK896=\"\",\"\",データ処理!AM896&データ処理!AZ896&データ処理!AR896)","v":""},{"$f":"RIGHT(データ処理!AN896,5)","v":""},{"$f":"データ処理!AO896","v":""},{"$f":"データ処理!AP896","v":""}]
[null,{"$f":"RIGHT(データ処理!AI897,5)","v":""},{"$f":"LEFT(データ処理!AJ897,5)","v":""},{"$f":"データ処理!AK897","v":0},{"$f":"IF(データ処理!AK897=\"\",\"\",データ処理!AL897&データ処理!BE897&$G$3)","v":""},{"$f":"IF(データ処理!AK897=\"\",\"\",データ処理!AM897&データ処理!AZ897&データ処理!AR897)","v":""},{"$f":"RIGHT(データ処理!AN897,5)","v":""},{"$f":"データ処理!AO897","v":""},{"$f":"データ処理!AP897","v":""}]
[null,{"$f":"RIGHT(データ処理!AI898,5)","v":""},{"$f":"LEFT(データ処理!AJ898,5)","v":""},{"$f":"データ処理!AK898","v":0},{"$f":"IF(データ処理!AK898=\"\",\"\",データ処理!AL898&データ処理!BE898&$G$3)","v":""},{"$f":"IF(データ処理!AK898=\"\",\"\",データ処理!AM898&データ処理!AZ898&データ処理!AR898)","v":""},{"$f":"RIGHT(データ処理!AN898,5)","v":""},{"$f":"データ処理!AO898","v":""},{"$f":"データ処理!AP898","v":""}]
[null,{"$f":"RIGHT(データ処理!AI899,5)","v":""},{"$f":"LEFT(データ処理!AJ899,5)","v":""},{"$f":"データ処理!AK899","v":0},{"$f":"IF(データ処理!AK899=\"\",\"\",データ処理!AL899&データ処理!BE899&$G$3)","v":""},{"$f":"IF(データ処理!AK899=\"\",\"\",データ処理!AM899&データ処理!AZ899&データ処理!AR899)","v":""},{"$f":"RIGHT(データ処理!AN899,5)","v":""},{"$f":"データ処理!AO899","v":""},{"$f":"データ処理!AP899","v":""}]
[null,{"$f":"RIGHT(データ処理!AI900,5)","v":""},{"$f":"LEFT(データ処理!AJ900,5)","v":""},{"$f":"データ処理!AK900","v":0},{"$f":"IF(データ処理!AK900=\"\",\"\",データ処理!AL900&データ処理!BE900&$G$3)","v":""},{"$f":"IF(データ処理!AK900=\"\",\"\",データ処理!AM900&データ処理!AZ900&データ処理!AR900)","v":""},{"$f":"RIGHT(データ処理!AN900,5)","v":""},{"$f":"データ処理!AO900","v":""},{"$f":"データ処理!AP900","v":""}]
[null,{"$f":"RIGHT(データ処理!AI901,5)","v":""},{"$f":"LEFT(データ処理!AJ901,5)","v":""},{"$f":"データ処理!AK901","v":0},{"$f":"IF(データ処理!AK901=\"\",\"\",データ処理!AL901&データ処理!BE901&$G$3)","v":""},{"$f":"IF(データ処理!AK901=\"\",\"\",データ処理!AM901&データ処理!AZ901&データ処理!AR901)","v":""},{"$f":"RIGHT(データ処理!AN901,5)","v":""},{"$f":"データ処理!AO901","v":""},{"$f":"データ処理!AP901","v":""}]
[null,{"$f":"RIGHT(データ処理!AI902,5)","v":""},{"$f":"LEFT(データ処理!AJ902,5)","v":""},{"$f":"データ処理!AK902","v":0},{"$f":"IF(データ処理!AK902=\"\",\"\",データ処理!AL902&データ処理!BE902&$G$3)","v":""},{"$f":"IF(データ処理!AK902=\"\",\"\",データ処理!AM902&データ処理!AZ902&データ処理!AR902)","v":""},{"$f":"RIGHT(データ処理!AN902,5)","v":""},{"$f":"データ処理!AO902","v":""},{"$f":"データ処理!AP902","v":""}]
[null,{"$f":"RIGHT(データ処理!AI903,5)","v":""},{"$f":"LEFT(データ処理!AJ903,5)","v":""},{"$f":"データ処理!AK903","v":0},{"$f":"IF(データ処理!AK903=\"\",\"\",データ処理!AL903&データ処理!BE903&$G$3)","v":""},{"$f":"IF(データ処理!AK903=\"\",\"\",データ処理!AM903&データ処理!AZ903&データ処理!AR903)","v":""},{"$f":"RIGHT(データ処理!AN903,5)","v":""},{"$f":"データ処理!AO903","v":""},{"$f":"データ処理!AP903","v":""}]
[50,{"$f":"RIGHT(データ処理!AI904,5)","v":""},{"$f":"LEFT(データ処理!AJ904,5)","v":""},{"$f":"データ処理!AK904","v":0},{"$f":"IF(データ処理!AK904=\"\",\"\",データ処理!AL904&データ処理!BE904&$G$3)","v":""},{"$f":"IF(データ処理!AK904=\"\",\"\",データ処理!AM904&データ処理!AZ904&データ処理!AR904)","v":""},{"$f":"RIGHT(データ処理!AN904,5)","v":""},{"$f":"データ処理!AO904","v":""},{"$f":"データ処理!AP904","v":""}]
[null,"Total  (合計)",null,{"$f":"COUNTIF(B1018:B1067,\"*/*\")","v":0},null,"Total  (合計)",{"$f":"COUNTIF(G1018:G1067,\"*/*\")","v":0},{"$f":"50-COUNTBLANK(H1018:H1067)","v":0},{"$f":"SUM(I1018:I1067)","v":0}]
[]
[null,"総 合 計",null,{"$f":"IF(K1014=\"\",\"\",D1068+ログシート!D1011)","v":""},null,"総 合 計",{"$f":"IF(K1014=\"\",\"\",G1068+ログシート!G1011)","v":""},{"$f":"IF(K1014=\"\",\"\",H1068+ログシート!H1011)","v":""},{"$f":"IF(K1014=\"\",\"\",I1068+ログシート!I1011)","v":""}]
[]
[null,"ＬＯＧ　ＳＨＥＥＴ (ログシート）",null,null,"Year (年)",{"$f":"$F$10","v":"2024"},{"$f":"$G$10","v":"第38回 滋賀2mSSB\nアクティブコンテスト"}]
[null,"Callsign (ｺｰﾙｻｲﾝ)",null,{"$f":"$D$11","v":0},"BAND（バンド）",{"$f":"$F$11","v":144},"MHz/SSB",null,"Sheet No.",null,{"$f":"IF(E1077=\"\",\"\",L1076&\"/\"&$E$3)","v":""}]
[]
[null,"Date Time",null,"Station Wkd","Exchange (ｺﾝﾃｽﾄﾅﾝﾊﾞｰ)",null,"Multi.（マルチ）",null,"Pts.","Op.","備考"]
[null,"月/日","時分JST","交信局","Sent (送信)","Received (受信)","日数マルチ","テールレター","得点","運用者",null,19]
[null,{"$f":"RIGHT(データ処理!AI905,5)","v":""},{"$f":"LEFT(データ処理!AJ905,5)","v":""},{"$f":"データ処理!AK905","v":0},{"$f":"IF(データ処理!AK905=\"\",\"\",データ処理!AL905&データ処理!BE905&$G$3)","v":""},{"$f":"IF(データ処理!AK905=\"\",\"\",データ処理!AM905&データ処理!AZ905&データ処理!AR905)","v":""},{"$f":"RIGHT(データ処理!AN905,5)","v":""},{"$f":"データ処理!AO905","v":""},{"$f":"データ処理!AP905","v":""}]
[null,{"$f":"RIGHT(データ処理!AI906,5)","v":""},{"$f":"LEFT(データ処理!AJ906,5)","v":""},{"$f":"データ処理!AK906","v":0},{"$f":"IF(データ処理!AK906=\"\",\"\",データ処理!AL906&データ処理!BE906&$G$3)","v":""},{"$f":"IF(データ処理!AK906=\"\",\"\",データ処理!AM906&データ処理!AZ906&データ処理!AR906)","v":""},{"$f":"RIGHT(データ処理!AN906,5)","v":""},{"$f":"データ処理!AO906","v":""},{"$f":"データ処理!AP906","v":""}]
[null,{"$f":"RIGHT(データ処理!AI907,5)","v":""},{"$f":"LEFT(データ処理!AJ907,5)","v":""},{"$f":"データ処理!AK907","v":0},{"$f":"IF(データ処理!AK907=\"\",\"\",データ処理!AL907&データ処理!BE907&$G$3)","v":""},{"$f":"IF(データ処理!AK907=\"\",\"\",データ処理!AM907&データ処理!AZ907&データ処理!AR907)","v":""},{"$f":"RIGHT(データ処理!AN907,5)","v":""},{"$f":"データ処理!AO907","v":""},{"$f":"データ処理!AP907","v":""}]
[null,{"$f":"RIGHT(データ処理!AI908,5)","v":""},{"$f":"LEFT(データ処理!AJ908,5)","v":""},{"$f":"データ処理!AK908","v":0},{"$f":"IF(データ処理!AK908=\"\",\"\",データ処理!AL908&データ処理!BE908&$G$3)","v":""},{"$f":"IF(データ処理!AK908=\"\",\"\",データ処理!AM908&データ処理!AZ908&データ処理!AR908)","v":""},{"$f":"RIGHT(データ処理!AN908,5)","v":""},{"$f":"データ処理!AO908","v":""},{"$f":"データ処理!AP908","v":""}]
[null,{"$f":"RIGHT(データ処理!AI909,5)","v":""},{"$f":"LEFT(データ処理!AJ909,5)","v":""},{"$f":"データ処理!AK909","v":0},{"$f":"IF(データ処理!AK909=\"\",\"\",データ処理!AL909&データ処理!BE909&$G$3)","v":""},{"$f":"IF(データ処理!AK909=\"\",\"\",データ処理!AM909&データ処理!AZ909&データ処理!AR909)","v":""},{"$f":"RIGHT(データ処理!AN909,5)","v":""},{"$f":"データ処理!AO909","v":""},{"$f":"データ処理!AP909","v":""}]
[null,{"$f":"RIGHT(データ処理!AI910,5)","v":""},{"$f":"LEFT(データ処理!AJ910,5)","v":""},{"$f":"データ処理!AK910","v":0},{"$f":"IF(データ処理!AK910=\"\",\"\",データ処理!AL910&データ処理!BE910&$G$3)","v":""},{"$f":"IF(データ処理!AK910=\"\",\"\",データ処理!AM910&データ処理!AZ910&データ処理!AR910)","v":""},{"$f":"RIGHT(データ処理!AN910,5)","v":""},{"$f":"データ処理!AO910","v":""},{"$f":"データ処理!AP910","v":""}]
[null,{"$f":"RIGHT(データ処理!AI911,5)","v":""},{"$f":"LEFT(データ処理!AJ911,5)","v":""},{"$f":"データ処理!AK911","v":0},{"$f":"IF(データ処理!AK911=\"\",\"\",データ処理!AL911&データ処理!BE911&$G$3)","v":""},{"$f":"IF(データ処理!AK911=\"\",\"\",データ処理!AM911&データ処理!AZ911&データ処理!AR911)","v":""},{"$f":"RIGHT(データ処理!AN911,5)","v":""},{"$f":"データ処理!AO911","v":""},{"$f":"データ処理!AP911","v":""}]
[null,{"$f":"RIGHT(データ処理!AI912,5)","v":""},{"$f":"LEFT(データ処理!AJ912,5)","v":""},{"$f":"データ処理!AK912","v":0},{"$f":"IF(データ処理!AK912=\"\",\"\",データ処理!AL912&データ処理!BE912&$G$3)","v":""},{"$f":"IF(データ処理!AK912=\"\",\"\",データ処理!AM912&データ処理!AZ912&データ処理!AR912)","v":""},{"$f":"RIGHT(データ処理!AN912,5)","v":""},{"$f":"データ処理!AO912","v":""},{"$f":"データ処理!AP912","v":""}]
[null,{"$f":"RIGHT(データ処理!AI913,5)","v":""},{"$f":"LEFT(データ処理!AJ913,5)","v":""},{"$f":"データ処理!AK913","v":0},{"$f":"IF(データ処理!AK913=\"\",\"\",データ処理!AL913&データ処理!BE913&$G$3)","v":""},{"$f":"IF(データ処理!AK913=\"\",\"\",データ処理!AM913&データ処理!AZ913&データ処理!AR913)","v":""},{"$f":"RIGHT(データ処理!AN913,5)","v":""},{"$f":"データ処理!AO913","v":""},{"$f":"データ処理!AP913","v":""}]
[10,{"$f":"RIGHT(データ処理!AI914,5)","v":""},{"$f":"LEFT(データ処理!AJ914,5)","v":""},{"$f":"データ処理!AK914","v":0},{"$f":"IF(データ処理!AK914=\"\",\"\",データ処理!AL914&データ処理!BE914&$G$3)","v":""},{"$f":"IF(データ処理!AK914=\"\",\"\",データ処理!AM914&データ処理!AZ914&データ処理!AR914)","v":""},{"$f":"RIGHT(データ処理!AN914,5)","v":""},{"$f":"データ処理!AO914","v":""},{"$f":"データ処理!AP914","v":""}]
[null,{"$f":"RIGHT(データ処理!AI915,5)","v":""},{"$f":"LEFT(データ処理!AJ915,5)","v":""},{"$f":"データ処理!AK915","v":0},{"$f":"IF(データ処理!AK915=\"\",\"\",データ処理!AL915&データ処理!BE915&$G$3)","v":""},{"$f":"IF(データ処理!AK915=\"\",\"\",データ処理!AM915&データ処理!AZ915&データ処理!AR915)","v":""},{"$f":"RIGHT(データ処理!AN915,5)","v":""},{"$f":"データ処理!AO915","v":""},{"$f":"データ処理!AP915","v":""}]
[null,{"$f":"RIGHT(データ処理!AI916,5)","v":""},{"$f":"LEFT(データ処理!AJ916,5)","v":""},{"$f":"データ処理!AK916","v":0},{"$f":"IF(データ処理!AK916=\"\",\"\",データ処理!AL916&データ処理!BE916&$G$3)","v":""},{"$f":"IF(データ処理!AK916=\"\",\"\",データ処理!AM916&データ処理!AZ916&データ処理!AR916)","v":""},{"$f":"RIGHT(データ処理!AN916,5)","v":""},{"$f":"データ処理!AO916","v":""},{"$f":"データ処理!AP916","v":""}]
[null,{"$f":"RIGHT(データ処理!AI917,5)","v":""},{"$f":"LEFT(データ処理!AJ917,5)","v":""},{"$f":"データ処理!AK917","v":0},{"$f":"IF(データ処理!AK917=\"\",\"\",データ処理!AL917&データ処理!BE917&$G$3)","v":""},{"$f":"IF(データ処理!AK917=\"\",\"\",データ処理!AM917&データ処理!AZ917&データ処理!AR917)","v":""},{"$f":"RIGHT(データ処理!AN917,5)","v":""},{"$f":"データ処理!AO917","v":""},{"$f":"データ処理!AP917","v":""}]
[null,{"$f":"RIGHT(データ処理!AI918,5)","v":""},{"$f":"LEFT(データ処理!AJ918,5)","v":""},{"$f":"データ処理!AK918","v":0},{"$f":"IF(データ処理!AK918=\"\",\"\",データ処理!AL918&データ処理!BE918&$G$3)","v":""},{"$f":"IF(データ処理!AK918=\"\",\"\",データ処理!AM918&データ処理!AZ918&データ処理!AR918)","v":""},{"$f":"RIGHT(データ処理!AN918,5)","v":""},{"$f":"データ処理!AO918","v":""},{"$f":"データ処理!AP918","v":""}]
[null,{"$f":"RIGHT(データ処理!AI919,5)","v":""},{"$f":"LEFT(データ処理!AJ919,5)","v":""},{"$f":"データ処理!AK919","v":0},{"$f":"IF(データ処理!AK919=\"\",\"\",データ処理!AL919&データ処理!BE919&$G$3)","v":""},{"$f":"IF(データ処理!AK919=\"\",\"\",データ処理!AM919&データ処理!AZ919&データ処理!AR919)","v":""},{"$f":"RIGHT(データ処理!AN919,5)","v":""},{"$f":"データ処理!AO919","v":""},{"$f":"データ処理!AP919","v":""}]
[null,{"$f":"RIGHT(データ処理!AI920,5)","v":""},{"$f":"LEFT(データ処理!AJ920,5)","v":""},{"$f":"データ処理!AK920","v":0},{"$f":"IF(データ処理!AK920=\"\",\"\",データ処理!AL920&データ処理!BE920&$G$3)","v":""},{"$f":"IF(データ処理!AK920=\"\",\"\",データ処理!AM920&データ処理!AZ920&データ処理!AR920)","v":""},{"$f":"RIGHT(データ処理!AN920,5)","v":""},{"$f":"データ処理!AO920","v":""},{"$f":"データ処理!AP920","v":""}]
[null,{"$f":"RIGHT(データ処理!AI921,5)","v":""},{"$f":"LEFT(データ処理!AJ921,5)","v":""},{"$f":"データ処理!AK921","v":0},{"$f":"IF(データ処理!AK921=\"\",\"\",データ処理!AL921&データ処理!BE921&$G$3)","v":""},{"$f":"IF(データ処理!AK921=\"\",\"\",データ処理!AM921&データ処理!AZ921&データ処理!AR921)","v":""},{"$f":"RIGHT(データ処理!AN921,5)","v":""},{"$f":"データ処理!AO921","v":""},{"$f":"データ処理!AP921","v":""}]
[null,{"$f":"RIGHT(データ処理!AI922,5)","v":""},{"$f":"LEFT(データ処理!AJ922,5)","v":""},{"$f":"データ処理!AK922","v":0},{"$f":"IF(データ処理!AK922=\"\",\"\",データ処理!AL922&データ処理!BE922&$G$3)","v":""},{"$f":"IF(データ処理!AK922=\"\",\"\",データ処理!AM922&データ処理!AZ922&データ処理!AR922)","v":""},{"$f":"RIGHT(データ処理!AN922,5)","v":""},{"$f":"データ処理!AO922","v":""},{"$f":"データ処理!AP922","v":""}]
[null,{"$f":"RIGHT(データ処理!AI923,5)","v":""},{"$f":"LEFT(データ処理!AJ923,5)","v":""},{"$f":"データ処理!AK923","v":0},{"$f":"IF(データ処理!AK923=\"\",\"\",データ処理!AL923&データ処理!BE923&$G$3)","v":""},{"$f":"IF(データ処理!AK923=\"\",\"\",データ処理!AM923&データ処理!AZ923&データ処理!AR923)","v":""},{"$f":"RIGHT(データ処理!AN923,5)","v":""},{"$f":"データ処理!AO923","v":""},{"$f":"データ処理!AP923","v":""}]
[20,{"$f":"RIGHT(データ処理!AI924,5)","v":""},{"$f":"LEFT(データ処理!AJ924,5)","v":""},{"$f":"データ処理!AK924","v":0},{"$f":"IF(データ処理!AK924=\"\",\"\",データ処理!AL924&データ処理!BE924&$G$3)","v":""},{"$f":"IF(データ処理!AK924=\"\",\"\",データ処理!AM924&データ処理!AZ924&データ処理!AR924)","v":""},{"$f":"RIGHT(データ処理!AN924,5)","v":""},{"$f":"データ処理!AO924","v":""},{"$f":"データ処理!AP924","v":""}]
[null,{"$f":"RIGHT(データ処理!AI925,5)","v":""},{"$f":"LEFT(データ処理!AJ925,5)","v":""},{"$f":"データ処理!AK925","v":0},{"$f":"IF(データ処理!AK925=\"\",\"\",データ処理!AL925&データ処理!BE925&$G$3)","v":""},{"$f":"IF(データ処理!AK925=\"\",\"\",データ処理!AM925&データ処理!AZ925&データ処理!AR925)","v":""},{"$f":"RIGHT(データ処理!AN925,5)","v":""},{"$f":"データ処理!AO925","v":""},{"$f":"データ処理!AP925","v":""}]
[null,{"$f":"RIGHT(データ処理!AI926,5)","v":""},{"$f":"LEFT(データ処理!AJ926,5)","v":""},{"$f":"データ処理!AK926","v":0},{"$f":"IF(データ処理!AK926=\"\",\"\",データ処理!AL926&データ処理!BE926&$G$3)","v":""},{"$f":"IF(データ処理!AK926=\"\",\"\",データ処理!AM926&データ処理!AZ926&データ処理!AR926)","v":""},{"$f":"RIGHT(データ処理!AN926,5)","v":""},{"$f":"データ処理!AO926","v":""},{"$f":"データ処理!AP926","v":""}]
[null,{"$f":"RIGHT(データ処理!AI927,5)","v":""},{"$f":"LEFT(データ処理!AJ927,5)","v":""},{"$f":"データ処理!AK927","v":0},{"$f":"IF(データ処理!AK927=\"\",\"\",データ処理!AL927&データ処理!BE927&$G$3)","v":""},{"$f":"IF(データ処理!AK927=\"\",\"\",データ処理!AM927&データ処理!AZ927&データ処理!AR927)","v":""},{"$f":"RIGHT(データ処理!AN927,5)","v":""},{"$f":"データ処理!AO927","v":""},{"$f":"データ処理!AP927","v":""}]
[null,{"$f":"RIGHT(データ処理!AI928,5)","v":""},{"$f":"LEFT(データ処理!AJ928,5)","v":""},{"$f":"データ処理!AK928","v":0},{"$f":"IF(データ処理!AK928=\"\",\"\",データ処理!AL928&データ処理!BE928&$G$3)","v":""},{"$f":"IF(データ処理!AK928=\"\",\"\",データ処理!AM928&データ処理!AZ928&データ処理!AR928)","v":""},{"$f":"RIGHT(データ処理!AN928,5)","v":""},{"$f":"データ処理!AO928","v":""},{"$f":"データ処理!AP928","v":""}]
[null,{"$f":"RIGHT(データ処理!AI929,5)","v":""},{"$f":"LEFT(データ処理!AJ929,5)","v":""},{"$f":"データ処理!AK929","v":0},{"$f":"IF(データ処理!AK929=\"\",\"\",データ処理!AL929&データ処理!BE929&$G$3)","v":""},{"$f":"IF(データ処理!AK929=\"\",\"\",データ処理!AM929&データ処理!AZ929&データ処理!AR929)","v":""},{"$f":"RIGHT(データ処理!AN929,5)","v":""},{"$f":"データ処理!AO929","v":""},{"$f":"データ処理!AP929","v":""}]
[null,{"$f":"RIGHT(データ処理!AI930,5)","v":""},{"$f":"LEFT(データ処理!AJ930,5)","v":""},{"$f":"データ処理!AK930","v":0},{"$f":"IF(データ処理!AK930=\"\",\"\",データ処理!AL930&データ処理!BE930&$G$3)","v":""},{"$f":"IF(データ処理!AK930=\"\",\"\",データ処理!AM930&データ処理!AZ930&データ処理!AR930)","v":""},{"$f":"RIGHT(データ処理!AN930,5)","v":""},{"$f":"データ処理!AO930","v":""},{"$f":"データ処理!AP930","v":""}]
[null,{"$f":"RIGHT(データ処理!AI931,5)","v":""},{"$f":"LEFT(データ処理!AJ931,5)","v":""},{"$f":"データ処理!AK931","v":0},{"$f":"IF(データ処理!AK931=\"\",\"\",データ処理!AL931&データ処理!BE931&$G$3)","v":""},{"$f":"IF(データ処理!AK931=\"\",\"\",データ処理!AM931&データ処理!AZ931&データ処理!AR931)","v":""},{"$f":"RIGHT(データ処理!AN931,5)","v":""},{"$f":"データ処理!AO931","v":""},{"$f":"データ処理!AP931","v":""}]
[null,{"$f":"RIGHT(データ処理!AI932,5)","v":""},{"$f":"LEFT(データ処理!AJ932,5)","v":""},{"$f":"データ処理!AK932","v":0},{"$f":"IF(データ処理!AK932=\"\",\"\",データ処理!AL932&データ処理!BE932&$G$3)","v":""},{"$f":"IF(データ処理!AK932=\"\",\"\",データ処理!AM932&データ処理!AZ932&データ処理!AR932)","v":""},{"$f":"RIGHT(データ処理!AN932,5)","v":""},{"$f":"データ処理!AO932","v":""},{"$f":"データ処理!AP932","v":""}]
[null,{"$f":"RIGHT(データ処理!AI933,5)","v":""},{"$f":"LEFT(データ処理!AJ933,5)","v":""},{"$f":"データ処理!AK933","v":0},{"$f":"IF(データ処理!AK933=\"\",\"\",データ処理!AL933&データ処理!BE933&$G$3)","v":""},{"$f":"IF(データ処理!AK933=\"\",\"\",データ処理!AM933&データ処理!AZ933&データ処理!AR933)","v":""},{"$f":"RIGHT(データ処理!AN933,5)","v":""},{"$f":"データ処理!AO933","v":""},{"$f":"データ処理!AP933","v":""}]
[30,{"$f":"RIGHT(データ処理!AI934,5)","v":""},{"$f":"LEFT(データ処理!AJ934,5)","v":""},{"$f":"データ処理!AK934","v":0},{"$f":"IF(データ処理!AK934=\"\",\"\",データ処理!AL934&データ処理!BE934&$G$3)","v":""},{"$f":"IF(データ処理!AK934=\"\",\"\",データ処理!AM934&データ処理!AZ934&データ処理!AR934)","v":""},{"$f":"RIGHT(データ処理!AN934,5)","v":""},{"$f":"データ処理!AO934","v":""},{"$f":"データ処理!AP934","v":""}]
[null,{"$f":"RIGHT(データ処理!AI935,5)","v":""},{"$f":"LEFT(データ処理!AJ935,5)","v":""},{"$f":"データ処理!AK935","v":0},{"$f":"IF(データ処理!AK935=\"\",\"\",データ処理!AL935&データ処理!BE935&$G$3)","v":""},{"$f":"IF(データ処理!AK935=\"\",\"\",データ処理!AM935&データ処理!AZ935&データ処理!AR935)","v":""},{"$f":"RIGHT(データ処理!AN935,5)","v":""},{"$f":"データ処理!AO935","v":""},{"$f":"データ処理!AP935","v":""}]
[null,{"$f":"RIGHT(データ処理!AI936,5)","v":""},{"$f":"LEFT(データ処理!AJ936,5)","v":""},{"$f":"データ処理!AK936","v":0},{"$f":"IF(データ処理!AK936=\"\",\"\",データ処理!AL936&データ処理!BE936&$G$3)","v":""},{"$f":"IF(データ処理!AK936=\"\",\"\",データ処理!AM936&データ処理!AZ936&データ処理!AR936)","v":""},{"$f":"RIGHT(データ処理!AN936,5)","v":""},{"$f":"データ処理!AO936","v":""},{"$f":"データ処理!AP936","v":""}]
[null,{"$f":"RIGHT(データ処理!AI937,5)","v":""},{"$f":"LEFT(データ処理!AJ937,5)","v":""},{"$f":"データ処理!AK937","v":0},{"$f":"IF(データ処理!AK937=\"\",\"\",データ処理!AL937&データ処理!BE937&$G$3)","v":""},{"$f":"IF(データ処理!AK937=\"\",\"\",データ処理!AM937&データ処理!AZ937&データ処理!AR937)","v":""},{"$f":"RIGHT(データ処理!AN937,5)","v":""},{"$f":"データ処理!AO937","v":""},{"$f":"データ処理!AP937","v":""}]
[null,{"$f":"RIGHT(データ処理!AI938,5)","v":""},{"$f":"LEFT(データ処理!AJ938,5)","v":""},{"$f":"データ処理!AK938","v":0},{"$f":"IF(データ処理!AK938=\"\",\"\",データ処理!AL938&データ処理!BE938&$G$3)","v":""},{"$f":"IF(データ処理!AK938=\"\",\"\",データ処理!AM938&データ処理!AZ938&データ処理!AR938)","v":""},{"$f":"RIGHT(データ処理!AN938,5)","v":""},{"$f":"データ処理!AO938","v":""},{"$f":"データ処理!AP938","v":""}]
[null,{"$f":"RIGHT(データ処理!AI939,5)","v":""},{"$f":"LEFT(データ処理!AJ939,5)","v":""},{"$f":"データ処理!AK939","v":0},{"$f":"IF(データ処理!AK939=\"\",\"\",データ処理!AL939&データ処理!BE939&$G$3)","v":""},{"$f":"IF(データ処理!AK939=\"\",\"\",データ処理!AM939&データ処理!AZ939&データ処理!AR939)","v":""},{"$f":"RIGHT(データ処理!AN939,5)","v":""},{"$f":"データ処理!AO939","v":""},{"$f":"データ処理!AP939","v":""}]
[null,{"$f":"RIGHT(データ処理!AI940,5)","v":""},{"$f":"LEFT(データ処理!AJ940,5)","v":""},{"$f":"データ処理!AK940","v":0},{"$f":"IF(データ処理!AK940=\"\",\"\",データ処理!AL940&データ処理!BE940&$G$3)","v":""},{"$f":"IF(データ処理!AK940=\"\",\"\",データ処理!AM940&データ処理!AZ940&データ処理!AR940)","v":""},{"$f":"RIGHT(データ処理!AN940,5)","v":""},{"$f":"データ処理!AO940","v":""},{"$f":"データ処理!AP940","v":""}]
[null,{"$f":"RIGHT(データ処理!AI941,5)","v":""},{"$f":"LEFT(データ処理!AJ941,5)","v":""},{"$f":"データ処理!AK941","v":0},{"$f":"IF(データ処理!AK941=\"\",\"\",データ処理!AL941&データ処理!BE941&$G$3)","v":""},{"$f":"IF(データ処理!AK941=\"\",\"\",データ処理!AM941&データ処理!AZ941&データ処理!AR941)","v":""},{"$f":"RIGHT(データ処理!AN941,5)","v":""},{"$f":"データ処理!AO941","v":""},{"$f":"データ処理!AP941","v":""}]
[null,{"$f":"RIGHT(データ処理!AI942,5)","v":""},{"$f":"LEFT(データ処理!AJ942,5)","v":""},{"$f":"データ処理!AK942","v":0},{"$f":"IF(データ処理!AK942=\"\",\"\",データ処理!AL942&データ処理!BE942&$G$3)","v":""},{"$f":"IF(データ処理!AK942=\"\",\"\",データ処理!AM942&データ処理!AZ942&データ処理!AR942)","v":""},{"$f":"RIGHT(データ処理!AN942,5)","v":""},{"$f":"データ処理!AO942","v":""},{"$f":"データ処理!AP942","v":""}]
[null,{"$f":"RIGHT(データ処理!AI943,5)","v":""},{"$f":"LEFT(データ処理!AJ943,5)","v":""},{"$f":"データ処理!AK943","v":0},{"$f":"IF(データ処理!AK943=\"\",\"\",データ処理!AL943&データ処理!BE943&$G$3)","v":""},{"$f":"IF(データ処理!AK943=\"\",\"\",データ処理!AM943&データ処理!AZ943&データ処理!AR943)","v":""},{"$f":"RIGHT(データ処理!AN943,5)","v":""},{"$f":"データ処理!AO943","v":""},{"$f":"データ処理!AP943","v":""}]
[40,{"$f":"RIGHT(データ処理!AI944,5)","v":""},{"$f":"LEFT(データ処理!AJ944,5)","v":""},{"$f":"データ処理!AK944","v":0},{"$f":"IF(データ処理!AK944=\"\",\"\",データ処理!AL944&データ処理!BE944&$G$3)","v":""},{"$f":"IF(データ処理!AK944=\"\",\"\",データ処理!AM944&データ処理!AZ944&データ処理!AR944)","v":""},{"$f":"RIGHT(データ処理!AN944,5)","v":""},{"$f":"データ処理!AO944","v":""},{"$f":"データ処理!AP944","v":""}]
[null,{"$f":"RIGHT(データ処理!AI945,5)","v":""},{"$f":"LEFT(データ処理!AJ945,5)","v":""},{"$f":"データ処理!AK945","v":0},{"$f":"IF(データ処理!AK945=\"\",\"\",データ処理!AL945&データ処理!BE945&$G$3)","v":""},{"$f":"IF(データ処理!AK945=\"\",\"\",データ処理!AM945&データ処理!AZ945&データ処理!AR945)","v":""},{"$f":"RIGHT(データ処理!AN945,5)","v":""},{"$f":"データ処理!AO945","v":""},{"$f":"データ処理!AP945","v":""}]
[null,{"$f":"RIGHT(データ処理!AI946,5)","v":""},{"$f":"LEFT(データ処理!AJ946,5)","v":""},{"$f":"データ処理!AK946","v":0},{"$f":"IF(データ処理!AK946=\"\",\"\",データ処理!AL946&データ処理!BE946&$G$3)","v":""},{"$f":"IF(データ処理!AK946=\"\",\"\",データ処理!AM946&データ処理!AZ946&データ処理!AR946)","v":""},{"$f":"RIGHT(データ処理!AN946,5)","v":""},{"$f":"データ処理!AO946","v":""},{"$f":"データ処理!AP946","v":""}]
[null,{"$f":"RIGHT(データ処理!AI947,5)","v":""},{"$f":"LEFT(データ処理!AJ947,5)","v":""},{"$f":"データ処理!AK947","v":0},{"$f":"IF(データ処理!AK947=\"\",\"\",データ処理!AL947&データ処理!BE947&$G$3)","v":""},{"$f":"IF(データ処理!AK947=\"\",\"\",データ処理!AM947&データ処理!AZ947&データ処理!AR947)","v":""},{"$f":"RIGHT(データ処理!AN947,5)","v":""},{"$f":"データ処理!AO947","v":""},{"$f":"データ処理!AP947","v":""}]
[null,{"$f":"RIGHT(データ処理!AI948,5)","v":""},{"$f":"LEFT(データ処理!AJ948,5)","v":""},{"$f":"データ処理!AK948","v":0},{"$f":"IF(データ処理!AK948=\"\",\"\",データ処理!AL948&データ処理!BE948&$G$3)","v":""},{"$f":"IF(データ処理!AK948=\"\",\"\",データ処理!AM948&データ処理!AZ948&データ処理!AR948)","v":""},{"$f":"RIGHT(データ処理!AN948,5)","v":""},{"$f":"データ処理!AO948","v":""},{"$f":"データ処理!AP948","v":""}]
[null,{"$f":"RIGHT(データ処理!AI949,5)","v":""},{"$f":"LEFT(データ処理!AJ949,5)","v":""},{"$f":"データ処理!AK949","v":0},{"$f":"IF(データ処理!AK949=\"\",\"\",データ処理!AL949&データ処理!BE949&$G$3)","v":""},{"$f":"IF(データ処理!AK949=\"\",\"\",データ処理!AM949&データ処理!AZ949&データ処理!AR949)","v":""},{"$f":"RIGHT(データ処理!AN949,5)","v":""},{"$f":"データ処理!AO949","v":""},{"$f":"データ処理!AP949","v":""}]
[null,{"$f":"RIGHT(データ処理!AI950,5)","v":""},{"$f":"LEFT(データ処理!AJ950,5)","v":""},{"$f":"データ処理!AK950","v":0},{"$f":"IF(データ処理!AK950=\"\",\"\",データ処理!AL950&データ処理!BE950&$G$3)","v":""},{"$f":"IF(データ処理!AK950=\"\",\"\",データ処理!AM950&データ処理!AZ950&データ処理!AR950)","v":""},{"$f":"RIGHT(データ処理!AN950,5)","v":""},{"$f":"データ処理!AO950","v":""},{"$f":"データ処理!AP950","v":""}]
[null,{"$f":"RIGHT(データ処理!AI951,5)","v":""},{"$f":"LEFT(データ処理!AJ951,5)","v":""},{"$f":"データ処理!AK951","v":0},{"$f":"IF(データ処理!AK951=\"\",\"\",データ処理!AL951&データ処理!BE951&$G$3)","v":""},{"$f":"IF(データ処理!AK951=\"\",\"\",データ処理!AM951&データ処理!AZ951&データ処理!AR951)","v":""},{"$f":"RIGHT(データ処理!AN951,5)","v":""},{"$f":"データ処理!AO951","v":""},{"$f":"データ処理!AP951","v":""}]
[null,{"$f":"RIGHT(データ処理!AI952,5)","v":""},{"$f":"LEFT(データ処理!AJ952,5)","v":""},{"$f":"データ処理!AK952","v":0},{"$f":"IF(データ処理!AK952=\"\",\"\",データ処理!AL952&データ処理!BE952&$G$3)","v":""},{"$f":"IF(データ処理!AK952=\"\",\"\",データ処理!AM952&データ処理!AZ952&データ処理!AR952)","v":""},{"$f":"RIGHT(データ処理!AN952,5)","v":""},{"$f":"データ処理!AO952","v":""},{"$f":"データ処理!AP952","v":""}]
[null,{"$f":"RIGHT(データ処理!AI953,5)","v":""},{"$f":"LEFT(データ処理!AJ953,5)","v":""},{"$f":"データ処理!AK953","v":0},{"$f":"IF(データ処理!AK953=\"\",\"\",データ処理!AL953&データ処理!BE953&$G$3)","v":""},{"$f":"IF(データ処理!AK953=\"\",\"\",データ処理!AM953&データ処理!AZ953&データ処理!AR953)","v":""},{"$f":"RIGHT(データ処理!AN953,5)","v":""},{"$f":"データ処理!AO953","v":""},{"$f":"データ処理!AP953","v":""}]
[50,{"$f":"RIGHT(データ処理!AI954,5)","v":""},{"$f":"LEFT(データ処理!AJ954,5)","v":""},{"$f":"データ処理!AK954","v":0},{"$f":"IF(データ処理!AK954=\"\",\"\",データ処理!AL954&データ処理!BE954&$G$3)","v":""},{"$f":"IF(データ処理!AK954=\"\",\"\",データ処理!AM954&データ処理!AZ954&データ処理!AR954)","v":""},{"$f":"RIGHT(データ処理!AN954,5)","v":""},{"$f":"データ処理!AO954","v":""},{"$f":"データ処理!AP954","v":""}]
[null,"Total  (合計)",null,{"$f":"COUNTIF(B1077:B1126,\"*/*\")","v":0},null,"Total  (合計)",{"$f":"COUNTIF(G1077:G1126,\"*/*\")","v":0},{"$f":"50-COUNTBLANK(H1077:H1126)","v":0},{"$f":"SUM(I1077:I1126)","v":0}]
[]
[null,"総 合 計",null,{"$f":"IF(K1073=\"\",\"\",D1127+ログシート!D1070)","v":""},null,"総 合 計",{"$f":"IF(K1073=\"\",\"\",G1127+ログシート!G1070)","v":""},{"$f":"IF(K1073=\"\",\"\",H1127+ログシート!H1070)","v":""},{"$f":"IF(K1073=\"\",\"\",I1127+ログシート!I1070)","v":""}]
[]
[null,"ＬＯＧ　ＳＨＥＥＴ (ログシート）",null,null,"Year (年)",{"$f":"$F$10","v":"2024"},{"$f":"$G$10","v":"第38回 滋賀2mSSB\nアクティブコンテスト"}]
[null,"Callsign (ｺｰﾙｻｲﾝ)",null,{"$f":"$D$11","v":0},"BAND（バンド）",{"$f":"$F$11","v":144},"MHz/SSB",null,"Sheet No.",null,{"$f":"IF(E1136=\"\",\"\",L1135&\"/\"&$E$3)","v":""}]
[]
[null,"Date Time",null,"Station Wkd","Exchange (ｺﾝﾃｽﾄﾅﾝﾊﾞｰ)",null,"Multi.（マルチ）",null,"Pts.","Op.","備考"]
[null,"月/日","時分JST","交信局","Sent (送信)","Received (受信)","日数マルチ","テールレター","得点","運用者",null,20]
[null,{"$f":"RIGHT(データ処理!AI955,5)","v":""},{"$f":"LEFT(データ処理!AJ955,5)","v":""},{"$f":"データ処理!AK955","v":0},{"$f":"IF(データ処理!AK955=\"\",\"\",データ処理!AL955&データ処理!BE955&$G$3)","v":""},{"$f":"IF(データ処理!AK955=\"\",\"\",データ処理!AM955&データ処理!AZ955&データ処理!AR955)","v":""},{"$f":"RIGHT(データ処理!AN955,5)","v":""},{"$f":"データ処理!AO955","v":""},{"$f":"データ処理!AP955","v":""}]
[null,{"$f":"RIGHT(データ処理!AI956,5)","v":""},{"$f":"LEFT(データ処理!AJ956,5)","v":""},{"$f":"データ処理!AK956","v":0},{"$f":"IF(データ処理!AK956=\"\",\"\",データ処理!AL956&データ処理!BE956&$G$3)","v":""},{"$f":"IF(データ処理!AK956=\"\",\"\",データ処理!AM956&データ処理!AZ956&データ処理!AR956)","v":""},{"$f":"RIGHT(データ処理!AN956,5)","v":""},{"$f":"データ処理!AO956","v":""},{"$f":"データ処理!AP956","v":""}]
[null,{"$f":"RIGHT(データ処理!AI957,5)","v":""},{"$f":"LEFT(データ処理!AJ957,5)","v":""},{"$f":"データ処理!AK957","v":0},{"$f":"IF(データ処理!AK957=\"\",\"\",データ処理!AL957&データ処理!BE957&$G$3)","v":""},{"$f":"IF(データ処理!AK957=\"\",\"\",データ処理!AM957&データ処理!AZ957&データ処理!AR957)","v":""},{"$f":"RIGHT(データ処理!AN957,5)","v":""},{"$f":"データ処理!AO957","v":""},{"$f":"データ処理!AP957","v":""}]
[null,{"$f":"RIGHT(データ処理!AI958,5)","v":""},{"$f":"LEFT(データ処理!AJ958,5)","v":""},{"$f":"データ処理!AK958","v":0},{"$f":"IF(データ処理!AK958=\"\",\"\",データ処理!AL958&データ処理!BE958&$G$3)","v":""},{"$f":"IF(データ処理!AK958=\"\",\"\",データ処理!AM958&データ処理!AZ958&データ処理!AR958)","v":""},{"$f":"RIGHT(データ処理!AN958,5)","v":""},{"$f":"データ処理!AO958","v":""},{"$f":"データ処理!AP958","v":""}]
[null,{"$f":"RIGHT(データ処理!AI959,5)","v":""},{"$f":"LEFT(データ処理!AJ959,5)","v":""},{"$f":"データ処理!AK959","v":0},{"$f":"IF(データ処理!AK959=\"\",\"\",データ処理!AL959&データ処理!BE959&$G$3)","v":""},{"$f":"IF(データ処理!AK959=\"\",\"\",データ処理!AM959&データ処理!AZ959&データ処理!AR959)","v":""},{"$f":"RIGHT(データ処理!AN959,5)","v":""},{"$f":"データ処理!AO959","v":""},{"$f":"データ処理!AP959","v":""}]
[null,{"$f":"RIGHT(データ処理!AI960,5)","v":""},{"$f":"LEFT(データ処理!AJ960,5)","v":""},{"$f":"データ処理!AK960","v":0},{"$f":"IF(データ処理!AK960=\"\",\"\",データ処理!AL960&データ処理!BE960&$G$3)","v":""},{"$f":"IF(データ処理!AK960=\"\",\"\",データ処理!AM960&データ処理!AZ960&データ処理!AR960)","v":""},{"$f":"RIGHT(データ処理!AN960,5)","v":""},{"$f":"データ処理!AO960","v":""},{"$f":"データ処理!AP960","v":""}]
[null,{"$f":"RIGHT(データ処理!AI961,5)","v":""},{"$f":"LEFT(データ処理!AJ961,5)","v":""},{"$f":"データ処理!AK961","v":0},{"$f":"IF(データ処理!AK961=\"\",\"\",データ処理!AL961&データ処理!BE961&$G$3)","v":""},{"$f":"IF(データ処理!AK961=\"\",\"\",データ処理!AM961&データ処理!AZ961&データ処理!AR961)","v":""},{"$f":"RIGHT(データ処理!AN961,5)","v":""},{"$f":"データ処理!AO961","v":""},{"$f":"データ処理!AP961","v":""}]
[null,{"$f":"RIGHT(データ処理!AI962,5)","v":""},{"$f":"LEFT(データ処理!AJ962,5)","v":""},{"$f":"データ処理!AK962","v":0},{"$f":"IF(データ処理!AK962=\"\",\"\",データ処理!AL962&データ処理!BE962&$G$3)","v":""},{"$f":"IF(データ処理!AK962=\"\",\"\",データ処理!AM962&データ処理!AZ962&データ処理!AR962)","v":""},{"$f":"RIGHT(データ処理!AN962,5)","v":""},{"$f":"データ処理!AO962","v":""},{"$f":"データ処理!AP962","v":""}]
[null,{"$f":"RIGHT(データ処理!AI963,5)","v":""},{"$f":"LEFT(データ処理!AJ963,5)","v":""},{"$f":"データ処理!AK963","v":0},{"$f":"IF(データ処理!AK963=\"\",\"\",データ処理!AL963&データ処理!BE963&$G$3)","v":""},{"$f":"IF(データ処理!AK963=\"\",\"\",データ処理!AM963&データ処理!AZ963&データ処理!AR963)","v":""},{"$f":"RIGHT(データ処理!AN963,5)","v":""},{"$f":"データ処理!AO963","v":""},{"$f":"データ処理!AP963","v":""}]
[10,{"$f":"RIGHT(データ処理!AI964,5)","v":""},{"$f":"LEFT(データ処理!AJ964,5)","v":""},{"$f":"データ処理!AK964","v":0},{"$f":"IF(データ処理!AK964=\"\",\"\",データ処理!AL964&データ処理!BE964&$G$3)","v":""},{"$f":"IF(データ処理!AK964=\"\",\"\",データ処理!AM964&データ処理!AZ964&データ処理!AR964)","v":""},{"$f":"RIGHT(データ処理!AN964,5)","v":""},{"$f":"データ処理!AO964","v":""},{"$f":"データ処理!AP964","v":""}]
[null,{"$f":"RIGHT(データ処理!AI965,5)","v":""},{"$f":"LEFT(データ処理!AJ965,5)","v":""},{"$f":"データ処理!AK965","v":0},{"$f":"IF(データ処理!AK965=\"\",\"\",データ処理!AL965&データ処理!BE965&$G$3)","v":""},{"$f":"IF(データ処理!AK965=\"\",\"\",データ処理!AM965&データ処理!AZ965&データ処理!AR965)","v":""},{"$f":"RIGHT(データ処理!AN965,5)","v":""},{"$f":"データ処理!AO965","v":""},{"$f":"データ処理!AP965","v":""}]
[null,{"$f":"RIGHT(データ処理!AI966,5)","v":""},{"$f":"LEFT(データ処理!AJ966,5)","v":""},{"$f":"データ処理!AK966","v":0},{"$f":"IF(データ処理!AK966=\"\",\"\",データ処理!AL966&データ処理!BE966&$G$3)","v":""},{"$f":"IF(データ処理!AK966=\"\",\"\",データ処理!AM966&データ処理!AZ966&データ処理!AR966)","v":""},{"$f":"RIGHT(データ処理!AN966,5)","v":""},{"$f":"データ処理!AO966","v":""},{"$f":"データ処理!AP966","v":""}]
[null,{"$f":"RIGHT(データ処理!AI967,5)","v":""},{"$f":"LEFT(データ処理!AJ967,5)","v":""},{"$f":"データ処理!AK967","v":0},{"$f":"IF(データ処理!AK967=\"\",\"\",データ処理!AL967&データ処理!BE967&$G$3)","v":""},{"$f":"IF(データ処理!AK967=\"\",\"\",データ処理!AM967&データ処理!AZ967&データ処理!AR967)","v":""},{"$f":"RIGHT(データ処理!AN967,5)","v":""},{"$f":"データ処理!AO967","v":""},{"$f":"データ処理!AP967","v":""}]
[null,{"$f":"RIGHT(データ処理!AI968,5)","v":""},{"$f":"LEFT(データ処理!AJ968,5)","v":""},{"$f":"データ処理!AK968","v":0},{"$f":"IF(データ処理!AK968=\"\",\"\",データ処理!AL968&データ処理!BE968&$G$3)","v":""},{"$f":"IF(データ処理!AK968=\"\",\"\",データ処理!AM968&データ処理!AZ968&データ処理!AR968)","v":""},{"$f":"RIGHT(データ処理!AN968,5)","v":""},{"$f":"データ処理!AO968","v":""},{"$f":"データ処理!AP968","v":""}]
[null,{"$f":"RIGHT(データ処理!AI969,5)","v":""},{"$f":"LEFT(データ処理!AJ969,5)","v":""},{"$f":"データ処理!AK969","v":0},{"$f":"IF(データ処理!AK969=\"\",\"\",データ処理!AL969&データ処理!BE969&$G$3)","v":""},{"$f":"IF(データ処理!AK969=\"\",\"\",データ処理!AM969&データ処理!AZ969&データ処理!AR969)","v":""},{"$f":"RIGHT(データ処理!AN969,5)","v":""},{"$f":"データ処理!AO969","v":""},{"$f":"データ処理!AP969","v":""}]
[null,{"$f":"RIGHT(データ処理!AI970,5)","v":""},{"$f":"LEFT(データ処理!AJ970,5)","v":""},{"$f":"データ処理!AK970","v":0},{"$f":"IF(データ処理!AK970=\"\",\"\",データ処理!AL970&データ処理!BE970&$G$3)","v":""},{"$f":"IF(データ処理!AK970=\"\",\"\",データ処理!AM970&データ処理!AZ970&データ処理!AR970)","v":""},{"$f":"RIGHT(データ処理!AN970,5)","v":""},{"$f":"データ処理!AO970","v":""},{"$f":"データ処理!AP970","v":""}]
[null,{"$f":"RIGHT(データ処理!AI971,5)","v":""},{"$f":"LEFT(データ処理!AJ971,5)","v":""},{"$f":"データ処理!AK971","v":0},{"$f":"IF(データ処理!AK971=\"\",\"\",データ処理!AL971&データ処理!BE971&$G$3)","v":""},{"$f":"IF(データ処理!AK971=\"\",\"\",データ処理!AM971&データ処理!AZ971&データ処理!AR971)","v":""},{"$f":"RIGHT(データ処理!AN971,5)","v":""},{"$f":"データ処理!AO971","v":""},{"$f":"データ処理!AP971","v":""}]
[null,{"$f":"RIGHT(データ処理!AI972,5)","v":""},{"$f":"LEFT(データ処理!AJ972,5)","v":""},{"$f":"データ処理!AK972","v":0},{"$f":"IF(データ処理!AK972=\"\",\"\",データ処理!AL972&データ処理!BE972&$G$3)","v":""},{"$f":"IF(データ処理!AK972=\"\",\"\",データ処理!AM972&データ処理!AZ972&データ処理!AR972)","v":""},{"$f":"RIGHT(データ処理!AN972,5)","v":""},{"$f":"データ処理!AO972","v":""},{"$f":"データ処理!AP972","v":""}]
[null,{"$f":"RIGHT(データ処理!AI973,5)","v":""},{"$f":"LEFT(データ処理!AJ973,5)","v":""},{"$f":"データ処理!AK973","v":0},{"$f":"IF(データ処理!AK973=\"\",\"\",データ処理!AL973&データ処理!BE973&$G$3)","v":""},{"$f":"IF(データ処理!AK973=\"\",\"\",データ処理!AM973&データ処理!AZ973&データ処理!AR973)","v":""},{"$f":"RIGHT(データ処理!AN973,5)","v":""},{"$f":"データ処理!AO973","v":""},{"$f":"データ処理!AP973","v":""}]
[20,{"$f":"RIGHT(データ処理!AI974,5)","v":""},{"$f":"LEFT(データ処理!AJ974,5)","v":""},{"$f":"データ処理!AK974","v":0},{"$f":"IF(データ処理!AK974=\"\",\"\",データ処理!AL974&データ処理!BE974&$G$3)","v":""},{"$f":"IF(データ処理!AK974=\"\",\"\",データ処理!AM974&データ処理!AZ974&データ処理!AR974)","v":""},{"$f":"RIGHT(データ処理!AN974,5)","v":""},{"$f":"データ処理!AO974","v":""},{"$f":"データ処理!AP974","v":""}]
[null,{"$f":"RIGHT(データ処理!AI975,5)","v":""},{"$f":"LEFT(データ処理!AJ975,5)","v":""},{"$f":"データ処理!AK975","v":0},{"$f":"IF(データ処理!AK975=\"\",\"\",データ処理!AL975&データ処理!BE975&$G$3)","v":""},{"$f":"IF(データ処理!AK975=\"\",\"\",データ処理!AM975&データ処理!AZ975&データ処理!AR975)","v":""},{"$f":"RIGHT(データ処理!AN975,5)","v":""},{"$f":"データ処理!AO975","v":""},{"$f":"データ処理!AP975","v":""}]
[null,{"$f":"RIGHT(データ処理!AI976,5)","v":""},{"$f":"LEFT(データ処理!AJ976,5)","v":""},{"$f":"データ処理!AK976","v":0},{"$f":"IF(データ処理!AK976=\"\",\"\",データ処理!AL976&データ処理!BE976&$G$3)","v":""},{"$f":"IF(データ処理!AK976=\"\",\"\",データ処理!AM976&データ処理!AZ976&データ処理!AR976)","v":""},{"$f":"RIGHT(データ処理!AN976,5)","v":""},{"$f":"データ処理!AO976","v":""},{"$f":"データ処理!AP976","v":""}]
[null,{"$f":"RIGHT(データ処理!AI977,5)","v":""},{"$f":"LEFT(データ処理!AJ977,5)","v":""},{"$f":"データ処理!AK977","v":0},{"$f":"IF(データ処理!AK977=\"\",\"\",データ処理!AL977&データ処理!BE977&$G$3)","v":""},{"$f":"IF(データ処理!AK977=\"\",\"\",データ処理!AM977&データ処理!AZ977&データ処理!AR977)","v":""},{"$f":"RIGHT(データ処理!AN977,5)","v":""},{"$f":"データ処理!AO977","v":""},{"$f":"データ処理!AP977","v":""}]
[null,{"$f":"RIGHT(データ処理!AI978,5)","v":""},{"$f":"LEFT(データ処理!AJ978,5)","v":""},{"$f":"データ処理!AK978","v":0},{"$f":"IF(データ処理!AK978=\"\",\"\",データ処理!AL978&データ処理!BE978&$G$3)","v":""},{"$f":"IF(データ処理!AK978=\"\",\"\",データ処理!AM978&データ処理!AZ978&データ処理!AR978)","v":""},{"$f":"RIGHT(データ処理!AN978,5)","v":""},{"$f":"データ処理!AO978","v":""},{"$f":"データ処理!AP978","v":""}]
[null,{"$f":"RIGHT(データ処理!AI979,5)","v":""},{"$f":"LEFT(データ処理!AJ979,5)","v":""},{"$f":"データ処理!AK979","v":0},{"$f":"IF(データ処理!AK979=\"\",\"\",データ処理!AL979&データ処理!BE979&$G$3)","v":""},{"$f":"IF(データ処理!AK979=\"\",\"\",データ処理!AM979&データ処理!AZ979&データ処理!AR979)","v":""},{"$f":"RIGHT(データ処理!AN979,5)","v":""},{"$f":"データ処理!AO979","v":""},{"$f":"データ処理!AP979","v":""}]
[null,{"$f":"RIGHT(データ処理!AI980,5)","v":""},{"$f":"LEFT(データ処理!AJ980,5)","v":""},{"$f":"データ処理!AK980","v":0},{"$f":"IF(データ処理!AK980=\"\",\"\",データ処理!AL980&データ処理!BE980&$G$3)","v":""},{"$f":"IF(データ処理!AK980=\"\",\"\",データ処理!AM980&データ処理!AZ980&データ処理!AR980)","v":""},{"$f":"RIGHT(データ処理!AN980,5)","v":""},{"$f":"データ処理!AO980","v":""},{"$f":"データ処理!AP980","v":""}]
[null,{"$f":"RIGHT(データ処理!AI981,5)","v":""},{"$f":"LEFT(データ処理!AJ981,5)","v":""},{"$f":"データ処理!AK981","v":0},{"$f":"IF(データ処理!AK981=\"\",\"\",データ処理!AL981&データ処理!BE981&$G$3)","v":""},{"$f":"IF(データ処理!AK981=\"\",\"\",データ処理!AM981&データ処理!AZ981&データ処理!AR981)","v":""},{"$f":"RIGHT(データ処理!AN981,5)","v":""},{"$f":"データ処理!AO981","v":""},{"$f":"データ処理!AP981","v":""}]
[null,{"$f":"RIGHT(データ処理!AI982,5)","v":""},{"$f":"LEFT(データ処理!AJ982,5)","v":""},{"$f":"データ処理!AK982","v":0},{"$f":"IF(データ処理!AK982=\"\",\"\",データ処理!AL982&データ処理!BE982&$G$3)","v":""},{"$f":"IF(データ処理!AK982=\"\",\"\",データ処理!AM982&データ処理!AZ982&データ処理!AR982)","v":""},{"$f":"RIGHT(データ処理!AN982,5)","v":""},{"$f":"データ処理!AO982","v":""},{"$f":"データ処理!AP982","v":""}]
[null,{"$f":"RIGHT(データ処理!AI983,5)","v":""},{"$f":"LEFT(データ処理!AJ983,5)","v":""},{"$f":"データ処理!AK983","v":0},{"$f":"IF(データ処理!AK983=\"\",\"\",データ処理!AL983&データ処理!BE983&$G$3)","v":""},{"$f":"IF(データ処理!AK983=\"\",\"\",データ処理!AM983&データ処理!AZ983&データ処理!AR983)","v":""},{"$f":"RIGHT(データ処理!AN983,5)","v":""},{"$f":"データ処理!AO983","v":""},{"$f":"データ処理!AP983","v":""}]
[30,{"$f":"RIGHT(データ処理!AI984,5)","v":""},{"$f":"LEFT(データ処理!AJ984,5)","v":""},{"$f":"データ処理!AK984","v":0},{"$f":"IF(データ処理!AK984=\"\",\"\",データ処理!AL984&データ処理!BE984&$G$3)","v":""},{"$f":"IF(データ処理!AK984=\"\",\"\",データ処理!AM984&データ処理!AZ984&データ処理!AR984)","v":""},{"$f":"RIGHT(データ処理!AN984,5)","v":""},{"$f":"データ処理!AO984","v":""},{"$f":"データ処理!AP984","v":""}]
[null,{"$f":"RIGHT(データ処理!AI985,5)","v":""},{"$f":"LEFT(データ処理!AJ985,5)","v":""},{"$f":"データ処理!AK985","v":0},{"$f":"IF(データ処理!AK985=\"\",\"\",データ処理!AL985&データ処理!BE985&$G$3)","v":""},{"$f":"IF(データ処理!AK985=\"\",\"\",データ処理!AM985&データ処理!AZ985&データ処理!AR985)","v":""},{"$f":"RIGHT(データ処理!AN985,5)","v":""},{"$f":"データ処理!AO985","v":""},{"$f":"データ処理!AP985","v":""}]
[null,{"$f":"RIGHT(データ処理!AI986,5)","v":""},{"$f":"LEFT(データ処理!AJ986,5)","v":""},{"$f":"データ処理!AK986","v":0},{"$f":"IF(データ処理!AK986=\"\",\"\",データ処理!AL986&データ処理!BE986&$G$3)","v":""},{"$f":"IF(データ処理!AK986=\"\",\"\",データ処理!AM986&データ処理!AZ986&データ処理!AR986)","v":""},{"$f":"RIGHT(データ処理!AN986,5)","v":""},{"$f":"データ処理!AO986","v":""},{"$f":"データ処理!AP986","v":""}]
[null,{"$f":"RIGHT(データ処理!AI987,5)","v":""},{"$f":"LEFT(データ処理!AJ987,5)","v":""},{"$f":"データ処理!AK987","v":0},{"$f":"IF(データ処理!AK987=\"\",\"\",データ処理!AL987&データ処理!BE987&$G$3)","v":""},{"$f":"IF(データ処理!AK987=\"\",\"\",データ処理!AM987&データ処理!AZ987&データ処理!AR987)","v":""},{"$f":"RIGHT(データ処理!AN987,5)","v":""},{"$f":"データ処理!AO987","v":""},{"$f":"データ処理!AP987","v":""}]
[null,{"$f":"RIGHT(データ処理!AI988,5)","v":""},{"$f":"LEFT(データ処理!AJ988,5)","v":""},{"$f":"データ処理!AK988","v":0},{"$f":"IF(データ処理!AK988=\"\",\"\",データ処理!AL988&データ処理!BE988&$G$3)","v":""},{"$f":"IF(データ処理!AK988=\"\",\"\",データ処理!AM988&データ処理!AZ988&データ処理!AR988)","v":""},{"$f":"RIGHT(データ処理!AN988,5)","v":""},{"$f":"データ処理!AO988","v":""},{"$f":"データ処理!AP988","v":""}]
[null,{"$f":"RIGHT(データ処理!AI989,5)","v":""},{"$f":"LEFT(データ処理!AJ989,5)","v":""},{"$f":"データ処理!AK989","v":0},{"$f":"IF(データ処理!AK989=\"\",\"\",データ処理!AL989&データ処理!BE989&$G$3)","v":""},{"$f":"IF(データ処理!AK989=\"\",\"\",データ処理!AM989&データ処理!AZ989&データ処理!AR989)","v":""},{"$f":"RIGHT(データ処理!AN989,5)","v":""},{"$f":"データ処理!AO989","v":""},{"$f":"データ処理!AP989","v":""}]
[null,{"$f":"RIGHT(データ処理!AI990,5)","v":""},{"$f":"LEFT(データ処理!AJ990,5)","v":""},{"$f":"データ処理!AK990","v":0},{"$f":"IF(データ処理!AK990=\"\",\"\",データ処理!AL990&データ処理!BE990&$G$3)","v":""},{"$f":"IF(データ処理!AK990=\"\",\"\",データ処理!AM990&データ処理!AZ990&データ処理!AR990)","v":""},{"$f":"RIGHT(データ処理!AN990,5)","v":""},{"$f":"データ処理!AO990","v":""},{"$f":"データ処理!AP990","v":""}]
[null,{"$f":"RIGHT(データ処理!AI991,5)","v":""},{"$f":"LEFT(データ処理!AJ991,5)","v":""},{"$f":"データ処理!AK991","v":0},{"$f":"IF(データ処理!AK991=\"\",\"\",データ処理!AL991&データ処理!BE991&$G$3)","v":""},{"$f":"IF(データ処理!AK991=\"\",\"\",データ処理!AM991&データ処理!AZ991&データ処理!AR991)","v":""},{"$f":"RIGHT(データ処理!AN991,5)","v":""},{"$f":"データ処理!AO991","v":""},{"$f":"データ処理!AP991","v":""}]
[null,{"$f":"RIGHT(データ処理!AI992,5)","v":""},{"$f":"LEFT(データ処理!AJ992,5)","v":""},{"$f":"データ処理!AK992","v":0},{"$f":"IF(データ処理!AK992=\"\",\"\",データ処理!AL992&データ処理!BE992&$G$3)","v":""},{"$f":"IF(データ処理!AK992=\"\",\"\",データ処理!AM992&データ処理!AZ992&データ処理!AR992)","v":""},{"$f":"RIGHT(データ処理!AN992,5)","v":""},{"$f":"データ処理!AO992","v":""},{"$f":"データ処理!AP992","v":""}]
[null,{"$f":"RIGHT(データ処理!AI993,5)","v":""},{"$f":"LEFT(データ処理!AJ993,5)","v":""},{"$f":"データ処理!AK993","v":0},{"$f":"IF(データ処理!AK993=\"\",\"\",データ処理!AL993&データ処理!BE993&$G$3)","v":""},{"$f":"IF(データ処理!AK993=\"\",\"\",データ処理!AM993&データ処理!AZ993&データ処理!AR993)","v":""},{"$f":"RIGHT(データ処理!AN993,5)","v":""},{"$f":"データ処理!AO993","v":""},{"$f":"データ処理!AP993","v":""}]
[40,{"$f":"RIGHT(データ処理!AI994,5)","v":""},{"$f":"LEFT(データ処理!AJ994,5)","v":""},{"$f":"データ処理!AK994","v":0},{"$f":"IF(データ処理!AK994=\"\",\"\",データ処理!AL994&データ処理!BE994&$G$3)","v":""},{"$f":"IF(データ処理!AK994=\"\",\"\",データ処理!AM994&データ処理!AZ994&データ処理!AR994)","v":""},{"$f":"RIGHT(データ処理!AN994,5)","v":""},{"$f":"データ処理!AO994","v":""},{"$f":"データ処理!AP994","v":""}]
[null,{"$f":"RIGHT(データ処理!AI995,5)","v":""},{"$f":"LEFT(データ処理!AJ995,5)","v":""},{"$f":"データ処理!AK995","v":0},{"$f":"IF(データ処理!AK995=\"\",\"\",データ処理!AL995&データ処理!BE995&$G$3)","v":""},{"$f":"IF(データ処理!AK995=\"\",\"\",データ処理!AM995&データ処理!AZ995&データ処理!AR995)","v":""},{"$f":"RIGHT(データ処理!AN995,5)","v":""},{"$f":"データ処理!AO995","v":""},{"$f":"データ処理!AP995","v":""}]
[null,{"$f":"RIGHT(データ処理!AI996,5)","v":""},{"$f":"LEFT(データ処理!AJ996,5)","v":""},{"$f":"データ処理!AK996","v":0},{"$f":"IF(データ処理!AK996=\"\",\"\",データ処理!AL996&データ処理!BE996&$G$3)","v":""},{"$f":"IF(データ処理!AK996=\"\",\"\",データ処理!AM996&データ処理!AZ996&データ処理!AR996)","v":""},{"$f":"RIGHT(データ処理!AN996,5)","v":""},{"$f":"データ処理!AO996","v":""},{"$f":"データ処理!AP996","v":""}]
[null,{"$f":"RIGHT(データ処理!AI997,5)","v":""},{"$f":"LEFT(データ処理!AJ997,5)","v":""},{"$f":"データ処理!AK997","v":0},{"$f":"IF(データ処理!AK997=\"\",\"\",データ処理!AL997&データ処理!BE997&$G$3)","v":""},{"$f":"IF(データ処理!AK997=\"\",\"\",データ処理!AM997&データ処理!AZ997&データ処理!AR997)","v":""},{"$f":"RIGHT(データ処理!AN997,5)","v":""},{"$f":"データ処理!AO997","v":""},{"$f":"データ処理!AP997","v":""}]
[null,{"$f":"RIGHT(データ処理!AI998,5)","v":""},{"$f":"LEFT(データ処理!AJ998,5)","v":""},{"$f":"データ処理!AK998","v":0},{"$f":"IF(データ処理!AK998=\"\",\"\",データ処理!AL998&データ処理!BE998&$G$3)","v":""},{"$f":"IF(データ処理!AK998=\"\",\"\",データ処理!AM998&データ処理!AZ998&データ処理!AR998)","v":""},{"$f":"RIGHT(データ処理!AN998,5)","v":""},{"$f":"データ処理!AO998","v":""},{"$f":"データ処理!AP998","v":""}]
[null,{"$f":"RIGHT(データ処理!AI999,5)","v":""},{"$f":"LEFT(データ処理!AJ999,5)","v":""},{"$f":"データ処理!AK999","v":0},{"$f":"IF(データ処理!AK999=\"\",\"\",データ処理!AL999&データ処理!BE999&$G$3)","v":""},{"$f":"IF(データ処理!AK999=\"\",\"\",データ処理!AM999&データ処理!AZ999&データ処理!AR999)","v":""},{"$f":"RIGHT(データ処理!AN999,5)","v":""},{"$f":"データ処理!AO999","v":""},{"$f":"データ処理!AP999","v":""}]
[null,{"$f":"RIGHT(データ処理!AI1000,5)","v":""},{"$f":"LEFT(データ処理!AJ1000,5)","v":""},{"$f":"データ処理!AK1000","v":0},{"$f":"IF(データ処理!AK1000=\"\",\"\",データ処理!AL1000&データ処理!BE1000&$G$3)","v":""},{"$f":"IF(データ処理!AK1000=\"\",\"\",データ処理!AM1000&データ処理!AZ1000&データ処理!AR1000)","v":""},{"$f":"RIGHT(データ処理!AN1000,5)","v":""},{"$f":"データ処理!AO1000","v":""},{"$f":"データ処理!AP1000","v":""}]
[null,{"$f":"RIGHT(データ処理!AI1001,5)","v":""},{"$f":"LEFT(データ処理!AJ1001,5)","v":""},{"$f":"データ処理!AK1001","v":0},{"$f":"IF(データ処理!AK1001=\"\",\"\",データ処理!AL1001&データ処理!BE1001&$G$3)","v":""},{"$f":"IF(データ処理!AK1001=\"\",\"\",データ処理!AM1001&データ処理!AZ1001&データ処理!AR1001)","v":""},{"$f":"RIGHT(データ処理!AN1001,5)","v":""},{"$f":"データ処理!AO1001","v":""},{"$f":"データ処理!AP1001","v":""}]
[null,{"$f":"RIGHT(データ処理!AI1002,5)","v":""},{"$f":"LEFT(データ処理!AJ1002,5)","v":""},{"$f":"データ処理!AK1002","v":0},{"$f":"IF(データ処理!AK1002=\"\",\"\",データ処理!AL1002&データ処理!BE1002&$G$3)","v":""},{"$f":"IF(データ処理!AK1002=\"\",\"\",データ処理!AM1002&データ処理!AZ1002&データ処理!AR1002)","v":""},{"$f":"RIGHT(データ処理!AN1002,5)","v":""},{"$f":"データ処理!AO1002","v":""},{"$f":"データ処理!AP1002","v":""}]
[null,{"$f":"RIGHT(データ処理!AI1003,5)","v":""},{"$f":"LEFT(データ処理!AJ1003,5)","v":""},{"$f":"データ処理!AK1003","v":0},{"$f":"IF(データ処理!AK1003=\"\",\"\",データ処理!AL1003&データ処理!BE1003&$G$3)","v":""},{"$f":"IF(データ処理!AK1003=\"\",\"\",データ処理!AM1003&データ処理!AZ1003&データ処理!AR1003)","v":""},{"$f":"RIGHT(データ処理!AN1003,5)","v":""},{"$f":"データ処理!AO1003","v":""},{"$f":"データ処理!AP1003","v":""}]
[50,{"$f":"RIGHT(データ処理!AI1004,5)","v":""},{"$f":"LEFT(データ処理!AJ1004,5)","v":""},{"$f":"データ処理!AK1004","v":0},{"$f":"IF(データ処理!AK1004=\"\",\"\",データ処理!AL1004&データ処理!BE1004&$G$3)","v":""},{"$f":"IF(データ処理!AK1004=\"\",\"\",データ処理!AM1004&データ処理!AZ1004&データ処理!AR1004)","v":""},{"$f":"RIGHT(データ処理!AN1004,5)","v":""},{"$f":"データ処理!AO1004","v":""},{"$f":"データ処理!AP1004","v":""}]
[null,"Total  (合計)",null,{"$f":"COUNTIF(B1136:B1185,\"*/*\")","v":0},null,"Total  (合計)",{"$f":"COUNTIF(G1136:G1185,\"*/*\")","v":0},{"$f":"50-COUNTBLANK(H1136:H1185)","v":0},{"$f":"SUM(I1136:I1185)","v":0}]
[]
[null,"総 合 計",null,{"$f":"IF(K1132=\"\",\"\",D1186+ログシート!D1129)","v":""},null,"総 合 計",{"$f":"IF(K1132=\"\",\"\",G1186+ログシート!G1129)","v":""},{"$f":"IF(K1132=\"\",\"\",H1186+ログシート!H1129)","v":""},{"$f":"IF(K1132=\"\",\"\",I1186+ログシート!I1129)","v":""}]

{"sheet":"データ処理","index":6,"n_rows":1004,"n_cols":76,"rows_kept":1004,"cut":false,"hidden":false,"merged":[[4,61,5,61],[2,47,3,47],[2,46,3,46],[0,69,1,69],[2,73,3,75],[0,73,1,75],[2,70,3,70],[4,73,5,75],[0,65,1,68],[2,37,2,38],[2,34,2,35],[2,39,2,40],[2,45,3,45],[2,65,2,66],[2,61,2,62],[2,48,3,48],[2,51,3,51],[2,58,3,59],[2,56,3,56],[31,70,32,71],[13,73,14,73],[15,73,16,73],[17,73,18,73],[20,73,25,73],[27,73,28,73]]}
["①",null,null,null,null,null,null,null,null,null,null,"年度","データ","判定",null,"②",null,null,null,null,null,null,null,null,null,"③",null,null,null,null,null,null,null,null,"④",null,null,null,null,null,null,null,null,null,null,null,null,null,null,null,null,null,null,null,null,null,null,null,null,null,null,null,null,null,null,"■メンバー局チェックリスト",null,null,null,null,null,null,null,"このソフトは、下記コンテスト規約内容を基にプログラムされています。"]
["ハムログデータシートより貼付け",null,null,null,null,null,null,null,null,null,null,{"$f":"RIGHT(注意事項!O3,2)","v":"24"},{"$f":"LEFT(C4,2)","v":""},{"$f":"IF(C4=\"\",\"\",IF(L2=M2,\"OK\",\"NG\"))","v":""},null,"①のデータをプログラム加工する。",null,null,null,null,null,{"$f":"COUNTIF(V4:V1003,\"重複\")","v":0},{"$f":"COUNTIF(W4:W1003,\"削除\")","v":0},{"$f":"COUNTIF(X4:X1003,\"形式外\")","v":0},null,"②のデータを貼付け、削除列ソートし④に貼付け後、Callソートする。",null,null,null,null,null,null,null,null,null,"Total  (合計)",{"$f":"IF(個人情報入力!I2=\"ご利用不可\",\"\",IF(個人情報入力!F12=\"使用期限切れ\",\"\",IF(N2=\"NG\",\"\",IF(個人情報入力!I2=\"承　認\",1000-COUNTBLANK(AK5:AK1004),\"\"))))","v":""},null,"Total  (合計)",{"$f":"IF(個人情報入力!I2=\"ご利用不可\",\"\",IF(個人情報入力!F12=\"使用期限切れ\",\"\",IF(N2=\"NG\",\"\",IF(個人情報入力!I2=\"承　認\",COUNTIF(AN5:AN1004,\"*/*/*\"),\"\"))))","v":""},{"$f":"IF(個人情報入力!I2=\"ご利用不可\",\"\",IF(個人情報入力!F12=\"使用期限切れ\",\"\",IF(N2=\"NG\",\"\",IF(個人情報入力!I2=\"承　認\",1000-COUNTBLANK(AO5:AO1004),\"\"))))","v":""},{"$f":"IF(個人情報入力!I2=\"ご利用不可\",\"\",IF(個人情報入力!F12=\"使用期限切れ\",\"\",IF(N2=\"NG\",\"\",IF(個人情報入力!I2=\"承　認\",SUM(AP5:AP1004),\"\"))))","v":""},null,null,null,{"$f":"COUNTIF(AT5:AT1004,\"J*3*\")","v":0},null,null,null,null,null,null,null,null,null,null,null,null,null,null,null,null,null,null,null,null,null,null,null,null,"■コールチェックリスト"]
["No","Call","Date","Time","His","My","Freq","Mode","Code",null,null,{"$f":"IF(COUNTA(A4:A103)=0,\"\",IF(COUNTIF(L4:L1003,\"削除\")>0,\"削除あり\",\"削除なし\"))","v":""},"Date","Time","Call","His","My","Code",null,"修正コール","コール/モード","重複","社団","形式外",null,"削除","Date","Time","Call","His","My","Code",null,null,"Date Time UTC",null,"Station Wkd","ｺﾝﾃｽﾄﾅﾝﾊﾞｰ",null,"Multi.（マルチ）",null,"Pts.",null,"メンバー",null,"交信局",null,null,"JCC/G","テール",null,null,null,null,null,null,null,null,null,null,null,"申請者メンバー",null,null,null,"メンバー局",null,{"$f":"COUNTA(BN5:BN305)&\"局\"","v":"29局"},"交信",null,"テールレター","交信",null,"ロ グ 集 計 用 コ ン テ ス ト 規 約  （抜 粋）"]
[null,null,null,null,null,null,null,null,null,null,null,{"$f":"IF(B4=\"\",\"削除\",IF(OR(V4=\"重複\",W4=\"削除\",X4=\"形式外\"),\"削除\",1))","v":"削除"},{"$f":"IF(L4=\"削除\",\"\",C4)","v":""},{"$f":"IF(L4=\"削除\",\"\",D4)","v":""},{"$f":"IF(L4=\"削除\",\"\",B4)","v":""},{"$f":"IF(L4=\"削除\",\"\",E4)","v":""},{"$f":"IF(L4=\"削除\",\"\",F4)","v":""},{"$f":"IF(L4=\"削除\",\"\",I4)","v":""},{"$f":"IF(L4=\"削除\",\"\",IF(J4=\"\",\"\",J4))","v":""},{"$f":"IF(B4=\"\",\"\",LEFT(B4,FIND(\"/\",B4&\"/\")-1))","v":""},{"$f":"IF(B4=\"\",\"\",T4&\"/\"&H4)","v":""},{"$f":"IF(B4=\"\",\"\",IF(COUNTIF($U$4:U4,U4)=1,\"\",\"重複\"))","v":""},{"$f":"IF(B4=\"\",\"\",IF(LEFT(T4,1)=\"8\",\"削除\",IF(LEN(T4)=5,IF(MID(T4,4,2)=\"RL\",\"削除\",\"\"),IF(MID(T4,4,1)=\"Y\",\"削除\",IF(MID(T4,4,1)=\"Z\",\"削除\",\"\")))))","v":""},{"$f":"IF(B4=\"\",\"\",IF(LEFT(G4,3)=\"144\",IF(LEFT(H4,3)=\"SSB\",\"\",IF(LEFT(H4,3)=\"A3J\",\"\",IF(LEFT(H4,3)=\"J3E\",\"\",\"形式外\"))),\"形式外\"))","v":""},null,null,null,null,null,null,null,null,null,null,"月　日","時分JST","交信局","送信","受信","日数マルチ","テールレター","得点",null,"M局",null,null,null,null,null,"レター",null,null,null,null,null,null,null,null,null,null,null,{"$f":"サマリーシート!K18","v":0},{"$f":"IF(COUNTIF(BN5:BN405,BJ4)=1,VLOOKUP(BJ4,$BN$5:$BO165,2,FALSE),\"\")","v":""},null,null,"コール","区分","得点",{"$f":"SUM(BQ5:BQ305)","v":0},null,null,{"$f":"SUM(BT5:BT404)","v":0}]
[null,null,null,null,null,null,null,null,null,null,null,{"$f":"IF(B5=\"\",\"削除\",IF(OR(V5=\"重複\",W5=\"削除\",X5=\"形式外\"),\"削除\",1))","v":"削除"},{"$f":"IF(L5=\"削除\",\"\",C5)","v":""},{"$f":"IF(L5=\"削除\",\"\",D5)","v":""},{"$f":"IF(L5=\"削除\",\"\",B5)","v":""},{"$f":"IF(L5=\"削除\",\"\",E5)","v":""},{"$f":"IF(L5=\"削除\",\"\",F5)","v":""},{"$f":"IF(L5=\"削除\",\"\",I5)","v":""},{"$f":"IF(L5=\"削除\",\"\",IF(J5=\"\",\"\",J5))","v":""},{"$f":"IF(B5=\"\",\"\",LEFT(B5,FIND(\"/\",B5&\"/\")-1))","v":""},{"$f":"IF(B5=\"\",\"\",T5&\"/\"&H5)","v":""},{"$f":"IF(B5=\"\",\"\",IF(COUNTIF($U$4:U5,U5)=1,\"\",\"重複\"))","v":""},{"$f":"IF(B5=\"\",\"\",IF(LEFT(T5,1)=\"8\",\"削除\",IF(LEN(T5)=5,IF(MID(T5,4,2)=\"RL\",\"削除\",\"\"),IF(MID(T5,4,1)=\"Y\",\"削除\",IF(MID(T5,4,1)=\"Z\",\"削除\",\"\")))))","v":""},"",null,null,null,null,null,null,null,null,null,null,null,null,null,null,null,{"$f":"IF(COUNTIF($AI$5:AI5,AI5)=1,AI5,\"\")","v":""},{"$f":"IF(AI5=\"\",\"\",IF(COUNTIF($AX$5:AX5,AX5)=1,AX5,\"\"))","v":""},{"$f":"IF(AK5=\"\",\"\",IF(COUNTIF($BN$5:$BN$304,AT5)=1,5,1))","v":""},null,{"$f":"IF(COUNTIF($BN$5:$BN$40,AT5)=1,\"M\",\"\")","v":""},null,{"$f":"LEFT(AK5&\"/\",FIND(\"/\",AK5&\"/\")-1)","v":""},null,null,null,{"$f":"RIGHT(AT5,1)","v":""},null,null,null,null,null,null,null,null,null,null,null,"常置場所",null,null,null,"JA3JMG","M",5,{"$f":"IF(COUNTIF($AT$5:$AT$1004,BN5)>0,1,\"\")","v":""},null,"A",{"$f":"IF(COUNTIF($AX$5:$AX$1004,BS5)>=1,1,\"\")","v":""},null,"コンテスト規約の詳細は、当該コンテストのHPを必ず確認してください。"]
[null,null,null,null,null,null,null,null,null,null,null,"削除","","","","","","","","","",{"$f":"IF(B6=\"\",\"\",IF(COUNTIF($U$4:U6,U6)=1,\"\",\"重複\"))","v":""},"","",null,null,null,null,null,null,null,null,null,null,null,null,null,null,null,{"$f":"IF(COUNTIF($AI$5:AI6,AI6)=1,AI6,\"\")","v":""},{"$f":"IF(AI6=\"\",\"\",IF(COUNTIF($AX$5:AX6,AX6)=1,AX6,\"\"))","v":""},{"$f":"IF(AK6=\"\",\"\",IF(COUNTIF($BN$5:$BN$304,AT6)=1,5,1))","v":""},null,{"$f":"IF(COUNTIF($BN$5:$BN$40,AT6)=1,\"M\",\"\")","v":""},null,{"$f":"LEFT(AK6&\"/\",FIND(\"/\",AK6&\"/\")-1)","v":""},null,null,null,{"$f":"RIGHT(AT6,1)","v":""},null,null,null,null,null,null,null,null,null,null,null,null,null,null,null,"JA9VIU","M",5,{"$f":"IF(COUNTIF($AT$5:$AT$1004,BN6)>0,1,\"\")","v":""},null,"B",{"$f":"IF(COUNTIF($AX$5:$AX$1004,BS6)>=1,1,\"\")","v":""}]
[null,null,null,null,null,null,null,null,null,null,null,"削除","","","","","","","","","",{"$f":"IF(B7=\"\",\"\",IF(COUNTIF($U$4:U7,U7)=1,\"\",\"重複\"))","v":""},"","",null,null,null,null,null,null,null,null,null,null,null,null,null,null,null,{"$f":"IF(COUNTIF($AI$5:AI7,AI7)=1,AI7,\"\")","v":""},{"$f":"IF(AI7=\"\",\"\",IF(COUNTIF($AX$5:AX7,AX7)=1,AX7,\"\"))","v":""},"",null,"",null,"",null,null,null,"",null,null,null,null,null,null,null,null,null,null,null,null,null,null,null,"JE3ARO","M",5,"",null,"C","",null,"項　　目","内　　　　　　　　容","ログ反映"]
[null,null,null,null,null,null,null,null,null,null,null,"削除","","","","","","","","","",{"$f":"IF(B8=\"\",\"\",IF(COUNTIF($U$4:U8,U8)=1,\"\",\"重複\"))","v":""},"","",null,null,null,null,null,null,null,null,null,null,null,null,null,null,null,{"$f":"IF(COUNTIF($AI$5:AI8,AI8)=1,AI8,\"\")","v":""},{"$f":"IF(AI8=\"\",\"\",IF(COUNTIF($AX$5:AX8,AX8)=1,AX8,\"\"))","v":""},"",null,"",null,"",null,null,null,"",null,null,null,null,null,null,null,null,null,null,null,null,null,null,null,"JE3GZV","M",5,"",null,"D","",null,"コンテスト名","滋賀2mSSBアクティブコンテスト"]
[null,null,null,null,null,null,null,null,null,null,null,"削除","","","","","","","","","",{"$f":"IF(B9=\"\",\"\",IF(COUNTIF($U$4:U9,U9)=1,\"\",\"重複\"))","v":""},"","",null,null,null,null,null,null,null,null,null,null,null,null,null,null,null,{"$f":"IF(COUNTIF($AI$5:AI9,AI9)=1,AI9,\"\")","v":""},{"$f":"IF(AI9=\"\",\"\",IF(COUNTIF($AX$5:AX9,AX9)=1,AX9,\"\"))","v":""},"",null,"",null,"",null,null,null,"",null,null,null,null,null,null,null,null,null,null,null,null,null,null,null,"JE3OKZ","M",5,"",null,"E","",null,"コンテスト期間","1月2日 0:00 ～ 1月4日 24:00 （3日間）"]
[null,null,null,null,null,null,null,null,null,null,null,"削除","","","","","","","","","",{"$f":"IF(B10=\"\",\"\",IF(COUNTIF($U$4:U10,U10)=1,\"\",\"重複\"))","v":""},"","",null,null,null,null,null,null,null,null,null,null,null,null,null,null,null,{"$f":"IF(COUNTIF($AI$5:AI10,AI10)=1,AI10,\"\")","v":""},{"$f":"IF(AI10=\"\",\"\",IF(COUNTIF($AX$5:AX10,AX10)=1,AX10,\"\"))","v":""},"",null,"",null,"",null,null,null,"",null,null,null,null,null,null,null,null,null,null,null,null,null,null,null,"JE3RZS","M",5,"",null,"F","",null,"周波数帯","144MHz帯","自動削除"]
[null,null,null,null,null,null,null,null,null,null,null,"削除","","","","","","","","","",{"$f":"IF(B11=\"\",\"\",IF(COUNTIF($U$4:U11,U11)=1,\"\",\"重複\"))","v":""},"","",null,null,null,null,null,null,null,null,null,null,null,null,null,null,null,{"$f":"IF(COUNTIF($AI$5:AI11,AI11)=1,AI11,\"\")","v":""},{"$f":"IF(AI11=\"\",\"\",IF(COUNTIF($AX$5:AX11,AX11)=1,AX11,\"\"))","v":""},"",null,"",null,"",null,null,null,"",null,null,null,null,null,null,null,null,null,null,null,null,null,null,null,"JH3IDV","M",5,"",null,"G","",null,"交信モード","SSB","自動削除"]
[null,null,null,null,null,null,null,null,null,null,null,"削除","","","","","","","","","",{"$f":"IF(B12=\"\",\"\",IF(COUNTIF($U$4:U12,U12)=1,\"\",\"重複\"))","v":""},"","",null,null,null,null,null,null,null,null,null,null,null,null,null,null,null,{"$f":"IF(COUNTIF($AI$5:AI12,AI12)=1,AI12,\"\")","v":""},{"$f":"IF(AI12=\"\",\"\",IF(COUNTIF($AX$5:AX12,AX12)=1,AX12,\"\"))","v":""},"",null,"",null,"",null,null,null,"",null,null,null,null,null,null,null,null,null,null,null,null,null,null,null,"JH3MBF","M",5,"",null,"H","",null,"参加資格","国内のアマチュア個人局"]
[null,null,null,null,null,null,null,null,null,null,null,"削除","","","","","","","","","",{"$f":"IF(B13=\"\",\"\",IF(COUNTIF($U$4:U13,U13)=1,\"\",\"重複\"))","v":""},"","",null,null,null,null,null,null,null,null,null,null,null,null,null,null,null,{"$f":"IF(COUNTIF($AI$5:AI13,AI13)=1,AI13,\"\")","v":""},{"$f":"IF(AI13=\"\",\"\",IF(COUNTIF($AX$5:AX13,AX13)=1,AX13,\"\"))","v":""},"",null,"",null,"",null,null,null,"",null,null,null,null,null,null,null,null,null,null,null,null,null,null,null,"JH3TMG","M",5,"",null,"I","",null,"エントリー部門","滋賀県内局部門 および 滋賀県外局部門","自動反映"]
[null,null,null,null,null,null,null,null,null,null,null,"削除","","","","","","","","","",{"$f":"IF(B14=\"\",\"\",IF(COUNTIF($U$4:U14,U14)=1,\"\",\"重複\"))","v":""},"","",null,null,null,null,null,null,null,null,null,10,null,null,null,null,null,{"$f":"IF(COUNTIF($AI$5:AI14,AI14)=1,AI14,\"\")","v":""},{"$f":"IF(AI14=\"\",\"\",IF(COUNTIF($AX$5:AX14,AX14)=1,AX14,\"\"))","v":""},"",null,"",null,"",null,null,null,"",null,null,null,null,null,null,null,null,null,null,null,null,null,null,null,"JH9ASG","M",5,"",null,"J","",null,"レポート交換","会員局 ： RS＋M","自動反映"]
[null,null,null,null,null,null,null,null,null,null,null,"削除","","","","","","","","","",{"$f":"IF(B15=\"\",\"\",IF(COUNTIF($U$4:U15,U15)=1,\"\",\"重複\"))","v":""},"","",null,null,null,null,null,null,null,null,null,null,null,null,null,null,null,{"$f":"IF(COUNTIF($AI$5:AI15,AI15)=1,AI15,\"\")","v":""},{"$f":"IF(AI15=\"\",\"\",IF(COUNTIF($AX$5:AX15,AX15)=1,AX15,\"\"))","v":""},"",null,"",null,"",null,null,null,"",null,null,null,null,null,null,null,null,null,null,null,null,null,null,null,"JH9VPC","M",5,"",null,"K","",null,null,"一般局 ： RS"]
[null,null,null,null,null,null,null,null,null,null,null,"削除","","","","","","","","","",{"$f":"IF(B16=\"\",\"\",IF(COUNTIF($U$4:U16,U16)=1,\"\",\"重複\"))","v":""},"","",null,null,null,null,null,null,null,null,null,null,null,null,null,null,null,{"$f":"IF(COUNTIF($AI$5:AI16,AI16)=1,AI16,\"\")","v":""},{"$f":"IF(AI16=\"\",\"\",IF(COUNTIF($AX$5:AX16,AX16)=1,AX16,\"\"))","v":""},"",null,"",null,"",null,null,null,"",null,null,null,null,null,null,null,null,null,null,null,null,null,null,null,"JI3FKY","M",5,"",null,"L","",null,"得　　　点","会員局との交信 ： 5点","自動反映"]
[null,null,null,null,null,null,null,null,null,null,null,"削除","","","","","","","","","",{"$f":"IF(B17=\"\",\"\",IF(COUNTIF($U$4:U17,U17)=1,\"\",\"重複\"))","v":""},"","",null,null,null,null,null,null,null,null,null,null,null,null,null,null,null,{"$f":"IF(COUNTIF($AI$5:AI17,AI17)=1,AI17,\"\")","v":""},{"$f":"IF(AI17=\"\",\"\",IF(COUNTIF($AX$5:AX17,AX17)=1,AX17,\"\"))","v":""},"",null,"",null,"",null,null,null,"",null,null,null,null,null,null,null,null,null,null,null,null,null,null,null,"JI3ICY","M",5,"",null,"M","",null,null,"一般局との交信 ： 1点","自動反映"]
[null,null,null,null,null,null,null,null,null,null,null,"削除","","","","","","","","","",{"$f":"IF(B18=\"\",\"\",IF(COUNTIF($U$4:U18,U18)=1,\"\",\"重複\"))","v":""},"","",null,null,null,null,null,null,null,null,null,null,null,null,null,null,null,{"$f":"IF(COUNTIF($AI$5:AI18,AI18)=1,AI18,\"\")","v":""},{"$f":"IF(AI18=\"\",\"\",IF(COUNTIF($AX$5:AX18,AX18)=1,AX18,\"\"))","v":""},"",null,"",null,"",null,null,null,"",null,null,null,null,null,null,null,null,null,null,null,null,null,null,null,"JI3IJG","M",5,"",null,"N","",null,"マルチプライヤー","①サフィックスマルチ ： テールレターの取得個数（A～Zまで最大26）","自動計算"]
[null,null,null,null,null,null,null,null,null,null,null,"削除","","","","","","","","","",{"$f":"IF(B19=\"\",\"\",IF(COUNTIF($U$4:U19,U19)=1,\"\",\"重複\"))","v":""},"","",null,null,null,null,null,null,null,null,null,null,null,null,null,null,null,{"$f":"IF(COUNTIF($AI$5:AI19,AI19)=1,AI19,\"\")","v":""},{"$f":"IF(AI19=\"\",\"\",IF(COUNTIF($AX$5:AX19,AX19)=1,AX19,\"\"))","v":""},"",null,"",null,"",null,null,null,"",null,null,null,null,null,null,null,null,null,null,null,null,null,null,null,"JI3WWZ","M",5,"",null,"O","",null,null,"②日数マルチ         ： 運用日数（最大3日）","自動計算"]
[null,null,null,null,null,null,null,null,null,null,null,"削除","","","","","","","","","",{"$f":"IF(B20=\"\",\"\",IF(COUNTIF($U$4:U20,U20)=1,\"\",\"重複\"))","v":""},"","",null,null,null,null,null,null,null,null,null,null,null,null,null,null,null,{"$f":"IF(COUNTIF($AI$5:AI20,AI20)=1,AI20,\"\")","v":""},{"$f":"IF(AI20=\"\",\"\",IF(COUNTIF($AX$5:AX20,AX20)=1,AX20,\"\"))","v":""},"",null,"",null,"",null,null,null,"",null,null,null,null,null,null,null,null,null,null,null,null,null,null,null,"JJ3AOZ","M",5,"",null,"P","",null,"得点計算","（得点の和）×（サフィックスマルチ）×（日数マルチ）＝ 総得点","自動計算"]
[null,null,null,null,null,null,null,null,null,null,null,"削除","","","","","","","","","",{"$f":"IF(B21=\"\",\"\",IF(COUNTIF($U$4:U21,U21)=1,\"\",\"重複\"))","v":""},"","",null,null,null,null,null,null,null,null,null,null,null,null,null,null,null,{"$f":"IF(COUNTIF($AI$5:AI21,AI21)=1,AI21,\"\")","v":""},{"$f":"IF(AI21=\"\",\"\",IF(COUNTIF($AX$5:AX21,AX21)=1,AX21,\"\"))","v":""},"",null,"",null,"",null,null,null,"",null,null,null,null,null,null,null,null,null,null,null,null,null,null,null,"JJ3ELI","M",5,"",null,"Q","",null,"注意事項","ロールコール中の交信は無効"]
[null,null,null,null,null,null,null,null,null,null,null,"削除","","","","","","","","","",{"$f":"IF(B22=\"\",\"\",IF(COUNTIF($U$4:U22,U22)=1,\"\",\"重複\"))","v":""},"","",null,null,null,null,null,null,null,null,null,null,null,null,null,null,null,{"$f":"IF(COUNTIF($AI$5:AI22,AI22)=1,AI22,\"\")","v":""},{"$f":"IF(AI22=\"\",\"\",IF(COUNTIF($AX$5:AX22,AX22)=1,AX22,\"\"))","v":""},"",null,"",null,"",null,null,null,"",null,null,null,null,null,null,null,null,null,null,null,null,null,null,null,"JK3IJQ","M",5,"",null,"R","",null,null,"同一局 との交信は、期間中一回 のみ有効","自動削除"]
[null,null,null,null,null,null,null,null,null,null,null,"削除","","","","","","","","","",{"$f":"IF(B23=\"\",\"\",IF(COUNTIF($U$4:U23,U23)=1,\"\",\"重複\"))","v":""},"","",null,null,null,null,null,null,null,null,null,null,null,null,null,null,null,{"$f":"IF(COUNTIF($AI$5:AI23,AI23)=1,AI23,\"\")","v":""},{"$f":"IF(AI23=\"\",\"\",IF(COUNTIF($AX$5:AX23,AX23)=1,AX23,\"\"))","v":""},"",null,"",null,"",null,null,null,"",null,null,null,null,null,null,null,null,null,null,null,null,null,null,null,"JK3VVX","M",5,"",null,"S","",null,null,"社団局・記念局 との交信は無効","自動削除"]
[null,null,null,null,null,null,null,null,null,null,null,"削除","","","","","","","","","",{"$f":"IF(B24=\"\",\"\",IF(COUNTIF($U$4:U24,U24)=1,\"\",\"重複\"))","v":""},"","",null,null,null,null,null,null,null,null,null,20,null,null,null,null,null,{"$f":"IF(COUNTIF($AI$5:AI24,AI24)=1,AI24,\"\")","v":""},{"$f":"IF(AI24=\"\",\"\",IF(COUNTIF($AX$5:AX24,AX24)=1,AX24,\"\"))","v":""},"",null,"",null,"",null,null,null,"",null,null,null,null,null,null,null,null,null,null,null,null,null,null,null,"JM3XOW","M",5,"",null,"T","",null,null,"滋賀県外参加局は、3エリア内 での運用局と 1局以上 交信をすること。","警告あり"]
[null,null,null,null,null,null,null,null,null,null,null,"削除","","","","","","","","","",{"$f":"IF(B25=\"\",\"\",IF(COUNTIF($U$4:U25,U25)=1,\"\",\"重複\"))","v":""},"","",null,null,null,null,null,null,null,null,null,null,null,null,null,null,null,{"$f":"IF(COUNTIF($AI$5:AI25,AI25)=1,AI25,\"\")","v":""},{"$f":"IF(AI25=\"\",\"\",IF(COUNTIF($AX$5:AX25,AX25)=1,AX25,\"\"))","v":""},"",null,"",null,"",null,null,null,"",null,null,null,null,null,null,null,null,null,null,null,null,null,null,null,"JN3DGF","M",5,"",null,"U","",null,null,"同一人物による 複数コール での参加は認めない"]
[null,null,null,null,null,null,null,null,null,null,null,"削除","","","","","","","","","",{"$f":"IF(B26=\"\",\"\",IF(COUNTIF($U$4:U26,U26)=1,\"\",\"重複\"))","v":""},"","",null,null,null,null,null,null,null,null,null,null,null,null,null,null,null,{"$f":"IF(COUNTIF($AI$5:AI26,AI26)=1,AI26,\"\")","v":""},{"$f":"IF(AI26=\"\",\"\",IF(COUNTIF($AX$5:AX26,AX26)=1,AX26,\"\"))","v":""},"",null,"",null,"",null,null,null,"",null,null,null,null,null,null,null,null,null,null,null,null,null,null,null,"JN3OHT","M",5,"",null,"V","",null,null,"サフィックスマルチの テールレター をログシートに注記のこと。","自動反映"]
[null,null,null,null,null,null,null,null,null,null,null,"削除","","","","","","","","","",{"$f":"IF(B27=\"\",\"\",IF(COUNTIF($U$4:U27,U27)=1,\"\",\"重複\"))","v":""},"","",null,null,null,null,null,null,null,null,null,null,null,null,null,null,null,{"$f":"IF(COUNTIF($AI$5:AI27,AI27)=1,AI27,\"\")","v":""},{"$f":"IF(AI27=\"\",\"\",IF(COUNTIF($AX$5:AX27,AX27)=1,AX27,\"\"))","v":""},"",null,"",null,"",null,null,null,"",null,null,null,null,null,null,null,null,null,null,null,null,null,null,null,"JN3WDR","M",5,"",null,"W","",null,"移動運用","同一都道府県内のみ有効"]
[null,null,null,null,null,null,null,null,null,null,null,"削除","","","","","","","","","",{"$f":"IF(B28=\"\",\"\",IF(COUNTIF($U$4:U28,U28)=1,\"\",\"重複\"))","v":""},"","",null,null,null,null,null,null,null,null,null,null,null,null,null,null,null,{"$f":"IF(COUNTIF($AI$5:AI28,AI28)=1,AI28,\"\")","v":""},{"$f":"IF(AI28=\"\",\"\",IF(COUNTIF($AX$5:AX28,AX28)=1,AX28,\"\"))","v":""},"",null,"",null,"",null,null,null,"",null,null,null,null,null,null,null,null,null,null,null,null,null,null,null,"JO3EET","M",5,"",null,"X","",null,"書類提出","JARL様式のログ･サマリーシート","準拠"]
[null,null,null,null,null,null,null,null,null,null,null,"削除","","","","","","","","","",{"$f":"IF(B29=\"\",\"\",IF(COUNTIF($U$4:U29,U29)=1,\"\",\"重複\"))","v":""},"","",null,null,null,null,null,null,null,null,null,null,null,null,null,null,null,{"$f":"IF(COUNTIF($AI$5:AI29,AI29)=1,AI29,\"\")","v":""},{"$f":"IF(AI29=\"\",\"\",IF(COUNTIF($AX$5:AX29,AX29)=1,AX29,\"\"))","v":""},"",null,"",null,"",null,null,null,"",null,null,null,null,null,null,null,null,null,null,null,null,null,null,null,"JP3MHW","M",5,"",null,"Y","",null,null,"PDFファイルによる電子提出可","対応"]
[null,null,null,null,null,null,null,null,null,null,null,"削除","","","","","","","","","",{"$f":"IF(B30=\"\",\"\",IF(COUNTIF($U$4:U30,U30)=1,\"\",\"重複\"))","v":""},"","",null,null,null,null,null,null,null,null,null,null,null,null,null,null,null,{"$f":"IF(COUNTIF($AI$5:AI30,AI30)=1,AI30,\"\")","v":""},{"$f":"IF(AI30=\"\",\"\",IF(COUNTIF($AX$5:AX30,AX30)=1,AX30,\"\"))","v":""},"",null,"",null,"",null,null,null,"",null,null,null,null,null,null,null,null,null,null,null,null,null,null,null,"JP3XBN","M",5,"",null,"Z","",null,"主　　　催","滋賀2mSSB愛好会"]
[null,null,null,null,null,null,null,null,null,null,null,"削除","","","","","","","","","",{"$f":"IF(B31=\"\",\"\",IF(COUNTIF($U$4:U31,U31)=1,\"\",\"重複\"))","v":""},"","",null,null,null,null,null,null,null,null,null,null,null,null,null,null,null,{"$f":"IF(COUNTIF($AI$5:AI31,AI31)=1,AI31,\"\")","v":""},{"$f":"IF(AI31=\"\",\"\",IF(COUNTIF($AX$5:AX31,AX31)=1,AX31,\"\"))","v":""},"",null,"",null,"",null,null,null,"",null,null,null,null,null,null,null,null,null,null,null,null,null,null,null,"JR3DQN","M",5,""]
[null,null,null,null,null,null,null,null,null,null,null,"削除","","","","","","","","","",{"$f":"IF(B32=\"\",\"\",IF(COUNTIF($U$4:U32,U32)=1,\"\",\"重複\"))","v":""},"","",null,null,null,null,null,null,null,null,null,null,null,null,null,null,null,{"$f":"IF(COUNTIF($AI$5:AI32,AI32)=1,AI32,\"\")","v":""},{"$f":"IF(AI32=\"\",\"\",IF(COUNTIF($AX$5:AX32,AX32)=1,AX32,\"\"))","v":""},"",null,"",null,"",null,null,null,"",null,null,null,null,null,null,null,null,null,null,null,null,null,null,null,"JR3MWS","M",5,"",null,{"$f":"IF(BT4=26,\"パーフェクト\",\"\")","v":""}]
[null,null,null,null,null,null,null,null,null,null,null,"削除","","","","","","","","","",{"$f":"IF(B33=\"\",\"\",IF(COUNTIF($U$4:U33,U33)=1,\"\",\"重複\"))","v":""},"","",null,null,null,null,null,null,null,null,null,null,null,null,null,null,null,{"$f":"IF(COUNTIF($AI$5:AI33,AI33)=1,AI33,\"\")","v":""},{"$f":"IF(AI33=\"\",\"\",IF(COUNTIF($AX$5:AX33,AX33)=1,AX33,\"\"))","v":""},"",null,"",null,"",null,null,null,"",null,null,null,null,null,null,null,null,null,null,null,null,null,null,null,"JR3VJM","M",5,""]
[null,null,null,null,null,null,null,null,null,null,null,"削除","","","","","","","","","",{"$f":"IF(B34=\"\",\"\",IF(COUNTIF($U$4:U34,U34)=1,\"\",\"重複\"))","v":""},"","",null,null,null,null,null,null,null,null,null,30,null,null,null,null,null,{"$f":"IF(COUNTIF($AI$5:AI34,AI34)=1,AI34,\"\")","v":""},{"$f":"IF(AI34=\"\",\"\",IF(COUNTIF($AX$5:AX34,AX34)=1,AX34,\"\"))","v":""},"",null,"",null,"",null,null,null,"",null,null,null,null,null,null,null,null,null,null,null,null,null,null,null,null,null,null,""]
[null,null,null,null,null,null,null,null,null,null,null,"削除","","","","","","","","","",{"$f":"IF(B35=\"\",\"\",IF(COUNTIF($U$4:U35,U35)=1,\"\",\"重複\"))","v":""},"","",null,null,null,null,null,null,null,null,null,null,null,null,null,null,null,{"$f":"IF(COUNTIF($AI$5:AI35,AI35)=1,AI35,\"\")","v":""},{"$f":"IF(AI35=\"\",\"\",IF(COUNTIF($AX$5:AX35,AX35)=1,AX35,\"\"))","v":""},"",null,"",null,"",null,null,null,"",null,null,null,null,null,null,null,null,null,null,null,null,null,null,null,null,null,null,""]
[null,null,null,null,null,null,null,null,null,null,null,"削除","","","","","","","","","",{"$f":"IF(B36=\"\",\"\",IF(COUNTIF($U$4:U36,U36)=1,\"\",\"重複\"))","v":""},"","",null,null,null,null,null,null,null,null,null,null,null,null,null,null,null,{"$f":"IF(COUNTIF($AI$5:AI36,AI36)=1,AI36,\"\")","v":""},{"$f":"IF(AI36=\"\",\"\",IF(COUNTIF($AX$5:AX36,AX36)=1,AX36,\"\"))","v":""},"",null,"",null,"",null,null,null,"",null,null,null,null,null,null,null,null,null,null,null,null,null,null,null,null,null,null,""]
[null,null,null,null,null,null,null,null,null,null,null,"削除","","","","","","","","","",{"$f":"IF(B37=\"\",\"\",IF(COUNTIF($U$4:U37,U37)=1,\"\",\"重複\"))","v":""},"","",null,null,null,null,null,null,null,null,null,null,null,null,null,null,null,{"$f":"IF(COUNTIF($AI$5:AI37,AI37)=1,AI37,\"\")","v":""},{"$f":"IF(AI37=\"\",\"\",IF(COUNTIF($AX$5:AX37,AX37)=1,AX37,\"\"))","v":""},"",null,"",null,"",null,null,null,"",null,null,null,null,null,null,null,null,null,null,null,null,null,null,null,null,null,null,""]
[null,null,null,null,null,null,null,null,null,null,null,"削除","","","","","","","","","",{"$f":"IF(B38=\"\",\"\",IF(COUNTIF($U$4:U38,U38)=1,\"\",\"重複\"))","v":""},"","",null,null,null,null,null,null,null,null,null,null,null,null,null,null,null,{"$f":"IF(COUNTIF($AI$5:AI38,AI38)=1,AI38,\"\")","v":""},{"$f":"IF(AI38=\"\",\"\",IF(COUNTIF($AX$5:AX38,AX38)=1,AX38,\"\"))","v":""},"",null,"",null,"",null,null,null,"",null,null,null,null,null,null,null,null,null,null,null,null,null,null,null,null,null,null,""]
[null,null,null,null,null,null,null,null,null,null,null,"削除","","","","","","","","","",{"$f":"IF(B39=\"\",\"\",IF(COUNTIF($U$4:U39,U39)=1,\"\",\"重複\"))","v":""},"","",null,null,null,null,null,null,null,null,null,null,null,null,null,null,null,{"$f":"IF(COUNTIF($AI$5:AI39,AI39)=1,AI39,\"\")","v":""},{"$f":"IF(AI39=\"\",\"\",IF(COUNTIF($AX$5:AX39,AX39)=1,AX39,\"\"))","v":""},"",null,"",null,"",null,null,null,"",null,null,null,null,null,null,null,null,null,null,null,null,null,null,null,null,null,null,""]
[null,null,null,null,null,null,null,null,null,null,null,"削除","","","","","","","","","",{"$f":"IF(B40=\"\",\"\",IF(COUNTIF($U$4:U40,U40)=1,\"\",\"重複\"))","v":""},"","",null,null,null,null,null,null,null,null,null,null,null,null,null,null,null,{"$f":"IF(COUNTIF($AI$5:AI40,AI40)=1,AI40,\"\")","v":""},{"$f":"IF(AI40=\"\",\"\",IF(COUNTIF($AX$5:AX40,AX40)=1,AX40,\"\"))","v":""},"",null,"",null,"",null,null,null,"",null,null,null,null,null,null,null,null,null,null,null,null,null,null,null,null,null,null,""]
[null,null,null,null,null,null,null,null,null,null,null,"削除","","","","","","","","","",{"$f":"IF(B41=\"\",\"\",IF(COUNTIF($U$4:U41,U41)=1,\"\",\"重複\"))","v":""},"","",null,null,null,null,null,null,null,null,null,null,null,null,null,null,null,{"$f":"IF(COUNTIF($AI$5:AI41,AI41)=1,AI41,\"\")","v":""},{"$f":"IF(AI41=\"\",\"\",IF(COUNTIF($AX$5:AX41,AX41)=1,AX41,\"\"))","v":""},"",null,"",null,"",null,null,null,""]
[null,null,null,null,null,null,null,null,null,null,null,"削除","","","","","","","","","",{"$f":"IF(B42=\"\",\"\",IF(COUNTIF($U$4:U42,U42)=1,\"\",\"重複\"))","v":""},"","",null,null,null,null,null,null,null,null,null,null,null,null,null,null,null,{"$f":"IF(COUNTIF($AI$5:AI42,AI42)=1,AI42,\"\")","v":""},{"$f":"IF(AI42=\"\",\"\",IF(COUNTIF($AX$5:AX42,AX42)=1,AX42,\"\"))","v":""},"",null,"",null,"",null,null,null,""]
[null,null,null,null,null,null,null,null,null,null,null,"削除","","","","","","","","","",{"$f":"IF(B43=\"\",\"\",IF(COUNTIF($U$4:U43,U43)=1,\"\",\"重複\"))","v":""},"","",null,null,null,null,null,null,null,null,null,null,null,null,null,null,null,{"$f":"IF(COUNTIF($AI$5:AI43,AI43)=1,AI43,\"\")","v":""},{"$f":"IF(AI43=\"\",\"\",IF(COUNTIF($AX$5:AX43,AX43)=1,AX43,\"\"))","v":""},"",null,"",null,"",null,null,null,""]
[null,null,null,null,null,null,null,null,null,null,null,"削除","","","","","","","","","",{"$f":"IF(B44=\"\",\"\",IF(COUNTIF($U$4:U44,U44)=1,\"\",\"重複\"))","v":""},"","",null,null,null,null,null,null,null,null,null,40,null,null,null,null,null,{"$f":"IF(COUNTIF($AI$5:AI44,AI44)=1,AI44,\"\")","v":""},{"$f":"IF(AI44=\"\",\"\",IF(COUNTIF($AX$5:AX44,AX44)=1,AX44,\"\"))","v":""},"",null,"",null,"",null,null,null,""]
[null,null,null,null,null,null,null,null,null,null,null,"削除","","","","","","","","","",{"$f":"IF(B45=\"\",\"\",IF(COUNTIF($U$4:U45,U45)=1,\"\",\"重複\"))","v":""},"","",null,null,null,null,null,null,null,null,null,null,null,null,null,null,null,{"$f":"IF(COUNTIF($AI$5:AI45,AI45)=1,AI45,\"\")","v":""},{"$f":"IF(AI45=\"\",\"\",IF(COUNTIF($AX$5:AX45,AX45)=1,AX45,\"\"))","v":""},"",null,"",null,"",null,null,null,""]
[null,null,null,null,null,null,null,null,null,null,null,"削除","","","","","","","","","",{"$f":"IF(B46=\"\",\"\",IF(COUNTIF($U$4:U46,U46)=1,\"\",\"重複\"))","v":""},"","",null,null,null,null,null,null,null,null,null,null,null,null,null,null,null,{"$f":"IF(COUNTIF($AI$5:AI46,AI46)=1,AI46,\"\")","v":""},{"$f":"IF(AI46=\"\",\"\",IF(COUNTIF($AX$5:AX46,AX46)=1,AX46,\"\"))","v":""},"",null,"",null,"",null,null,null,""]
[null,null,null,null,null,null,null,null,null,null,null,"削除","","","","","","","","","",{"$f":"IF(B47=\"\",\"\",IF(COUNTIF($U$4:U47,U47)=1,\"\",\"重複\"))","v":""},"","",null,null,null,null,null,null,null,null,null,null,null,null,null,null,null,{"$f":"IF(COUNTIF($AI$5:AI47,AI47)=1,AI47,\"\")","v":""},{"$f":"IF(AI47=\"\",\"\",IF(COUNTIF($AX$5:AX47,AX47)=1,AX47,\"\"))","v":""},"",null,"",null,"",null,null,null,""]
[null,null,null,null,null,null,null,null,null,null,null,"削除","","","","","","","","","",{"$f":"IF(B48=\"\",\"\",IF(COUNTIF($U$4:U48,U48)=1,\"\",\"重複\"))","v":""},"","",null,null,null,null,null,null,null,null,null,null,null,null,null,null,null,{"$f":"IF(COUNTIF($AI$5:AI48,AI48)=1,AI48,\"\")","v":""},{"$f":"IF(AI48=\"\",\"\",IF(COUNTIF($AX$5:AX48,AX48)=1,AX48,\"\"))","v":""},"",null,"",null,"",null,null,null,""]
[null,null,null,null,null,null,null,null,null,null,null,"削除","","","","","","","","","",{"$f":"IF(B49=\"\",\"\",IF(COUNTIF($U$4:U49,U49)=1,\"\",\"重複\"))","v":""},"","",null,null,null,null,null,null,null,null,null,null,null,null,null,null,null,{"$f":"IF(COUNTIF($AI$5:AI49,AI49)=1,AI49,\"\")","v":""},{"$f":"IF(AI49=\"\",\"\",IF(COUNTIF($AX$5:AX49,AX49)=1,AX49,\"\"))","v":""},"",null,"",null,"",null,null,null,""]
[null,null,null,null,null,null,null,null,null,null,null,"削除","","","","","","","","","",{"$f":"IF(B50=\"\",\"\",IF(COUNTIF($U$4:U50,U50)=1,\"\",\"重複\"))","v":""},"","",null,null,null,null,null,null,null,null,null,null,null,null,null,null,null,{"$f":"IF(COUNTIF($AI$5:AI50,AI50)=1,AI50,\"\")","v":""},{"$f":"IF(AI50=\"\",\"\",IF(COUNTIF($AX$5:AX50,AX50)=1,AX50,\"\"))","v":""},"",null,"",null,"",null,null,null,""]
[null,null,null,null,null,null,null,null,null,null,null,"削除","","","","","","","","","",{"$f":"IF(B51=\"\",\"\",IF(COUNTIF($U$4:U51,U51)=1,\"\",\"重複\"))","v":""},"","",null,null,null,null,null,null,null,null,null,null,null,null,null,null,null,{"$f":"IF(COUNTIF($AI$5:AI51,AI51)=1,AI51,\"\")","v":""},{"$f":"IF(AI51=\"\",\"\",IF(COUNTIF($AX$5:AX51,AX51)=1,AX51,\"\"))","v":""},"",null,"",null,"",null,null,null,""]
[null,null,null,null,null,null,null,null,null,null,null,"削除","","","","","","","","","",{"$f":"IF(B52=\"\",\"\",IF(COUNTIF($U$4:U52,U52)=1,\"\",\"重複\"))","v":""},"","",null,null,null,null,null,null,null,null,null,null,null,null,null,null,null,{"$f":"IF(COUNTIF($AI$5:AI52,AI52)=1,AI52,\"\")","v":""},{"$f":"IF(AI52=\"\",\"\",IF(COUNTIF($AX$5:AX52,AX52)=1,AX52,\"\"))","v":""},"",null,"",null,"",null,null,null,""]
[null,null,null,null,null,null,null,null,null,null,null,"削除","","","","","","","","","",{"$f":"IF(B53=\"\",\"\",IF(COUNTIF($U$4:U53,U53)=1,\"\",\"重複\"))","v":""},"","",null,null,null,null,null,null,null,null,null,null,null,null,null,null,null,{"$f":"IF(COUNTIF($AI$5:AI53,AI53)=1,AI53,\"\")","v":""},{"$f":"IF(AI53=\"\",\"\",IF(COUNTIF($AX$5:AX53,AX53)=1,AX53,\"\"))","v":""},"",null,"",null,"",null,null,null,""]
[null,null,null,null,null,null,null,null,null,null,null,"削除","","","","","","","","","",{"$f":"IF(B54=\"\",\"\",IF(COUNTIF($U$4:U54,U54)=1,\"\",\"重複\"))","v":""},"","",null,null,null,null,null,null,null,null,null,50,null,null,null,null,null,{"$f":"IF(COUNTIF($AI$5:AI54,AI54)=1,AI54,\"\")","v":""},{"$f":"IF(AI54=\"\",\"\",IF(COUNTIF($AX$5:AX54,AX54)=1,AX54,\"\"))","v":""},"",null,"",null,"",null,null,null,""]
[null,null,null,null,null,null,null,null,null,null,null,"削除","","","","","","","","","",{"$f":"IF(B55=\"\",\"\",IF(COUNTIF($U$4:U55,U55)=1,\"\",\"重複\"))","v":""},"","",null,null,null,null,null,null,null,null,null,null,null,null,null,null,null,{"$f":"IF(COUNTIF($AI$5:AI55,AI55)=1,AI55,\"\")","v":""},{"$f":"IF(AI55=\"\",\"\",IF(COUNTIF($AX$5:AX55,AX55)=1,AX55,\"\"))","v":""},"",null,"",null,"",null,null,null,""]
[null,null,null,null,null,null,null,null,null,null,null,"削除","","","","","","","","","",{"$f":"IF(B56=\"\",\"\",IF(COUNTIF($U$4:U56,U56)=1,\"\",\"重複\"))","v":""},"","",null,null,null,null,null,null,null,null,null,null,null,null,null,null,null,{"$f":"IF(COUNTIF($AI$5:AI56,AI56)=1,AI56,\"\")","v":""},{"$f":"IF(AI56=\"\",\"\",IF(COUNTIF($AX$5:AX56,AX56)=1,AX56,\"\"))","v":""},"",null,"",null,"",null,null,null,""]
[null,null,null,null,null,null,null,null,null,null,null,"削除","","","","","","","","","",{"$f":"IF(B57=\"\",\"\",IF(COUNTIF($U$4:U57,U57)=1,\"\",\"重複\"))","v":""},"","",null,null,null,null,null,null,null,null,null,null,null,null,null,null,null,{"$f":"IF(COUNTIF($AI$5:AI57,AI57)=1,AI57,\"\")","v":""},{"$f":"IF(AI57=\"\",\"\",IF(COUNTIF($AX$5:AX57,AX57)=1,AX57,\"\"))","v":""},"",null,"",null,"",null,null,null,""]
[null,null,null,null,null,null,null,null,null,null,null,"削除","","","","","","","","","",{"$f":"IF(B58=\"\",\"\",IF(COUNTIF($U$4:U58,U58)=1,\"\",\"重複\"))","v":""},"","",null,null,null,null,null,null,null,null,null,null,null,null,null,null,null,{"$f":"IF(COUNTIF($AI$5:AI58,AI58)=1,AI58,\"\")","v":""},{"$f":"IF(AI58=\"\",\"\",IF(COUNTIF($AX$5:AX58,AX58)=1,AX58,\"\"))","v":""},"",null,"",null,"",null,null,null,""]
[null,null,null,null,null,null,null,null,null,null,null,"削除","","","","","","","","","",{"$f":"IF(B59=\"\",\"\",IF(COUNTIF($U$4:U59,U59)=1,\"\",\"重複\"))","v":""},"","",null,null,null,null,null,null,null,null,null,null,null,null,null,null,null,{"$f":"IF(COUNTIF($AI$5:AI59,AI59)=1,AI59,\"\")","v":""},{"$f":"IF(AI59=\"\",\"\",IF(COUNTIF($AX$5:AX59,AX59)=1,AX59,\"\"))","v":""},"",null,"",null,"",null,null,null,""]
[null,null,null,null,null,null,null,null,null,null,null,"削除","","","","","","","","","",{"$f":"IF(B60=\"\",\"\",IF(COUNTIF($U$4:U60,U60)=1,\"\",\"重複\"))","v":""},"","",null,null,null,null,null,null,null,null,null,null,null,null,null,null,null,{"$f":"IF(COUNTIF($AI$5:AI60,AI60)=1,AI60,\"\")","v":""},{"$f":"IF(AI60=\"\",\"\",IF(COUNTIF($AX$5:AX60,AX60)=1,AX60,\"\"))","v":""},"",null,"",null,"",null,null,null,""]
[null,null,null,null,null,null,null,null,null,null,null,"削除","","","","","","","","","",{"$f":"IF(B61=\"\",\"\",IF(COUNTIF($U$4:U61,U61)=1,\"\",\"重複\"))","v":""},"","",null,null,null,null,null,null,null,null,null,null,null,null,null,null,null,{"$f":"IF(COUNTIF($AI$5:AI61,AI61)=1,AI61,\"\")","v":""},{"$f":"IF(AI61=\"\",\"\",IF(COUNTIF($AX$5:AX61,AX61)=1,AX61,\"\"))","v":""},"",null,"",null,"",null,null,null,""]
[null,null,null,null,null,null,null,null,null,null,null,"削除","","","","","","","","","",{"$f":"IF(B62=\"\",\"\",IF(COUNTIF($U$4:U62,U62)=1,\"\",\"重複\"))","v":""},"","",null,null,null,null,null,null,null,null,null,null,null,null,null,null,null,{"$f":"IF(COUNTIF($AI$5:AI62,AI62)=1,AI62,\"\")","v":""},{"$f":"IF(AI62=\"\",\"\",IF(COUNTIF($AX$5:AX62,AX62)=1,AX62,\"\"))","v":""},"",null,"",null,"",null,null,null,""]
[null,null,null,null,null,null,null,null,null,null,null,"削除","","","","","","","","","",{"$f":"IF(B63=\"\",\"\",IF(COUNTIF($U$4:U63,U63)=1,\"\",\"重複\"))","v":""},"","",null,null,null,null,null,null,null,null,null,null,null,null,null,null,null,{"$f":"IF(COUNTIF($AI$5:AI63,AI63)=1,AI63,\"\")","v":""},{"$f":"IF(AI63=\"\",\"\",IF(COUNTIF($AX$5:AX63,AX63)=1,AX63,\"\"))","v":""},"",null,"",null,"",null,null,null,""]
[null,null,null,null,null,null,null,null,null,null,null,"削除","","","","","","","","","",{"$f":"IF(B64=\"\",\"\",IF(COUNTIF($U$4:U64,U64)=1,\"\",\"重複\"))","v":""},"","",null,null,null,null,null,null,null,null,null,60,null,null,null,null,null,{"$f":"IF(COUNTIF($AI$5:AI64,AI64)=1,AI64,\"\")","v":""},{"$f":"IF(AI64=\"\",\"\",IF(COUNTIF($AX$5:AX64,AX64)=1,AX64,\"\"))","v":""},"",null,"",null,"",null,null,null,""]
[null,null,null,null,null,null,null,null,null,null,null,"削除","","","","","","","","","",{"$f":"IF(B65=\"\",\"\",IF(COUNTIF($U$4:U65,U65)=1,\"\",\"重複\"))","v":""},"","",null,null,null,null,null,null,null,null,null,null,null,null,null,null,null,{"$f":"IF(COUNTIF($AI$5:AI65,AI65)=1,AI65,\"\")","v":""},{"$f":"IF(AI65=\"\",\"\",IF(COUNTIF($AX$5:AX65,AX65)=1,AX65,\"\"))","v":""},"",null,"",null,"",null,null,null,""]
[null,null,null,null,null,null,null,null,null,null,null,"削除","","","","","","","","","",{"$f":"IF(B66=\"\",\"\",IF(COUNTIF($U$4:U66,U66)=1,\"\",\"重複\"))","v":""},"","",null,null,null,null,null,null,null,null,null,null,null,null,null,null,null,{"$f":"IF(COUNTIF($AI$5:AI66,AI66)=1,AI66,\"\")","v":""},{"$f":"IF(AI66=\"\",\"\",IF(COUNTIF($AX$5:AX66,AX66)=1,AX66,\"\"))","v":""},"",null,"",null,"",null,null,null,""]
[null,null,null,null,null,null,null,null,null,null,null,"削除","","","","","","","","","",{"$f":"IF(B67=\"\",\"\",IF(COUNTIF($U$4:U67,U67)=1,\"\",\"重複\"))","v":""},"","",null,null,null,null,null,null,null,null,null,null,null,null,null,null,null,{"$f":"IF(COUNTIF($AI$5:AI67,AI67)=1,AI67,\"\")","v":""},{"$f":"IF(AI67=\"\",\"\",IF(COUNTIF($AX$5:AX67,AX67)=1,AX67,\"\"))","v":""},"",null,"",null,"",null,null,null,""]
[null,null,null,null,null,null,null,null,null,null,null,"削除","","","","","","","","","",{"$f":"IF(B68=\"\",\"\",IF(COUNTIF($U$4:U68,U68)=1,\"\",\"重複\"))","v":""},"",{"$f":"IF(B68=\"\",\"\",IF(LEFT(G68,3)=\"144\",IF(LEFT(H68,3)=\"SSB\",\"\",IF(LEFT(H68,3)=\"A3J\",\"\",IF(LEFT(H68,3)=\"J3E\",\"\",\"形式外\"))),\"形式外\"))","v":""},null,null,null,null,null,null,null,null,null,null,null,null,null,null,null,{"$f":"IF(COUNTIF($AI$5:AI68,AI68)=1,AI68,\"\")","v":""},{"$f":"IF(AI68=\"\",\"\",IF(COUNTIF($AX$5:AX68,AX68)=1,AX68,\"\"))","v":""},"",null,"",null,"",null,null,null,""]
[null,null,null,null,null,null,null,null,null,null,null,{"$f":"IF(B69=\"\",\"削除\",IF(OR(V69=\"重複\",W69=\"削除\",X69=\"形式外\"),\"削除\",1))","v":"削除"},{"$f":"IF(L69=\"削除\",\"\",C69)","v":""},{"$f":"IF(L69=\"削除\",\"\",D69)","v":""},{"$f":"IF(L69=\"削除\",\"\",B69)","v":""},{"$f":"IF(L69=\"削除\",\"\",E69)","v":""},{"$f":"IF(L69=\"削除\",\"\",F69)","v":""},{"$f":"IF(L69=\"削除\",\"\",I69)","v":""},{"$f":"IF(L69=\"削除\",\"\",IF(J69=\"\",\"\",J69))","v":""},{"$f":"IF(B69=\"\",\"\",LEFT(B69,FIND(\"/\",B69&\"/\")-1))","v":""},{"$f":"IF(B69=\"\",\"\",T69&\"/\"&H69)","v":""},{"$f":"IF(B69=\"\",\"\",IF(COUNTIF($U$4:U69,U69)=1,\"\",\"重複\"))","v":""},{"$f":"IF(B69=\"\",\"\",IF(LEFT(T69,1)=\"8\",\"削除\",IF(LEN(T69)=5,IF(MID(T69,4,2)=\"RL\",\"削除\",\"\"),IF(MID(T69,4,1)=\"Y\",\"削除\",IF(MID(T69,4,1)=\"Z\",\"削除\",\"\")))))","v":""},"",null,null,null,null,null,null,null,null,null,null,null,null,null,null,null,{"$f":"IF(COUNTIF($AI$5:AI69,AI69)=1,AI69,\"\")","v":""},{"$f":"IF(AI69=\"\",\"\",IF(COUNTIF($AX$5:AX69,AX69)=1,AX69,\"\"))","v":""},"",null,"",null,"",null,null,null,""]
[null,null,null,null,null,null,null,null,null,null,null,"削除","","","","","","","","","",{"$f":"IF(B70=\"\",\"\",IF(COUNTIF($U$4:U70,U70)=1,\"\",\"重複\"))","v":""},"","",null,null,null,null,null,null,null,null,null,null,null,null,null,null,null,{"$f":"IF(COUNTIF($AI$5:AI70,AI70)=1,AI70,\"\")","v":""},{"$f":"IF(AI70=\"\",\"\",IF(COUNTIF($AX$5:AX70,AX70)=1,AX70,\"\"))","v":""},{"$f":"IF(AK70=\"\",\"\",IF(COUNTIF($BN$5:$BN$304,AT70)=1,5,1))","v":""},null,{"$f":"IF(COUNTIF($BN$5:$BN$40,AT70)=1,\"M\",\"\")","v":""},null,{"$f":"LEFT(AK70&\"/\",FIND(\"/\",AK70&\"/\")-1)","v":""},null,null,null,{"$f":"RIGHT(AT70,1)","v":""}]
[null,null,null,null,null,null,null,null,null,null,null,"削除","","","","","","","","","",{"$f":"IF(B71=\"\",\"\",IF(COUNTIF($U$4:U71,U71)=1,\"\",\"重複\"))","v":""},"","",null,null,null,null,null,null,null,null,null,null,null,null,null,null,null,{"$f":"IF(COUNTIF($AI$5:AI71,AI71)=1,AI71,\"\")","v":""},{"$f":"IF(AI71=\"\",\"\",IF(COUNTIF($AX$5:AX71,AX71)=1,AX71,\"\"))","v":""},"",null,"",null,"",null,null,null,""]
[null,null,null,null,null,null,null,null,null,null,null,"削除","","","","","","","","","",{"$f":"IF(B72=\"\",\"\",IF(COUNTIF($U$4:U72,U72)=1,\"\",\"重複\"))","v":""},"","",null,null,null,null,null,null,null,null,null,null,null,null,null,null,null,{"$f":"IF(COUNTIF($AI$5:AI72,AI72)=1,AI72,\"\")","v":""},{"$f":"IF(AI72=\"\",\"\",IF(COUNTIF($AX$5:AX72,AX72)=1,AX72,\"\"))","v":""},"",null,"",null,"",null,null,null,""]
[null,null,null,null,null,null,null,null,null,null,null,"削除","","","","","","","","","",{"$f":"IF(B73=\"\",\"\",IF(COUNTIF($U$4:U73,U73)=1,\"\",\"重複\"))","v":""},"","",null,null,null,null,null,null,null,null,null,null,null,null,null,null,null,{"$f":"IF(COUNTIF($AI$5:AI73,AI73)=1,AI73,\"\")","v":""},{"$f":"IF(AI73=\"\",\"\",IF(COUNTIF($AX$5:AX73,AX73)=1,AX73,\"\"))","v":""},"",null,"",null,"",null,null,null,""]
[null,null,null,null,null,null,null,null,null,null,null,"削除","","","","","","","","","",{"$f":"IF(B74=\"\",\"\",IF(COUNTIF($U$4:U74,U74)=1,\"\",\"重複\"))","v":""},"","",null,null,null,null,null,null,null,null,null,70,null,null,null,null,null,{"$f":"IF(COUNTIF($AI$5:AI74,AI74)=1,AI74,\"\")","v":""},{"$f":"IF(AI74=\"\",\"\",IF(COUNTIF($AX$5:AX74,AX74)=1,AX74,\"\"))","v":""},"",null,"",null,"",null,null,null,""]
[null,null,null,null,null,null,null,null,null,null,null,"削除","","","","","","","","","",{"$f":"IF(B75=\"\",\"\",IF(COUNTIF($U$4:U75,U75)=1,\"\",\"重複\"))","v":""},"","",null,null,null,null,null,null,null,null,null,null,null,null,null,null,null,{"$f":"IF(COUNTIF($AI$5:AI75,AI75)=1,AI75,\"\")","v":""},{"$f":"IF(AI75=\"\",\"\",IF(COUNTIF($AX$5:AX75,AX75)=1,AX75,\"\"))","v":""},"",null,"",null,"",null,null,null,""]
[null,null,null,null,null,null,null,null,null,null,null,"削除","","","","","","","","","",{"$f":"IF(B76=\"\",\"\",IF(COUNTIF($U$4:U76,U76)=1,\"\",\"重複\"))","v":""},"","",null,null,null,null,null,null,null,null,null,null,null,null,null,null,null,{"$f":"IF(COUNTIF($AI$5:AI76,AI76)=1,AI76,\"\")","v":""},{"$f":"IF(AI76=\"\",\"\",IF(COUNTIF($AX$5:AX76,AX76)=1,AX76,\"\"))","v":""},"",null,"",null,"",null,null,null,""]
[null,null,null,null,null,null,null,null,null,null,null,"削除","","","","","","","","","",{"$f":"IF(B77=\"\",\"\",IF(COUNTIF($U$4:U77,U77)=1,\"\",\"重複\"))","v":""},"","",null,null,null,null,null,null,null,null,null,null,null,null,null,null,null,{"$f":"IF(COUNTIF($AI$5:AI77,AI77)=1,AI77,\"\")","v":""},{"$f":"IF(AI77=\"\",\"\",IF(COUNTIF($AX$5:AX77,AX77)=1,AX77,\"\"))","v":""},"",null,"",null,"",null,null,null,""]
[null,null,null,null,null,null,null,null,null,null,null,"削除","","","","","","","","","",{"$f":"IF(B78=\"\",\"\",IF(COUNTIF($U$4:U78,U78)=1,\"\",\"重複\"))","v":""},"","",null,null,null,null,null,null,null,null,null,null,null,null,null,null,null,{"$f":"IF(COUNTIF($AI$5:AI78,AI78)=1,AI78,\"\")","v":""},{"$f":"IF(AI78=\"\",\"\",IF(COUNTIF($AX$5:AX78,AX78)=1,AX78,\"\"))","v":""},"",null,"",null,"",null,null,null,""]
[null,null,null,null,null,null,null,null,null,null,null,"削除","","","","","","","","","",{"$f":"IF(B79=\"\",\"\",IF(COUNTIF($U$4:U79,U79)=1,\"\",\"重複\"))","v":""},"","",null,null,null,null,null,null,null,null,null,null,null,null,null,null,null,{"$f":"IF(COUNTIF($AI$5:AI79,AI79)=1,AI79,\"\")","v":""},{"$f":"IF(AI79=\"\",\"\",IF(COUNTIF($AX$5:AX79,AX79)=1,AX79,\"\"))","v":""},"",null,"",null,"",null,null,null,""]
[null,null,null,null,null,null,null,null,null,null,null,"削除","","","","","","","","","",{"$f":"IF(B80=\"\",\"\",IF(COUNTIF($U$4:U80,U80)=1,\"\",\"重複\"))","v":""},"","",null,null,null,null,null,null,null,null,null,null,null,null,null,null,null,{"$f":"IF(COUNTIF($AI$5:AI80,AI80)=1,AI80,\"\")","v":""},{"$f":"IF(AI80=\"\",\"\",IF(COUNTIF($AX$5:AX80,AX80)=1,AX80,\"\"))","v":""},"",null,"",null,"",null,null,null,""]
[null,null,null,null,null,null,null,null,null,null,null,"削除","","","","","","","","","",{"$f":"IF(B81=\"\",\"\",IF(COUNTIF($U$4:U81,U81)=1,\"\",\"重複\"))","v":""},"","",null,null,null,null,null,null,null,null,null,null,null,null,null,null,null,{"$f":"IF(COUNTIF($AI$5:AI81,AI81)=1,AI81,\"\")","v":""},{"$f":"IF(AI81=\"\",\"\",IF(COUNTIF($AX$5:AX81,AX81)=1,AX81,\"\"))","v":""},"",null,"",null,"",null,null,null,""]
[null,null,null,null,null,null,null,null,null,null,null,"削除","","","","","","","","","",{"$f":"IF(B82=\"\",\"\",IF(COUNTIF($U$4:U82,U82)=1,\"\",\"重複\"))","v":""},"","",null,null,null,null,null,null,null,null,null,null,null,null,null,null,null,{"$f":"IF(COUNTIF($AI$5:AI82,AI82)=1,AI82,\"\")","v":""},{"$f":"IF(AI82=\"\",\"\",IF(COUNTIF($AX$5:AX82,AX82)=1,AX82,\"\"))","v":""},"",null,"",null,"",null,null,null,""]
[null,null,null,null,null,null,null,null,null,null,null,"削除","","","","","","","","","",{"$f":"IF(B83=\"\",\"\",IF(COUNTIF($U$4:U83,U83)=1,\"\",\"重複\"))","v":""},"","",null,null,null,null,null,null,null,null,null,null,null,null,null,null,null,{"$f":"IF(COUNTIF($AI$5:AI83,AI83)=1,AI83,\"\")","v":""},{"$f":"IF(AI83=\"\",\"\",IF(COUNTIF($AX$5:AX83,AX83)=1,AX83,\"\"))","v":""},"",null,"",null,"",null,null,null,""]
[null,null,null,null,null,null,null,null,null,null,null,"削除","","","","","","","","","",{"$f":"IF(B84=\"\",\"\",IF(COUNTIF($U$4:U84,U84)=1,\"\",\"重複\"))","v":""},"","",null,null,null,null,null,null,null,null,null,80,null,null,null,null,null,{"$f":"IF(COUNTIF($AI$5:AI84,AI84)=1,AI84,\"\")","v":""},{"$f":"IF(AI84=\"\",\"\",IF(COUNTIF($AX$5:AX84,AX84)=1,AX84,\"\"))","v":""},"",null,"",null,"",null,null,null,""]
[null,null,null,null,null,null,null,null,null,null,null,"削除","","","","","","","","","",{"$f":"IF(B85=\"\",\"\",IF(COUNTIF($U$4:U85,U85)=1,\"\",\"重複\"))","v":""},"","",null,null,null,null,null,null,null,null,null,null,null,null,null,null,null,{"$f":"IF(COUNTIF($AI$5:AI85,AI85)=1,AI85,\"\")","v":""},{"$f":"IF(AI85=\"\",\"\",IF(COUNTIF($AX$5:AX85,AX85)=1,AX85,\"\"))","v":""},"",null,"",null,"",null,null,null,""]
[null,null,null,null,null,null,null,null,null,null,null,"削除","","","","","","","","","",{"$f":"IF(B86=\"\",\"\",IF(COUNTIF($U$4:U86,U86)=1,\"\",\"重複\"))","v":""},"","",null,null,null,null,null,null,null,null,null,null,null,null,null,null,null,{"$f":"IF(COUNTIF($AI$5:AI86,AI86)=1,AI86,\"\")","v":""},{"$f":"IF(AI86=\"\",\"\",IF(COUNTIF($AX$5:AX86,AX86)=1,AX86,\"\"))","v":""},"",null,"",null,"",null,null,null,""]
[null,null,null,null,null,null,null,null,null,null,null,"削除","","","","","","","","","",{"$f":"IF(B87=\"\",\"\",IF(COUNTIF($U$4:U87,U87)=1,\"\",\"重複\"))","v":""},"","",null,null,null,null,null,null,null,null,null,null,null,null,null,null,null,{"$f":"IF(COUNTIF($AI$5:AI87,AI87)=1,AI87,\"\")","v":""},{"$f":"IF(AI87=\"\",\"\",IF(COUNTIF($AX$5:AX87,AX87)=1,AX87,\"\"))","v":""},"",null,"",null,"",null,null,null,""]
[null,null,null,null,null,null,null,null,null,null,null,"削除","","","","","","","","","",{"$f":"IF(B88=\"\",\"\",IF(COUNTIF($U$4:U88,U88)=1,\"\",\"重複\"))","v":""},"","",null,null,null,null,null,null,null,null,null,null,null,null,null,null,null,{"$f":"IF(COUNTIF($AI$5:AI88,AI88)=1,AI88,\"\")","v":""},{"$f":"IF(AI88=\"\",\"\",IF(COUNTIF($AX$5:AX88,AX88)=1,AX88,\"\"))","v":""},"",null,"",null,"",null,null,null,""]
[null,null,null,null,null,null,null,null,null,null,null,"削除","","","","","","","","","",{"$f":"IF(B89=\"\",\"\",IF(COUNTIF($U$4:U89,U89)=1,\"\",\"重複\"))","v":""},"","",null,null,null,null,null,null,null,null,null,null,null,null,null,null,null,{"$f":"IF(COUNTIF($AI$5:AI89,AI89)=1,AI89,\"\")","v":""},{"$f":"IF(AI89=\"\",\"\",IF(COUNTIF($AX$5:AX89,AX89)=1,AX89,\"\"))","v":""},"",null,"",null,"",null,null,null,""]
[null,null,null,null,null,null,null,null,null,null,null,"削除","","","","","","","","","",{"$f":"IF(B90=\"\",\"\",IF(COUNTIF($U$4:U90,U90)=1,\"\",\"重複\"))","v":""},"","",null,null,null,null,null,null,null,null,null,null,null,null,null,null,null,{"$f":"IF(COUNTIF($AI$5:AI90,AI90)=1,AI90,\"\")","v":""},{"$f":"IF(AI90=\"\",\"\",IF(COUNTIF($AX$5:AX90,AX90)=1,AX90,\"\"))","v":""},"",null,"",null,"",null,null,null,""]
[null,null,null,null,null,null,null,null,null,null,null,"削除","","","","","","","","","",{"$f":"IF(B91=\"\",\"\",IF(COUNTIF($U$4:U91,U91)=1,\"\",\"重複\"))","v":""},"","",null,null,null,null,null,null,null,null,null,null,null,null,null,null,null,{"$f":"IF(COUNTIF($AI$5:AI91,AI91)=1,AI91,\"\")","v":""},{"$f":"IF(AI91=\"\",\"\",IF(COUNTIF($AX$5:AX91,AX91)=1,AX91,\"\"))","v":""},"",null,"",null,"",null,null,null,""]
[null,null,null,null,null,null,null,null,null,null,null,"削除","","","","","","","","","",{"$f":"IF(B92=\"\",\"\",IF(COUNTIF($U$4:U92,U92)=1,\"\",\"重複\"))","v":""},"","",null,null,null,null,null,null,null,null,null,null,null,null,null,null,null,{"$f":"IF(COUNTIF($AI$5:AI92,AI92)=1,AI92,\"\")","v":""},{"$f":"IF(AI92=\"\",\"\",IF(COUNTIF($AX$5:AX92,AX92)=1,AX92,\"\"))","v":""},"",null,"",null,"",null,null,null,""]
[null,null,null,null,null,null,null,null,null,null,null,"削除","","","","","","","","","",{"$f":"IF(B93=\"\",\"\",IF(COUNTIF($U$4:U93,U93)=1,\"\",\"重複\"))","v":""},"","",null,null,null,null,null,null,null,null,null,null,null,null,null,null,null,{"$f":"IF(COUNTIF($AI$5:AI93,AI93)=1,AI93,\"\")","v":""},{"$f":"IF(AI93=\"\",\"\",IF(COUNTIF($AX$5:AX93,AX93)=1,AX93,\"\"))","v":""},"",null,"",null,"",null,null,null,""]
[null,null,null,null,null,null,null,null,null,null,null,"削除","","","","","","","","","",{"$f":"IF(B94=\"\",\"\",IF(COUNTIF($U$4:U94,U94)=1,\"\",\"重複\"))","v":""},"","",null,null,null,null,null,null,null,null,null,90,null,null,null,null,null,{"$f":"IF(COUNTIF($AI$5:AI94,AI94)=1,AI94,\"\")","v":""},{"$f":"IF(AI94=\"\",\"\",IF(COUNTIF($AX$5:AX94,AX94)=1,AX94,\"\"))","v":""},"",null,"",null,"",null,null,null,""]
[null,null,null,null,null,null,null,null,null,null,null,"削除","","","","","","","","","",{"$f":"IF(B95=\"\",\"\",IF(COUNTIF($U$4:U95,U95)=1,\"\",\"重複\"))","v":""},"","",null,null,null,null,null,null,null,null,null,null,null,null,null,null,null,{"$f":"IF(COUNTIF($AI$5:AI95,AI95)=1,AI95,\"\")","v":""},{"$f":"IF(AI95=\"\",\"\",IF(COUNTIF($AX$5:AX95,AX95)=1,AX95,\"\"))","v":""},"",null,"",null,"",null,null,null,""]
[null,null,null,null,null,null,null,null,null,null,null,"削除","","","","","","","","","",{"$f":"IF(B96=\"\",\"\",IF(COUNTIF($U$4:U96,U96)=1,\"\",\"重複\"))","v":""},"","",null,null,null,null,null,null,null,null,null,null,null,null,null,null,null,{"$f":"IF(COUNTIF($AI$5:AI96,AI96)=1,AI96,\"\")","v":""},{"$f":"IF(AI96=\"\",\"\",IF(COUNTIF($AX$5:AX96,AX96)=1,AX96,\"\"))","v":""},"",null,"",null,"",null,null,null,""]
[null,null,null,null,null,null,null,null,null,null,null,"削除","","","","","","","","","",{"$f":"IF(B97=\"\",\"\",IF(COUNTIF($U$4:U97,U97)=1,\"\",\"重複\"))","v":""},"","",null,null,null,null,null,null,null,null,null,null,null,null,null,null,null,{"$f":"IF(COUNTIF($AI$5:AI97,AI97)=1,AI97,\"\")","v":""},{"$f":"IF(AI97=\"\",\"\",IF(COUNTIF($AX$5:AX97,AX97)=1,AX97,\"\"))","v":""},"",null,"",null,"",null,null,null,""]
[null,null,null,null,null,null,null,null,null,null,null,"削除","","","","","","","","","",{"$f":"IF(B98=\"\",\"\",IF(COUNTIF($U$4:U98,U98)=1,\"\",\"重複\"))","v":""},"","",null,null,null,null,null,null,null,null,null,null,null,null,null,null,null,{"$f":"IF(COUNTIF($AI$5:AI98,AI98)=1,AI98,\"\")","v":""},{"$f":"IF(AI98=\"\",\"\",IF(COUNTIF($AX$5:AX98,AX98)=1,AX98,\"\"))","v":""},"",null,"",null,"",null,null,null,""]
[null,null,null,null,null,null,null,null,null,null,null,"削除","","","","","","","","","",{"$f":"IF(B99=\"\",\"\",IF(COUNTIF($U$4:U99,U99)=1,\"\",\"重複\"))","v":""},"","",null,null,null,null,null,null,null,null,null,null,null,null,null,null,null,{"$f":"IF(COUNTIF($AI$5:AI99,AI99)=1,AI99,\"\")","v":""},{"$f":"IF(AI99=\"\",\"\",IF(COUNTIF($AX$5:AX99,AX99)=1,AX99,\"\"))","v":""},"",null,"",null,"",null,null,null,""]
[null,null,null,null,null,null,null,null,null,null,null,"削除","","","","","","","","","",{"$f":"IF(B100=\"\",\"\",IF(COUNTIF($U$4:U100,U100)=1,\"\",\"重複\"))","v":""},"","",null,null,null,null,null,null,null,null,null,null,null,null,null,null,null,{"$f":"IF(COUNTIF($AI$5:AI100,AI100)=1,AI100,\"\")","v":""},{"$f":"IF(AI100=\"\",\"\",IF(COUNTIF($AX$5:AX100,AX100)=1,AX100,\"\"))","v":""},"",null,"",null,"",null,null,null,""]
[null,null,null,null,null,null,null,null,null,null,null,"削除","","","","","","","","","",{"$f":"IF(B101=\"\",\"\",IF(COUNTIF($U$4:U101,U101)=1,\"\",\"重複\"))","v":""},"","",null,null,null,null,null,null,null,null,null,null,null,null,null,null,null,{"$f":"IF(COUNTIF($AI$5:AI101,AI101)=1,AI101,\"\")","v":""},{"$f":"IF(AI101=\"\",\"\",IF(COUNTIF($AX$5:AX101,AX101)=1,AX101,\"\"))","v":""},"",null,"",null,"",null,null,null,""]
[null,null,null,null,null,null,null,null,null,null,null,"削除","","","","","","","","","",{"$f":"IF(B102=\"\",\"\",IF(COUNTIF($U$4:U102,U102)=1,\"\",\"重複\"))","v":""},"","",null,null,null,null,null,null,null,null,null,null,null,null,null,null,null,{"$f":"IF(COUNTIF($AI$5:AI102,AI102)=1,AI102,\"\")","v":""},{"$f":"IF(AI102=\"\",\"\",IF(COUNTIF($AX$5:AX102,AX102)=1,AX102,\"\"))","v":""},"",null,"",null,"",null,null,null,""]
[null,null,null,null,null,null,null,null,null,null,null,"削除","","","","","","","","","",{"$f":"IF(B103=\"\",\"\",IF(COUNTIF($U$4:U103,U103)=1,\"\",\"重複\"))","v":""},"","",null,null,null,null,null,null,null,null,null,null,null,null,null,null,null,{"$f":"IF(COUNTIF($AI$5:AI103,AI103)=1,AI103,\"\")","v":""},{"$f":"IF(AI103=\"\",\"\",IF(COUNTIF($AX$5:AX103,AX103)=1,AX103,\"\"))","v":""},"",null,"",null,"",null,null,null,""]
[null,null,null,null,null,null,null,null,null,null,null,"削除","","","","","","","","","",{"$f":"IF(B104=\"\",\"\",IF(COUNTIF($U$4:U104,U104)=1,\"\",\"重複\"))","v":""},"","",null,null,null,null,null,null,null,null,null,100,null,null,null,null,null,{"$f":"IF(COUNTIF($AI$5:AI104,AI104)=1,AI104,\"\")","v":""},{"$f":"IF(AI104=\"\",\"\",IF(COUNTIF($AX$5:AX104,AX104)=1,AX104,\"\"))","v":""},"",null,"",null,"",null,null,null,""]
[null,null,null,null,null,null,null,null,null,null,null,"削除","","","","","","","","","",{"$f":"IF(B105=\"\",\"\",IF(COUNTIF($U$4:U105,U105)=1,\"\",\"重複\"))","v":""},"","",null,null,null,null,null,null,null,null,null,null,null,null,null,null,null,{"$f":"IF(COUNTIF($AI$5:AI105,AI105)=1,AI105,\"\")","v":""},{"$f":"IF(AI105=\"\",\"\",IF(COUNTIF($AX$5:AX105,AX105)=1,AX105,\"\"))","v":""},"",null,"",null,"",null,null,null,""]
[null,null,null,null,null,null,null,null,null,null,null,"削除","","","","","","","","","",{"$f":"IF(B106=\"\",\"\",IF(COUNTIF($U$4:U106,U106)=1,\"\",\"重複\"))","v":""},"","",null,null,null,null,null,null,null,null,null,null,null,null,null,null,null,{"$f":"IF(COUNTIF($AI$5:AI106,AI106)=1,AI106,\"\")","v":""},{"$f":"IF(AI106=\"\",\"\",IF(COUNTIF($AX$5:AX106,AX106)=1,AX106,\"\"))","v":""},"",null,"",null,"",null,null,null,""]
[null,null,null,null,null,null,null,null,null,null,null,"削除","","","","","","","","","",{"$f":"IF(B107=\"\",\"\",IF(COUNTIF($U$4:U107,U107)=1,\"\",\"重複\"))","v":""},"","",null,null,null,null,null,null,null,null,null,null,null,null,null,null,null,{"$f":"IF(COUNTIF($AI$5:AI107,AI107)=1,AI107,\"\")","v":""},{"$f":"IF(AI107=\"\",\"\",IF(COUNTIF($AX$5:AX107,AX107)=1,AX107,\"\"))","v":""},"",null,"",null,"",null,null,null,""]
[null,null,null,null,null,null,null,null,null,null,null,"削除","","","","","","","","","",{"$f":"IF(B108=\"\",\"\",IF(COUNTIF($U$4:U108,U108)=1,\"\",\"重複\"))","v":""},"","",null,null,null,null,null,null,null,null,null,null,null,null,null,null,null,{"$f":"IF(COUNTIF($AI$5:AI108,AI108)=1,AI108,\"\")","v":""},{"$f":"IF(AI108=\"\",\"\",IF(COUNTIF($AX$5:AX108,AX108)=1,AX108,\"\"))","v":""},"",null,"",null,"",null,null,null,""]
[null,null,null,null,null,null,null,null,null,null,null,"削除","","","","","","","","","",{"$f":"IF(B109=\"\",\"\",IF(COUNTIF($U$4:U109,U109)=1,\"\",\"重複\"))","v":""},"","",null,null,null,null,null,null,null,null,null,null,null,null,null,null,null,{"$f":"IF(COUNTIF($AI$5:AI109,AI109)=1,AI109,\"\")","v":""},{"$f":"IF(AI109=\"\",\"\",IF(COUNTIF($AX$5:AX109,AX109)=1,AX109,\"\"))","v":""},"",null,"",null,"",null,null,null,""]
[null,null,null,null,null,null,null,null,null,null,null,"削除","","","","","","","","","",{"$f":"IF(B110=\"\",\"\",IF(COUNTIF($U$4:U110,U110)=1,\"\",\"重複\"))","v":""},"","",null,null,null,null,null,null,null,null,null,null,null,null,null,null,null,{"$f":"IF(COUNTIF($AI$5:AI110,AI110)=1,AI110,\"\")","v":""},{"$f":"IF(AI110=\"\",\"\",IF(COUNTIF($AX$5:AX110,AX110)=1,AX110,\"\"))","v":""},"",null,"",null,"",null,null,null,""]
[null,null,null,null,null,null,null,null,null,null,null,"削除","","","","","","","","","",{"$f":"IF(B111=\"\",\"\",IF(COUNTIF($U$4:U111,U111)=1,\"\",\"重複\"))","v":""},"","",null,null,null,null,null,null,null,null,null,null,null,null,null,null,null,{"$f":"IF(COUNTIF($AI$5:AI111,AI111)=1,AI111,\"\")","v":""},{"$f":"IF(AI111=\"\",\"\",IF(COUNTIF($AX$5:AX111,AX111)=1,AX111,\"\"))","v":""},"",null,"",null,"",null,null,null,""]
[null,null,null,null,null,null,null,null,null,null,null,"削除","","","","","","","","","",{"$f":"IF(B112=\"\",\"\",IF(COUNTIF($U$4:U112,U112)=1,\"\",\"重複\"))","v":""},"","",null,null,null,null,null,null,null,null,null,null,null,null,null,null,null,{"$f":"IF(COUNTIF($AI$5:AI112,AI112)=1,AI112,\"\")","v":""},{"$f":"IF(AI112=\"\",\"\",IF(COUNTIF($AX$5:AX112,AX112)=1,AX112,\"\"))","v":""},"",null,"",null,"",null,null,null,""]
[null,null,null,null,null,null,null,null,null,null,null,"削除","","","","","","","","","",{"$f":"IF(B113=\"\",\"\",IF(COUNTIF($U$4:U113,U113)=1,\"\",\"重複\"))","v":""},"","",null,null,null,null,null,null,null,null,null,null,null,null,null,null,null,{"$f":"IF(COUNTIF($AI$5:AI113,AI113)=1,AI113,\"\")","v":""},{"$f":"IF(AI113=\"\",\"\",IF(COUNTIF($AX$5:AX113,AX113)=1,AX113,\"\"))","v":""},"",null,"",null,"",null,null,null,""]
[null,null,null,null,null,null,null,null,null,null,null,"削除","","","","","","","","","",{"$f":"IF(B114=\"\",\"\",IF(COUNTIF($U$4:U114,U114)=1,\"\",\"重複\"))","v":""},"","",null,null,null,null,null,null,null,null,null,110,null,null,null,null,null,{"$f":"IF(COUNTIF($AI$5:AI114,AI114)=1,AI114,\"\")","v":""},{"$f":"IF(AI114=\"\",\"\",IF(COUNTIF($AX$5:AX114,AX114)=1,AX114,\"\"))","v":""},"",null,"",null,"",null,null,null,""]
[null,null,null,null,null,null,null,null,null,null,null,"削除","","","","","","","","","",{"$f":"IF(B115=\"\",\"\",IF(COUNTIF($U$4:U115,U115)=1,\"\",\"重複\"))","v":""},"","",null,null,null,null,null,null,null,null,null,null,null,null,null,null,null,{"$f":"IF(COUNTIF($AI$5:AI115,AI115)=1,AI115,\"\")","v":""},{"$f":"IF(AI115=\"\",\"\",IF(COUNTIF($AX$5:AX115,AX115)=1,AX115,\"\"))","v":""},"",null,"",null,"",null,null,null,""]
[null,null,null,null,null,null,null,null,null,null,null,"削除","","","","","","","","","",{"$f":"IF(B116=\"\",\"\",IF(COUNTIF($U$4:U116,U116)=1,\"\",\"重複\"))","v":""},"","",null,null,null,null,null,null,null,null,null,null,null,null,null,null,null,{"$f":"IF(COUNTIF($AI$5:AI116,AI116)=1,AI116,\"\")","v":""},{"$f":"IF(AI116=\"\",\"\",IF(COUNTIF($AX$5:AX116,AX116)=1,AX116,\"\"))","v":""},"",null,"",null,"",null,null,null,""]
[null,null,null,null,null,null,null,null,null,null,null,"削除","","","","","","","","","",{"$f":"IF(B117=\"\",\"\",IF(COUNTIF($U$4:U117,U117)=1,\"\",\"重複\"))","v":""},"","",null,null,null,null,null,null,null,null,null,null,null,null,null,null,null,{"$f":"IF(COUNTIF($AI$5:AI117,AI117)=1,AI117,\"\")","v":""},{"$f":"IF(AI117=\"\",\"\",IF(COUNTIF($AX$5:AX117,AX117)=1,AX117,\"\"))","v":""},"",null,"",null,"",null,null,null,""]
[null,null,null,null,null,null,null,null,null,null,null,"削除","","","","","","","","","",{"$f":"IF(B118=\"\",\"\",IF(COUNTIF($U$4:U118,U118)=1,\"\",\"重複\"))","v":""},"","",null,null,null,null,null,null,null,null,null,null,null,null,null,null,null,{"$f":"IF(COUNTIF($AI$5:AI118,AI118)=1,AI118,\"\")","v":""},{"$f":"IF(AI118=\"\",\"\",IF(COUNTIF($AX$5:AX118,AX118)=1,AX118,\"\"))","v":""},"",null,"",null,"",null,null,null,""]
[null,null,null,null,null,null,null,null,null,null,null,"削除","","","","","","","","","",{"$f":"IF(B119=\"\",\"\",IF(COUNTIF($U$4:U119,U119)=1,\"\",\"重複\"))","v":""},"","",null,null,null,null,null,null,null,null,null,null,null,null,null,null,null,{"$f":"IF(COUNTIF($AI$5:AI119,AI119)=1,AI119,\"\")","v":""},{"$f":"IF(AI119=\"\",\"\",IF(COUNTIF($AX$5:AX119,AX119)=1,AX119,\"\"))","v":""},"",null,"",null,"",null,null,null,""]
[null,null,null,null,null,null,null,null,null,null,null,"削除","","","","","","","","","",{"$f":"IF(B120=\"\",\"\",IF(COUNTIF($U$4:U120,U120)=1,\"\",\"重複\"))","v":""},"","",null,null,null,null,null,null,null,null,null,null,null,null,null,null,null,{"$f":"IF(COUNTIF($AI$5:AI120,AI120)=1,AI120,\"\")","v":""},{"$f":"IF(AI120=\"\",\"\",IF(COUNTIF($AX$5:AX120,AX120)=1,AX120,\"\"))","v":""},"",null,"",null,"",null,null,null,""]
[null,null,null,null,null,null,null,null,null,null,null,"削除","","","","","","","","","",{"$f":"IF(B121=\"\",\"\",IF(COUNTIF($U$4:U121,U121)=1,\"\",\"重複\"))","v":""},"","",null,null,null,null,null,null,null,null,null,null,null,null,null,null,null,{"$f":"IF(COUNTIF($AI$5:AI121,AI121)=1,AI121,\"\")","v":""},{"$f":"IF(AI121=\"\",\"\",IF(COUNTIF($AX$5:AX121,AX121)=1,AX121,\"\"))","v":""},"",null,"",null,"",null,null,null,""]
[null,null,null,null,null,null,null,null,null,null,null,"削除","","","","","","","","","",{"$f":"IF(B122=\"\",\"\",IF(COUNTIF($U$4:U122,U122)=1,\"\",\"重複\"))","v":""},"","",null,null,null,null,null,null,null,null,null,null,null,null,null,null,null,{"$f":"IF(COUNTIF($AI$5:AI122,AI122)=1,AI122,\"\")","v":""},{"$f":"IF(AI122=\"\",\"\",IF(COUNTIF($AX$5:AX122,AX122)=1,AX122,\"\"))","v":""},"",null,"",null,"",null,null,null,""]
[null,null,null,null,null,null,null,null,null,null,null,"削除","","","","","","","","","",{"$f":"IF(B123=\"\",\"\",IF(COUNTIF($U$4:U123,U123)=1,\"\",\"重複\"))","v":""},"","",null,null,null,null,null,null,null,null,null,null,null,null,null,null,null,{"$f":"IF(COUNTIF($AI$5:AI123,AI123)=1,AI123,\"\")","v":""},{"$f":"IF(AI123=\"\",\"\",IF(COUNTIF($AX$5:AX123,AX123)=1,AX123,\"\"))","v":""},"",null,"",null,"",null,null,null,""]
[null,null,null,null,null,null,null,null,null,null,null,"削除","","","","","","","","","",{"$f":"IF(B124=\"\",\"\",IF(COUNTIF($U$4:U124,U124)=1,\"\",\"重複\"))","v":""},"","",null,null,null,null,null,null,null,null,null,120,null,null,null,null,null,{"$f":"IF(COUNTIF($AI$5:AI124,AI124)=1,AI124,\"\")","v":""},{"$f":"IF(AI124=\"\",\"\",IF(COUNTIF($AX$5:AX124,AX124)=1,AX124,\"\"))","v":""},"",null,"",null,"",null,null,null,""]
[null,null,null,null,null,null,null,null,null,null,null,"削除","","","","","","","","","",{"$f":"IF(B125=\"\",\"\",IF(COUNTIF($U$4:U125,U125)=1,\"\",\"重複\"))","v":""},"","",null,null,null,null,null,null,null,null,null,null,null,null,null,null,null,{"$f":"IF(COUNTIF($AI$5:AI125,AI125)=1,AI125,\"\")","v":""},{"$f":"IF(AI125=\"\",\"\",IF(COUNTIF($AX$5:AX125,AX125)=1,AX125,\"\"))","v":""},"",null,"",null,"",null,null,null,""]
[null,null,null,null,null,null,null,null,null,null,null,"削除","","","","","","","","","",{"$f":"IF(B126=\"\",\"\",IF(COUNTIF($U$4:U126,U126)=1,\"\",\"重複\"))","v":""},"","",null,null,null,null,null,null,null,null,null,null,null,null,null,null,null,{"$f":"IF(COUNTIF($AI$5:AI126,AI126)=1,AI126,\"\")","v":""},{"$f":"IF(AI126=\"\",\"\",IF(COUNTIF($AX$5:AX126,AX126)=1,AX126,\"\"))","v":""},"",null,"",null,"",null,null,null,""]
[null,null,null,null,null,null,null,null,null,null,null,"削除","","","","","","","","","",{"$f":"IF(B127=\"\",\"\",IF(COUNTIF($U$4:U127,U127)=1,\"\",\"重複\"))","v":""},"","",null,null,null,null,null,null,null,null,null,null,null,null,null,null,null,{"$f":"IF(COUNTIF($AI$5:AI127,AI127)=1,AI127,\"\")","v":""},{"$f":"IF(AI127=\"\",\"\",IF(COUNTIF($AX$5:AX127,AX127)=1,AX127,\"\"))","v":""},"",null,"",null,"",null,null,null,""]
[null,null,null,null,null,null,null,null,null,null,null,"削除","","","","","","","","","",{"$f":"IF(B128=\"\",\"\",IF(COUNTIF($U$4:U128,U128)=1,\"\",\"重複\"))","v":""},"","",null,null,null,null,null,null,null,null,null,null,null,null,null,null,null,{"$f":"IF(COUNTIF($AI$5:AI128,AI128)=1,AI128,\"\")","v":""},{"$f":"IF(AI128=\"\",\"\",IF(COUNTIF($AX$5:AX128,AX128)=1,AX128,\"\"))","v":""},"",null,"",null,"",null,null,null,""]
[null,null,null,null,null,null,null,null,null,null,null,"削除","","","","","","","","","",{"$f":"IF(B129=\"\",\"\",IF(COUNTIF($U$4:U129,U129)=1,\"\",\"重複\"))","v":""},"","",null,null,null,null,null,null,null,null,null,null,null,null,null,null,null,{"$f":"IF(COUNTIF($AI$5:AI129,AI129)=1,AI129,\"\")","v":""},{"$f":"IF(AI129=\"\",\"\",IF(COUNTIF($AX$5:AX129,AX129)=1,AX129,\"\"))","v":""},"",null,"",null,"",null,null,null,""]
[null,null,null,null,null,null,null,null,null,null,null,"削除","","","","","","","","","",{"$f":"IF(B130=\"\",\"\",IF(COUNTIF($U$4:U130,U130)=1,\"\",\"重複\"))","v":""},"","",null,null,null,null,null,null,null,null,null,null,null,null,null,null,null,{"$f":"IF(COUNTIF($AI$5:AI130,AI130)=1,AI130,\"\")","v":""},{"$f":"IF(AI130=\"\",\"\",IF(COUNTIF($AX$5:AX130,AX130)=1,AX130,\"\"))","v":""},"",null,"",null,"",null,null,null,""]
[null,null,null,null,null,null,null,null,null,null,null,"削除","","","","","","","","","",{"$f":"IF(B131=\"\",\"\",IF(COUNTIF($U$4:U131,U131)=1,\"\",\"重複\"))","v":""},"","",null,null,null,null,null,null,null,null,null,null,null,null,null,null,null,{"$f":"IF(COUNTIF($AI$5:AI131,AI131)=1,AI131,\"\")","v":""},{"$f":"IF(AI131=\"\",\"\",IF(COUNTIF($AX$5:AX131,AX131)=1,AX131,\"\"))","v":""},"",null,"",null,"",null,null,null,""]
[null,null,null,null,null,null,null,null,null,null,null,"削除","","","","","","","","","",{"$f":"IF(B132=\"\",\"\",IF(COUNTIF($U$4:U132,U132)=1,\"\",\"重複\"))","v":""},"",{"$f":"IF(B132=\"\",\"\",IF(LEFT(G132,3)=\"144\",IF(LEFT(H132,3)=\"SSB\",\"\",IF(LEFT(H132,3)=\"A3J\",\"\",IF(LEFT(H132,3)=\"J3E\",\"\",\"形式外\"))),\"形式外\"))","v":""},null,null,null,null,null,null,null,null,null,null,null,null,null,null,null,{"$f":"IF(COUNTIF($AI$5:AI132,AI132)=1,AI132,\"\")","v":""},{"$f":"IF(AI132=\"\",\"\",IF(COUNTIF($AX$5:AX132,AX132)=1,AX132,\"\"))","v":""},"",null,"",null,"",null,null,null,""]
[null,null,null,null,null,null,null,null,null,null,null,{"$f":"IF(B133=\"\",\"削除\",IF(OR(V133=\"重複\",W133=\"削除\",X133=\"形式外\"),\"削除\",1))","v":"削除"},{"$f":"IF(L133=\"削除\",\"\",C133)","v":""},{"$f":"IF(L133=\"削除\",\"\",D133)","v":""},{"$f":"IF(L133=\"削除\",\"\",B133)","v":""},{"$f":"IF(L133=\"削除\",\"\",E133)","v":""},{"$f":"IF(L133=\"削除\",\"\",F133)","v":""},{"$f":"IF(L133=\"削除\",\"\",I133)","v":""},{"$f":"IF(L133=\"削除\",\"\",IF(J133=\"\",\"\",J133))","v":""},{"$f":"IF(B133=\"\",\"\",LEFT(B133,FIND(\"/\",B133&\"/\")-1))","v":""},{"$f":"IF(B133=\"\",\"\",T133&\"/\"&H133)","v":""},{"$f":"IF(B133=\"\",\"\",IF(COUNTIF($U$4:U133,U133)=1,\"\",\"重複\"))","v":""},{"$f":"IF(B133=\"\",\"\",IF(LEFT(T133,1)=\"8\",\"削除\",IF(LEN(T133)=5,IF(MID(T133,4,2)=\"RL\",\"削除\",\"\"),IF(MID(T133,4,1)=\"Y\",\"削除\",IF(MID(T133,4,1)=\"Z\",\"削除\",\"\")))))","v":""},"",null,null,null,null,null,null,null,null,null,null,null,null,null,null,null,{"$f":"IF(COUNTIF($AI$5:AI133,AI133)=1,AI133,\"\")","v":""},{"$f":"IF(AI133=\"\",\"\",IF(COUNTIF($AX$5:AX133,AX133)=1,AX133,\"\"))","v":""},"",null,"",null,"",null,null,null,""]
[null,null,null,null,null,null,null,null,null,null,null,"削除","","","","","","","","","",{"$f":"IF(B134=\"\",\"\",IF(COUNTIF($U$4:U134,U134)=1,\"\",\"重複\"))","v":""},"","",null,null,null,null,null,null,null,null,null,130,null,null,null,null,null,{"$f":"IF(COUNTIF($AI$5:AI134,AI134)=1,AI134,\"\")","v":""},{"$f":"IF(AI134=\"\",\"\",IF(COUNTIF($AX$5:AX134,AX134)=1,AX134,\"\"))","v":""},{"$f":"IF(AK134=\"\",\"\",IF(COUNTIF($BN$5:$BN$304,AT134)=1,5,1))","v":""},null,{"$f":"IF(COUNTIF($BN$5:$BN$40,AT134)=1,\"M\",\"\")","v":""},null,{"$f":"LEFT(AK134&\"/\",FIND(\"/\",AK134&\"/\")-1)","v":""},null,null,null,{"$f":"RIGHT(AT134,1)","v":""}]
[null,null,null,null,null,null,null,null,null,null,null,"削除","","","","","","","","","",{"$f":"IF(B135=\"\",\"\",IF(COUNTIF($U$4:U135,U135)=1,\"\",\"重複\"))","v":""},"","",null,null,null,null,null,null,null,null,null,null,null,null,null,null,null,{"$f":"IF(COUNTIF($AI$5:AI135,AI135)=1,AI135,\"\")","v":""},{"$f":"IF(AI135=\"\",\"\",IF(COUNTIF($AX$5:AX135,AX135)=1,AX135,\"\"))","v":""},"",null,"",null,"",null,null,null,""]
[null,null,null,null,null,null,null,null,null,null,null,"削除","","","","","","","","","",{"$f":"IF(B136=\"\",\"\",IF(COUNTIF($U$4:U136,U136)=1,\"\",\"重複\"))","v":""},"","",null,null,null,null,null,null,null,null,null,null,null,null,null,null,null,{"$f":"IF(COUNTIF($AI$5:AI136,AI136)=1,AI136,\"\")","v":""},{"$f":"IF(AI136=\"\",\"\",IF(COUNTIF($AX$5:AX136,AX136)=1,AX136,\"\"))","v":""},"",null,"",null,"",null,null,null,""]
[null,null,null,null,null,null,null,null,null,null,null,"削除","","","","","","","","","",{"$f":"IF(B137=\"\",\"\",IF(COUNTIF($U$4:U137,U137)=1,\"\",\"重複\"))","v":""},"","",null,null,null,null,null,null,null,null,null,null,null,null,null,null,null,{"$f":"IF(COUNTIF($AI$5:AI137,AI137)=1,AI137,\"\")","v":""},{"$f":"IF(AI137=\"\",\"\",IF(COUNTIF($AX$5:AX137,AX137)=1,AX137,\"\"))","v":""},"",null,"",null,"",null,null,null,""]
[null,null,null,null,null,null,null,null,null,null,null,"削除","","","","","","","","","",{"$f":"IF(B138=\"\",\"\",IF(COUNTIF($U$4:U138,U138)=1,\"\",\"重複\"))","v":""},"","",null,null,null,null,null,null,null,null,null,null,null,null,null,null,null,{"$f":"IF(COUNTIF($AI$5:AI138,AI138)=1,AI138,\"\")","v":""},{"$f":"IF(AI138=\"\",\"\",IF(COUNTIF($AX$5:AX138,AX138)=1,AX138,\"\"))","v":""},"",null,"",null,"",null,null,null,""]
[null,null,null,null,null,null,null,null,null,null,null,"削除","","","","","","","","","",{"$f":"IF(B139=\"\",\"\",IF(COUNTIF($U$4:U139,U139)=1,\"\",\"重複\"))","v":""},"","",null,null,null,null,null,null,null,null,null,null,null,null,null,null,null,{"$f":"IF(COUNTIF($AI$5:AI139,AI139)=1,AI139,\"\")","v":""},{"$f":"IF(AI139=\"\",\"\",IF(COUNTIF($AX$5:AX139,AX139)=1,AX139,\"\"))","v":""},"",null,"",null,"",null,null,null,""]
[null,null,null,null,null,null,null,null,null,null,null,"削除","","","","","","","","","",{"$f":"IF(B140=\"\",\"\",IF(COUNTIF($U$4:U140,U140)=1,\"\",\"重複\"))","v":""},"","",null,null,null,null,null,null,null,null,null,null,null,null,null,null,null,{"$f":"IF(COUNTIF($AI$5:AI140,AI140)=1,AI140,\"\")","v":""},{"$f":"IF(AI140=\"\",\"\",IF(COUNTIF($AX$5:AX140,AX140)=1,AX140,\"\"))","v":""},"",null,"",null,"",null,null,null,""]
[null,null,null,null,null,null,null,null,null,null,null,"削除","","","","","","","","","",{"$f":"IF(B141=\"\",\"\",IF(COUNTIF($U$4:U141,U141)=1,\"\",\"重複\"))","v":""},"","",null,null,null,null,null,null,null,null,null,null,null,null,null,null,null,{"$f":"IF(COUNTIF($AI$5:AI141,AI141)=1,AI141,\"\")","v":""},{"$f":"IF(AI141=\"\",\"\",IF(COUNTIF($AX$5:AX141,AX141)=1,AX141,\"\"))","v":""},"",null,"",null,"",null,null,null,""]
[null,null,null,null,null,null,null,null,null,null,null,"削除","","","","","","","","","",{"$f":"IF(B142=\"\",\"\",IF(COUNTIF($U$4:U142,U142)=1,\"\",\"重複\"))","v":""},"","",null,null,null,null,null,null,null,null,null,null,null,null,null,null,null,{"$f":"IF(COUNTIF($AI$5:AI142,AI142)=1,AI142,\"\")","v":""},{"$f":"IF(AI142=\"\",\"\",IF(COUNTIF($AX$5:AX142,AX142)=1,AX142,\"\"))","v":""},"",null,"",null,"",null,null,null,""]
[null,null,null,null,null,null,null,null,null,null,null,"削除","","","","","","","","","",{"$f":"IF(B143=\"\",\"\",IF(COUNTIF($U$4:U143,U143)=1,\"\",\"重複\"))","v":""},"","",null,null,null,null,null,null,null,null,null,null,null,null,null,null,null,{"$f":"IF(COUNTIF($AI$5:AI143,AI143)=1,AI143,\"\")","v":""},{"$f":"IF(AI143=\"\",\"\",IF(COUNTIF($AX$5:AX143,AX143)=1,AX143,\"\"))","v":""},"",null,"",null,"",null,null,null,""]
[null,null,null,null,null,null,null,null,null,null,null,"削除","","","","","","","","","",{"$f":"IF(B144=\"\",\"\",IF(COUNTIF($U$4:U144,U144)=1,\"\",\"重複\"))","v":""},"","",null,null,null,null,null,null,null,null,null,140,null,null,null,null,null,{"$f":"IF(COUNTIF($AI$5:AI144,AI144)=1,AI144,\"\")","v":""},{"$f":"IF(AI144=\"\",\"\",IF(COUNTIF($AX$5:AX144,AX144)=1,AX144,\"\"))","v":""},"",null,"",null,"",null,null,null,""]
[null,null,null,null,null,null,null,null,null,null,null,"削除","","","","","","","","","",{"$f":"IF(B145=\"\",\"\",IF(COUNTIF($U$4:U145,U145)=1,\"\",\"重複\"))","v":""},"","",null,null,null,null,null,null,null,null,null,null,null,null,null,null,null,{"$f":"IF(COUNTIF($AI$5:AI145,AI145)=1,AI145,\"\")","v":""},{"$f":"IF(AI145=\"\",\"\",IF(COUNTIF($AX$5:AX145,AX145)=1,AX145,\"\"))","v":""},"",null,"",null,"",null,null,null,""]
[null,null,null,null,null,null,null,null,null,null,null,"削除","","","","","","","","","",{"$f":"IF(B146=\"\",\"\",IF(COUNTIF($U$4:U146,U146)=1,\"\",\"重複\"))","v":""},"","",null,null,null,null,null,null,null,null,null,null,null,null,null,null,null,{"$f":"IF(COUNTIF($AI$5:AI146,AI146)=1,AI146,\"\")","v":""},{"$f":"IF(AI146=\"\",\"\",IF(COUNTIF($AX$5:AX146,AX146)=1,AX146,\"\"))","v":""},"",null,"",null,"",null,null,null,""]
[null,null,null,null,null,null,null,null,null,null,null,"削除","","","","","","","","","",{"$f":"IF(B147=\"\",\"\",IF(COUNTIF($U$4:U147,U147)=1,\"\",\"重複\"))","v":""},"","",null,null,null,null,null,null,null,null,null,null,null,null,null,null,null,{"$f":"IF(COUNTIF($AI$5:AI147,AI147)=1,AI147,\"\")","v":""},{"$f":"IF(AI147=\"\",\"\",IF(COUNTIF($AX$5:AX147,AX147)=1,AX147,\"\"))","v":""},"",null,"",null,"",null,null,null,""]
[null,null,null,null,null,null,null,null,null,null,null,"削除","","","","","","","","","",{"$f":"IF(B148=\"\",\"\",IF(COUNTIF($U$4:U148,U148)=1,\"\",\"重複\"))","v":""},"","",null,null,null,null,null,null,null,null,null,null,null,null,null,null,null,{"$f":"IF(COUNTIF($AI$5:AI148,AI148)=1,AI148,\"\")","v":""},{"$f":"IF(AI148=\"\",\"\",IF(COUNTIF($AX$5:AX148,AX148)=1,AX148,\"\"))","v":""},"",null,"",null,"",null,null,null,""]
[null,null,null,null,null,null,null,null,null,null,null,"削除","","","","","","","","","",{"$f":"IF(B149=\"\",\"\",IF(COUNTIF($U$4:U149,U149)=1,\"\",\"重複\"))","v":""},"","",null,null,null,null,null,null,null,null,null,null,null,null,null,null,null,{"$f":"IF(COUNTIF($AI$5:AI149,AI149)=1,AI149,\"\")","v":""},{"$f":"IF(AI149=\"\",\"\",IF(COUNTIF($AX$5:AX149,AX149)=1,AX149,\"\"))","v":""},"",null,"",null,"",null,null,null,""]
[null,null,null,null,null,null,null,null,null,null,null,"削除","","","","","","","","","",{"$f":"IF(B150=\"\",\"\",IF(COUNTIF($U$4:U150,U150)=1,\"\",\"重複\"))","v":""},"","",null,null,null,null,null,null,null,null,null,null,null,null,null,null,null,{"$f":"IF(COUNTIF($AI$5:AI150,AI150)=1,AI150,\"\")","v":""},{"$f":"IF(AI150=\"\",\"\",IF(COUNTIF($AX$5:AX150,AX150)=1,AX150,\"\"))","v":""},"",null,"",null,"",null,null,null,""]
[null,null,null,null,null,null,null,null,null,null,null,"削除","","","","","","","","","",{"$f":"IF(B151=\"\",\"\",IF(COUNTIF($U$4:U151,U151)=1,\"\",\"重複\"))","v":""},"","",null,null,null,null,null,null,null,null,null,null,null,null,null,null,null,{"$f":"IF(COUNTIF($AI$5:AI151,AI151)=1,AI151,\"\")","v":""},{"$f":"IF(AI151=\"\",\"\",IF(COUNTIF($AX$5:AX151,AX151)=1,AX151,\"\"))","v":""},"",null,"",null,"",null,null,null,""]
[null,null,null,null,null,null,null,null,null,null,null,"削除","","","","","","","","","",{"$f":"IF(B152=\"\",\"\",IF(COUNTIF($U$4:U152,U152)=1,\"\",\"重複\"))","v":""},"","",null,null,null,null,null,null,null,null,null,null,null,null,null,null,null,{"$f":"IF(COUNTIF($AI$5:AI152,AI152)=1,AI152,\"\")","v":""},{"$f":"IF(AI152=\"\",\"\",IF(COUNTIF($AX$5:AX152,AX152)=1,AX152,\"\"))","v":""},"",null,"",null,"",null,null,null,""]
[null,null,null,null,null,null,null,null,null,null,null,"削除","","","","","","","","","",{"$f":"IF(B153=\"\",\"\",IF(COUNTIF($U$4:U153,U153)=1,\"\",\"重複\"))","v":""},"","",null,null,null,null,null,null,null,null,null,null,null,null,null,null,null,{"$f":"IF(COUNTIF($AI$5:AI153,AI153)=1,AI153,\"\")","v":""},{"$f":"IF(AI153=\"\",\"\",IF(COUNTIF($AX$5:AX153,AX153)=1,AX153,\"\"))","v":""},"",null,"",null,"",null,null,null,""]
[null,null,null,null,null,null,null,null,null,null,null,"削除","","","","","","","","","",{"$f":"IF(B154=\"\",\"\",IF(COUNTIF($U$4:U154,U154)=1,\"\",\"重複\"))","v":""},"","",null,null,null,null,null,null,null,null,null,150,null,null,null,null,null,{"$f":"IF(COUNTIF($AI$5:AI154,AI154)=1,AI154,\"\")","v":""},{"$f":"IF(AI154=\"\",\"\",IF(COUNTIF($AX$5:AX154,AX154)=1,AX154,\"\"))","v":""},"",null,"",null,"",null,null,null,""]
[null,null,null,null,null,null,null,null,null,null,null,"削除","","","","","","","","","",{"$f":"IF(B155=\"\",\"\",IF(COUNTIF($U$4:U155,U155)=1,\"\",\"重複\"))","v":""},"","",null,null,null,null,null,null,null,null,null,null,null,null,null,null,null,{"$f":"IF(COUNTIF($AI$5:AI155,AI155)=1,AI155,\"\")","v":""},{"$f":"IF(AI155=\"\",\"\",IF(COUNTIF($AX$5:AX155,AX155)=1,AX155,\"\"))","v":""},"",null,"",null,"",null,null,null,""]
[null,null,null,null,null,null,null,null,null,null,null,"削除","","","","","","","","","",{"$f":"IF(B156=\"\",\"\",IF(COUNTIF($U$4:U156,U156)=1,\"\",\"重複\"))","v":""},"","",null,null,null,null,null,null,null,null,null,null,null,null,null,null,null,{"$f":"IF(COUNTIF($AI$5:AI156,AI156)=1,AI156,\"\")","v":""},{"$f":"IF(AI156=\"\",\"\",IF(COUNTIF($AX$5:AX156,AX156)=1,AX156,\"\"))","v":""},"",null,"",null,"",null,null,null,""]
[null,null,null,null,null,null,null,null,null,null,null,"削除","","","","","","","","","",{"$f":"IF(B157=\"\",\"\",IF(COUNTIF($U$4:U157,U157)=1,\"\",\"重複\"))","v":""},"","",null,null,null,null,null,null,null,null,null,null,null,null,null,null,null,{"$f":"IF(COUNTIF($AI$5:AI157,AI157)=1,AI157,\"\")","v":""},{"$f":"IF(AI157=\"\",\"\",IF(COUNTIF($AX$5:AX157,AX157)=1,AX157,\"\"))","v":""},"",null,"",null,"",null,null,null,""]
[null,null,null,null,null,null,null,null,null,null,null,"削除","","","","","","","","","",{"$f":"IF(B158=\"\",\"\",IF(COUNTIF($U$4:U158,U158)=1,\"\",\"重複\"))","v":""},"","",null,null,null,null,null,null,null,null,null,null,null,null,null,null,null,{"$f":"IF(COUNTIF($AI$5:AI158,AI158)=1,AI158,\"\")","v":""},{"$f":"IF(AI158=\"\",\"\",IF(COUNTIF($AX$5:AX158,AX158)=1,AX158,\"\"))","v":""},"",null,"",null,"",null,null,null,""]
[null,null,null,null,null,null,null,null,null,null,null,"削除","","","","","","","","","",{"$f":"IF(B159=\"\",\"\",IF(COUNTIF($U$4:U159,U159)=1,\"\",\"重複\"))","v":""},"","",null,null,null,null,null,null,null,null,null,null,null,null,null,null,null,{"$f":"IF(COUNTIF($AI$5:AI159,AI159)=1,AI159,\"\")","v":""},{"$f":"IF(AI159=\"\",\"\",IF(COUNTIF($AX$5:AX159,AX159)=1,AX159,\"\"))","v":""},"",null,"",null,"",null,null,null,""]
[null,null,null,null,null,null,null,null,null,null,null,"削除","","","","","","","","","",{"$f":"IF(B160=\"\",\"\",IF(COUNTIF($U$4:U160,U160)=1,\"\",\"重複\"))","v":""},"","",null,null,null,null,null,null,null,null,null,null,null,null,null,null,null,{"$f":"IF(COUNTIF($AI$5:AI160,AI160)=1,AI160,\"\")","v":""},{"$f":"IF(AI160=\"\",\"\",IF(COUNTIF($AX$5:AX160,AX160)=1,AX160,\"\"))","v":""},"",null,"",null,"",null,null,null,""]
[null,null,null,null,null,null,null,null,null,null,null,"削除","","","","","","","","","",{"$f":"IF(B161=\"\",\"\",IF(COUNTIF($U$4:U161,U161)=1,\"\",\"重複\"))","v":""},"","",null,null,null,null,null,null,null,null,null,null,null,null,null,null,null,{"$f":"IF(COUNTIF($AI$5:AI161,AI161)=1,AI161,\"\")","v":""},{"$f":"IF(AI161=\"\",\"\",IF(COUNTIF($AX$5:AX161,AX161)=1,AX161,\"\"))","v":""},"",null,"",null,"",null,null,null,""]
[null,null,null,null,null,null,null,null,null,null,null,"削除","","","","","","","","","",{"$f":"IF(B162=\"\",\"\",IF(COUNTIF($U$4:U162,U162)=1,\"\",\"重複\"))","v":""},"","",null,null,null,null,null,null,null,null,null,null,null,null,null,null,null,{"$f":"IF(COUNTIF($AI$5:AI162,AI162)=1,AI162,\"\")","v":""},{"$f":"IF(AI162=\"\",\"\",IF(COUNTIF($AX$5:AX162,AX162)=1,AX162,\"\"))","v":""},"",null,"",null,"",null,null,null,""]
[null,null,null,null,null,null,null,null,null,null,null,"削除","","","","","","","","","",{"$f":"IF(B163=\"\",\"\",IF(COUNTIF($U$4:U163,U163)=1,\"\",\"重複\"))","v":""},"","",null,null,null,null,null,null,null,null,null,null,null,null,null,null,null,{"$f":"IF(COUNTIF($AI$5:AI163,AI163)=1,AI163,\"\")","v":""},{"$f":"IF(AI163=\"\",\"\",IF(COUNTIF($AX$5:AX163,AX163)=1,AX163,\"\"))","v":""},"",null,"",null,"",null,null,null,""]
[null,null,null,null,null,null,null,null,null,null,null,"削除","","","","","","","","","",{"$f":"IF(B164=\"\",\"\",IF(COUNTIF($U$4:U164,U164)=1,\"\",\"重複\"))","v":""},"","",null,null,null,null,null,null,null,null,null,160,null,null,null,null,null,{"$f":"IF(COUNTIF($AI$5:AI164,AI164)=1,AI164,\"\")","v":""},{"$f":"IF(AI164=\"\",\"\",IF(COUNTIF($AX$5:AX164,AX164)=1,AX164,\"\"))","v":""},"",null,"",null,"",null,null,null,""]
[null,null,null,null,null,null,null,null,null,null,null,"削除","","","","","","","","","",{"$f":"IF(B165=\"\",\"\",IF(COUNTIF($U$4:U165,U165)=1,\"\",\"重複\"))","v":""},"","",null,null,null,null,null,null,null,null,null,null,null,null,null,null,null,{"$f":"IF(COUNTIF($AI$5:AI165,AI165)=1,AI165,\"\")","v":""},{"$f":"IF(AI165=\"\",\"\",IF(COUNTIF($AX$5:AX165,AX165)=1,AX165,\"\"))","v":""},"",null,"",null,"",null,null,null,""]
[null,null,null,null,null,null,null,null,null,null,null,"削除","","","","","","","","","",{"$f":"IF(B166=\"\",\"\",IF(COUNTIF($U$4:U166,U166)=1,\"\",\"重複\"))","v":""},"","",null,null,null,null,null,null,null,null,null,null,null,null,null,null,null,{"$f":"IF(COUNTIF($AI$5:AI166,AI166)=1,AI166,\"\")","v":""},{"$f":"IF(AI166=\"\",\"\",IF(COUNTIF($AX$5:AX166,AX166)=1,AX166,\"\"))","v":""},"",null,"",null,"",null,null,null,""]
[null,null,null,null,null,null,null,null,null,null,null,"削除","","","","","","","","","",{"$f":"IF(B167=\"\",\"\",IF(COUNTIF($U$4:U167,U167)=1,\"\",\"重複\"))","v":""},"","",null,null,null,null,null,null,null,null,null,null,null,null,null,null,null,{"$f":"IF(COUNTIF($AI$5:AI167,AI167)=1,AI167,\"\")","v":""},{"$f":"IF(AI167=\"\",\"\",IF(COUNTIF($AX$5:AX167,AX167)=1,AX167,\"\"))","v":""},"",null,"",null,"",null,null,null,""]
[null,null,null,null,null,null,null,null,null,null,null,"削除","","","","","","","","","",{"$f":"IF(B168=\"\",\"\",IF(COUNTIF($U$4:U168,U168)=1,\"\",\"重複\"))","v":""},"","",null,null,null,null,null,null,null,null,null,null,null,null,null,null,null,{"$f":"IF(COUNTIF($AI$5:AI168,AI168)=1,AI168,\"\")","v":""},{"$f":"IF(AI168=\"\",\"\",IF(COUNTIF($AX$5:AX168,AX168)=1,AX168,\"\"))","v":""},"",null,"",null,"",null,null,null,""]
[null,null,null,null,null,null,null,null,null,null,null,"削除","","","","","","","","","",{"$f":"IF(B169=\"\",\"\",IF(COUNTIF($U$4:U169,U169)=1,\"\",\"重複\"))","v":""},"","",null,null,null,null,null,null,null,null,null,null,null,null,null,null,null,{"$f":"IF(COUNTIF($AI$5:AI169,AI169)=1,AI169,\"\")","v":""},{"$f":"IF(AI169=\"\",\"\",IF(COUNTIF($AX$5:AX169,AX169)=1,AX169,\"\"))","v":""},"",null,"",null,"",null,null,null,""]
[null,null,null,null,null,null,null,null,null,null,null,"削除","","","","","","","","","",{"$f":"IF(B170=\"\",\"\",IF(COUNTIF($U$4:U170,U170)=1,\"\",\"重複\"))","v":""},"","",null,null,null,null,null,null,null,null,null,null,null,null,null,null,null,{"$f":"IF(COUNTIF($AI$5:AI170,AI170)=1,AI170,\"\")","v":""},{"$f":"IF(AI170=\"\",\"\",IF(COUNTIF($AX$5:AX170,AX170)=1,AX170,\"\"))","v":""},"",null,"",null,"",null,null,null,""]
[null,null,null,null,null,null,null,null,null,null,null,"削除","","","","","","","","","",{"$f":"IF(B171=\"\",\"\",IF(COUNTIF($U$4:U171,U171)=1,\"\",\"重複\"))","v":""},"","",null,null,null,null,null,null,null,null,null,null,null,null,null,null,null,{"$f":"IF(COUNTIF($AI$5:AI171,AI171)=1,AI171,\"\")","v":""},{"$f":"IF(AI171=\"\",\"\",IF(COUNTIF($AX$5:AX171,AX171)=1,AX171,\"\"))","v":""},"",null,"",null,"",null,null,null,""]
[null,null,null,null,null,null,null,null,null,null,null,"削除","","","","","","","","","",{"$f":"IF(B172=\"\",\"\",IF(COUNTIF($U$4:U172,U172)=1,\"\",\"重複\"))","v":""},"","",null,null,null,null,null,null,null,null,null,null,null,null,null,null,null,{"$f":"IF(COUNTIF($AI$5:AI172,AI172)=1,AI172,\"\")","v":""},{"$f":"IF(AI172=\"\",\"\",IF(COUNTIF($AX$5:AX172,AX172)=1,AX172,\"\"))","v":""},"",null,"",null,"",null,null,null,""]
[null,null,null,null,null,null,null,null,null,null,null,"削除","","","","","","","","","",{"$f":"IF(B173=\"\",\"\",IF(COUNTIF($U$4:U173,U173)=1,\"\",\"重複\"))","v":""},"","",null,null,null,null,null,null,null,null,null,null,null,null,null,null,null,{"$f":"IF(COUNTIF($AI$5:AI173,AI173)=1,AI173,\"\")","v":""},{"$f":"IF(AI173=\"\",\"\",IF(COUNTIF($AX$5:AX173,AX173)=1,AX173,\"\"))","v":""},"",null,"",null,"",null,null,null,""]
[null,null,null,null,null,null,null,null,null,null,null,"削除","","","","","","","","","",{"$f":"IF(B174=\"\",\"\",IF(COUNTIF($U$4:U174,U174)=1,\"\",\"重複\"))","v":""},"","",null,null,null,null,null,null,null,null,null,170,null,null,null,null,null,{"$f":"IF(COUNTIF($AI$5:AI174,AI174)=1,AI174,\"\")","v":""},{"$f":"IF(AI174=\"\",\"\",IF(COUNTIF($AX$5:AX174,AX174)=1,AX174,\"\"))","v":""},"",null,"",null,"",null,null,null,""]
[null,null,null,null,null,null,null,null,null,null,null,"削除","","","","","","","","","",{"$f":"IF(B175=\"\",\"\",IF(COUNTIF($U$4:U175,U175)=1,\"\",\"重複\"))","v":""},"","",null,null,null,null,null,null,null,null,null,null,null,null,null,null,null,{"$f":"IF(COUNTIF($AI$5:AI175,AI175)=1,AI175,\"\")","v":""},{"$f":"IF(AI175=\"\",\"\",IF(COUNTIF($AX$5:AX175,AX175)=1,AX175,\"\"))","v":""},"",null,"",null,"",null,null,null,""]
[null,null,null,null,null,null,null,null,null,null,null,"削除","","","","","","","","","",{"$f":"IF(B176=\"\",\"\",IF(COUNTIF($U$4:U176,U176)=1,\"\",\"重複\"))","v":""},"","",null,null,null,null,null,null,null,null,null,null,null,null,null,null,null,{"$f":"IF(COUNTIF($AI$5:AI176,AI176)=1,AI176,\"\")","v":""},{"$f":"IF(AI176=\"\",\"\",IF(COUNTIF($AX$5:AX176,AX176)=1,AX176,\"\"))","v":""},"",null,"",null,"",null,null,null,""]
[null,null,null,null,null,null,null,null,null,null,null,"削除","","","","","","","","","",{"$f":"IF(B177=\"\",\"\",IF(COUNTIF($U$4:U177,U177)=1,\"\",\"重複\"))","v":""},"","",null,null,null,null,null,null,null,null,null,null,null,null,null,null,null,{"$f":"IF(COUNTIF($AI$5:AI177,AI177)=1,AI177,\"\")","v":""},{"$f":"IF(AI177=\"\",\"\",IF(COUNTIF($AX$5:AX177,AX177)=1,AX177,\"\"))","v":""},"",null,"",null,"",null,null,null,""]
[null,null,null,null,null,null,null,null,null,null,null,"削除","","","","","","","","","",{"$f":"IF(B178=\"\",\"\",IF(COUNTIF($U$4:U178,U178)=1,\"\",\"重複\"))","v":""},"","",null,null,null,null,null,null,null,null,null,null,null,null,null,null,null,{"$f":"IF(COUNTIF($AI$5:AI178,AI178)=1,AI178,\"\")","v":""},{"$f":"IF(AI178=\"\",\"\",IF(COUNTIF($AX$5:AX178,AX178)=1,AX178,\"\"))","v":""},"",null,"",null,"",null,null,null,""]
[null,null,null,null,null,null,null,null,null,null,null,"削除","","","","","","","","","",{"$f":"IF(B179=\"\",\"\",IF(COUNTIF($U$4:U179,U179)=1,\"\",\"重複\"))","v":""},"","",null,null,null,null,null,null,null,null,null,null,null,null,null,null,null,{"$f":"IF(COUNTIF($AI$5:AI179,AI179)=1,AI179,\"\")","v":""},{"$f":"IF(AI179=\"\",\"\",IF(COUNTIF($AX$5:AX179,AX179)=1,AX179,\"\"))","v":""},"",null,"",null,"",null,null,null,""]
[null,null,null,null,null,null,null,null,null,null,null,"削除","","","","","","","","","",{"$f":"IF(B180=\"\",\"\",IF(COUNTIF($U$4:U180,U180)=1,\"\",\"重複\"))","v":""},"","",null,null,null,null,null,null,null,null,null,null,null,null,null,null,null,{"$f":"IF(COUNTIF($AI$5:AI180,AI180)=1,AI180,\"\")","v":""},{"$f":"IF(AI180=\"\",\"\",IF(COUNTIF($AX$5:AX180,AX180)=1,AX180,\"\"))","v":""},"",null,"",null,"",null,null,null,""]
[null,null,null,null,null,null,null,null,null,null,null,"削除","","","","","","","","","",{"$f":"IF(B181=\"\",\"\",IF(COUNTIF($U$4:U181,U181)=1,\"\",\"重複\"))","v":""},"","",null,null,null,null,null,null,null,null,null,null,null,null,null,null,null,{"$f":"IF(COUNTIF($AI$5:AI181,AI181)=1,AI181,\"\")","v":""},{"$f":"IF(AI181=\"\",\"\",IF(COUNTIF($AX$5:AX181,AX181)=1,AX181,\"\"))","v":""},"",null,"",null,"",null,null,null,""]
[null,null,null,null,null,null,null,null,null,null,null,"削除","","","","","","","","","",{"$f":"IF(B182=\"\",\"\",IF(COUNTIF($U$4:U182,U182)=1,\"\",\"重複\"))","v":""},"","",null,null,null,null,null,null,null,null,null,null,null,null,null,null,null,{"$f":"IF(COUNTIF($AI$5:AI182,AI182)=1,AI182,\"\")","v":""},{"$f":"IF(AI182=\"\",\"\",IF(COUNTIF($AX$5:AX182,AX182)=1,AX182,\"\"))","v":""},"",null,"",null,"",null,null,null,""]
[null,null,null,null,null,null,null,null,null,null,null,"削除","","","","","","","","","",{"$f":"IF(B183=\"\",\"\",IF(COUNTIF($U$4:U183,U183)=1,\"\",\"重複\"))","v":""},"","",null,null,null,null,null,null,null,null,null,null,null,null,null,null,null,{"$f":"IF(COUNTIF($AI$5:AI183,AI183)=1,AI183,\"\")","v":""},{"$f":"IF(AI183=\"\",\"\",IF(COUNTIF($AX$5:AX183,AX183)=1,AX183,\"\"))","v":""},"",null,"",null,"",null,null,null,""]
[null,null,null,null,null,null,null,null,null,null,null,"削除","","","","","","","","","",{"$f":"IF(B184=\"\",\"\",IF(COUNTIF($U$4:U184,U184)=1,\"\",\"重複\"))","v":""},"","",null,null,null,null,null,null,null,null,null,180,null,null,null,null,null,{"$f":"IF(COUNTIF($AI$5:AI184,AI184)=1,AI184,\"\")","v":""},{"$f":"IF(AI184=\"\",\"\",IF(COUNTIF($AX$5:AX184,AX184)=1,AX184,\"\"))","v":""},"",null,"",null,"",null,null,null,""]
[null,null,null,null,null,null,null,null,null,null,null,"削除","","","","","","","","","",{"$f":"IF(B185=\"\",\"\",IF(COUNTIF($U$4:U185,U185)=1,\"\",\"重複\"))","v":""},"","",null,null,null,null,null,null,null,null,null,null,null,null,null,null,null,{"$f":"IF(COUNTIF($AI$5:AI185,AI185)=1,AI185,\"\")","v":""},{"$f":"IF(AI185=\"\",\"\",IF(COUNTIF($AX$5:AX185,AX185)=1,AX185,\"\"))","v":""},"",null,"",null,"",null,null,null,""]
[null,null,null,null,null,null,null,null,null,null,null,"削除","","","","","","","","","",{"$f":"IF(B186=\"\",\"\",IF(COUNTIF($U$4:U186,U186)=1,\"\",\"重複\"))","v":""},"","",null,null,null,null,null,null,null,null,null,null,null,null,null,null,null,{"$f":"IF(COUNTIF($AI$5:AI186,AI186)=1,AI186,\"\")","v":""},{"$f":"IF(AI186=\"\",\"\",IF(COUNTIF($AX$5:AX186,AX186)=1,AX186,\"\"))","v":""},"",null,"",null,"",null,null,null,""]
[null,null,null,null,null,null,null,null,null,null,null,"削除","","","","","","","","","",{"$f":"IF(B187=\"\",\"\",IF(COUNTIF($U$4:U187,U187)=1,\"\",\"重複\"))","v":""},"","",null,null,null,null,null,null,null,null,null,null,null,null,null,null,null,{"$f":"IF(COUNTIF($AI$5:AI187,AI187)=1,AI187,\"\")","v":""},{"$f":"IF(AI187=\"\",\"\",IF(COUNTIF($AX$5:AX187,AX187)=1,AX187,\"\"))","v":""},"",null,"",null,"",null,null,null,""]
[null,null,null,null,null,null,null,null,null,null,null,"削除","","","","","","","","","",{"$f":"IF(B188=\"\",\"\",IF(COUNTIF($U$4:U188,U188)=1,\"\",\"重複\"))","v":""},"","",null,null,null,null,null,null,null,null,null,null,null,null,null,null,null,{"$f":"IF(COUNTIF($AI$5:AI188,AI188)=1,AI188,\"\")","v":""},{"$f":"IF(AI188=\"\",\"\",IF(COUNTIF($AX$5:AX188,AX188)=1,AX188,\"\"))","v":""},"",null,"",null,"",null,null,null,""]
[null,null,null,null,null,null,null,null,null,null,null,"削除","","","","","","","","","",{"$f":"IF(B189=\"\",\"\",IF(COUNTIF($U$4:U189,U189)=1,\"\",\"重複\"))","v":""},"","",null,null,null,null,null,null,null,null,null,null,null,null,null,null,null,{"$f":"IF(COUNTIF($AI$5:AI189,AI189)=1,AI189,\"\")","v":""},{"$f":"IF(AI189=\"\",\"\",IF(COUNTIF($AX$5:AX189,AX189)=1,AX189,\"\"))","v":""},"",null,"",null,"",null,null,null,""]
[null,null,null,null,null,null,null,null,null,null,null,"削除","","","","","","","","","",{"$f":"IF(B190=\"\",\"\",IF(COUNTIF($U$4:U190,U190)=1,\"\",\"重複\"))","v":""},"","",null,null,null,null,null,null,null,null,null,null,null,null,null,null,null,{"$f":"IF(COUNTIF($AI$5:AI190,AI190)=1,AI190,\"\")","v":""},{"$f":"IF(AI190=\"\",\"\",IF(COUNTIF($AX$5:AX190,AX190)=1,AX190,\"\"))","v":""},"",null,"",null,"",null,null,null,""]
[null,null,null,null,null,null,null,null,null,null,null,"削除","","","","","","","","","",{"$f":"IF(B191=\"\",\"\",IF(COUNTIF($U$4:U191,U191)=1,\"\",\"重複\"))","v":""},"","",null,null,null,null,null,null,null,null,null,null,null,null,null,null,null,{"$f":"IF(COUNTIF($AI$5:AI191,AI191)=1,AI191,\"\")","v":""},{"$f":"IF(AI191=\"\",\"\",IF(COUNTIF($AX$5:AX191,AX191)=1,AX191,\"\"))","v":""},"",null,"",null,"",null,null,null,""]
[null,null,null,null,null,null,null,null,null,null,null,"削除","","","","","","","","","",{"$f":"IF(B192=\"\",\"\",IF(COUNTIF($U$4:U192,U192)=1,\"\",\"重複\"))","v":""},"","",null,null,null,null,null,null,null,null,null,null,null,null,null,null,null,{"$f":"IF(COUNTIF($AI$5:AI192,AI192)=1,AI192,\"\")","v":""},{"$f":"IF(AI192=\"\",\"\",IF(COUNTIF($AX$5:AX192,AX192)=1,AX192,\"\"))","v":""},"",null,"",null,"",null,null,null,""]
[null,null,null,null,null,null,null,null,null,null,null,"削除","","","","","","","","","",{"$f":"IF(B193=\"\",\"\",IF(COUNTIF($U$4:U193,U193)=1,\"\",\"重複\"))","v":""},"","",null,null,null,null,null,null,null,null,null,null,null,null,null,null,null,{"$f":"IF(COUNTIF($AI$5:AI193,AI193)=1,AI193,\"\")","v":""},{"$f":"IF(AI193=\"\",\"\",IF(COUNTIF($AX$5:AX193,AX193)=1,AX193,\"\"))","v":""},"",null,"",null,"",null,null,null,""]
[null,null,null,null,null,null,null,null,null,null,null,"削除","","","","","","","","","",{"$f":"IF(B194=\"\",\"\",IF(COUNTIF($U$4:U194,U194)=1,\"\",\"重複\"))","v":""},"","",null,null,null,null,null,null,null,null,null,190,null,null,null,null,null,{"$f":"IF(COUNTIF($AI$5:AI194,AI194)=1,AI194,\"\")","v":""},{"$f":"IF(AI194=\"\",\"\",IF(COUNTIF($AX$5:AX194,AX194)=1,AX194,\"\"))","v":""},"",null,"",null,"",null,null,null,""]
[null,null,null,null,null,null,null,null,null,null,null,"削除","","","","","","","","","",{"$f":"IF(B195=\"\",\"\",IF(COUNTIF($U$4:U195,U195)=1,\"\",\"重複\"))","v":""},"","",null,null,null,null,null,null,null,null,null,null,null,null,null,null,null,{"$f":"IF(COUNTIF($AI$5:AI195,AI195)=1,AI195,\"\")","v":""},{"$f":"IF(AI195=\"\",\"\",IF(COUNTIF($AX$5:AX195,AX195)=1,AX195,\"\"))","v":""},"",null,"",null,"",null,null,null,""]
[null,null,null,null,null,null,null,null,null,null,null,"削除","","","","","","","","","",{"$f":"IF(B196=\"\",\"\",IF(COUNTIF($U$4:U196,U196)=1,\"\",\"重複\"))","v":""},"",{"$f":"IF(B196=\"\",\"\",IF(LEFT(G196,3)=\"144\",IF(LEFT(H196,3)=\"SSB\",\"\",IF(LEFT(H196,3)=\"A3J\",\"\",IF(LEFT(H196,3)=\"J3E\",\"\",\"形式外\"))),\"形式外\"))","v":""},null,null,null,null,null,null,null,null,null,null,null,null,null,null,null,{"$f":"IF(COUNTIF($AI$5:AI196,AI196)=1,AI196,\"\")","v":""},{"$f":"IF(AI196=\"\",\"\",IF(COUNTIF($AX$5:AX196,AX196)=1,AX196,\"\"))","v":""},"",null,"",null,"",null,null,null,""]
[null,null,null,null,null,null,null,null,null,null,null,{"$f":"IF(B197=\"\",\"削除\",IF(OR(V197=\"重複\",W197=\"削除\",X197=\"形式外\"),\"削除\",1))","v":"削除"},{"$f":"IF(L197=\"削除\",\"\",C197)","v":""},{"$f":"IF(L197=\"削除\",\"\",D197)","v":""},{"$f":"IF(L197=\"削除\",\"\",B197)","v":""},{"$f":"IF(L197=\"削除\",\"\",E197)","v":""},{"$f":"IF(L197=\"削除\",\"\",F197)","v":""},{"$f":"IF(L197=\"削除\",\"\",I197)","v":""},{"$f":"IF(L197=\"削除\",\"\",IF(J197=\"\",\"\",J197))","v":""},{"$f":"IF(B197=\"\",\"\",LEFT(B197,FIND(\"/\",B197&\"/\")-1))","v":""},{"$f":"IF(B197=\"\",\"\",T197&\"/\"&H197)","v":""},{"$f":"IF(B197=\"\",\"\",IF(COUNTIF($U$4:U197,U197)=1,\"\",\"重複\"))","v":""},{"$f":"IF(B197=\"\",\"\",IF(LEFT(T197,1)=\"8\",\"削除\",IF(LEN(T197)=5,IF(MID(T197,4,2)=\"RL\",\"削除\",\"\"),IF(MID(T197,4,1)=\"Y\",\"削除\",IF(MID(T197,4,1)=\"Z\",\"削除\",\"\")))))","v":""},"",null,null,null,null,null,null,null,null,null,null,null,null,null,null,null,{"$f":"IF(COUNTIF($AI$5:AI197,AI197)=1,AI197,\"\")","v":""},{"$f":"IF(AI197=\"\",\"\",IF(COUNTIF($AX$5:AX197,AX197)=1,AX197,\"\"))","v":""},"",null,"",null,"",null,null,null,""]
[null,null,null,null,null,null,null,null,null,null,null,"削除","","","","","","","","","",{"$f":"IF(B198=\"\",\"\",IF(COUNTIF($U$4:U198,U198)=1,\"\",\"重複\"))","v":""},"","",null,null,null,null,null,null,null,null,null,null,null,null,null,null,null,{"$f":"IF(COUNTIF($AI$5:AI198,AI198)=1,AI198,\"\")","v":""},{"$f":"IF(AI198=\"\",\"\",IF(COUNTIF($AX$5:AX198,AX198)=1,AX198,\"\"))","v":""},{"$f":"IF(AK198=\"\",\"\",IF(COUNTIF($BN$5:$BN$304,AT198)=1,5,1))","v":""},null,{"$f":"IF(COUNTIF($BN$5:$BN$40,AT198)=1,\"M\",\"\")","v":""},null,{"$f":"LEFT(AK198&\"/\",FIND(\"/\",AK198&\"/\")-1)","v":""},null,null,null,{"$f":"RIGHT(AT198,1)","v":""}]
[null,null,null,null,null,null,null,null,null,null,null,"削除","","","","","","","","","",{"$f":"IF(B199=\"\",\"\",IF(COUNTIF($U$4:U199,U199)=1,\"\",\"重複\"))","v":""},"","",null,null,null,null,null,null,null,null,null,null,null,null,null,null,null,{"$f":"IF(COUNTIF($AI$5:AI199,AI199)=1,AI199,\"\")","v":""},{"$f":"IF(AI199=\"\",\"\",IF(COUNTIF($AX$5:AX199,AX199)=1,AX199,\"\"))","v":""},"",null,"",null,"",null,null,null,""]
[null,null,null,null,null,null,null,null,null,null,null,"削除","","","","","","","","","",{"$f":"IF(B200=\"\",\"\",IF(COUNTIF($U$4:U200,U200)=1,\"\",\"重複\"))","v":""},"","",null,null,null,null,null,null,null,null,null,null,null,null,null,null,null,{"$f":"IF(COUNTIF($AI$5:AI200,AI200)=1,AI200,\"\")","v":""},{"$f":"IF(AI200=\"\",\"\",IF(COUNTIF($AX$5:AX200,AX200)=1,AX200,\"\"))","v":""},"",null,"",null,"",null,null,null,""]
[null,null,null,null,null,null,null,null,null,null,null,"削除","","","","","","","","","",{"$f":"IF(B201=\"\",\"\",IF(COUNTIF($U$4:U201,U201)=1,\"\",\"重複\"))","v":""},"","",null,null,null,null,null,null,null,null,null,null,null,null,null,null,null,{"$f":"IF(COUNTIF($AI$5:AI201,AI201)=1,AI201,\"\")","v":""},{"$f":"IF(AI201=\"\",\"\",IF(COUNTIF($AX$5:AX201,AX201)=1,AX201,\"\"))","v":""},"",null,"",null,"",null,null,null,""]
[null,null,null,null,null,null,null,null,null,null,null,"削除","","","","","","","","","",{"$f":"IF(B202=\"\",\"\",IF(COUNTIF($U$4:U202,U202)=1,\"\",\"重複\"))","v":""},"","",null,null,null,null,null,null,null,null,null,null,null,null,null,null,null,{"$f":"IF(COUNTIF($AI$5:AI202,AI202)=1,AI202,\"\")","v":""},{"$f":"IF(AI202=\"\",\"\",IF(COUNTIF($AX$5:AX202,AX202)=1,AX202,\"\"))","v":""},"",null,"",null,"",null,null,null,""]
[null,null,null,null,null,null,null,null,null,null,null,"削除","","","","","","","","","",{"$f":"IF(B203=\"\",\"\",IF(COUNTIF($U$4:U203,U203)=1,\"\",\"重複\"))","v":""},"","",null,null,null,null,null,null,null,null,null,null,null,null,null,null,null,{"$f":"IF(COUNTIF($AI$5:AI203,AI203)=1,AI203,\"\")","v":""},{"$f":"IF(AI203=\"\",\"\",IF(COUNTIF($AX$5:AX203,AX203)=1,AX203,\"\"))","v":""},"",null,"",null,"",null,null,null,""]
[null,null,null,null,null,null,null,null,null,null,null,"削除","","","","","","","","","",{"$f":"IF(B204=\"\",\"\",IF(COUNTIF($U$4:U204,U204)=1,\"\",\"重複\"))","v":""},"","",null,null,null,null,null,null,null,null,null,200,null,null,null,null,null,{"$f":"IF(COUNTIF($AI$5:AI204,AI204)=1,AI204,\"\")","v":""},{"$f":"IF(AI204=\"\",\"\",IF(COUNTIF($AX$5:AX204,AX204)=1,AX204,\"\"))","v":""},"",null,"",null,"",null,null,null,""]
[null,null,null,null,null,null,null,null,null,null,null,"削除","","","","","","","","","",{"$f":"IF(B205=\"\",\"\",IF(COUNTIF($U$4:U205,U205)=1,\"\",\"重複\"))","v":""},"","",null,null,null,null,null,null,null,null,null,null,null,null,null,null,null,{"$f":"IF(COUNTIF($AI$5:AI205,AI205)=1,AI205,\"\")","v":""},{"$f":"IF(AI205=\"\",\"\",IF(COUNTIF($AX$5:AX205,AX205)=1,AX205,\"\"))","v":""},"",null,"",null,"",null,null,null,""]
[null,null,null,null,null,null,null,null,null,null,null,"削除","","","","","","","","","",{"$f":"IF(B206=\"\",\"\",IF(COUNTIF($U$4:U206,U206)=1,\"\",\"重複\"))","v":""},"","",null,null,null,null,null,null,null,null,null,null,null,null,null,null,null,{"$f":"IF(COUNTIF($AI$5:AI206,AI206)=1,AI206,\"\")","v":""},{"$f":"IF(AI206=\"\",\"\",IF(COUNTIF($AX$5:AX206,AX206)=1,AX206,\"\"))","v":""},"",null,"",null,"",null,null,null,""]
[null,null,null,null,null,null,null,null,null,null,null,"削除","","","","","","","","","",{"$f":"IF(B207=\"\",\"\",IF(COUNTIF($U$4:U207,U207)=1,\"\",\"重複\"))","v":""},"","",null,null,null,null,null,null,null,null,null,null,null,null,null,null,null,{"$f":"IF(COUNTIF($AI$5:AI207,AI207)=1,AI207,\"\")","v":""},{"$f":"IF(AI207=\"\",\"\",IF(COUNTIF($AX$5:AX207,AX207)=1,AX207,\"\"))","v":""},"",null,"",null,"",null,null,null,""]
[null,null,null,null,null,null,null,null,null,null,null,"削除","","","","","","","","","",{"$f":"IF(B208=\"\",\"\",IF(COUNTIF($U$4:U208,U208)=1,\"\",\"重複\"))","v":""},"","",null,null,null,null,null,null,null,null,null,null,null,null,null,null,null,{"$f":"IF(COUNTIF($AI$5:AI208,AI208)=1,AI208,\"\")","v":""},{"$f":"IF(AI208=\"\",\"\",IF(COUNTIF($AX$5:AX208,AX208)=1,AX208,\"\"))","v":""},"",null,"",null,"",null,null,null,""]
[null,null,null,null,null,null,null,null,null,null,null,"削除","","","","","","","","","",{"$f":"IF(B209=\"\",\"\",IF(COUNTIF($U$4:U209,U209)=1,\"\",\"重複\"))","v":""},"","",null,null,null,null,null,null,null,null,null,null,null,null,null,null,null,{"$f":"IF(COUNTIF($AI$5:AI209,AI209)=1,AI209,\"\")","v":""},{"$f":"IF(AI209=\"\",\"\",IF(COUNTIF($AX$5:AX209,AX209)=1,AX209,\"\"))","v":""},"",null,"",null,"",null,null,null,""]
[null,null,null,null,null,null,null,null,null,null,null,"削除","","","","","","","","","",{"$f":"IF(B210=\"\",\"\",IF(COUNTIF($U$4:U210,U210)=1,\"\",\"重複\"))","v":""},"","",null,null,null,null,null,null,null,null,null,null,null,null,null,null,null,{"$f":"IF(COUNTIF($AI$5:AI210,AI210)=1,AI210,\"\")","v":""},{"$f":"IF(AI210=\"\",\"\",IF(COUNTIF($AX$5:AX210,AX210)=1,AX210,\"\"))","v":""},"",null,"",null,"",null,null,null,""]
[null,null,null,null,null,null,null,null,null,null,null,"削除","","","","","","","","","",{"$f":"IF(B211=\"\",\"\",IF(COUNTIF($U$4:U211,U211)=1,\"\",\"重複\"))","v":""},"","",null,null,null,null,null,null,null,null,null,null,null,null,null,null,null,{"$f":"IF(COUNTIF($AI$5:AI211,AI211)=1,AI211,\"\")","v":""},{"$f":"IF(AI211=\"\",\"\",IF(COUNTIF($AX$5:AX211,AX211)=1,AX211,\"\"))","v":""},"",null,"",null,"",null,null,null,""]
[null,null,null,null,null,null,null,null,null,null,null,"削除","","","","","","","","","",{"$f":"IF(B212=\"\",\"\",IF(COUNTIF($U$4:U212,U212)=1,\"\",\"重複\"))","v":""},"","",null,null,null,null,null,null,null,null,null,null,null,null,null,null,null,{"$f":"IF(COUNTIF($AI$5:AI212,AI212)=1,AI212,\"\")","v":""},{"$f":"IF(AI212=\"\",\"\",IF(COUNTIF($AX$5:AX212,AX212)=1,AX212,\"\"))","v":""},"",null,"",null,"",null,null,null,""]
[null,null,null,null,null,null,null,null,null,null,null,"削除","","","","","","","","","",{"$f":"IF(B213=\"\",\"\",IF(COUNTIF($U$4:U213,U213)=1,\"\",\"重複\"))","v":""},"","",null,null,null,null,null,null,null,null,null,null,null,null,null,null,null,{"$f":"IF(COUNTIF($AI$5:AI213,AI213)=1,AI213,\"\")","v":""},{"$f":"IF(AI213=\"\",\"\",IF(COUNTIF($AX$5:AX213,AX213)=1,AX213,\"\"))","v":""},"",null,"",null,"",null,null,null,""]
[null,null,null,null,null,null,null,null,null,null,null,"削除","","","","","","","","","",{"$f":"IF(B214=\"\",\"\",IF(COUNTIF($U$4:U214,U214)=1,\"\",\"重複\"))","v":""},"","",null,null,null,null,null,null,null,null,null,210,null,null,null,null,null,{"$f":"IF(COUNTIF($AI$5:AI214,AI214)=1,AI214,\"\")","v":""},{"$f":"IF(AI214=\"\",\"\",IF(COUNTIF($AX$5:AX214,AX214)=1,AX214,\"\"))","v":""},"",null,"",null,"",null,null,null,""]
[null,null,null,null,null,null,null,null,null,null,null,"削除","","","","","","","","","",{"$f":"IF(B215=\"\",\"\",IF(COUNTIF($U$4:U215,U215)=1,\"\",\"重複\"))","v":""},"","",null,null,null,null,null,null,null,null,null,null,null,null,null,null,null,{"$f":"IF(COUNTIF($AI$5:AI215,AI215)=1,AI215,\"\")","v":""},{"$f":"IF(AI215=\"\",\"\",IF(COUNTIF($AX$5:AX215,AX215)=1,AX215,\"\"))","v":""},"",null,"",null,"",null,null,null,""]
[null,null,null,null,null,null,null,null,null,null,null,"削除","","","","","","","","","",{"$f":"IF(B216=\"\",\"\",IF(COUNTIF($U$4:U216,U216)=1,\"\",\"重複\"))","v":""},"","",null,null,null,null,null,null,null,null,null,null,null,null,null,null,null,{"$f":"IF(COUNTIF($AI$5:AI216,AI216)=1,AI216,\"\")","v":""},{"$f":"IF(AI216=\"\",\"\",IF(COUNTIF($AX$5:AX216,AX216)=1,AX216,\"\"))","v":""},"",null,"",null,"",null,null,null,""]
[null,null,null,null,null,null,null,null,null,null,null,"削除","","","","","","","","","",{"$f":"IF(B217=\"\",\"\",IF(COUNTIF($U$4:U217,U217)=1,\"\",\"重複\"))","v":""},"","",null,null,null,null,null,null,null,null,null,null,null,null,null,null,null,{"$f":"IF(COUNTIF($AI$5:AI217,AI217)=1,AI217,\"\")","v":""},{"$f":"IF(AI217=\"\",\"\",IF(COUNTIF($AX$5:AX217,AX217)=1,AX217,\"\"))","v":""},"",null,"",null,"",null,null,null,""]
[null,null,null,null,null,null,null,null,null,null,null,"削除","","","","","","","","","",{"$f":"IF(B218=\"\",\"\",IF(COUNTIF($U$4:U218,U218)=1,\"\",\"重複\"))","v":""},"","",null,null,null,null,null,null,null,null,null,null,null,null,null,null,null,{"$f":"IF(COUNTIF($AI$5:AI218,AI218)=1,AI218,\"\")","v":""},{"$f":"IF(AI218=\"\",\"\",IF(COUNTIF($AX$5:AX218,AX218)=1,AX218,\"\"))","v":""},"",null,"",null,"",null,null,null,""]
[null,null,null,null,null,null,null,null,null,null,null,"削除","","","","","","","","","",{"$f":"IF(B219=\"\",\"\",IF(COUNTIF($U$4:U219,U219)=1,\"\",\"重複\"))","v":""},"","",null,null,null,null,null,null,null,null,null,null,null,null,null,null,null,{"$f":"IF(COUNTIF($AI$5:AI219,AI219)=1,AI219,\"\")","v":""},{"$f":"IF(AI219=\"\",\"\",IF(COUNTIF($AX$5:AX219,AX219)=1,AX219,\"\"))","v":""},"",null,"",null,"",null,null,null,""]
[null,null,null,null,null,null,null,null,null,null,null,"削除","","","","","","","","","",{"$f":"IF(B220=\"\",\"\",IF(COUNTIF($U$4:U220,U220)=1,\"\",\"重複\"))","v":""},"","",null,null,null,null,null,null,null,null,null,null,null,null,null,null,null,{"$f":"IF(COUNTIF($AI$5:AI220,AI220)=1,AI220,\"\")","v":""},{"$f":"IF(AI220=\"\",\"\",IF(COUNTIF($AX$5:AX220,AX220)=1,AX220,\"\"))","v":""},"",null,"",null,"",null,null,null,""]
[null,null,null,null,null,null,null,null,null,null,null,"削除","","","","","","","","","",{"$f":"IF(B221=\"\",\"\",IF(COUNTIF($U$4:U221,U221)=1,\"\",\"重複\"))","v":""},"","",null,null,null,null,null,null,null,null,null,null,null,null,null,null,null,{"$f":"IF(COUNTIF($AI$5:AI221,AI221)=1,AI221,\"\")","v":""},{"$f":"IF(AI221=\"\",\"\",IF(COUNTIF($AX$5:AX221,AX221)=1,AX221,\"\"))","v":""},"",null,"",null,"",null,null,null,""]
[null,null,null,null,null,null,null,null,null,null,null,"削除","","","","","","","","","",{"$f":"IF(B222=\"\",\"\",IF(COUNTIF($U$4:U222,U222)=1,\"\",\"重複\"))","v":""},"","",null,null,null,null,null,null,null,null,null,null,null,null,null,null,null,{"$f":"IF(COUNTIF($AI$5:AI222,AI222)=1,AI222,\"\")","v":""},{"$f":"IF(AI222=\"\",\"\",IF(COUNTIF($AX$5:AX222,AX222)=1,AX222,\"\"))","v":""},"",null,"",null,"",null,null,null,""]
[null,null,null,null,null,null,null,null,null,null,null,"削除","","","","","","","","","",{"$f":"IF(B223=\"\",\"\",IF(COUNTIF($U$4:U223,U223)=1,\"\",\"重複\"))","v":""},"","",null,null,null,null,null,null,null,null,null,null,null,null,null,null,null,{"$f":"IF(COUNTIF($AI$5:AI223,AI223)=1,AI223,\"\")","v":""},{"$f":"IF(AI223=\"\",\"\",IF(COUNTIF($AX$5:AX223,AX223)=1,AX223,\"\"))","v":""},"",null,"",null,"",null,null,null,""]
[null,null,null,null,null,null,null,null,null,null,null,"削除","","","","","","","","","",{"$f":"IF(B224=\"\",\"\",IF(COUNTIF($U$4:U224,U224)=1,\"\",\"重複\"))","v":""},"","",null,null,null,null,null,null,null,null,null,220,null,null,null,null,null,{"$f":"IF(COUNTIF($AI$5:AI224,AI224)=1,AI224,\"\")","v":""},{"$f":"IF(AI224=\"\",\"\",IF(COUNTIF($AX$5:AX224,AX224)=1,AX224,\"\"))","v":""},"",null,"",null,"",null,null,null,""]
[null,null,null,null,null,null,null,null,null,null,null,"削除","","","","","","","","","",{"$f":"IF(B225=\"\",\"\",IF(COUNTIF($U$4:U225,U225)=1,\"\",\"重複\"))","v":""},"","",null,null,null,null,null,null,null,null,null,null,null,null,null,null,null,{"$f":"IF(COUNTIF($AI$5:AI225,AI225)=1,AI225,\"\")","v":""},{"$f":"IF(AI225=\"\",\"\",IF(COUNTIF($AX$5:AX225,AX225)=1,AX225,\"\"))","v":""},"",null,"",null,"",null,null,null,""]
[null,null,null,null,null,null,null,null,null,null,null,"削除","","","","","","","","","",{"$f":"IF(B226=\"\",\"\",IF(COUNTIF($U$4:U226,U226)=1,\"\",\"重複\"))","v":""},"","",null,null,null,null,null,null,null,null,null,null,null,null,null,null,null,{"$f":"IF(COUNTIF($AI$5:AI226,AI226)=1,AI226,\"\")","v":""},{"$f":"IF(AI226=\"\",\"\",IF(COUNTIF($AX$5:AX226,AX226)=1,AX226,\"\"))","v":""},"",null,"",null,"",null,null,null,""]
[null,null,null,null,null,null,null,null,null,null,null,"削除","","","","","","","","","",{"$f":"IF(B227=\"\",\"\",IF(COUNTIF($U$4:U227,U227)=1,\"\",\"重複\"))","v":""},"","",null,null,null,null,null,null,null,null,null,null,null,null,null,null,null,{"$f":"IF(COUNTIF($AI$5:AI227,AI227)=1,AI227,\"\")","v":""},{"$f":"IF(AI227=\"\",\"\",IF(COUNTIF($AX$5:AX227,AX227)=1,AX227,\"\"))","v":""},"",null,"",null,"",null,null,null,""]
[null,null,null,null,null,null,null,null,null,null,null,"削除","","","","","","","","","",{"$f":"IF(B228=\"\",\"\",IF(COUNTIF($U$4:U228,U228)=1,\"\",\"重複\"))","v":""},"","",null,null,null,null,null,null,null,null,null,null,null,null,null,null,null,{"$f":"IF(COUNTIF($AI$5:AI228,AI228)=1,AI228,\"\")","v":""},{"$f":"IF(AI228=\"\",\"\",IF(COUNTIF($AX$5:AX228,AX228)=1,AX228,\"\"))","v":""},"",null,"",null,"",null,null,null,""]
[null,null,null,null,null,null,null,null,null,null,null,"削除","","","","","","","","","",{"$f":"IF(B229=\"\",\"\",IF(COUNTIF($U$4:U229,U229)=1,\"\",\"重複\"))","v":""},"","",null,null,null,null,null,null,null,null,null,null,null,null,null,null,null,{"$f":"IF(COUNTIF($AI$5:AI229,AI229)=1,AI229,\"\")","v":""},{"$f":"IF(AI229=\"\",\"\",IF(COUNTIF($AX$5:AX229,AX229)=1,AX229,\"\"))","v":""},"",null,"",null,"",null,null,null,""]
[null,null,null,null,null,null,null,null,null,null,null,"削除","","","","","","","","","",{"$f":"IF(B230=\"\",\"\",IF(COUNTIF($U$4:U230,U230)=1,\"\",\"重複\"))","v":""},"","",null,null,null,null,null,null,null,null,null,null,null,null,null,null,null,{"$f":"IF(COUNTIF($AI$5:AI230,AI230)=1,AI230,\"\")","v":""},{"$f":"IF(AI230=\"\",\"\",IF(COUNTIF($AX$5:AX230,AX230)=1,AX230,\"\"))","v":""},"",null,"",null,"",null,null,null,""]
[null,null,null,null,null,null,null,null,null,null,null,"削除","","","","","","","","","",{"$f":"IF(B231=\"\",\"\",IF(COUNTIF($U$4:U231,U231)=1,\"\",\"重複\"))","v":""},"","",null,null,null,null,null,null,null,null,null,null,null,null,null,null,null,{"$f":"IF(COUNTIF($AI$5:AI231,AI231)=1,AI231,\"\")","v":""},{"$f":"IF(AI231=\"\",\"\",IF(COUNTIF($AX$5:AX231,AX231)=1,AX231,\"\"))","v":""},"",null,"",null,"",null,null,null,""]
[null,null,null,null,null,null,null,null,null,null,null,"削除","","","","","","","","","",{"$f":"IF(B232=\"\",\"\",IF(COUNTIF($U$4:U232,U232)=1,\"\",\"重複\"))","v":""},"","",null,null,null,null,null,null,null,null,null,null,null,null,null,null,null,{"$f":"IF(COUNTIF($AI$5:AI232,AI232)=1,AI232,\"\")","v":""},{"$f":"IF(AI232=\"\",\"\",IF(COUNTIF($AX$5:AX232,AX232)=1,AX232,\"\"))","v":""},"",null,"",null,"",null,null,null,""]
[null,null,null,null,null,null,null,null,null,null,null,"削除","","","","","","","","","",{"$f":"IF(B233=\"\",\"\",IF(COUNTIF($U$4:U233,U233)=1,\"\",\"重複\"))","v":""},"","",null,null,null,null,null,null,null,null,null,null,null,null,null,null,null,{"$f":"IF(COUNTIF($AI$5:AI233,AI233)=1,AI233,\"\")","v":""},{"$f":"IF(AI233=\"\",\"\",IF(COUNTIF($AX$5:AX233,AX233)=1,AX233,\"\"))","v":""},"",null,"",null,"",null,null,null,""]
[null,null,null,null,null,null,null,null,null,null,null,"削除","","","","","","","","","",{"$f":"IF(B234=\"\",\"\",IF(COUNTIF($U$4:U234,U234)=1,\"\",\"重複\"))","v":""},"","",null,null,null,null,null,null,null,null,null,230,null,null,null,null,null,{"$f":"IF(COUNTIF($AI$5:AI234,AI234)=1,AI234,\"\")","v":""},{"$f":"IF(AI234=\"\",\"\",IF(COUNTIF($AX$5:AX234,AX234)=1,AX234,\"\"))","v":""},"",null,"",null,"",null,null,null,""]
[null,null,null,null,null,null,null,null,null,null,null,"削除","","","","","","","","","",{"$f":"IF(B235=\"\",\"\",IF(COUNTIF($U$4:U235,U235)=1,\"\",\"重複\"))","v":""},"","",null,null,null,null,null,null,null,null,null,null,null,null,null,null,null,{"$f":"IF(COUNTIF($AI$5:AI235,AI235)=1,AI235,\"\")","v":""},{"$f":"IF(AI235=\"\",\"\",IF(COUNTIF($AX$5:AX235,AX235)=1,AX235,\"\"))","v":""},"",null,"",null,"",null,null,null,""]
[null,null,null,null,null,null,null,null,null,null,null,"削除","","","","","","","","","",{"$f":"IF(B236=\"\",\"\",IF(COUNTIF($U$4:U236,U236)=1,\"\",\"重複\"))","v":""},"","",null,null,null,null,null,null,null,null,null,null,null,null,null,null,null,{"$f":"IF(COUNTIF($AI$5:AI236,AI236)=1,AI236,\"\")","v":""},{"$f":"IF(AI236=\"\",\"\",IF(COUNTIF($AX$5:AX236,AX236)=1,AX236,\"\"))","v":""},"",null,"",null,"",null,null,null,""]
[null,null,null,null,null,null,null,null,null,null,null,"削除","","","","","","","","","",{"$f":"IF(B237=\"\",\"\",IF(COUNTIF($U$4:U237,U237)=1,\"\",\"重複\"))","v":""},"","",null,null,null,null,null,null,null,null,null,null,null,null,null,null,null,{"$f":"IF(COUNTIF($AI$5:AI237,AI237)=1,AI237,\"\")","v":""},{"$f":"IF(AI237=\"\",\"\",IF(COUNTIF($AX$5:AX237,AX237)=1,AX237,\"\"))","v":""},"",null,"",null,"",null,null,null,""]
[null,null,null,null,null,null,null,null,null,null,null,"削除","","","","","","","","","",{"$f":"IF(B238=\"\",\"\",IF(COUNTIF($U$4:U238,U238)=1,\"\",\"重複\"))","v":""},"","",null,null,null,null,null,null,null,null,null,null,null,null,null,null,null,{"$f":"IF(COUNTIF($AI$5:AI238,AI238)=1,AI238,\"\")","v":""},{"$f":"IF(AI238=\"\",\"\",IF(COUNTIF($AX$5:AX238,AX238)=1,AX238,\"\"))","v":""},"",null,"",null,"",null,null,null,""]
[null,null,null,null,null,null,null,null,null,null,null,"削除","","","","","","","","","",{"$f":"IF(B239=\"\",\"\",IF(COUNTIF($U$4:U239,U239)=1,\"\",\"重複\"))","v":""},"","",null,null,null,null,null,null,null,null,null,null,null,null,null,null,null,{"$f":"IF(COUNTIF($AI$5:AI239,AI239)=1,AI239,\"\")","v":""},{"$f":"IF(AI239=\"\",\"\",IF(COUNTIF($AX$5:AX239,AX239)=1,AX239,\"\"))","v":""},"",null,"",null,"",null,null,null,""]
[null,null,null,null,null,null,null,null,null,null,null,"削除","","","","","","","","","",{"$f":"IF(B240=\"\",\"\",IF(COUNTIF($U$4:U240,U240)=1,\"\",\"重複\"))","v":""},"","",null,null,null,null,null,null,null,null,null,null,null,null,null,null,null,{"$f":"IF(COUNTIF($AI$5:AI240,AI240)=1,AI240,\"\")","v":""},{"$f":"IF(AI240=\"\",\"\",IF(COUNTIF($AX$5:AX240,AX240)=1,AX240,\"\"))","v":""},"",null,"",null,"",null,null,null,""]
[null,null,null,null,null,null,null,null,null,null,null,"削除","","","","","","","","","",{"$f":"IF(B241=\"\",\"\",IF(COUNTIF($U$4:U241,U241)=1,\"\",\"重複\"))","v":""},"","",null,null,null,null,null,null,null,null,null,null,null,null,null,null,null,{"$f":"IF(COUNTIF($AI$5:AI241,AI241)=1,AI241,\"\")","v":""},{"$f":"IF(AI241=\"\",\"\",IF(COUNTIF($AX$5:AX241,AX241)=1,AX241,\"\"))","v":""},"",null,"",null,"",null,null,null,""]
[null,null,null,null,null,null,null,null,null,null,null,"削除","","","","","","","","","",{"$f":"IF(B242=\"\",\"\",IF(COUNTIF($U$4:U242,U242)=1,\"\",\"重複\"))","v":""},"","",null,null,null,null,null,null,null,null,null,null,null,null,null,null,null,{"$f":"IF(COUNTIF($AI$5:AI242,AI242)=1,AI242,\"\")","v":""},{"$f":"IF(AI242=\"\",\"\",IF(COUNTIF($AX$5:AX242,AX242)=1,AX242,\"\"))","v":""},"",null,"",null,"",null,null,null,""]
[null,null,null,null,null,null,null,null,null,null,null,"削除","","","","","","","","","",{"$f":"IF(B243=\"\",\"\",IF(COUNTIF($U$4:U243,U243)=1,\"\",\"重複\"))","v":""},"","",null,null,null,null,null,null,null,null,null,null,null,null,null,null,null,{"$f":"IF(COUNTIF($AI$5:AI243,AI243)=1,AI243,\"\")","v":""},{"$f":"IF(AI243=\"\",\"\",IF(COUNTIF($AX$5:AX243,AX243)=1,AX243,\"\"))","v":""},"",null,"",null,"",null,null,null,""]
[null,null,null,null,null,null,null,null,null,null,null,"削除","","","","","","","","","",{"$f":"IF(B244=\"\",\"\",IF(COUNTIF($U$4:U244,U244)=1,\"\",\"重複\"))","v":""},"","",null,null,null,null,null,null,null,null,null,240,null,null,null,null,null,{"$f":"IF(COUNTIF($AI$5:AI244,AI244)=1,AI244,\"\")","v":""},{"$f":"IF(AI244=\"\",\"\",IF(COUNTIF($AX$5:AX244,AX244)=1,AX244,\"\"))","v":""},"",null,"",null,"",null,null,null,""]
[null,null,null,null,null,null,null,null,null,null,null,"削除","","","","","","","","","",{"$f":"IF(B245=\"\",\"\",IF(COUNTIF($U$4:U245,U245)=1,\"\",\"重複\"))","v":""},"","",null,null,null,null,null,null,null,null,null,null,null,null,null,null,null,{"$f":"IF(COUNTIF($AI$5:AI245,AI245)=1,AI245,\"\")","v":""},{"$f":"IF(AI245=\"\",\"\",IF(COUNTIF($AX$5:AX245,AX245)=1,AX245,\"\"))","v":""},"",null,"",null,"",null,null,null,""]
[null,null,null,null,null,null,null,null,null,null,null,"削除","","","","","","","","","",{"$f":"IF(B246=\"\",\"\",IF(COUNTIF($U$4:U246,U246)=1,\"\",\"重複\"))","v":""},"","",null,null,null,null,null,null,null,null,null,null,null,null,null,null,null,{"$f":"IF(COUNTIF($AI$5:AI246,AI246)=1,AI246,\"\")","v":""},{"$f":"IF(AI246=\"\",\"\",IF(COUNTIF($AX$5:AX246,AX246)=1,AX246,\"\"))","v":""},"",null,"",null,"",null,null,null,""]
[null,null,null,null,null,null,null,null,null,null,null,"削除","","","","","","","","","",{"$f":"IF(B247=\"\",\"\",IF(COUNTIF($U$4:U247,U247)=1,\"\",\"重複\"))","v":""},"","",null,null,null,null,null,null,null,null,null,null,null,null,null,null,null,{"$f":"IF(COUNTIF($AI$5:AI247,AI247)=1,AI247,\"\")","v":""},{"$f":"IF(AI247=\"\",\"\",IF(COUNTIF($AX$5:AX247,AX247)=1,AX247,\"\"))","v":""},"",null,"",null,"",null,null,null,""]
[null,null,null,null,null,null,null,null,null,null,null,"削除","","","","","","","","","",{"$f":"IF(B248=\"\",\"\",IF(COUNTIF($U$4:U248,U248)=1,\"\",\"重複\"))","v":""},"","",null,null,null,null,null,null,null,null,null,null,null,null,null,null,null,{"$f":"IF(COUNTIF($AI$5:AI248,AI248)=1,AI248,\"\")","v":""},{"$f":"IF(AI248=\"\",\"\",IF(COUNTIF($AX$5:AX248,AX248)=1,AX248,\"\"))","v":""},"",null,"",null,"",null,null,null,""]
[null,null,null,null,null,null,null,null,null,null,null,"削除","","","","","","","","","",{"$f":"IF(B249=\"\",\"\",IF(COUNTIF($U$4:U249,U249)=1,\"\",\"重複\"))","v":""},"","",null,null,null,null,null,null,null,null,null,null,null,null,null,null,null,{"$f":"IF(COUNTIF($AI$5:AI249,AI249)=1,AI249,\"\")","v":""},{"$f":"IF(AI249=\"\",\"\",IF(COUNTIF($AX$5:AX249,AX249)=1,AX249,\"\"))","v":""},"",null,"",null,"",null,null,null,""]
[null,null,null,null,null,null,null,null,null,null,null,"削除","","","","","","","","","",{"$f":"IF(B250=\"\",\"\",IF(COUNTIF($U$4:U250,U250)=1,\"\",\"重複\"))","v":""},"","",null,null,null,null,null,null,null,null,null,null,null,null,null,null,null,{"$f":"IF(COUNTIF($AI$5:AI250,AI250)=1,AI250,\"\")","v":""},{"$f":"IF(AI250=\"\",\"\",IF(COUNTIF($AX$5:AX250,AX250)=1,AX250,\"\"))","v":""},"",null,"",null,"",null,null,null,""]
[null,null,null,null,null,null,null,null,null,null,null,"削除","","","","","","","","","",{"$f":"IF(B251=\"\",\"\",IF(COUNTIF($U$4:U251,U251)=1,\"\",\"重複\"))","v":""},"","",null,null,null,null,null,null,null,null,null,null,null,null,null,null,null,{"$f":"IF(COUNTIF($AI$5:AI251,AI251)=1,AI251,\"\")","v":""},{"$f":"IF(AI251=\"\",\"\",IF(COUNTIF($AX$5:AX251,AX251)=1,AX251,\"\"))","v":""},"",null,"",null,"",null,null,null,""]
[null,null,null,null,null,null,null,null,null,null,null,"削除","","","","","","","","","",{"$f":"IF(B252=\"\",\"\",IF(COUNTIF($U$4:U252,U252)=1,\"\",\"重複\"))","v":""},"","",null,null,null,null,null,null,null,null,null,null,null,null,null,null,null,{"$f":"IF(COUNTIF($AI$5:AI252,AI252)=1,AI252,\"\")","v":""},{"$f":"IF(AI252=\"\",\"\",IF(COUNTIF($AX$5:AX252,AX252)=1,AX252,\"\"))","v":""},"",null,"",null,"",null,null,null,""]
[null,null,null,null,null,null,null,null,null,null,null,"削除","","","","","","","","","",{"$f":"IF(B253=\"\",\"\",IF(COUNTIF($U$4:U253,U253)=1,\"\",\"重複\"))","v":""},"","",null,null,null,null,null,null,null,null,null,null,null,null,null,null,null,{"$f":"IF(COUNTIF($AI$5:AI253,AI253)=1,AI253,\"\")","v":""},{"$f":"IF(AI253=\"\",\"\",IF(COUNTIF($AX$5:AX253,AX253)=1,AX253,\"\"))","v":""},"",null,"",null,"",null,null,null,""]
[null,null,null,null,null,null,null,null,null,null,null,"削除","","","","","","","","","",{"$f":"IF(B254=\"\",\"\",IF(COUNTIF($U$4:U254,U254)=1,\"\",\"重複\"))","v":""},"","",null,null,null,null,null,null,null,null,null,250,null,null,null,null,null,{"$f":"IF(COUNTIF($AI$5:AI254,AI254)=1,AI254,\"\")","v":""},{"$f":"IF(AI254=\"\",\"\",IF(COUNTIF($AX$5:AX254,AX254)=1,AX254,\"\"))","v":""},"",null,"",null,"",null,null,null,""]
[null,null,null,null,null,null,null,null,null,null,null,"削除","","","","","","","","","",{"$f":"IF(B255=\"\",\"\",IF(COUNTIF($U$4:U255,U255)=1,\"\",\"重複\"))","v":""},"","",null,null,null,null,null,null,null,null,null,null,null,null,null,null,null,{"$f":"IF(COUNTIF($AI$5:AI255,AI255)=1,AI255,\"\")","v":""},{"$f":"IF(AI255=\"\",\"\",IF(COUNTIF($AX$5:AX255,AX255)=1,AX255,\"\"))","v":""},"",null,"",null,"",null,null,null,""]
[null,null,null,null,null,null,null,null,null,null,null,"削除","","","","","","","","","",{"$f":"IF(B256=\"\",\"\",IF(COUNTIF($U$4:U256,U256)=1,\"\",\"重複\"))","v":""},"","",null,null,null,null,null,null,null,null,null,null,null,null,null,null,null,{"$f":"IF(COUNTIF($AI$5:AI256,AI256)=1,AI256,\"\")","v":""},{"$f":"IF(AI256=\"\",\"\",IF(COUNTIF($AX$5:AX256,AX256)=1,AX256,\"\"))","v":""},"",null,"",null,"",null,null,null,""]
[null,null,null,null,null,null,null,null,null,null,null,"削除","","","","","","","","","",{"$f":"IF(B257=\"\",\"\",IF(COUNTIF($U$4:U257,U257)=1,\"\",\"重複\"))","v":""},"","",null,null,null,null,null,null,null,null,null,null,null,null,null,null,null,{"$f":"IF(COUNTIF($AI$5:AI257,AI257)=1,AI257,\"\")","v":""},{"$f":"IF(AI257=\"\",\"\",IF(COUNTIF($AX$5:AX257,AX257)=1,AX257,\"\"))","v":""},"",null,"",null,"",null,null,null,""]
[null,null,null,null,null,null,null,null,null,null,null,"削除","","","","","","","","","",{"$f":"IF(B258=\"\",\"\",IF(COUNTIF($U$4:U258,U258)=1,\"\",\"重複\"))","v":""},"","",null,null,null,null,null,null,null,null,null,null,null,null,null,null,null,{"$f":"IF(COUNTIF($AI$5:AI258,AI258)=1,AI258,\"\")","v":""},{"$f":"IF(AI258=\"\",\"\",IF(COUNTIF($AX$5:AX258,AX258)=1,AX258,\"\"))","v":""},"",null,"",null,"",null,null,null,""]
[null,null,null,null,null,null,null,null,null,null,null,"削除","","","","","","","","","",{"$f":"IF(B259=\"\",\"\",IF(COUNTIF($U$4:U259,U259)=1,\"\",\"重複\"))","v":""},"","",null,null,null,null,null,null,null,null,null,null,null,null,null,null,null,{"$f":"IF(COUNTIF($AI$5:AI259,AI259)=1,AI259,\"\")","v":""},{"$f":"IF(AI259=\"\",\"\",IF(COUNTIF($AX$5:AX259,AX259)=1,AX259,\"\"))","v":""},"",null,"",null,"",null,null,null,""]
[null,null,null,null,null,null,null,null,null,null,null,"削除","","","","","","","","","",{"$f":"IF(B260=\"\",\"\",IF(COUNTIF($U$4:U260,U260)=1,\"\",\"重複\"))","v":""},"",{"$f":"IF(B260=\"\",\"\",IF(LEFT(G260,3)=\"144\",IF(LEFT(H260,3)=\"SSB\",\"\",IF(LEFT(H260,3)=\"A3J\",\"\",IF(LEFT(H260,3)=\"J3E\",\"\",\"形式外\"))),\"形式外\"))","v":""},null,null,null,null,null,null,null,null,null,null,null,null,null,null,null,{"$f":"IF(COUNTIF($AI$5:AI260,AI260)=1,AI260,\"\")","v":""},{"$f":"IF(AI260=\"\",\"\",IF(COUNTIF($AX$5:AX260,AX260)=1,AX260,\"\"))","v":""},"",null,"",null,"",null,null,null,""]
[null,null,null,null,null,null,null,null,null,null,null,{"$f":"IF(B261=\"\",\"削除\",IF(OR(V261=\"重複\",W261=\"削除\",X261=\"形式外\"),\"削除\",1))","v":"削除"},{"$f":"IF(L261=\"削除\",\"\",C261)","v":""},{"$f":"IF(L261=\"削除\",\"\",D261)","v":""},{"$f":"IF(L261=\"削除\",\"\",B261)","v":""},{"$f":"IF(L261=\"削除\",\"\",E261)","v":""},{"$f":"IF(L261=\"削除\",\"\",F261)","v":""},{"$f":"IF(L261=\"削除\",\"\",I261)","v":""},{"$f":"IF(L261=\"削除\",\"\",IF(J261=\"\",\"\",J261))","v":""},{"$f":"IF(B261=\"\",\"\",LEFT(B261,FIND(\"/\",B261&\"/\")-1))","v":""},{"$f":"IF(B261=\"\",\"\",T261&\"/\"&H261)","v":""},{"$f":"IF(B261=\"\",\"\",IF(COUNTIF($U$4:U261,U261)=1,\"\",\"重複\"))","v":""},{"$f":"IF(B261=\"\",\"\",IF(LEFT(T261,1)=\"8\",\"削除\",IF(LEN(T261)=5,IF(MID(T261,4,2)=\"RL\",\"削除\",\"\"),IF(MID(T261,4,1)=\"Y\",\"削除\",IF(MID(T261,4,1)=\"Z\",\"削除\",\"\")))))","v":""},"",null,null,null,null,null,null,null,null,null,null,null,null,null,null,null,{"$f":"IF(COUNTIF($AI$5:AI261,AI261)=1,AI261,\"\")","v":""},{"$f":"IF(AI261=\"\",\"\",IF(COUNTIF($AX$5:AX261,AX261)=1,AX261,\"\"))","v":""},"",null,"",null,"",null,null,null,""]
[null,null,null,null,null,null,null,null,null,null,null,"削除","","","","","","","","","",{"$f":"IF(B262=\"\",\"\",IF(COUNTIF($U$4:U262,U262)=1,\"\",\"重複\"))","v":""},"","",null,null,null,null,null,null,null,null,null,null,null,null,null,null,null,{"$f":"IF(COUNTIF($AI$5:AI262,AI262)=1,AI262,\"\")","v":""},{"$f":"IF(AI262=\"\",\"\",IF(COUNTIF($AX$5:AX262,AX262)=1,AX262,\"\"))","v":""},{"$f":"IF(AK262=\"\",\"\",IF(COUNTIF($BN$5:$BN$304,AT262)=1,5,1))","v":""},null,{"$f":"IF(COUNTIF($BN$5:$BN$40,AT262)=1,\"M\",\"\")","v":""},null,{"$f":"LEFT(AK262&\"/\",FIND(\"/\",AK262&\"/\")-1)","v":""},null,null,null,{"$f":"RIGHT(AT262,1)","v":""}]
[null,null,null,null,null,null,null,null,null,null,null,"削除","","","","","","","","","",{"$f":"IF(B263=\"\",\"\",IF(COUNTIF($U$4:U263,U263)=1,\"\",\"重複\"))","v":""},"","",null,null,null,null,null,null,null,null,null,null,null,null,null,null,null,{"$f":"IF(COUNTIF($AI$5:AI263,AI263)=1,AI263,\"\")","v":""},{"$f":"IF(AI263=\"\",\"\",IF(COUNTIF($AX$5:AX263,AX263)=1,AX263,\"\"))","v":""},"",null,"",null,"",null,null,null,""]
[null,null,null,null,null,null,null,null,null,null,null,"削除","","","","","","","","","",{"$f":"IF(B264=\"\",\"\",IF(COUNTIF($U$4:U264,U264)=1,\"\",\"重複\"))","v":""},"","",null,null,null,null,null,null,null,null,null,260,null,null,null,null,null,{"$f":"IF(COUNTIF($AI$5:AI264,AI264)=1,AI264,\"\")","v":""},{"$f":"IF(AI264=\"\",\"\",IF(COUNTIF($AX$5:AX264,AX264)=1,AX264,\"\"))","v":""},"",null,"",null,"",null,null,null,""]
[null,null,null,null,null,null,null,null,null,null,null,"削除","","","","","","","","","",{"$f":"IF(B265=\"\",\"\",IF(COUNTIF($U$4:U265,U265)=1,\"\",\"重複\"))","v":""},"","",null,null,null,null,null,null,null,null,null,null,null,null,null,null,null,{"$f":"IF(COUNTIF($AI$5:AI265,AI265)=1,AI265,\"\")","v":""},{"$f":"IF(AI265=\"\",\"\",IF(COUNTIF($AX$5:AX265,AX265)=1,AX265,\"\"))","v":""},"",null,"",null,"",null,null,null,""]
[null,null,null,null,null,null,null,null,null,null,null,"削除","","","","","","","","","",{"$f":"IF(B266=\"\",\"\",IF(COUNTIF($U$4:U266,U266)=1,\"\",\"重複\"))","v":""},"","",null,null,null,null,null,null,null,null,null,null,null,null,null,null,null,{"$f":"IF(COUNTIF($AI$5:AI266,AI266)=1,AI266,\"\")","v":""},{"$f":"IF(AI266=\"\",\"\",IF(COUNTIF($AX$5:AX266,AX266)=1,AX266,\"\"))","v":""},"",null,"",null,"",null,null,null,""]
[null,null,null,null,null,null,null,null,null,null,null,"削除","","","","","","","","","",{"$f":"IF(B267=\"\",\"\",IF(COUNTIF($U$4:U267,U267)=1,\"\",\"重複\"))","v":""},"","",null,null,null,null,null,null,null,null,null,null,null,null,null,null,null,{"$f":"IF(COUNTIF($AI$5:AI267,AI267)=1,AI267,\"\")","v":""},{"$f":"IF(AI267=\"\",\"\",IF(COUNTIF($AX$5:AX267,AX267)=1,AX267,\"\"))","v":""},"",null,"",null,"",null,null,null,""]
[null,null,null,null,null,null,null,null,null,null,null,"削除","","","","","","","","","",{"$f":"IF(B268=\"\",\"\",IF(COUNTIF($U$4:U268,U268)=1,\"\",\"重複\"))","v":""},"","",null,null,null,null,null,null,null,null,null,null,null,null,null,null,null,{"$f":"IF(COUNTIF($AI$5:AI268,AI268)=1,AI268,\"\")","v":""},{"$f":"IF(AI268=\"\",\"\",IF(COUNTIF($AX$5:AX268,AX268)=1,AX268,\"\"))","v":""},"",null,"",null,"",null,null,null,""]
[null,null,null,null,null,null,null,null,null,null,null,"削除","","","","","","","","","",{"$f":"IF(B269=\"\",\"\",IF(COUNTIF($U$4:U269,U269)=1,\"\",\"重複\"))","v":""},"","",null,null,null,null,null,null,null,null,null,null,null,null,null,null,null,{"$f":"IF(COUNTIF($AI$5:AI269,AI269)=1,AI269,\"\")","v":""},{"$f":"IF(AI269=\"\",\"\",IF(COUNTIF($AX$5:AX269,AX269)=1,AX269,\"\"))","v":""},"",null,"",null,"",null,null,null,""]
[null,null,null,null,null,null,null,null,null,null,null,"削除","","","","","","","","","",{"$f":"IF(B270=\"\",\"\",IF(COUNTIF($U$4:U270,U270)=1,\"\",\"重複\"))","v":""},"","",null,null,null,null,null,null,null,null,null,null,null,null,null,null,null,{"$f":"IF(COUNTIF($AI$5:AI270,AI270)=1,AI270,\"\")","v":""},{"$f":"IF(AI270=\"\",\"\",IF(COUNTIF($AX$5:AX270,AX270)=1,AX270,\"\"))","v":""},"",null,"",null,"",null,null,null,""]
[null,null,null,null,null,null,null,null,null,null,null,"削除","","","","","","","","","",{"$f":"IF(B271=\"\",\"\",IF(COUNTIF($U$4:U271,U271)=1,\"\",\"重複\"))","v":""},"","",null,null,null,null,null,null,null,null,null,null,null,null,null,null,null,{"$f":"IF(COUNTIF($AI$5:AI271,AI271)=1,AI271,\"\")","v":""},{"$f":"IF(AI271=\"\",\"\",IF(COUNTIF($AX$5:AX271,AX271)=1,AX271,\"\"))","v":""},"",null,"",null,"",null,null,null,""]
[null,null,null,null,null,null,null,null,null,null,null,"削除","","","","","","","","","",{"$f":"IF(B272=\"\",\"\",IF(COUNTIF($U$4:U272,U272)=1,\"\",\"重複\"))","v":""},"","",null,null,null,null,null,null,null,null,null,null,null,null,null,null,null,{"$f":"IF(COUNTIF($AI$5:AI272,AI272)=1,AI272,\"\")","v":""},{"$f":"IF(AI272=\"\",\"\",IF(COUNTIF($AX$5:AX272,AX272)=1,AX272,\"\"))","v":""},"",null,"",null,"",null,null,null,""]
[null,null,null,null,null,null,null,null,null,null,null,"削除","","","","","","","","","",{"$f":"IF(B273=\"\",\"\",IF(COUNTIF($U$4:U273,U273)=1,\"\",\"重複\"))","v":""},"","",null,null,null,null,null,null,null,null,null,null,null,null,null,null,null,{"$f":"IF(COUNTIF($AI$5:AI273,AI273)=1,AI273,\"\")","v":""},{"$f":"IF(AI273=\"\",\"\",IF(COUNTIF($AX$5:AX273,AX273)=1,AX273,\"\"))","v":""},"",null,"",null,"",null,null,null,""]
[null,null,null,null,null,null,null,null,null,null,null,"削除","","","","","","","","","",{"$f":"IF(B274=\"\",\"\",IF(COUNTIF($U$4:U274,U274)=1,\"\",\"重複\"))","v":""},"","",null,null,null,null,null,null,null,null,null,270,null,null,null,null,null,{"$f":"IF(COUNTIF($AI$5:AI274,AI274)=1,AI274,\"\")","v":""},{"$f":"IF(AI274=\"\",\"\",IF(COUNTIF($AX$5:AX274,AX274)=1,AX274,\"\"))","v":""},"",null,"",null,"",null,null,null,""]
[null,null,null,null,null,null,null,null,null,null,null,"削除","","","","","","","","","",{"$f":"IF(B275=\"\",\"\",IF(COUNTIF($U$4:U275,U275)=1,\"\",\"重複\"))","v":""},"","",null,null,null,null,null,null,null,null,null,null,null,null,null,null,null,{"$f":"IF(COUNTIF($AI$5:AI275,AI275)=1,AI275,\"\")","v":""},{"$f":"IF(AI275=\"\",\"\",IF(COUNTIF($AX$5:AX275,AX275)=1,AX275,\"\"))","v":""},"",null,"",null,"",null,null,null,""]
[null,null,null,null,null,null,null,null,null,null,null,"削除","","","","","","","","","",{"$f":"IF(B276=\"\",\"\",IF(COUNTIF($U$4:U276,U276)=1,\"\",\"重複\"))","v":""},"","",null,null,null,null,null,null,null,null,null,null,null,null,null,null,null,{"$f":"IF(COUNTIF($AI$5:AI276,AI276)=1,AI276,\"\")","v":""},{"$f":"IF(AI276=\"\",\"\",IF(COUNTIF($AX$5:AX276,AX276)=1,AX276,\"\"))","v":""},"",null,"",null,"",null,null,null,""]
[null,null,null,null,null,null,null,null,null,null,null,"削除","","","","","","","","","",{"$f":"IF(B277=\"\",\"\",IF(COUNTIF($U$4:U277,U277)=1,\"\",\"重複\"))","v":""},"","",null,null,null,null,null,null,null,null,null,null,null,null,null,null,null,{"$f":"IF(COUNTIF($AI$5:AI277,AI277)=1,AI277,\"\")","v":""},{"$f":"IF(AI277=\"\",\"\",IF(COUNTIF($AX$5:AX277,AX277)=1,AX277,\"\"))","v":""},"",null,"",null,"",null,null,null,""]
[null,null,null,null,null,null,null,null,null,null,null,"削除","","","","","","","","","",{"$f":"IF(B278=\"\",\"\",IF(COUNTIF($U$4:U278,U278)=1,\"\",\"重複\"))","v":""},"","",null,null,null,null,null,null,null,null,null,null,null,null,null,null,null,{"$f":"IF(COUNTIF($AI$5:AI278,AI278)=1,AI278,\"\")","v":""},{"$f":"IF(AI278=\"\",\"\",IF(COUNTIF($AX$5:AX278,AX278)=1,AX278,\"\"))","v":""},"",null,"",null,"",null,null,null,""]
[null,null,null,null,null,null,null,null,null,null,null,"削除","","","","","","","","","",{"$f":"IF(B279=\"\",\"\",IF(COUNTIF($U$4:U279,U279)=1,\"\",\"重複\"))","v":""},"","",null,null,null,null,null,null,null,null,null,null,null,null,null,null,null,{"$f":"IF(COUNTIF($AI$5:AI279,AI279)=1,AI279,\"\")","v":""},{"$f":"IF(AI279=\"\",\"\",IF(COUNTIF($AX$5:AX279,AX279)=1,AX279,\"\"))","v":""},"",null,"",null,"",null,null,null,""]
[null,null,null,null,null,null,null,null,null,null,null,"削除","","","","","","","","","",{"$f":"IF(B280=\"\",\"\",IF(COUNTIF($U$4:U280,U280)=1,\"\",\"重複\"))","v":""},"","",null,null,null,null,null,null,null,null,null,null,null,null,null,null,null,{"$f":"IF(COUNTIF($AI$5:AI280,AI280)=1,AI280,\"\")","v":""},{"$f":"IF(AI280=\"\",\"\",IF(COUNTIF($AX$5:AX280,AX280)=1,AX280,\"\"))","v":""},"",null,"",null,"",null,null,null,""]
[null,null,null,null,null,null,null,null,null,null,null,"削除","","","","","","","","","",{"$f":"IF(B281=\"\",\"\",IF(COUNTIF($U$4:U281,U281)=1,\"\",\"重複\"))","v":""},"","",null,null,null,null,null,null,null,null,null,null,null,null,null,null,null,{"$f":"IF(COUNTIF($AI$5:AI281,AI281)=1,AI281,\"\")","v":""},{"$f":"IF(AI281=\"\",\"\",IF(COUNTIF($AX$5:AX281,AX281)=1,AX281,\"\"))","v":""},"",null,"",null,"",null,null,null,""]
[null,null,null,null,null,null,null,null,null,null,null,"削除","","","","","","","","","",{"$f":"IF(B282=\"\",\"\",IF(COUNTIF($U$4:U282,U282)=1,\"\",\"重複\"))","v":""},"","",null,null,null,null,null,null,null,null,null,null,null,null,null,null,null,{"$f":"IF(COUNTIF($AI$5:AI282,AI282)=1,AI282,\"\")","v":""},{"$f":"IF(AI282=\"\",\"\",IF(COUNTIF($AX$5:AX282,AX282)=1,AX282,\"\"))","v":""},"",null,"",null,"",null,null,null,""]
[null,null,null,null,null,null,null,null,null,null,null,"削除","","","","","","","","","",{"$f":"IF(B283=\"\",\"\",IF(COUNTIF($U$4:U283,U283)=1,\"\",\"重複\"))","v":""},"","",null,null,null,null,null,null,null,null,null,null,null,null,null,null,null,{"$f":"IF(COUNTIF($AI$5:AI283,AI283)=1,AI283,\"\")","v":""},{"$f":"IF(AI283=\"\",\"\",IF(COUNTIF($AX$5:AX283,AX283)=1,AX283,\"\"))","v":""},"",null,"",null,"",null,null,null,""]
[null,null,null,null,null,null,null,null,null,null,null,"削除","","","","","","","","","",{"$f":"IF(B284=\"\",\"\",IF(COUNTIF($U$4:U284,U284)=1,\"\",\"重複\"))","v":""},"","",null,null,null,null,null,null,null,null,null,280,null,null,null,null,null,{"$f":"IF(COUNTIF($AI$5:AI284,AI284)=1,AI284,\"\")","v":""},{"$f":"IF(AI284=\"\",\"\",IF(COUNTIF($AX$5:AX284,AX284)=1,AX284,\"\"))","v":""},"",null,"",null,"",null,null,null,""]
[null,null,null,null,null,null,null,null,null,null,null,"削除","","","","","","","","","",{"$f":"IF(B285=\"\",\"\",IF(COUNTIF($U$4:U285,U285)=1,\"\",\"重複\"))","v":""},"","",null,null,null,null,null,null,null,null,null,null,null,null,null,null,null,{"$f":"IF(COUNTIF($AI$5:AI285,AI285)=1,AI285,\"\")","v":""},{"$f":"IF(AI285=\"\",\"\",IF(COUNTIF($AX$5:AX285,AX285)=1,AX285,\"\"))","v":""},"",null,"",null,"",null,null,null,""]
[null,null,null,null,null,null,null,null,null,null,null,"削除","","","","","","","","","",{"$f":"IF(B286=\"\",\"\",IF(COUNTIF($U$4:U286,U286)=1,\"\",\"重複\"))","v":""},"","",null,null,null,null,null,null,null,null,null,null,null,null,null,null,null,{"$f":"IF(COUNTIF($AI$5:AI286,AI286)=1,AI286,\"\")","v":""},{"$f":"IF(AI286=\"\",\"\",IF(COUNTIF($AX$5:AX286,AX286)=1,AX286,\"\"))","v":""},"",null,"",null,"",null,null,null,""]
[null,null,null,null,null,null,null,null,null,null,null,"削除","","","","","","","","","",{"$f":"IF(B287=\"\",\"\",IF(COUNTIF($U$4:U287,U287)=1,\"\",\"重複\"))","v":""},"","",null,null,null,null,null,null,null,null,null,null,null,null,null,null,null,{"$f":"IF(COUNTIF($AI$5:AI287,AI287)=1,AI287,\"\")","v":""},{"$f":"IF(AI287=\"\",\"\",IF(COUNTIF($AX$5:AX287,AX287)=1,AX287,\"\"))","v":""},"",null,"",null,"",null,null,null,""]
[null,null,null,null,null,null,null,null,null,null,null,"削除","","","","","","","","","",{"$f":"IF(B288=\"\",\"\",IF(COUNTIF($U$4:U288,U288)=1,\"\",\"重複\"))","v":""},"","",null,null,null,null,null,null,null,null,null,null,null,null,null,null,null,{"$f":"IF(COUNTIF($AI$5:AI288,AI288)=1,AI288,\"\")","v":""},{"$f":"IF(AI288=\"\",\"\",IF(COUNTIF($AX$5:AX288,AX288)=1,AX288,\"\"))","v":""},"",null,"",null,"",null,null,null,""]
[null,null,null,null,null,null,null,null,null,null,null,"削除","","","","","","","","","",{"$f":"IF(B289=\"\",\"\",IF(COUNTIF($U$4:U289,U289)=1,\"\",\"重複\"))","v":""},"","",null,null,null,null,null,null,null,null,null,null,null,null,null,null,null,{"$f":"IF(COUNTIF($AI$5:AI289,AI289)=1,AI289,\"\")","v":""},{"$f":"IF(AI289=\"\",\"\",IF(COUNTIF($AX$5:AX289,AX289)=1,AX289,\"\"))","v":""},"",null,"",null,"",null,null,null,""]
[null,null,null,null,null,null,null,null,null,null,null,"削除","","","","","","","","","",{"$f":"IF(B290=\"\",\"\",IF(COUNTIF($U$4:U290,U290)=1,\"\",\"重複\"))","v":""},"","",null,null,null,null,null,null,null,null,null,null,null,null,null,null,null,{"$f":"IF(COUNTIF($AI$5:AI290,AI290)=1,AI290,\"\")","v":""},{"$f":"IF(AI290=\"\",\"\",IF(COUNTIF($AX$5:AX290,AX290)=1,AX290,\"\"))","v":""},"",null,"",null,"",null,null,null,""]
[null,null,null,null,null,null,null,null,null,null,null,"削除","","","","","","","","","",{"$f":"IF(B291=\"\",\"\",IF(COUNTIF($U$4:U291,U291)=1,\"\",\"重複\"))","v":""},"","",null,null,null,null,null,null,null,null,null,null,null,null,null,null,null,{"$f":"IF(COUNTIF($AI$5:AI291,AI291)=1,AI291,\"\")","v":""},{"$f":"IF(AI291=\"\",\"\",IF(COUNTIF($AX$5:AX291,AX291)=1,AX291,\"\"))","v":""},"",null,"",null,"",null,null,null,""]
[null,null,null,null,null,null,null,null,null,null,null,"削除","","","","","","","","","",{"$f":"IF(B292=\"\",\"\",IF(COUNTIF($U$4:U292,U292)=1,\"\",\"重複\"))","v":""},"","",null,null,null,null,null,null,null,null,null,null,null,null,null,null,null,{"$f":"IF(COUNTIF($AI$5:AI292,AI292)=1,AI292,\"\")","v":""},{"$f":"IF(AI292=\"\",\"\",IF(COUNTIF($AX$5:AX292,AX292)=1,AX292,\"\"))","v":""},"",null,"",null,"",null,null,null,""]
[null,null,null,null,null,null,null,null,null,null,null,"削除","","","","","","","","","",{"$f":"IF(B293=\"\",\"\",IF(COUNTIF($U$4:U293,U293)=1,\"\",\"重複\"))","v":""},"","",null,null,null,null,null,null,null,null,null,null,null,null,null,null,null,{"$f":"IF(COUNTIF($AI$5:AI293,AI293)=1,AI293,\"\")","v":""},{"$f":"IF(AI293=\"\",\"\",IF(COUNTIF($AX$5:AX293,AX293)=1,AX293,\"\"))","v":""},"",null,"",null,"",null,null,null,""]
[null,null,null,null,null,null,null,null,null,null,null,"削除","","","","","","","","","",{"$f":"IF(B294=\"\",\"\",IF(COUNTIF($U$4:U294,U294)=1,\"\",\"重複\"))","v":""},"","",null,null,null,null,null,null,null,null,null,290,null,null,null,null,null,{"$f":"IF(COUNTIF($AI$5:AI294,AI294)=1,AI294,\"\")","v":""},{"$f":"IF(AI294=\"\",\"\",IF(COUNTIF($AX$5:AX294,AX294)=1,AX294,\"\"))","v":""},"",null,"",null,"",null,null,null,""]
[null,null,null,null,null,null,null,null,null,null,null,"削除","","","","","","","","","",{"$f":"IF(B295=\"\",\"\",IF(COUNTIF($U$4:U295,U295)=1,\"\",\"重複\"))","v":""},"","",null,null,null,null,null,null,null,null,null,null,null,null,null,null,null,{"$f":"IF(COUNTIF($AI$5:AI295,AI295)=1,AI295,\"\")","v":""},{"$f":"IF(AI295=\"\",\"\",IF(COUNTIF($AX$5:AX295,AX295)=1,AX295,\"\"))","v":""},"",null,"",null,"",null,null,null,""]
[null,null,null,null,null,null,null,null,null,null,null,"削除","","","","","","","","","",{"$f":"IF(B296=\"\",\"\",IF(COUNTIF($U$4:U296,U296)=1,\"\",\"重複\"))","v":""},"","",null,null,null,null,null,null,null,null,null,null,null,null,null,null,null,{"$f":"IF(COUNTIF($AI$5:AI296,AI296)=1,AI296,\"\")","v":""},{"$f":"IF(AI296=\"\",\"\",IF(COUNTIF($AX$5:AX296,AX296)=1,AX296,\"\"))","v":""},"",null,"",null,"",null,null,null,""]
[null,null,null,null,null,null,null,null,null,null,null,"削除","","","","","","","","","",{"$f":"IF(B297=\"\",\"\",IF(COUNTIF($U$4:U297,U297)=1,\"\",\"重複\"))","v":""},"","",null,null,null,null,null,null,null,null,null,null,null,null,null,null,null,{"$f":"IF(COUNTIF($AI$5:AI297,AI297)=1,AI297,\"\")","v":""},{"$f":"IF(AI297=\"\",\"\",IF(COUNTIF($AX$5:AX297,AX297)=1,AX297,\"\"))","v":""},"",null,"",null,"",null,null,null,""]
[null,null,null,null,null,null,null,null,null,null,null,"削除","","","","","","","","","",{"$f":"IF(B298=\"\",\"\",IF(COUNTIF($U$4:U298,U298)=1,\"\",\"重複\"))","v":""},"","",null,null,null,null,null,null,null,null,null,null,null,null,null,null,null,{"$f":"IF(COUNTIF($AI$5:AI298,AI298)=1,AI298,\"\")","v":""},{"$f":"IF(AI298=\"\",\"\",IF(COUNTIF($AX$5:AX298,AX298)=1,AX298,\"\"))","v":""},"",null,"",null,"",null,null,null,""]
[null,null,null,null,null,null,null,null,null,null,null,"削除","","","","","","","","","",{"$f":"IF(B299=\"\",\"\",IF(COUNTIF($U$4:U299,U299)=1,\"\",\"重複\"))","v":""},"","",null,null,null,null,null,null,null,null,null,null,null,null,null,null,null,{"$f":"IF(COUNTIF($AI$5:AI299,AI299)=1,AI299,\"\")","v":""},{"$f":"IF(AI299=\"\",\"\",IF(COUNTIF($AX$5:AX299,AX299)=1,AX299,\"\"))","v":""},"",null,"",null,"",null,null,null,""]
[null,null,null,null,null,null,null,null,null,null,null,"削除","","","","","","","","","",{"$f":"IF(B300=\"\",\"\",IF(COUNTIF($U$4:U300,U300)=1,\"\",\"重複\"))","v":""},"","",null,null,null,null,null,null,null,null,null,null,null,null,null,null,null,{"$f":"IF(COUNTIF($AI$5:AI300,AI300)=1,AI300,\"\")","v":""},{"$f":"IF(AI300=\"\",\"\",IF(COUNTIF($AX$5:AX300,AX300)=1,AX300,\"\"))","v":""},"",null,"",null,"",null,null,null,""]
[null,null,null,null,null,null,null,null,null,null,null,"削除","","","","","","","","","",{"$f":"IF(B301=\"\",\"\",IF(COUNTIF($U$4:U301,U301)=1,\"\",\"重複\"))","v":""},"","",null,null,null,null,null,null,null,null,null,null,null,null,null,null,null,{"$f":"IF(COUNTIF($AI$5:AI301,AI301)=1,AI301,\"\")","v":""},{"$f":"IF(AI301=\"\",\"\",IF(COUNTIF($AX$5:AX301,AX301)=1,AX301,\"\"))","v":""},"",null,"",null,"",null,null,null,""]
[null,null,null,null,null,null,null,null,null,null,null,"削除","","","","","","","","","",{"$f":"IF(B302=\"\",\"\",IF(COUNTIF($U$4:U302,U302)=1,\"\",\"重複\"))","v":""},"","",null,null,null,null,null,null,null,null,null,null,null,null,null,null,null,{"$f":"IF(COUNTIF($AI$5:AI302,AI302)=1,AI302,\"\")","v":""},{"$f":"IF(AI302=\"\",\"\",IF(COUNTIF($AX$5:AX302,AX302)=1,AX302,\"\"))","v":""},"",null,"",null,"",null,null,null,""]
[null,null,null,null,null,null,null,null,null,null,null,"削除","","","","","","","","","",{"$f":"IF(B303=\"\",\"\",IF(COUNTIF($U$4:U303,U303)=1,\"\",\"重複\"))","v":""},"","",null,null,null,null,null,null,null,null,null,null,null,null,null,null,null,{"$f":"IF(COUNTIF($AI$5:AI303,AI303)=1,AI303,\"\")","v":""},{"$f":"IF(AI303=\"\",\"\",IF(COUNTIF($AX$5:AX303,AX303)=1,AX303,\"\"))","v":""},"",null,"",null,"",null,null,null,""]
[null,null,null,null,null,null,null,null,null,null,null,"削除","","","","","","","","","",{"$f":"IF(B304=\"\",\"\",IF(COUNTIF($U$4:U304,U304)=1,\"\",\"重複\"))","v":""},"","",null,null,null,null,null,null,null,null,null,300,null,null,null,null,null,{"$f":"IF(COUNTIF($AI$5:AI304,AI304)=1,AI304,\"\")","v":""},{"$f":"IF(AI304=\"\",\"\",IF(COUNTIF($AX$5:AX304,AX304)=1,AX304,\"\"))","v":""},"",null,"",null,"",null,null,null,""]
[null,null,null,null,null,null,null,null,null,null,null,"削除","","","","","","","","","",{"$f":"IF(B305=\"\",\"\",IF(COUNTIF($U$4:U305,U305)=1,\"\",\"重複\"))","v":""},"","",null,null,null,null,null,null,null,null,null,null,null,null,null,null,null,{"$f":"IF(COUNTIF($AI$5:AI305,AI305)=1,AI305,\"\")","v":""},{"$f":"IF(AI305=\"\",\"\",IF(COUNTIF($AX$5:AX305,AX305)=1,AX305,\"\"))","v":""},"",null,"",null,"",null,null,null,""]
[null,null,null,null,null,null,null,null,null,null,null,"削除","","","","","","","","","",{"$f":"IF(B306=\"\",\"\",IF(COUNTIF($U$4:U306,U306)=1,\"\",\"重複\"))","v":""},"","",null,null,null,null,null,null,null,null,null,null,null,null,null,null,null,{"$f":"IF(COUNTIF($AI$5:AI306,AI306)=1,AI306,\"\")","v":""},{"$f":"IF(AI306=\"\",\"\",IF(COUNTIF($AX$5:AX306,AX306)=1,AX306,\"\"))","v":""},"",null,"",null,"",null,null,null,""]
[null,null,null,null,null,null,null,null,null,null,null,"削除","","","","","","","","","",{"$f":"IF(B307=\"\",\"\",IF(COUNTIF($U$4:U307,U307)=1,\"\",\"重複\"))","v":""},"","",null,null,null,null,null,null,null,null,null,null,null,null,null,null,null,{"$f":"IF(COUNTIF($AI$5:AI307,AI307)=1,AI307,\"\")","v":""},{"$f":"IF(AI307=\"\",\"\",IF(COUNTIF($AX$5:AX307,AX307)=1,AX307,\"\"))","v":""},"",null,"",null,"",null,null,null,""]
[null,null,null,null,null,null,null,null,null,null,null,"削除","","","","","","","","","",{"$f":"IF(B308=\"\",\"\",IF(COUNTIF($U$4:U308,U308)=1,\"\",\"重複\"))","v":""},"","",null,null,null,null,null,null,null,null,null,null,null,null,null,null,null,{"$f":"IF(COUNTIF($AI$5:AI308,AI308)=1,AI308,\"\")","v":""},{"$f":"IF(AI308=\"\",\"\",IF(COUNTIF($AX$5:AX308,AX308)=1,AX308,\"\"))","v":""},"",null,"",null,"",null,null,null,""]
[null,null,null,null,null,null,null,null,null,null,null,"削除","","","","","","","","","",{"$f":"IF(B309=\"\",\"\",IF(COUNTIF($U$4:U309,U309)=1,\"\",\"重複\"))","v":""},"","",null,null,null,null,null,null,null,null,null,null,null,null,null,null,null,{"$f":"IF(COUNTIF($AI$5:AI309,AI309)=1,AI309,\"\")","v":""},{"$f":"IF(AI309=\"\",\"\",IF(COUNTIF($AX$5:AX309,AX309)=1,AX309,\"\"))","v":""},"",null,"",null,"",null,null,null,""]
[null,null,null,null,null,null,null,null,null,null,null,"削除","","","","","","","","","",{"$f":"IF(B310=\"\",\"\",IF(COUNTIF($U$4:U310,U310)=1,\"\",\"重複\"))","v":""},"","",null,null,null,null,null,null,null,null,null,null,null,null,null,null,null,{"$f":"IF(COUNTIF($AI$5:AI310,AI310)=1,AI310,\"\")","v":""},{"$f":"IF(AI310=\"\",\"\",IF(COUNTIF($AX$5:AX310,AX310)=1,AX310,\"\"))","v":""},"",null,"",null,"",null,null,null,""]
[null,null,null,null,null,null,null,null,null,null,null,"削除","","","","","","","","","",{"$f":"IF(B311=\"\",\"\",IF(COUNTIF($U$4:U311,U311)=1,\"\",\"重複\"))","v":""},"","",null,null,null,null,null,null,null,null,null,null,null,null,null,null,null,{"$f":"IF(COUNTIF($AI$5:AI311,AI311)=1,AI311,\"\")","v":""},{"$f":"IF(AI311=\"\",\"\",IF(COUNTIF($AX$5:AX311,AX311)=1,AX311,\"\"))","v":""},"",null,"",null,"",null,null,null,""]
[null,null,null,null,null,null,null,null,null,null,null,"削除","","","","","","","","","",{"$f":"IF(B312=\"\",\"\",IF(COUNTIF($U$4:U312,U312)=1,\"\",\"重複\"))","v":""},"","",null,null,null,null,null,null,null,null,null,null,null,null,null,null,null,{"$f":"IF(COUNTIF($AI$5:AI312,AI312)=1,AI312,\"\")","v":""},{"$f":"IF(AI312=\"\",\"\",IF(COUNTIF($AX$5:AX312,AX312)=1,AX312,\"\"))","v":""},"",null,"",null,"",null,null,null,""]
[null,null,null,null,null,null,null,null,null,null,null,"削除","","","","","","","","","",{"$f":"IF(B313=\"\",\"\",IF(COUNTIF($U$4:U313,U313)=1,\"\",\"重複\"))","v":""},"","",null,null,null,null,null,null,null,null,null,null,null,null,null,null,null,{"$f":"IF(COUNTIF($AI$5:AI313,AI313)=1,AI313,\"\")","v":""},{"$f":"IF(AI313=\"\",\"\",IF(COUNTIF($AX$5:AX313,AX313)=1,AX313,\"\"))","v":""},"",null,"",null,"",null,null,null,""]
[null,null,null,null,null,null,null,null,null,null,null,"削除","","","","","","","","","",{"$f":"IF(B314=\"\",\"\",IF(COUNTIF($U$4:U314,U314)=1,\"\",\"重複\"))","v":""},"","",null,null,null,null,null,null,null,null,null,310,null,null,null,null,null,{"$f":"IF(COUNTIF($AI$5:AI314,AI314)=1,AI314,\"\")","v":""},{"$f":"IF(AI314=\"\",\"\",IF(COUNTIF($AX$5:AX314,AX314)=1,AX314,\"\"))","v":""},"",null,"",null,"",null,null,null,""]
[null,null,null,null,null,null,null,null,null,null,null,"削除","","","","","","","","","",{"$f":"IF(B315=\"\",\"\",IF(COUNTIF($U$4:U315,U315)=1,\"\",\"重複\"))","v":""},"","",null,null,null,null,null,null,null,null,null,null,null,null,null,null,null,{"$f":"IF(COUNTIF($AI$5:AI315,AI315)=1,AI315,\"\")","v":""},{"$f":"IF(AI315=\"\",\"\",IF(COUNTIF($AX$5:AX315,AX315)=1,AX315,\"\"))","v":""},"",null,"",null,"",null,null,null,""]
[null,null,null,null,null,null,null,null,null,null,null,"削除","","","","","","","","","",{"$f":"IF(B316=\"\",\"\",IF(COUNTIF($U$4:U316,U316)=1,\"\",\"重複\"))","v":""},"","",null,null,null,null,null,null,null,null,null,null,null,null,null,null,null,{"$f":"IF(COUNTIF($AI$5:AI316,AI316)=1,AI316,\"\")","v":""},{"$f":"IF(AI316=\"\",\"\",IF(COUNTIF($AX$5:AX316,AX316)=1,AX316,\"\"))","v":""},"",null,"",null,"",null,null,null,""]
[null,null,null,null,null,null,null,null,null,null,null,"削除","","","","","","","","","",{"$f":"IF(B317=\"\",\"\",IF(COUNTIF($U$4:U317,U317)=1,\"\",\"重複\"))","v":""},"","",null,null,null,null,null,null,null,null,null,null,null,null,null,null,null,{"$f":"IF(COUNTIF($AI$5:AI317,AI317)=1,AI317,\"\")","v":""},{"$f":"IF(AI317=\"\",\"\",IF(COUNTIF($AX$5:AX317,AX317)=1,AX317,\"\"))","v":""},"",null,"",null,"",null,null,null,""]
[null,null,null,null,null,null,null,null,null,null,null,"削除","","","","","","","","","",{"$f":"IF(B318=\"\",\"\",IF(COUNTIF($U$4:U318,U318)=1,\"\",\"重複\"))","v":""},"","",null,null,null,null,null,null,null,null,null,null,null,null,null,null,null,{"$f":"IF(COUNTIF($AI$5:AI318,AI318)=1,AI318,\"\")","v":""},{"$f":"IF(AI318=\"\",\"\",IF(COUNTIF($AX$5:AX318,AX318)=1,AX318,\"\"))","v":""},"",null,"",null,"",null,null,null,""]
[null,null,null,null,null,null,null,null,null,null,null,"削除","","","","","","","","","",{"$f":"IF(B319=\"\",\"\",IF(COUNTIF($U$4:U319,U319)=1,\"\",\"重複\"))","v":""},"","",null,null,null,null,null,null,null,null,null,null,null,null,null,null,null,{"$f":"IF(COUNTIF($AI$5:AI319,AI319)=1,AI319,\"\")","v":""},{"$f":"IF(AI319=\"\",\"\",IF(COUNTIF($AX$5:AX319,AX319)=1,AX319,\"\"))","v":""},"",null,"",null,"",null,null,null,""]
[null,null,null,null,null,null,null,null,null,null,null,"削除","","","","","","","","","",{"$f":"IF(B320=\"\",\"\",IF(COUNTIF($U$4:U320,U320)=1,\"\",\"重複\"))","v":""},"","",null,null,null,null,null,null,null,null,null,null,null,null,null,null,null,{"$f":"IF(COUNTIF($AI$5:AI320,AI320)=1,AI320,\"\")","v":""},{"$f":"IF(AI320=\"\",\"\",IF(COUNTIF($AX$5:AX320,AX320)=1,AX320,\"\"))","v":""},"",null,"",null,"",null,null,null,""]
[null,null,null,null,null,null,null,null,null,null,null,"削除","","","","","","","","","",{"$f":"IF(B321=\"\",\"\",IF(COUNTIF($U$4:U321,U321)=1,\"\",\"重複\"))","v":""},"","",null,null,null,null,null,null,null,null,null,null,null,null,null,null,null,{"$f":"IF(COUNTIF($AI$5:AI321,AI321)=1,AI321,\"\")","v":""},{"$f":"IF(AI321=\"\",\"\",IF(COUNTIF($AX$5:AX321,AX321)=1,AX321,\"\"))","v":""},"",null,"",null,"",null,null,null,""]
[null,null,null,null,null,null,null,null,null,null,null,"削除","","","","","","","","","",{"$f":"IF(B322=\"\",\"\",IF(COUNTIF($U$4:U322,U322)=1,\"\",\"重複\"))","v":""},"","",null,null,null,null,null,null,null,null,null,null,null,null,null,null,null,{"$f":"IF(COUNTIF($AI$5:AI322,AI322)=1,AI322,\"\")","v":""},{"$f":"IF(AI322=\"\",\"\",IF(COUNTIF($AX$5:AX322,AX322)=1,AX322,\"\"))","v":""},"",null,"",null,"",null,null,null,""]
[null,null,null,null,null,null,null,null,null,null,null,"削除","","","","","","","","","",{"$f":"IF(B323=\"\",\"\",IF(COUNTIF($U$4:U323,U323)=1,\"\",\"重複\"))","v":""},"","",null,null,null,null,null,null,null,null,null,null,null,null,null,null,null,{"$f":"IF(COUNTIF($AI$5:AI323,AI323)=1,AI323,\"\")","v":""},{"$f":"IF(AI323=\"\",\"\",IF(COUNTIF($AX$5:AX323,AX323)=1,AX323,\"\"))","v":""},"",null,"",null,"",null,null,null,""]
[null,null,null,null,null,null,null,null,null,null,null,"削除","","","","","","","","","",{"$f":"IF(B324=\"\",\"\",IF(COUNTIF($U$4:U324,U324)=1,\"\",\"重複\"))","v":""},"",{"$f":"IF(B324=\"\",\"\",IF(LEFT(G324,3)=\"144\",IF(LEFT(H324,3)=\"SSB\",\"\",IF(LEFT(H324,3)=\"A3J\",\"\",IF(LEFT(H324,3)=\"J3E\",\"\",\"形式外\"))),\"形式外\"))","v":""},null,null,null,null,null,null,null,null,null,320,null,null,null,null,null,{"$f":"IF(COUNTIF($AI$5:AI324,AI324)=1,AI324,\"\")","v":""},{"$f":"IF(AI324=\"\",\"\",IF(COUNTIF($AX$5:AX324,AX324)=1,AX324,\"\"))","v":""},"",null,"",null,"",null,null,null,""]
[null,null,null,null,null,null,null,null,null,null,null,{"$f":"IF(B325=\"\",\"削除\",IF(OR(V325=\"重複\",W325=\"削除\",X325=\"形式外\"),\"削除\",1))","v":"削除"},{"$f":"IF(L325=\"削除\",\"\",C325)","v":""},{"$f":"IF(L325=\"削除\",\"\",D325)","v":""},{"$f":"IF(L325=\"削除\",\"\",B325)","v":""},{"$f":"IF(L325=\"削除\",\"\",E325)","v":""},{"$f":"IF(L325=\"削除\",\"\",F325)","v":""},{"$f":"IF(L325=\"削除\",\"\",I325)","v":""},{"$f":"IF(L325=\"削除\",\"\",IF(J325=\"\",\"\",J325))","v":""},{"$f":"IF(B325=\"\",\"\",LEFT(B325,FIND(\"/\",B325&\"/\")-1))","v":""},{"$f":"IF(B325=\"\",\"\",T325&\"/\"&H325)","v":""},{"$f":"IF(B325=\"\",\"\",IF(COUNTIF($U$4:U325,U325)=1,\"\",\"重複\"))","v":""},{"$f":"IF(B325=\"\",\"\",IF(LEFT(T325,1)=\"8\",\"削除\",IF(LEN(T325)=5,IF(MID(T325,4,2)=\"RL\",\"削除\",\"\"),IF(MID(T325,4,1)=\"Y\",\"削除\",IF(MID(T325,4,1)=\"Z\",\"削除\",\"\")))))","v":""},"",null,null,null,null,null,null,null,null,null,null,null,null,null,null,null,{"$f":"IF(COUNTIF($AI$5:AI325,AI325)=1,AI325,\"\")","v":""},{"$f":"IF(AI325=\"\",\"\",IF(COUNTIF($AX$5:AX325,AX325)=1,AX325,\"\"))","v":""},"",null,"",null,"",null,null,null,""]
[null,null,null,null,null,null,null,null,null,null,null,"削除","","","","","","","","","",{"$f":"IF(B326=\"\",\"\",IF(COUNTIF($U$4:U326,U326)=1,\"\",\"重複\"))","v":""},"","",null,null,null,null,null,null,null,null,null,null,null,null,null,null,null,{"$f":"IF(COUNTIF($AI$5:AI326,AI326)=1,AI326,\"\")","v":""},{"$f":"IF(AI326=\"\",\"\",IF(COUNTIF($AX$5:AX326,AX326)=1,AX326,\"\"))","v":""},{"$f":"IF(AK326=\"\",\"\",IF(COUNTIF($BN$5:$BN$304,AT326)=1,5,1))","v":""},null,{"$f":"IF(COUNTIF($BN$5:$BN$40,AT326)=1,\"M\",\"\")","v":""},null,{"$f":"LEFT(AK326&\"/\",FIND(\"/\",AK326&\"/\")-1)","v":""},null,null,null,{"$f":"RIGHT(AT326,1)","v":""}]
[null,null,null,null,null,null,null,null,null,null,null,"削除","","","","","","","","","",{"$f":"IF(B327=\"\",\"\",IF(COUNTIF($U$4:U327,U327)=1,\"\",\"重複\"))","v":""},"","",null,null,null,null,null,null,null,null,null,null,null,null,null,null,null,{"$f":"IF(COUNTIF($AI$5:AI327,AI327)=1,AI327,\"\")","v":""},{"$f":"IF(AI327=\"\",\"\",IF(COUNTIF($AX$5:AX327,AX327)=1,AX327,\"\"))","v":""},"",null,"",null,"",null,null,null,""]
[null,null,null,null,null,null,null,null,null,null,null,"削除","","","","","","","","","",{"$f":"IF(B328=\"\",\"\",IF(COUNTIF($U$4:U328,U328)=1,\"\",\"重複\"))","v":""},"","",null,null,null,null,null,null,null,null,null,null,null,null,null,null,null,{"$f":"IF(COUNTIF($AI$5:AI328,AI328)=1,AI328,\"\")","v":""},{"$f":"IF(AI328=\"\",\"\",IF(COUNTIF($AX$5:AX328,AX328)=1,AX328,\"\"))","v":""},"",null,"",null,"",null,null,null,""]
[null,null,null,null,null,null,null,null,null,null,null,"削除","","","","","","","","","",{"$f":"IF(B329=\"\",\"\",IF(COUNTIF($U$4:U329,U329)=1,\"\",\"重複\"))","v":""},"","",null,null,null,null,null,null,null,null,null,null,null,null,null,null,null,{"$f":"IF(COUNTIF($AI$5:AI329,AI329)=1,AI329,\"\")","v":""},{"$f":"IF(AI329=\"\",\"\",IF(COUNTIF($AX$5:AX329,AX329)=1,AX329,\"\"))","v":""},"",null,"",null,"",null,null,null,""]
[null,null,null,null,null,null,null,null,null,null,null,"削除","","","","","","","","","",{"$f":"IF(B330=\"\",\"\",IF(COUNTIF($U$4:U330,U330)=1,\"\",\"重複\"))","v":""},"","",null,null,null,null,null,null,null,null,null,null,null,null,null,null,null,{"$f":"IF(COUNTIF($AI$5:AI330,AI330)=1,AI330,\"\")","v":""},{"$f":"IF(AI330=\"\",\"\",IF(COUNTIF($AX$5:AX330,AX330)=1,AX330,\"\"))","v":""},"",null,"",null,"",null,null,null,""]
[null,null,null,null,null,null,null,null,null,null,null,"削除","","","","","","","","","",{"$f":"IF(B331=\"\",\"\",IF(COUNTIF($U$4:U331,U331)=1,\"\",\"重複\"))","v":""},"","",null,null,null,null,null,null,null,null,null,null,null,null,null,null,null,{"$f":"IF(COUNTIF($AI$5:AI331,AI331)=1,AI331,\"\")","v":""},{"$f":"IF(AI331=\"\",\"\",IF(COUNTIF($AX$5:AX331,AX331)=1,AX331,\"\"))","v":""},"",null,"",null,"",null,null,null,""]
[null,null,null,null,null,null,null,null,null,null,null,"削除","","","","","","","","","",{"$f":"IF(B332=\"\",\"\",IF(COUNTIF($U$4:U332,U332)=1,\"\",\"重複\"))","v":""},"","",null,null,null,null,null,null,null,null,null,null,null,null,null,null,null,{"$f":"IF(COUNTIF($AI$5:AI332,AI332)=1,AI332,\"\")","v":""},{"$f":"IF(AI332=\"\",\"\",IF(COUNTIF($AX$5:AX332,AX332)=1,AX332,\"\"))","v":""},"",null,"",null,"",null,null,null,""]
[null,null,null,null,null,null,null,null,null,null,null,"削除","","","","","","","","","",{"$f":"IF(B333=\"\",\"\",IF(COUNTIF($U$4:U333,U333)=1,\"\",\"重複\"))","v":""},"","",null,null,null,null,null,null,null,null,null,null,null,null,null,null,null,{"$f":"IF(COUNTIF($AI$5:AI333,AI333)=1,AI333,\"\")","v":""},{"$f":"IF(AI333=\"\",\"\",IF(COUNTIF($AX$5:AX333,AX333)=1,AX333,\"\"))","v":""},"",null,"",null,"",null,null,null,""]
[null,null,null,null,null,null,null,null,null,null,null,"削除","","","","","","","","","",{"$f":"IF(B334=\"\",\"\",IF(COUNTIF($U$4:U334,U334)=1,\"\",\"重複\"))","v":""},"","",null,null,null,null,null,null,null,null,null,330,null,null,null,null,null,{"$f":"IF(COUNTIF($AI$5:AI334,AI334)=1,AI334,\"\")","v":""},{"$f":"IF(AI334=\"\",\"\",IF(COUNTIF($AX$5:AX334,AX334)=1,AX334,\"\"))","v":""},"",null,"",null,"",null,null,null,""]
[null,null,null,null,null,null,null,null,null,null,null,"削除","","","","","","","","","",{"$f":"IF(B335=\"\",\"\",IF(COUNTIF($U$4:U335,U335)=1,\"\",\"重複\"))","v":""},"","",null,null,null,null,null,null,null,null,null,null,null,null,null,null,null,{"$f":"IF(COUNTIF($AI$5:AI335,AI335)=1,AI335,\"\")","v":""},{"$f":"IF(AI335=\"\",\"\",IF(COUNTIF($AX$5:AX335,AX335)=1,AX335,\"\"))","v":""},"",null,"",null,"",null,null,null,""]
[null,null,null,null,null,null,null,null,null,null,null,"削除","","","","","","","","","",{"$f":"IF(B336=\"\",\"\",IF(COUNTIF($U$4:U336,U336)=1,\"\",\"重複\"))","v":""},"","",null,null,null,null,null,null,null,null,null,null,null,null,null,null,null,{"$f":"IF(COUNTIF($AI$5:AI336,AI336)=1,AI336,\"\")","v":""},{"$f":"IF(AI336=\"\",\"\",IF(COUNTIF($AX$5:AX336,AX336)=1,AX336,\"\"))","v":""},"",null,"",null,"",null,null,null,""]
[null,null,null,null,null,null,null,null,null,null,null,"削除","","","","","","","","","",{"$f":"IF(B337=\"\",\"\",IF(COUNTIF($U$4:U337,U337)=1,\"\",\"重複\"))","v":""},"","",null,null,null,null,null,null,null,null,null,null,null,null,null,null,null,{"$f":"IF(COUNTIF($AI$5:AI337,AI337)=1,AI337,\"\")","v":""},{"$f":"IF(AI337=\"\",\"\",IF(COUNTIF($AX$5:AX337,AX337)=1,AX337,\"\"))","v":""},"",null,"",null,"",null,null,null,""]
[null,null,null,null,null,null,null,null,null,null,null,"削除","","","","","","","","","",{"$f":"IF(B338=\"\",\"\",IF(COUNTIF($U$4:U338,U338)=1,\"\",\"重複\"))","v":""},"","",null,null,null,null,null,null,null,null,null,null,null,null,null,null,null,{"$f":"IF(COUNTIF($AI$5:AI338,AI338)=1,AI338,\"\")","v":""},{"$f":"IF(AI338=\"\",\"\",IF(COUNTIF($AX$5:AX338,AX338)=1,AX338,\"\"))","v":""},"",null,"",null,"",null,null,null,""]
[null,null,null,null,null,null,null,null,null,null,null,"削除","","","","","","","","","",{"$f":"IF(B339=\"\",\"\",IF(COUNTIF($U$4:U339,U339)=1,\"\",\"重複\"))","v":""},"","",null,null,null,null,null,null,null,null,null,null,null,null,null,null,null,{"$f":"IF(COUNTIF($AI$5:AI339,AI339)=1,AI339,\"\")","v":""},{"$f":"IF(AI339=\"\",\"\",IF(COUNTIF($AX$5:AX339,AX339)=1,AX339,\"\"))","v":""},"",null,"",null,"",null,null,null,""]
[null,null,null,null,null,null,null,null,null,null,null,"削除","","","","","","","","","",{"$f":"IF(B340=\"\",\"\",IF(COUNTIF($U$4:U340,U340)=1,\"\",\"重複\"))","v":""},"","",null,null,null,null,null,null,null,null,null,null,null,null,null,null,null,{"$f":"IF(COUNTIF($AI$5:AI340,AI340)=1,AI340,\"\")","v":""},{"$f":"IF(AI340=\"\",\"\",IF(COUNTIF($AX$5:AX340,AX340)=1,AX340,\"\"))","v":""},"",null,"",null,"",null,null,null,""]
[null,null,null,null,null,null,null,null,null,null,null,"削除","","","","","","","","","",{"$f":"IF(B341=\"\",\"\",IF(COUNTIF($U$4:U341,U341)=1,\"\",\"重複\"))","v":""},"","",null,null,null,null,null,null,null,null,null,null,null,null,null,null,null,{"$f":"IF(COUNTIF($AI$5:AI341,AI341)=1,AI341,\"\")","v":""},{"$f":"IF(AI341=\"\",\"\",IF(COUNTIF($AX$5:AX341,AX341)=1,AX341,\"\"))","v":""},"",null,"",null,"",null,null,null,""]
[null,null,null,null,null,null,null,null,null,null,null,"削除","","","","","","","","","",{"$f":"IF(B342=\"\",\"\",IF(COUNTIF($U$4:U342,U342)=1,\"\",\"重複\"))","v":""},"","",null,null,null,null,null,null,null,null,null,null,null,null,null,null,null,{"$f":"IF(COUNTIF($AI$5:AI342,AI342)=1,AI342,\"\")","v":""},{"$f":"IF(AI342=\"\",\"\",IF(COUNTIF($AX$5:AX342,AX342)=1,AX342,\"\"))","v":""},"",null,"",null,"",null,null,null,""]
[null,null,null,null,null,null,null,null,null,null,null,"削除","","","","","","","","","",{"$f":"IF(B343=\"\",\"\",IF(COUNTIF($U$4:U343,U343)=1,\"\",\"重複\"))","v":""},"","",null,null,null,null,null,null,null,null,null,null,null,null,null,null,null,{"$f":"IF(COUNTIF($AI$5:AI343,AI343)=1,AI343,\"\")","v":""},{"$f":"IF(AI343=\"\",\"\",IF(COUNTIF($AX$5:AX343,AX343)=1,AX343,\"\"))","v":""},"",null,"",null,"",null,null,null,""]
[null,null,null,null,null,null,null,null,null,null,null,"削除","","","","","","","","","",{"$f":"IF(B344=\"\",\"\",IF(COUNTIF($U$4:U344,U344)=1,\"\",\"重複\"))","v":""},"","",null,null,null,null,null,null,null,null,null,340,null,null,null,null,null,{"$f":"IF(COUNTIF($AI$5:AI344,AI344)=1,AI344,\"\")","v":""},{"$f":"IF(AI344=\"\",\"\",IF(COUNTIF($AX$5:AX344,AX344)=1,AX344,\"\"))","v":""},"",null,"",null,"",null,null,null,""]
[null,null,null,null,null,null,null,null,null,null,null,"削除","","","","","","","","","",{"$f":"IF(B345=\"\",\"\",IF(COUNTIF($U$4:U345,U345)=1,\"\",\"重複\"))","v":""},"","",null,null,null,null,null,null,null,null,null,null,null,null,null,null,null,{"$f":"IF(COUNTIF($AI$5:AI345,AI345)=1,AI345,\"\")","v":""},{"$f":"IF(AI345=\"\",\"\",IF(COUNTIF($AX$5:AX345,AX345)=1,AX345,\"\"))","v":""},"",null,"",null,"",null,null,null,""]
[null,null,null,null,null,null,null,null,null,null,null,"削除","","","","","","","","","",{"$f":"IF(B346=\"\",\"\",IF(COUNTIF($U$4:U346,U346)=1,\"\",\"重複\"))","v":""},"","",null,null,null,null,null,null,null,null,null,null,null,null,null,null,null,{"$f":"IF(COUNTIF($AI$5:AI346,AI346)=1,AI346,\"\")","v":""},{"$f":"IF(AI346=\"\",\"\",IF(COUNTIF($AX$5:AX346,AX346)=1,AX346,\"\"))","v":""},"",null,"",null,"",null,null,null,""]
[null,null,null,null,null,null,null,null,null,null,null,"削除","","","","","","","","","",{"$f":"IF(B347=\"\",\"\",IF(COUNTIF($U$4:U347,U347)=1,\"\",\"重複\"))","v":""},"","",null,null,null,null,null,null,null,null,null,null,null,null,null,null,null,{"$f":"IF(COUNTIF($AI$5:AI347,AI347)=1,AI347,\"\")","v":""},{"$f":"IF(AI347=\"\",\"\",IF(COUNTIF($AX$5:AX347,AX347)=1,AX347,\"\"))","v":""},"",null,"",null,"",null,null,null,""]
[null,null,null,null,null,null,null,null,null,null,null,"削除","","","","","","","","","",{"$f":"IF(B348=\"\",\"\",IF(COUNTIF($U$4:U348,U348)=1,\"\",\"重複\"))","v":""},"","",null,null,null,null,null,null,null,null,null,null,null,null,null,null,null,{"$f":"IF(COUNTIF($AI$5:AI348,AI348)=1,AI348,\"\")","v":""},{"$f":"IF(AI348=\"\",\"\",IF(COUNTIF($AX$5:AX348,AX348)=1,AX348,\"\"))","v":""},"",null,"",null,"",null,null,null,""]
[null,null,null,null,null,null,null,null,null,null,null,"削除","","","","","","","","","",{"$f":"IF(B349=\"\",\"\",IF(COUNTIF($U$4:U349,U349)=1,\"\",\"重複\"))","v":""},"","",null,null,null,null,null,null,null,null,null,null,null,null,null,null,null,{"$f":"IF(COUNTIF($AI$5:AI349,AI349)=1,AI349,\"\")","v":""},{"$f":"IF(AI349=\"\",\"\",IF(COUNTIF($AX$5:AX349,AX349)=1,AX349,\"\"))","v":""},"",null,"",null,"",null,null,null,""]
[null,null,null,null,null,null,null,null,null,null,null,"削除","","","","","","","","","",{"$f":"IF(B350=\"\",\"\",IF(COUNTIF($U$4:U350,U350)=1,\"\",\"重複\"))","v":""},"","",null,null,null,null,null,null,null,null,null,null,null,null,null,null,null,{"$f":"IF(COUNTIF($AI$5:AI350,AI350)=1,AI350,\"\")","v":""},{"$f":"IF(AI350=\"\",\"\",IF(COUNTIF($AX$5:AX350,AX350)=1,AX350,\"\"))","v":""},"",null,"",null,"",null,null,null,""]
[null,null,null,null,null,null,null,null,null,null,null,"削除","","","","","","","","","",{"$f":"IF(B351=\"\",\"\",IF(COUNTIF($U$4:U351,U351)=1,\"\",\"重複\"))","v":""},"","",null,null,null,null,null,null,null,null,null,null,null,null,null,null,null,{"$f":"IF(COUNTIF($AI$5:AI351,AI351)=1,AI351,\"\")","v":""},{"$f":"IF(AI351=\"\",\"\",IF(COUNTIF($AX$5:AX351,AX351)=1,AX351,\"\"))","v":""},"",null,"",null,"",null,null,null,""]
[null,null,null,null,null,null,null,null,null,null,null,"削除","","","","","","","","","",{"$f":"IF(B352=\"\",\"\",IF(COUNTIF($U$4:U352,U352)=1,\"\",\"重複\"))","v":""},"","",null,null,null,null,null,null,null,null,null,null,null,null,null,null,null,{"$f":"IF(COUNTIF($AI$5:AI352,AI352)=1,AI352,\"\")","v":""},{"$f":"IF(AI352=\"\",\"\",IF(COUNTIF($AX$5:AX352,AX352)=1,AX352,\"\"))","v":""},"",null,"",null,"",null,null,null,""]
[null,null,null,null,null,null,null,null,null,null,null,"削除","","","","","","","","","",{"$f":"IF(B353=\"\",\"\",IF(COUNTIF($U$4:U353,U353)=1,\"\",\"重複\"))","v":""},"","",null,null,null,null,null,null,null,null,null,null,null,null,null,null,null,{"$f":"IF(COUNTIF($AI$5:AI353,AI353)=1,AI353,\"\")","v":""},{"$f":"IF(AI353=\"\",\"\",IF(COUNTIF($AX$5:AX353,AX353)=1,AX353,\"\"))","v":""},"",null,"",null,"",null,null,null,""]
[null,null,null,null,null,null,null,null,null,null,null,"削除","","","","","","","","","",{"$f":"IF(B354=\"\",\"\",IF(COUNTIF($U$4:U354,U354)=1,\"\",\"重複\"))","v":""},"","",null,null,null,null,null,null,null,null,null,350,null,null,null,null,null,{"$f":"IF(COUNTIF($AI$5:AI354,AI354)=1,AI354,\"\")","v":""},{"$f":"IF(AI354=\"\",\"\",IF(COUNTIF($AX$5:AX354,AX354)=1,AX354,\"\"))","v":""},"",null,"",null,"",null,null,null,""]
[null,null,null,null,null,null,null,null,null,null,null,"削除","","","","","","","","","",{"$f":"IF(B355=\"\",\"\",IF(COUNTIF($U$4:U355,U355)=1,\"\",\"重複\"))","v":""},"","",null,null,null,null,null,null,null,null,null,null,null,null,null,null,null,{"$f":"IF(COUNTIF($AI$5:AI355,AI355)=1,AI355,\"\")","v":""},{"$f":"IF(AI355=\"\",\"\",IF(COUNTIF($AX$5:AX355,AX355)=1,AX355,\"\"))","v":""},"",null,"",null,"",null,null,null,""]
[null,null,null,null,null,null,null,null,null,null,null,"削除","","","","","","","","","",{"$f":"IF(B356=\"\",\"\",IF(COUNTIF($U$4:U356,U356)=1,\"\",\"重複\"))","v":""},"","",null,null,null,null,null,null,null,null,null,null,null,null,null,null,null,{"$f":"IF(COUNTIF($AI$5:AI356,AI356)=1,AI356,\"\")","v":""},{"$f":"IF(AI356=\"\",\"\",IF(COUNTIF($AX$5:AX356,AX356)=1,AX356,\"\"))","v":""},"",null,"",null,"",null,null,null,""]
[null,null,null,null,null,null,null,null,null,null,null,"削除","","","","","","","","","",{"$f":"IF(B357=\"\",\"\",IF(COUNTIF($U$4:U357,U357)=1,\"\",\"重複\"))","v":""},"","",null,null,null,null,null,null,null,null,null,null,null,null,null,null,null,{"$f":"IF(COUNTIF($AI$5:AI357,AI357)=1,AI357,\"\")","v":""},{"$f":"IF(AI357=\"\",\"\",IF(COUNTIF($AX$5:AX357,AX357)=1,AX357,\"\"))","v":""},"",null,"",null,"",null,null,null,""]
[null,null,null,null,null,null,null,null,null,null,null,"削除","","","","","","","","","",{"$f":"IF(B358=\"\",\"\",IF(COUNTIF($U$4:U358,U358)=1,\"\",\"重複\"))","v":""},"","",null,null,null,null,null,null,null,null,null,null,null,null,null,null,null,{"$f":"IF(COUNTIF($AI$5:AI358,AI358)=1,AI358,\"\")","v":""},{"$f":"IF(AI358=\"\",\"\",IF(COUNTIF($AX$5:AX358,AX358)=1,AX358,\"\"))","v":""},"",null,"",null,"",null,null,null,""]
[null,null,null,null,null,null,null,null,null,null,null,"削除","","","","","","","","","",{"$f":"IF(B359=\"\",\"\",IF(COUNTIF($U$4:U359,U359)=1,\"\",\"重複\"))","v":""},"","",null,null,null,null,null,null,null,null,null,null,null,null,null,null,null,{"$f":"IF(COUNTIF($AI$5:AI359,AI359)=1,AI359,\"\")","v":""},{"$f":"IF(AI359=\"\",\"\",IF(COUNTIF($AX$5:AX359,AX359)=1,AX359,\"\"))","v":""},"",null,"",null,"",null,null,null,""]
[null,null,null,null,null,null,null,null,null,null,null,"削除","","","","","","","","","",{"$f":"IF(B360=\"\",\"\",IF(COUNTIF($U$4:U360,U360)=1,\"\",\"重複\"))","v":""},"","",null,null,null,null,null,null,null,null,null,null,null,null,null,null,null,{"$f":"IF(COUNTIF($AI$5:AI360,AI360)=1,AI360,\"\")","v":""},{"$f":"IF(AI360=\"\",\"\",IF(COUNTIF($AX$5:AX360,AX360)=1,AX360,\"\"))","v":""},"",null,"",null,"",null,null,null,""]
[null,null,null,null,null,null,null,null,null,null,null,"削除","","","","","","","","","",{"$f":"IF(B361=\"\",\"\",IF(COUNTIF($U$4:U361,U361)=1,\"\",\"重複\"))","v":""},"","",null,null,null,null,null,null,null,null,null,null,null,null,null,null,null,{"$f":"IF(COUNTIF($AI$5:AI361,AI361)=1,AI361,\"\")","v":""},{"$f":"IF(AI361=\"\",\"\",IF(COUNTIF($AX$5:AX361,AX361)=1,AX361,\"\"))","v":""},"",null,"",null,"",null,null,null,""]
[null,null,null,null,null,null,null,null,null,null,null,"削除","","","","","","","","","",{"$f":"IF(B362=\"\",\"\",IF(COUNTIF($U$4:U362,U362)=1,\"\",\"重複\"))","v":""},"","",null,null,null,null,null,null,null,null,null,null,null,null,null,null,null,{"$f":"IF(COUNTIF($AI$5:AI362,AI362)=1,AI362,\"\")","v":""},{"$f":"IF(AI362=\"\",\"\",IF(COUNTIF($AX$5:AX362,AX362)=1,AX362,\"\"))","v":""},"",null,"",null,"",null,null,null,""]
[null,null,null,null,null,null,null,null,null,null,null,"削除","","","","","","","","","",{"$f":"IF(B363=\"\",\"\",IF(COUNTIF($U$4:U363,U363)=1,\"\",\"重複\"))","v":""},"","",null,null,null,null,null,null,null,null,null,null,null,null,null,null,null,{"$f":"IF(COUNTIF($AI$5:AI363,AI363)=1,AI363,\"\")","v":""},{"$f":"IF(AI363=\"\",\"\",IF(COUNTIF($AX$5:AX363,AX363)=1,AX363,\"\"))","v":""},"",null,"",null,"",null,null,null,""]
[null,null,null,null,null,null,null,null,null,null,null,"削除","","","","","","","","","",{"$f":"IF(B364=\"\",\"\",IF(COUNTIF($U$4:U364,U364)=1,\"\",\"重複\"))","v":""},"","",null,null,null,null,null,null,null,null,null,360,null,null,null,null,null,{"$f":"IF(COUNTIF($AI$5:AI364,AI364)=1,AI364,\"\")","v":""},{"$f":"IF(AI364=\"\",\"\",IF(COUNTIF($AX$5:AX364,AX364)=1,AX364,\"\"))","v":""},"",null,"",null,"",null,null,null,""]
[null,null,null,null,null,null,null,null,null,null,null,"削除","","","","","","","","","",{"$f":"IF(B365=\"\",\"\",IF(COUNTIF($U$4:U365,U365)=1,\"\",\"重複\"))","v":""},"","",null,null,null,null,null,null,null,null,null,null,null,null,null,null,null,{"$f":"IF(COUNTIF($AI$5:AI365,AI365)=1,AI365,\"\")","v":""},{"$f":"IF(AI365=\"\",\"\",IF(COUNTIF($AX$5:AX365,AX365)=1,AX365,\"\"))","v":""},"",null,"",null,"",null,null,null,""]
[null,null,null,null,null,null,null,null,null,null,null,"削除","","","","","","","","","",{"$f":"IF(B366=\"\",\"\",IF(COUNTIF($U$4:U366,U366)=1,\"\",\"重複\"))","v":""},"","",null,null,null,null,null,null,null,null,null,null,null,null,null,null,null,{"$f":"IF(COUNTIF($AI$5:AI366,AI366)=1,AI366,\"\")","v":""},{"$f":"IF(AI366=\"\",\"\",IF(COUNTIF($AX$5:AX366,AX366)=1,AX366,\"\"))","v":""},"",null,"",null,"",null,null,null,""]
[null,null,null,null,null,null,null,null,null,null,null,"削除","","","","","","","","","",{"$f":"IF(B367=\"\",\"\",IF(COUNTIF($U$4:U367,U367)=1,\"\",\"重複\"))","v":""},"","",null,null,null,null,null,null,null,null,null,null,null,null,null,null,null,{"$f":"IF(COUNTIF($AI$5:AI367,AI367)=1,AI367,\"\")","v":""},{"$f":"IF(AI367=\"\",\"\",IF(COUNTIF($AX$5:AX367,AX367)=1,AX367,\"\"))","v":""},"",null,"",null,"",null,null,null,""]
[null,null,null,null,null,null,null,null,null,null,null,"削除","","","","","","","","","",{"$f":"IF(B368=\"\",\"\",IF(COUNTIF($U$4:U368,U368)=1,\"\",\"重複\"))","v":""},"","",null,null,null,null,null,null,null,null,null,null,null,null,null,null,null,{"$f":"IF(COUNTIF($AI$5:AI368,AI368)=1,AI368,\"\")","v":""},{"$f":"IF(AI368=\"\",\"\",IF(COUNTIF($AX$5:AX368,AX368)=1,AX368,\"\"))","v":""},"",null,"",null,"",null,null,null,""]
[null,null,null,null,null,null,null,null,null,null,null,"削除","","","","","","","","","",{"$f":"IF(B369=\"\",\"\",IF(COUNTIF($U$4:U369,U369)=1,\"\",\"重複\"))","v":""},"","",null,null,null,null,null,null,null,null,null,null,null,null,null,null,null,{"$f":"IF(COUNTIF($AI$5:AI369,AI369)=1,AI369,\"\")","v":""},{"$f":"IF(AI369=\"\",\"\",IF(COUNTIF($AX$5:AX369,AX369)=1,AX369,\"\"))","v":""},"",null,"",null,"",null,null,null,""]
[null,null,null,null,null,null,null,null,null,null,null,"削除","","","","","","","","","",{"$f":"IF(B370=\"\",\"\",IF(COUNTIF($U$4:U370,U370)=1,\"\",\"重複\"))","v":""},"","",null,null,null,null,null,null,null,null,null,null,null,null,null,null,null,{"$f":"IF(COUNTIF($AI$5:AI370,AI370)=1,AI370,\"\")","v":""},{"$f":"IF(AI370=\"\",\"\",IF(COUNTIF($AX$5:AX370,AX370)=1,AX370,\"\"))","v":""},"",null,"",null,"",null,null,null,""]
[null,null,null,null,null,null,null,null,null,null,null,"削除","","","","","","","","","",{"$f":"IF(B371=\"\",\"\",IF(COUNTIF($U$4:U371,U371)=1,\"\",\"重複\"))","v":""},"","",null,null,null,null,null,null,null,null,null,null,null,null,null,null,null,{"$f":"IF(COUNTIF($AI$5:AI371,AI371)=1,AI371,\"\")","v":""},{"$f":"IF(AI371=\"\",\"\",IF(COUNTIF($AX$5:AX371,AX371)=1,AX371,\"\"))","v":""},"",null,"",null,"",null,null,null,""]
[null,null,null,null,null,null,null,null,null,null,null,"削除","","","","","","","","","",{"$f":"IF(B372=\"\",\"\",IF(COUNTIF($U$4:U372,U372)=1,\"\",\"重複\"))","v":""},"","",null,null,null,null,null,null,null,null,null,null,null,null,null,null,null,{"$f":"IF(COUNTIF($AI$5:AI372,AI372)=1,AI372,\"\")","v":""},{"$f":"IF(AI372=\"\",\"\",IF(COUNTIF($AX$5:AX372,AX372)=1,AX372,\"\"))","v":""},"",null,"",null,"",null,null,null,""]
[null,null,null,null,null,null,null,null,null,null,null,"削除","","","","","","","","","",{"$f":"IF(B373=\"\",\"\",IF(COUNTIF($U$4:U373,U373)=1,\"\",\"重複\"))","v":""},"","",null,null,null,null,null,null,null,null,null,null,null,null,null,null,null,{"$f":"IF(COUNTIF($AI$5:AI373,AI373)=1,AI373,\"\")","v":""},{"$f":"IF(AI373=\"\",\"\",IF(COUNTIF($AX$5:AX373,AX373)=1,AX373,\"\"))","v":""},"",null,"",null,"",null,null,null,""]
[null,null,null,null,null,null,null,null,null,null,null,"削除","","","","","","","","","",{"$f":"IF(B374=\"\",\"\",IF(COUNTIF($U$4:U374,U374)=1,\"\",\"重複\"))","v":""},"","",null,null,null,null,null,null,null,null,null,370,null,null,null,null,null,{"$f":"IF(COUNTIF($AI$5:AI374,AI374)=1,AI374,\"\")","v":""},{"$f":"IF(AI374=\"\",\"\",IF(COUNTIF($AX$5:AX374,AX374)=1,AX374,\"\"))","v":""},"",null,"",null,"",null,null,null,""]
[null,null,null,null,null,null,null,null,null,null,null,"削除","","","","","","","","","",{"$f":"IF(B375=\"\",\"\",IF(COUNTIF($U$4:U375,U375)=1,\"\",\"重複\"))","v":""},"","",null,null,null,null,null,null,null,null,null,null,null,null,null,null,null,{"$f":"IF(COUNTIF($AI$5:AI375,AI375)=1,AI375,\"\")","v":""},{"$f":"IF(AI375=\"\",\"\",IF(COUNTIF($AX$5:AX375,AX375)=1,AX375,\"\"))","v":""},"",null,"",null,"",null,null,null,""]
[null,null,null,null,null,null,null,null,null,null,null,"削除","","","","","","","","","",{"$f":"IF(B376=\"\",\"\",IF(COUNTIF($U$4:U376,U376)=1,\"\",\"重複\"))","v":""},"","",null,null,null,null,null,null,null,null,null,null,null,null,null,null,null,{"$f":"IF(COUNTIF($AI$5:AI376,AI376)=1,AI376,\"\")","v":""},{"$f":"IF(AI376=\"\",\"\",IF(COUNTIF($AX$5:AX376,AX376)=1,AX376,\"\"))","v":""},"",null,"",null,"",null,null,null,""]
[null,null,null,null,null,null,null,null,null,null,null,"削除","","","","","","","","","",{"$f":"IF(B377=\"\",\"\",IF(COUNTIF($U$4:U377,U377)=1,\"\",\"重複\"))","v":""},"","",null,null,null,null,null,null,null,null,null,null,null,null,null,null,null,{"$f":"IF(COUNTIF($AI$5:AI377,AI377)=1,AI377,\"\")","v":""},{"$f":"IF(AI377=\"\",\"\",IF(COUNTIF($AX$5:AX377,AX377)=1,AX377,\"\"))","v":""},"",null,"",null,"",null,null,null,""]
[null,null,null,null,null,null,null,null,null,null,null,"削除","","","","","","","","","",{"$f":"IF(B378=\"\",\"\",IF(COUNTIF($U$4:U378,U378)=1,\"\",\"重複\"))","v":""},"","",null,null,null,null,null,null,null,null,null,null,null,null,null,null,null,{"$f":"IF(COUNTIF($AI$5:AI378,AI378)=1,AI378,\"\")","v":""},{"$f":"IF(AI378=\"\",\"\",IF(COUNTIF($AX$5:AX378,AX378)=1,AX378,\"\"))","v":""},"",null,"",null,"",null,null,null,""]
[null,null,null,null,null,null,null,null,null,null,null,"削除","","","","","","","","","",{"$f":"IF(B379=\"\",\"\",IF(COUNTIF($U$4:U379,U379)=1,\"\",\"重複\"))","v":""},"","",null,null,null,null,null,null,null,null,null,null,null,null,null,null,null,{"$f":"IF(COUNTIF($AI$5:AI379,AI379)=1,AI379,\"\")","v":""},{"$f":"IF(AI379=\"\",\"\",IF(COUNTIF($AX$5:AX379,AX379)=1,AX379,\"\"))","v":""},"",null,"",null,"",null,null,null,""]
[null,null,null,null,null,null,null,null,null,null,null,"削除","","","","","","","","","",{"$f":"IF(B380=\"\",\"\",IF(COUNTIF($U$4:U380,U380)=1,\"\",\"重複\"))","v":""},"","",null,null,null,null,null,null,null,null,null,null,null,null,null,null,null,{"$f":"IF(COUNTIF($AI$5:AI380,AI380)=1,AI380,\"\")","v":""},{"$f":"IF(AI380=\"\",\"\",IF(COUNTIF($AX$5:AX380,AX380)=1,AX380,\"\"))","v":""},"",null,"",null,"",null,null,null,""]
[null,null,null,null,null,null,null,null,null,null,null,"削除","","","","","","","","","",{"$f":"IF(B381=\"\",\"\",IF(COUNTIF($U$4:U381,U381)=1,\"\",\"重複\"))","v":""},"","",null,null,null,null,null,null,null,null,null,null,null,null,null,null,null,{"$f":"IF(COUNTIF($AI$5:AI381,AI381)=1,AI381,\"\")","v":""},{"$f":"IF(AI381=\"\",\"\",IF(COUNTIF($AX$5:AX381,AX381)=1,AX381,\"\"))","v":""},"",null,"",null,"",null,null,null,""]
[null,null,null,null,null,null,null,null,null,null,null,"削除","","","","","","","","","",{"$f":"IF(B382=\"\",\"\",IF(COUNTIF($U$4:U382,U382)=1,\"\",\"重複\"))","v":""},"","",null,null,null,null,null,null,null,null,null,null,null,null,null,null,null,{"$f":"IF(COUNTIF($AI$5:AI382,AI382)=1,AI382,\"\")","v":""},{"$f":"IF(AI382=\"\",\"\",IF(COUNTIF($AX$5:AX382,AX382)=1,AX382,\"\"))","v":""},"",null,"",null,"",null,null,null,""]
[null,null,null,null,null,null,null,null,null,null,null,"削除","","","","","","","","","",{"$f":"IF(B383=\"\",\"\",IF(COUNTIF($U$4:U383,U383)=1,\"\",\"重複\"))","v":""},"","",null,null,null,null,null,null,null,null,null,null,null,null,null,null,null,{"$f":"IF(COUNTIF($AI$5:AI383,AI383)=1,AI383,\"\")","v":""},{"$f":"IF(AI383=\"\",\"\",IF(COUNTIF($AX$5:AX383,AX383)=1,AX383,\"\"))","v":""},"",null,"",null,"",null,null,null,""]
[null,null,null,null,null,null,null,null,null,null,null,"削除","","","","","","","","","",{"$f":"IF(B384=\"\",\"\",IF(COUNTIF($U$4:U384,U384)=1,\"\",\"重複\"))","v":""},"","",null,null,null,null,null,null,null,null,null,380,null,null,null,null,null,{"$f":"IF(COUNTIF($AI$5:AI384,AI384)=1,AI384,\"\")","v":""},{"$f":"IF(AI384=\"\",\"\",IF(COUNTIF($AX$5:AX384,AX384)=1,AX384,\"\"))","v":""},"",null,"",null,"",null,null,null,""]
[null,null,null,null,null,null,null,null,null,null,null,"削除","","","","","","","","","",{"$f":"IF(B385=\"\",\"\",IF(COUNTIF($U$4:U385,U385)=1,\"\",\"重複\"))","v":""},"","",null,null,null,null,null,null,null,null,null,null,null,null,null,null,null,{"$f":"IF(COUNTIF($AI$5:AI385,AI385)=1,AI385,\"\")","v":""},{"$f":"IF(AI385=\"\",\"\",IF(COUNTIF($AX$5:AX385,AX385)=1,AX385,\"\"))","v":""},"",null,"",null,"",null,null,null,""]
[null,null,null,null,null,null,null,null,null,null,null,"削除","","","","","","","","","",{"$f":"IF(B386=\"\",\"\",IF(COUNTIF($U$4:U386,U386)=1,\"\",\"重複\"))","v":""},"","",null,null,null,null,null,null,null,null,null,null,null,null,null,null,null,{"$f":"IF(COUNTIF($AI$5:AI386,AI386)=1,AI386,\"\")","v":""},{"$f":"IF(AI386=\"\",\"\",IF(COUNTIF($AX$5:AX386,AX386)=1,AX386,\"\"))","v":""},"",null,"",null,"",null,null,null,""]
[null,null,null,null,null,null,null,null,null,null,null,"削除","","","","","","","","","",{"$f":"IF(B387=\"\",\"\",IF(COUNTIF($U$4:U387,U387)=1,\"\",\"重複\"))","v":""},"","",null,null,null,null,null,null,null,null,null,null,null,null,null,null,null,{"$f":"IF(COUNTIF($AI$5:AI387,AI387)=1,AI387,\"\")","v":""},{"$f":"IF(AI387=\"\",\"\",IF(COUNTIF($AX$5:AX387,AX387)=1,AX387,\"\"))","v":""},"",null,"",null,"",null,null,null,""]
[null,null,null,null,null,null,null,null,null,null,null,"削除","","","","","","","","","",{"$f":"IF(B388=\"\",\"\",IF(COUNTIF($U$4:U388,U388)=1,\"\",\"重複\"))","v":""},"",{"$f":"IF(B388=\"\",\"\",IF(LEFT(G388,3)=\"144\",IF(LEFT(H388,3)=\"SSB\",\"\",IF(LEFT(H388,3)=\"A3J\",\"\",IF(LEFT(H388,3)=\"J3E\",\"\",\"形式外\"))),\"形式外\"))","v":""},null,null,null,null,null,null,null,null,null,null,null,null,null,null,null,{"$f":"IF(COUNTIF($AI$5:AI388,AI388)=1,AI388,\"\")","v":""},{"$f":"IF(AI388=\"\",\"\",IF(COUNTIF($AX$5:AX388,AX388)=1,AX388,\"\"))","v":""},"",null,"",null,"",null,null,null,""]
[null,null,null,null,null,null,null,null,null,null,null,{"$f":"IF(B389=\"\",\"削除\",IF(OR(V389=\"重複\",W389=\"削除\",X389=\"形式外\"),\"削除\",1))","v":"削除"},{"$f":"IF(L389=\"削除\",\"\",C389)","v":""},{"$f":"IF(L389=\"削除\",\"\",D389)","v":""},{"$f":"IF(L389=\"削除\",\"\",B389)","v":""},{"$f":"IF(L389=\"削除\",\"\",E389)","v":""},{"$f":"IF(L389=\"削除\",\"\",F389)","v":""},{"$f":"IF(L389=\"削除\",\"\",I389)","v":""},{"$f":"IF(L389=\"削除\",\"\",IF(J389=\"\",\"\",J389))","v":""},{"$f":"IF(B389=\"\",\"\",LEFT(B389,FIND(\"/\",B389&\"/\")-1))","v":""},{"$f":"IF(B389=\"\",\"\",T389&\"/\"&H389)","v":""},{"$f":"IF(B389=\"\",\"\",IF(COUNTIF($U$4:U389,U389)=1,\"\",\"重複\"))","v":""},{"$f":"IF(B389=\"\",\"\",IF(LEFT(T389,1)=\"8\",\"削除\",IF(LEN(T389)=5,IF(MID(T389,4,2)=\"RL\",\"削除\",\"\"),IF(MID(T389,4,1)=\"Y\",\"削除\",IF(MID(T389,4,1)=\"Z\",\"削除\",\"\")))))","v":""},"",null,null,null,null,null,null,null,null,null,null,null,null,null,null,null,{"$f":"IF(COUNTIF($AI$5:AI389,AI389)=1,AI389,\"\")","v":""},{"$f":"IF(AI389=\"\",\"\",IF(COUNTIF($AX$5:AX389,AX389)=1,AX389,\"\"))","v":""},"",null,"",null,"",null,null,null,""]
[null,null,null,null,null,null,null,null,null,null,null,"削除","","","","","","","","","",{"$f":"IF(B390=\"\",\"\",IF(COUNTIF($U$4:U390,U390)=1,\"\",\"重複\"))","v":""},"","",null,null,null,null,null,null,null,null,null,null,null,null,null,null,null,{"$f":"IF(COUNTIF($AI$5:AI390,AI390)=1,AI390,\"\")","v":""},{"$f":"IF(AI390=\"\",\"\",IF(COUNTIF($AX$5:AX390,AX390)=1,AX390,\"\"))","v":""},{"$f":"IF(AK390=\"\",\"\",IF(COUNTIF($BN$5:$BN$304,AT390)=1,5,1))","v":""},null,{"$f":"IF(COUNTIF($BN$5:$BN$40,AT390)=1,\"M\",\"\")","v":""},null,{"$f":"LEFT(AK390&\"/\",FIND(\"/\",AK390&\"/\")-1)","v":""},null,null,null,{"$f":"RIGHT(AT390,1)","v":""}]
[null,null,null,null,null,null,null,null,null,null,null,"削除","","","","","","","","","",{"$f":"IF(B391=\"\",\"\",IF(COUNTIF($U$4:U391,U391)=1,\"\",\"重複\"))","v":""},"","",null,null,null,null,null,null,null,null,null,null,null,null,null,null,null,{"$f":"IF(COUNTIF($AI$5:AI391,AI391)=1,AI391,\"\")","v":""},{"$f":"IF(AI391=\"\",\"\",IF(COUNTIF($AX$5:AX391,AX391)=1,AX391,\"\"))","v":""},"",null,"",null,"",null,null,null,""]
[null,null,null,null,null,null,null,null,null,null,null,"削除","","","","","","","","","",{"$f":"IF(B392=\"\",\"\",IF(COUNTIF($U$4:U392,U392)=1,\"\",\"重複\"))","v":""},"","",null,null,null,null,null,null,null,null,null,null,null,null,null,null,null,{"$f":"IF(COUNTIF($AI$5:AI392,AI392)=1,AI392,\"\")","v":""},{"$f":"IF(AI392=\"\",\"\",IF(COUNTIF($AX$5:AX392,AX392)=1,AX392,\"\"))","v":""},"",null,"",null,"",null,null,null,""]
[null,null,null,null,null,null,null,null,null,null,null,"削除","","","","","","","","","",{"$f":"IF(B393=\"\",\"\",IF(COUNTIF($U$4:U393,U393)=1,\"\",\"重複\"))","v":""},"","",null,null,null,null,null,null,null,null,null,null,null,null,null,null,null,{"$f":"IF(COUNTIF($AI$5:AI393,AI393)=1,AI393,\"\")","v":""},{"$f":"IF(AI393=\"\",\"\",IF(COUNTIF($AX$5:AX393,AX393)=1,AX393,\"\"))","v":""},"",null,"",null,"",null,null,null,""]
[null,null,null,null,null,null,null,null,null,null,null,"削除","","","","","","","","","",{"$f":"IF(B394=\"\",\"\",IF(COUNTIF($U$4:U394,U394)=1,\"\",\"重複\"))","v":""},"","",null,null,null,null,null,null,null,null,null,390,null,null,null,null,null,{"$f":"IF(COUNTIF($AI$5:AI394,AI394)=1,AI394,\"\")","v":""},{"$f":"IF(AI394=\"\",\"\",IF(COUNTIF($AX$5:AX394,AX394)=1,AX394,\"\"))","v":""},"",null,"",null,"",null,null,null,""]
[null,null,null,null,null,null,null,null,null,null,null,"削除","","","","","","","","","",{"$f":"IF(B395=\"\",\"\",IF(COUNTIF($U$4:U395,U395)=1,\"\",\"重複\"))","v":""},"","",null,null,null,null,null,null,null,null,null,null,null,null,null,null,null,{"$f":"IF(COUNTIF($AI$5:AI395,AI395)=1,AI395,\"\")","v":""},{"$f":"IF(AI395=\"\",\"\",IF(COUNTIF($AX$5:AX395,AX395)=1,AX395,\"\"))","v":""},"",null,"",null,"",null,null,null,""]
[null,null,null,null,null,null,null,null,null,null,null,"削除","","","","","","","","","",{"$f":"IF(B396=\"\",\"\",IF(COUNTIF($U$4:U396,U396)=1,\"\",\"重複\"))","v":""},"","",null,null,null,null,null,null,null,null,null,null,null,null,null,null,null,{"$f":"IF(COUNTIF($AI$5:AI396,AI396)=1,AI396,\"\")","v":""},{"$f":"IF(AI396=\"\",\"\",IF(COUNTIF($AX$5:AX396,AX396)=1,AX396,\"\"))","v":""},"",null,"",null,"",null,null,null,""]
[null,null,null,null,null,null,null,null,null,null,null,"削除","","","","","","","","","",{"$f":"IF(B397=\"\",\"\",IF(COUNTIF($U$4:U397,U397)=1,\"\",\"重複\"))","v":""},"","",null,null,null,null,null,null,null,null,null,null,null,null,null,null,null,{"$f":"IF(COUNTIF($AI$5:AI397,AI397)=1,AI397,\"\")","v":""},{"$f":"IF(AI397=\"\",\"\",IF(COUNTIF($AX$5:AX397,AX397)=1,AX397,\"\"))","v":""},"",null,"",null,"",null,null,null,""]
[null,null,null,null,null,null,null,null,null,null,null,"削除","","","","","","","","","",{"$f":"IF(B398=\"\",\"\",IF(COUNTIF($U$4:U398,U398)=1,\"\",\"重複\"))","v":""},"","",null,null,null,null,null,null,null,null,null,null,null,null,null,null,null,{"$f":"IF(COUNTIF($AI$5:AI398,AI398)=1,AI398,\"\")","v":""},{"$f":"IF(AI398=\"\",\"\",IF(COUNTIF($AX$5:AX398,AX398)=1,AX398,\"\"))","v":""},"",null,"",null,"",null,null,null,""]
[null,null,null,null,null,null,null,null,null,null,null,"削除","","","","","","","","","",{"$f":"IF(B399=\"\",\"\",IF(COUNTIF($U$4:U399,U399)=1,\"\",\"重複\"))","v":""},"","",null,null,null,null,null,null,null,null,null,null,null,null,null,null,null,{"$f":"IF(COUNTIF($AI$5:AI399,AI399)=1,AI399,\"\")","v":""},{"$f":"IF(AI399=\"\",\"\",IF(COUNTIF($AX$5:AX399,AX399)=1,AX399,\"\"))","v":""},"",null,"",null,"",null,null,null,""]
[null,null,null,null,null,null,null,null,null,null,null,"削除","","","","","","","","","",{"$f":"IF(B400=\"\",\"\",IF(COUNTIF($U$4:U400,U400)=1,\"\",\"重複\"))","v":""},"","",null,null,null,null,null,null,null,null,null,null,null,null,null,null,null,{"$f":"IF(COUNTIF($AI$5:AI400,AI400)=1,AI400,\"\")","v":""},{"$f":"IF(AI400=\"\",\"\",IF(COUNTIF($AX$5:AX400,AX400)=1,AX400,\"\"))","v":""},"",null,"",null,"",null,null,null,""]
[null,null,null,null,null,null,null,null,null,null,null,"削除","","","","","","","","","",{"$f":"IF(B401=\"\",\"\",IF(COUNTIF($U$4:U401,U401)=1,\"\",\"重複\"))","v":""},"","",null,null,null,null,null,null,null,null,null,null,null,null,null,null,null,{"$f":"IF(COUNTIF($AI$5:AI401,AI401)=1,AI401,\"\")","v":""},{"$f":"IF(AI401=\"\",\"\",IF(COUNTIF($AX$5:AX401,AX401)=1,AX401,\"\"))","v":""},"",null,"",null,"",null,null,null,""]
[null,null,null,null,null,null,null,null,null,null,null,"削除","","","","","","","","","",{"$f":"IF(B402=\"\",\"\",IF(COUNTIF($U$4:U402,U402)=1,\"\",\"重複\"))","v":""},"","",null,null,null,null,null,null,null,null,null,null,null,null,null,null,null,{"$f":"IF(COUNTIF($AI$5:AI402,AI402)=1,AI402,\"\")","v":""},{"$f":"IF(AI402=\"\",\"\",IF(COUNTIF($AX$5:AX402,AX402)=1,AX402,\"\"))","v":""},"",null,"",null,"",null,null,null,""]
[null,null,null,null,null,null,null,null,null,null,null,"削除","","","","","","","","","",{"$f":"IF(B403=\"\",\"\",IF(COUNTIF($U$4:U403,U403)=1,\"\",\"重複\"))","v":""},"","",null,null,null,null,null,null,null,null,null,null,null,null,null,null,null,{"$f":"IF(COUNTIF($AI$5:AI403,AI403)=1,AI403,\"\")","v":""},{"$f":"IF(AI403=\"\",\"\",IF(COUNTIF($AX$5:AX403,AX403)=1,AX403,\"\"))","v":""},"",null,"",null,"",null,null,null,""]
[null,null,null,null,null,null,null,null,null,null,null,"削除","","","","","","","","","",{"$f":"IF(B404=\"\",\"\",IF(COUNTIF($U$4:U404,U404)=1,\"\",\"重複\"))","v":""},"","",null,null,null,null,null,null,null,null,null,400,null,null,null,null,null,{"$f":"IF(COUNTIF($AI$5:AI404,AI404)=1,AI404,\"\")","v":""},{"$f":"IF(AI404=\"\",\"\",IF(COUNTIF($AX$5:AX404,AX404)=1,AX404,\"\"))","v":""},"",null,"",null,"",null,null,null,""]
[null,null,null,null,null,null,null,null,null,null,null,"削除","","","","","","","","","",{"$f":"IF(B405=\"\",\"\",IF(COUNTIF($U$4:U405,U405)=1,\"\",\"重複\"))","v":""},"","",null,null,null,null,null,null,null,null,null,null,null,null,null,null,null,{"$f":"IF(COUNTIF($AI$5:AI405,AI405)=1,AI405,\"\")","v":""},{"$f":"IF(AI405=\"\",\"\",IF(COUNTIF($AX$5:AX405,AX405)=1,AX405,\"\"))","v":""},"",null,"",null,"",null,null,null,""]
[null,null,null,null,null,null,null,null,null,null,null,"削除","","","","","","","","","",{"$f":"IF(B406=\"\",\"\",IF(COUNTIF($U$4:U406,U406)=1,\"\",\"重複\"))","v":""},"","",null,null,null,null,null,null,null,null,null,null,null,null,null,null,null,{"$f":"IF(COUNTIF($AI$5:AI406,AI406)=1,AI406,\"\")","v":""},{"$f":"IF(AI406=\"\",\"\",IF(COUNTIF($AX$5:AX406,AX406)=1,AX406,\"\"))","v":""},"",null,"",null,"",null,null,null,""]
[null,null,null,null,null,null,null,null,null,null,null,"削除","","","","","","","","","",{"$f":"IF(B407=\"\",\"\",IF(COUNTIF($U$4:U407,U407)=1,\"\",\"重複\"))","v":""},"","",null,null,null,null,null,null,null,null,null,null,null,null,null,null,null,{"$f":"IF(COUNTIF($AI$5:AI407,AI407)=1,AI407,\"\")","v":""},{"$f":"IF(AI407=\"\",\"\",IF(COUNTIF($AX$5:AX407,AX407)=1,AX407,\"\"))","v":""},"",null,"",null,"",null,null,null,""]
[null,null,null,null,null,null,null,null,null,null,null,"削除","","","","","","","","","",{"$f":"IF(B408=\"\",\"\",IF(COUNTIF($U$4:U408,U408)=1,\"\",\"重複\"))","v":""},"","",null,null,null,null,null,null,null,null,null,null,null,null,null,null,null,{"$f":"IF(COUNTIF($AI$5:AI408,AI408)=1,AI408,\"\")","v":""},{"$f":"IF(AI408=\"\",\"\",IF(COUNTIF($AX$5:AX408,AX408)=1,AX408,\"\"))","v":""},"",null,"",null,"",null,null,null,""]
[null,null,null,null,null,null,null,null,null,null,null,"削除","","","","","","","","","",{"$f":"IF(B409=\"\",\"\",IF(COUNTIF($U$4:U409,U409)=1,\"\",\"重複\"))","v":""},"","",null,null,null,null,null,null,null,null,null,null,null,null,null,null,null,{"$f":"IF(COUNTIF($AI$5:AI409,AI409)=1,AI409,\"\")","v":""},{"$f":"IF(AI409=\"\",\"\",IF(COUNTIF($AX$5:AX409,AX409)=1,AX409,\"\"))","v":""},"",null,"",null,"",null,null,null,""]
[null,null,null,null,null,null,null,null,null,null,null,"削除","","","","","","","","","",{"$f":"IF(B410=\"\",\"\",IF(COUNTIF($U$4:U410,U410)=1,\"\",\"重複\"))","v":""},"","",null,null,null,null,null,null,null,null,null,null,null,null,null,null,null,{"$f":"IF(COUNTIF($AI$5:AI410,AI410)=1,AI410,\"\")","v":""},{"$f":"IF(AI410=\"\",\"\",IF(COUNTIF($AX$5:AX410,AX410)=1,AX410,\"\"))","v":""},"",null,"",null,"",null,null,null,""]
[null,null,null,null,null,null,null,null,null,null,null,"削除","","","","","","","","","",{"$f":"IF(B411=\"\",\"\",IF(COUNTIF($U$4:U411,U411)=1,\"\",\"重複\"))","v":""},"","",null,null,null,null,null,null,null,null,null,null,null,null,null,null,null,{"$f":"IF(COUNTIF($AI$5:AI411,AI411)=1,AI411,\"\")","v":""},{"$f":"IF(AI411=\"\",\"\",IF(COUNTIF($AX$5:AX411,AX411)=1,AX411,\"\"))","v":""},"",null,"",null,"",null,null,null,""]
[null,null,null,null,null,null,null,null,null,null,null,"削除","","","","","","","","","",{"$f":"IF(B412=\"\",\"\",IF(COUNTIF($U$4:U412,U412)=1,\"\",\"重複\"))","v":""},"","",null,null,null,null,null,null,null,null,null,null,null,null,null,null,null,{"$f":"IF(COUNTIF($AI$5:AI412,AI412)=1,AI412,\"\")","v":""},{"$f":"IF(AI412=\"\",\"\",IF(COUNTIF($AX$5:AX412,AX412)=1,AX412,\"\"))","v":""},"",null,"",null,"",null,null,null,""]
[null,null,null,null,null,null,null,null,null,null,null,"削除","","","","","","","","","",{"$f":"IF(B413=\"\",\"\",IF(COUNTIF($U$4:U413,U413)=1,\"\",\"重複\"))","v":""},"","",null,null,null,null,null,null,null,null,null,null,null,null,null,null,null,{"$f":"IF(COUNTIF($AI$5:AI413,AI413)=1,AI413,\"\")","v":""},{"$f":"IF(AI413=\"\",\"\",IF(COUNTIF($AX$5:AX413,AX413)=1,AX413,\"\"))","v":""},"",null,"",null,"",null,null,null,""]
[null,null,null,null,null,null,null,null,null,null,null,"削除","","","","","","","","","",{"$f":"IF(B414=\"\",\"\",IF(COUNTIF($U$4:U414,U414)=1,\"\",\"重複\"))","v":""},"","",null,null,null,null,null,null,null,null,null,410,null,null,null,null,null,{"$f":"IF(COUNTIF($AI$5:AI414,AI414)=1,AI414,\"\")","v":""},{"$f":"IF(AI414=\"\",\"\",IF(COUNTIF($AX$5:AX414,AX414)=1,AX414,\"\"))","v":""},"",null,"",null,"",null,null,null,""]
[null,null,null,null,null,null,null,null,null,null,null,"削除","","","","","","","","","",{"$f":"IF(B415=\"\",\"\",IF(COUNTIF($U$4:U415,U415)=1,\"\",\"重複\"))","v":""},"","",null,null,null,null,null,null,null,null,null,null,null,null,null,null,null,{"$f":"IF(COUNTIF($AI$5:AI415,AI415)=1,AI415,\"\")","v":""},{"$f":"IF(AI415=\"\",\"\",IF(COUNTIF($AX$5:AX415,AX415)=1,AX415,\"\"))","v":""},"",null,"",null,"",null,null,null,""]
[null,null,null,null,null,null,null,null,null,null,null,"削除","","","","","","","","","",{"$f":"IF(B416=\"\",\"\",IF(COUNTIF($U$4:U416,U416)=1,\"\",\"重複\"))","v":""},"","",null,null,null,null,null,null,null,null,null,null,null,null,null,null,null,{"$f":"IF(COUNTIF($AI$5:AI416,AI416)=1,AI416,\"\")","v":""},{"$f":"IF(AI416=\"\",\"\",IF(COUNTIF($AX$5:AX416,AX416)=1,AX416,\"\"))","v":""},"",null,"",null,"",null,null,null,""]
[null,null,null,null,null,null,null,null,null,null,null,"削除","","","","","","","","","",{"$f":"IF(B417=\"\",\"\",IF(COUNTIF($U$4:U417,U417)=1,\"\",\"重複\"))","v":""},"","",null,null,null,null,null,null,null,null,null,null,null,null,null,null,null,{"$f":"IF(COUNTIF($AI$5:AI417,AI417)=1,AI417,\"\")","v":""},{"$f":"IF(AI417=\"\",\"\",IF(COUNTIF($AX$5:AX417,AX417)=1,AX417,\"\"))","v":""},"",null,"",null,"",null,null,null,""]
[null,null,null,null,null,null,null,null,null,null,null,"削除","","","","","","","","","",{"$f":"IF(B418=\"\",\"\",IF(COUNTIF($U$4:U418,U418)=1,\"\",\"重複\"))","v":""},"","",null,null,null,null,null,null,null,null,null,null,null,null,null,null,null,{"$f":"IF(COUNTIF($AI$5:AI418,AI418)=1,AI418,\"\")","v":""},{"$f":"IF(AI418=\"\",\"\",IF(COUNTIF($AX$5:AX418,AX418)=1,AX418,\"\"))","v":""},"",null,"",null,"",null,null,null,""]
[null,null,null,null,null,null,null,null,null,null,null,"削除","","","","","","","","","",{"$f":"IF(B419=\"\",\"\",IF(COUNTIF($U$4:U419,U419)=1,\"\",\"重複\"))","v":""},"","",null,null,null,null,null,null,null,null,null,null,null,null,null,null,null,{"$f":"IF(COUNTIF($AI$5:AI419,AI419)=1,AI419,\"\")","v":""},{"$f":"IF(AI419=\"\",\"\",IF(COUNTIF($AX$5:AX419,AX419)=1,AX419,\"\"))","v":""},"",null,"",null,"",null,null,null,""]
[null,null,null,null,null,null,null,null,null,null,null,"削除","","","","","","","","","",{"$f":"IF(B420=\"\",\"\",IF(COUNTIF($U$4:U420,U420)=1,\"\",\"重複\"))","v":""},"","",null,null,null,null,null,null,null,null,null,null,null,null,null,null,null,{"$f":"IF(COUNTIF($AI$5:AI420,AI420)=1,AI420,\"\")","v":""},{"$f":"IF(AI420=\"\",\"\",IF(COUNTIF($AX$5:AX420,AX420)=1,AX420,\"\"))","v":""},"",null,"",null,"",null,null,null,""]
[null,null,null,null,null,null,null,null,null,null,null,"削除","","","","","","","","","",{"$f":"IF(B421=\"\",\"\",IF(COUNTIF($U$4:U421,U421)=1,\"\",\"重複\"))","v":""},"","",null,null,null,null,null,null,null,null,null,null,null,null,null,null,null,{"$f":"IF(COUNTIF($AI$5:AI421,AI421)=1,AI421,\"\")","v":""},{"$f":"IF(AI421=\"\",\"\",IF(COUNTIF($AX$5:AX421,AX421)=1,AX421,\"\"))","v":""},"",null,"",null,"",null,null,null,""]
[null,null,null,null,null,null,null,null,null,null,null,"削除","","","","","","","","","",{"$f":"IF(B422=\"\",\"\",IF(COUNTIF($U$4:U422,U422)=1,\"\",\"重複\"))","v":""},"","",null,null,null,null,null,null,null,null,null,null,null,null,null,null,null,{"$f":"IF(COUNTIF($AI$5:AI422,AI422)=1,AI422,\"\")","v":""},{"$f":"IF(AI422=\"\",\"\",IF(COUNTIF($AX$5:AX422,AX422)=1,AX422,\"\"))","v":""},"",null,"",null,"",null,null,null,""]
[null,null,null,null,null,null,null,null,null,null,null,"削除","","","","","","","","","",{"$f":"IF(B423=\"\",\"\",IF(COUNTIF($U$4:U423,U423)=1,\"\",\"重複\"))","v":""},"","",null,null,null,null,null,null,null,null,null,null,null,null,null,null,null,{"$f":"IF(COUNTIF($AI$5:AI423,AI423)=1,AI423,\"\")","v":""},{"$f":"IF(AI423=\"\",\"\",IF(COUNTIF($AX$5:AX423,AX423)=1,AX423,\"\"))","v":""},"",null,"",null,"",null,null,null,""]
[null,null,null,null,null,null,null,null,null,null,null,"削除","","","","","","","","","",{"$f":"IF(B424=\"\",\"\",IF(COUNTIF($U$4:U424,U424)=1,\"\",\"重複\"))","v":""},"","",null,null,null,null,null,null,null,null,null,420,null,null,null,null,null,{"$f":"IF(COUNTIF($AI$5:AI424,AI424)=1,AI424,\"\")","v":""},{"$f":"IF(AI424=\"\",\"\",IF(COUNTIF($AX$5:AX424,AX424)=1,AX424,\"\"))","v":""},"",null,"",null,"",null,null,null,""]
[null,null,null,null,null,null,null,null,null,null,null,"削除","","","","","","","","","",{"$f":"IF(B425=\"\",\"\",IF(COUNTIF($U$4:U425,U425)=1,\"\",\"重複\"))","v":""},"","",null,null,null,null,null,null,null,null,null,null,null,null,null,null,null,{"$f":"IF(COUNTIF($AI$5:AI425,AI425)=1,AI425,\"\")","v":""},{"$f":"IF(AI425=\"\",\"\",IF(COUNTIF($AX$5:AX425,AX425)=1,AX425,\"\"))","v":""},"",null,"",null,"",null,null,null,""]
[null,null,null,null,null,null,null,null,null,null,null,"削除","","","","","","","","","",{"$f":"IF(B426=\"\",\"\",IF(COUNTIF($U$4:U426,U426)=1,\"\",\"重複\"))","v":""},"","",null,null,null,null,null,null,null,null,null,null,null,null,null,null,null,{"$f":"IF(COUNTIF($AI$5:AI426,AI426)=1,AI426,\"\")","v":""},{"$f":"IF(AI426=\"\",\"\",IF(COUNTIF($AX$5:AX426,AX426)=1,AX426,\"\"))","v":""},"",null,"",null,"",null,null,null,""]
[null,null,null,null,null,null,null,null,null,null,null,"削除","","","","","","","","","",{"$f":"IF(B427=\"\",\"\",IF(COUNTIF($U$4:U427,U427)=1,\"\",\"重複\"))","v":""},"","",null,null,null,null,null,null,null,null,null,null,null,null,null,null,null,{"$f":"IF(COUNTIF($AI$5:AI427,AI427)=1,AI427,\"\")","v":""},{"$f":"IF(AI427=\"\",\"\",IF(COUNTIF($AX$5:AX427,AX427)=1,AX427,\"\"))","v":""},"",null,"",null,"",null,null,null,""]
[null,null,null,null,null,null,null,null,null,null,null,"削除","","","","","","","","","",{"$f":"IF(B428=\"\",\"\",IF(COUNTIF($U$4:U428,U428)=1,\"\",\"重複\"))","v":""},"","",null,null,null,null,null,null,null,null,null,null,null,null,null,null,null,{"$f":"IF(COUNTIF($AI$5:AI428,AI428)=1,AI428,\"\")","v":""},{"$f":"IF(AI428=\"\",\"\",IF(COUNTIF($AX$5:AX428,AX428)=1,AX428,\"\"))","v":""},"",null,"",null,"",null,null,null,""]
[null,null,null,null,null,null,null,null,null,null,null,"削除","","","","","","","","","",{"$f":"IF(B429=\"\",\"\",IF(COUNTIF($U$4:U429,U429)=1,\"\",\"重複\"))","v":""},"","",null,null,null,null,null,null,null,null,null,null,null,null,null,null,null,{"$f":"IF(COUNTIF($AI$5:AI429,AI429)=1,AI429,\"\")","v":""},{"$f":"IF(AI429=\"\",\"\",IF(COUNTIF($AX$5:AX429,AX429)=1,AX429,\"\"))","v":""},"",null,"",null,"",null,null,null,""]
[null,null,null,null,null,null,null,null,null,null,null,"削除","","","","","","","","","",{"$f":"IF(B430=\"\",\"\",IF(COUNTIF($U$4:U430,U430)=1,\"\",\"重複\"))","v":""},"","",null,null,null,null,null,null,null,null,null,null,null,null,null,null,null,{"$f":"IF(COUNTIF($AI$5:AI430,AI430)=1,AI430,\"\")","v":""},{"$f":"IF(AI430=\"\",\"\",IF(COUNTIF($AX$5:AX430,AX430)=1,AX430,\"\"))","v":""},"",null,"",null,"",null,null,null,""]
[null,null,null,null,null,null,null,null,null,null,null,"削除","","","","","","","","","",{"$f":"IF(B431=\"\",\"\",IF(COUNTIF($U$4:U431,U431)=1,\"\",\"重複\"))","v":""},"","",null,null,null,null,null,null,null,null,null,null,null,null,null,null,null,{"$f":"IF(COUNTIF($AI$5:AI431,AI431)=1,AI431,\"\")","v":""},{"$f":"IF(AI431=\"\",\"\",IF(COUNTIF($AX$5:AX431,AX431)=1,AX431,\"\"))","v":""},"",null,"",null,"",null,null,null,""]
[null,null,null,null,null,null,null,null,null,null,null,"削除","","","","","","","","","",{"$f":"IF(B432=\"\",\"\",IF(COUNTIF($U$4:U432,U432)=1,\"\",\"重複\"))","v":""},"","",null,null,null,null,null,null,null,null,null,null,null,null,null,null,null,{"$f":"IF(COUNTIF($AI$5:AI432,AI432)=1,AI432,\"\")","v":""},{"$f":"IF(AI432=\"\",\"\",IF(COUNTIF($AX$5:AX432,AX432)=1,AX432,\"\"))","v":""},"",null,"",null,"",null,null,null,""]
[null,null,null,null,null,null,null,null,null,null,null,"削除","","","","","","","","","",{"$f":"IF(B433=\"\",\"\",IF(COUNTIF($U$4:U433,U433)=1,\"\",\"重複\"))","v":""},"","",null,null,null,null,null,null,null,null,null,null,null,null,null,null,null,{"$f":"IF(COUNTIF($AI$5:AI433,AI433)=1,AI433,\"\")","v":""},{"$f":"IF(AI433=\"\",\"\",IF(COUNTIF($AX$5:AX433,AX433)=1,AX433,\"\"))","v":""},"",null,"",null,"",null,null,null,""]
[null,null,null,null,null,null,null,null,null,null,null,"削除","","","","","","","","","",{"$f":"IF(B434=\"\",\"\",IF(COUNTIF($U$4:U434,U434)=1,\"\",\"重複\"))","v":""},"","",null,null,null,null,null,null,null,null,null,430,null,null,null,null,null,{"$f":"IF(COUNTIF($AI$5:AI434,AI434)=1,AI434,\"\")","v":""},{"$f":"IF(AI434=\"\",\"\",IF(COUNTIF($AX$5:AX434,AX434)=1,AX434,\"\"))","v":""},"",null,"",null,"",null,null,null,""]
[null,null,null,null,null,null,null,null,null,null,null,"削除","","","","","","","","","",{"$f":"IF(B435=\"\",\"\",IF(COUNTIF($U$4:U435,U435)=1,\"\",\"重複\"))","v":""},"","",null,null,null,null,null,null,null,null,null,null,null,null,null,null,null,{"$f":"IF(COUNTIF($AI$5:AI435,AI435)=1,AI435,\"\")","v":""},{"$f":"IF(AI435=\"\",\"\",IF(COUNTIF($AX$5:AX435,AX435)=1,AX435,\"\"))","v":""},"",null,"",null,"",null,null,null,""]
[null,null,null,null,null,null,null,null,null,null,null,"削除","","","","","","","","","",{"$f":"IF(B436=\"\",\"\",IF(COUNTIF($U$4:U436,U436)=1,\"\",\"重複\"))","v":""},"","",null,null,null,null,null,null,null,null,null,null,null,null,null,null,null,{"$f":"IF(COUNTIF($AI$5:AI436,AI436)=1,AI436,\"\")","v":""},{"$f":"IF(AI436=\"\",\"\",IF(COUNTIF($AX$5:AX436,AX436)=1,AX436,\"\"))","v":""},"",null,"",null,"",null,null,null,""]
[null,null,null,null,null,null,null,null,null,null,null,"削除","","","","","","","","","",{"$f":"IF(B437=\"\",\"\",IF(COUNTIF($U$4:U437,U437)=1,\"\",\"重複\"))","v":""},"","",null,null,null,null,null,null,null,null,null,null,null,null,null,null,null,{"$f":"IF(COUNTIF($AI$5:AI437,AI437)=1,AI437,\"\")","v":""},{"$f":"IF(AI437=\"\",\"\",IF(COUNTIF($AX$5:AX437,AX437)=1,AX437,\"\"))","v":""},"",null,"",null,"",null,null,null,""]
[null,null,null,null,null,null,null,null,null,null,null,"削除","","","","","","","","","",{"$f":"IF(B438=\"\",\"\",IF(COUNTIF($U$4:U438,U438)=1,\"\",\"重複\"))","v":""},"","",null,null,null,null,null,null,null,null,null,null,null,null,null,null,null,{"$f":"IF(COUNTIF($AI$5:AI438,AI438)=1,AI438,\"\")","v":""},{"$f":"IF(AI438=\"\",\"\",IF(COUNTIF($AX$5:AX438,AX438)=1,AX438,\"\"))","v":""},"",null,"",null,"",null,null,null,""]
[null,null,null,null,null,null,null,null,null,null,null,"削除","","","","","","","","","",{"$f":"IF(B439=\"\",\"\",IF(COUNTIF($U$4:U439,U439)=1,\"\",\"重複\"))","v":""},"","",null,null,null,null,null,null,null,null,null,null,null,null,null,null,null,{"$f":"IF(COUNTIF($AI$5:AI439,AI439)=1,AI439,\"\")","v":""},{"$f":"IF(AI439=\"\",\"\",IF(COUNTIF($AX$5:AX439,AX439)=1,AX439,\"\"))","v":""},"",null,"",null,"",null,null,null,""]
[null,null,null,null,null,null,null,null,null,null,null,"削除","","","","","","","","","",{"$f":"IF(B440=\"\",\"\",IF(COUNTIF($U$4:U440,U440)=1,\"\",\"重複\"))","v":""},"","",null,null,null,null,null,null,null,null,null,null,null,null,null,null,null,{"$f":"IF(COUNTIF($AI$5:AI440,AI440)=1,AI440,\"\")","v":""},{"$f":"IF(AI440=\"\",\"\",IF(COUNTIF($AX$5:AX440,AX440)=1,AX440,\"\"))","v":""},"",null,"",null,"",null,null,null,""]
[null,null,null,null,null,null,null,null,null,null,null,"削除","","","","","","","","","",{"$f":"IF(B441=\"\",\"\",IF(COUNTIF($U$4:U441,U441)=1,\"\",\"重複\"))","v":""},"","",null,null,null,null,null,null,null,null,null,null,null,null,null,null,null,{"$f":"IF(COUNTIF($AI$5:AI441,AI441)=1,AI441,\"\")","v":""},{"$f":"IF(AI441=\"\",\"\",IF(COUNTIF($AX$5:AX441,AX441)=1,AX441,\"\"))","v":""},"",null,"",null,"",null,null,null,""]
[null,null,null,null,null,null,null,null,null,null,null,"削除","","","","","","","","","",{"$f":"IF(B442=\"\",\"\",IF(COUNTIF($U$4:U442,U442)=1,\"\",\"重複\"))","v":""},"","",null,null,null,null,null,null,null,null,null,null,null,null,null,null,null,{"$f":"IF(COUNTIF($AI$5:AI442,AI442)=1,AI442,\"\")","v":""},{"$f":"IF(AI442=\"\",\"\",IF(COUNTIF($AX$5:AX442,AX442)=1,AX442,\"\"))","v":""},"",null,"",null,"",null,null,null,""]
[null,null,null,null,null,null,null,null,null,null,null,"削除","","","","","","","","","",{"$f":"IF(B443=\"\",\"\",IF(COUNTIF($U$4:U443,U443)=1,\"\",\"重複\"))","v":""},"","",null,null,null,null,null,null,null,null,null,null,null,null,null,null,null,{"$f":"IF(COUNTIF($AI$5:AI443,AI443)=1,AI443,\"\")","v":""},{"$f":"IF(AI443=\"\",\"\",IF(COUNTIF($AX$5:AX443,AX443)=1,AX443,\"\"))","v":""},"",null,"",null,"",null,null,null,""]
[null,null,null,null,null,null,null,null,null,null,null,"削除","","","","","","","","","",{"$f":"IF(B444=\"\",\"\",IF(COUNTIF($U$4:U444,U444)=1,\"\",\"重複\"))","v":""},"","",null,null,null,null,null,null,null,null,null,440,null,null,null,null,null,{"$f":"IF(COUNTIF($AI$5:AI444,AI444)=1,AI444,\"\")","v":""},{"$f":"IF(AI444=\"\",\"\",IF(COUNTIF($AX$5:AX444,AX444)=1,AX444,\"\"))","v":""},"",null,"",null,"",null,null,null,""]
[null,null,null,null,null,null,null,null,null,null,null,"削除","","","","","","","","","",{"$f":"IF(B445=\"\",\"\",IF(COUNTIF($U$4:U445,U445)=1,\"\",\"重複\"))","v":""},"","",null,null,null,null,null,null,null,null,null,null,null,null,null,null,null,{"$f":"IF(COUNTIF($AI$5:AI445,AI445)=1,AI445,\"\")","v":""},{"$f":"IF(AI445=\"\",\"\",IF(COUNTIF($AX$5:AX445,AX445)=1,AX445,\"\"))","v":""},"",null,"",null,"",null,null,null,""]
[null,null,null,null,null,null,null,null,null,null,null,"削除","","","","","","","","","",{"$f":"IF(B446=\"\",\"\",IF(COUNTIF($U$4:U446,U446)=1,\"\",\"重複\"))","v":""},"","",null,null,null,null,null,null,null,null,null,null,null,null,null,null,null,{"$f":"IF(COUNTIF($AI$5:AI446,AI446)=1,AI446,\"\")","v":""},{"$f":"IF(AI446=\"\",\"\",IF(COUNTIF($AX$5:AX446,AX446)=1,AX446,\"\"))","v":""},"",null,"",null,"",null,null,null,""]
[null,null,null,null,null,null,null,null,null,null,null,"削除","","","","","","","","","",{"$f":"IF(B447=\"\",\"\",IF(COUNTIF($U$4:U447,U447)=1,\"\",\"重複\"))","v":""},"","",null,null,null,null,null,null,null,null,null,null,null,null,null,null,null,{"$f":"IF(COUNTIF($AI$5:AI447,AI447)=1,AI447,\"\")","v":""},{"$f":"IF(AI447=\"\",\"\",IF(COUNTIF($AX$5:AX447,AX447)=1,AX447,\"\"))","v":""},"",null,"",null,"",null,null,null,""]
[null,null,null,null,null,null,null,null,null,null,null,"削除","","","","","","","","","",{"$f":"IF(B448=\"\",\"\",IF(COUNTIF($U$4:U448,U448)=1,\"\",\"重複\"))","v":""},"","",null,null,null,null,null,null,null,null,null,null,null,null,null,null,null,{"$f":"IF(COUNTIF($AI$5:AI448,AI448)=1,AI448,\"\")","v":""},{"$f":"IF(AI448=\"\",\"\",IF(COUNTIF($AX$5:AX448,AX448)=1,AX448,\"\"))","v":""},"",null,"",null,"",null,null,null,""]
[null,null,null,null,null,null,null,null,null,null,null,"削除","","","","","","","","","",{"$f":"IF(B449=\"\",\"\",IF(COUNTIF($U$4:U449,U449)=1,\"\",\"重複\"))","v":""},"","",null,null,null,null,null,null,null,null,null,null,null,null,null,null,null,{"$f":"IF(COUNTIF($AI$5:AI449,AI449)=1,AI449,\"\")","v":""},{"$f":"IF(AI449=\"\",\"\",IF(COUNTIF($AX$5:AX449,AX449)=1,AX449,\"\"))","v":""},"",null,"",null,"",null,null,null,""]
[null,null,null,null,null,null,null,null,null,null,null,"削除","","","","","","","","","",{"$f":"IF(B450=\"\",\"\",IF(COUNTIF($U$4:U450,U450)=1,\"\",\"重複\"))","v":""},"","",null,null,null,null,null,null,null,null,null,null,null,null,null,null,null,{"$f":"IF(COUNTIF($AI$5:AI450,AI450)=1,AI450,\"\")","v":""},{"$f":"IF(AI450=\"\",\"\",IF(COUNTIF($AX$5:AX450,AX450)=1,AX450,\"\"))","v":""},"",null,"",null,"",null,null,null,""]
[null,null,null,null,null,null,null,null,null,null,null,"削除","","","","","","","","","",{"$f":"IF(B451=\"\",\"\",IF(COUNTIF($U$4:U451,U451)=1,\"\",\"重複\"))","v":""},"","",null,null,null,null,null,null,null,null,null,null,null,null,null,null,null,{"$f":"IF(COUNTIF($AI$5:AI451,AI451)=1,AI451,\"\")","v":""},{"$f":"IF(AI451=\"\",\"\",IF(COUNTIF($AX$5:AX451,AX451)=1,AX451,\"\"))","v":""},"",null,"",null,"",null,null,null,""]
[null,null,null,null,null,null,null,null,null,null,null,"削除","","","","","","","","","",{"$f":"IF(B452=\"\",\"\",IF(COUNTIF($U$4:U452,U452)=1,\"\",\"重複\"))","v":""},"",{"$f":"IF(B452=\"\",\"\",IF(LEFT(G452,3)=\"144\",IF(LEFT(H452,3)=\"SSB\",\"\",IF(LEFT(H452,3)=\"A3J\",\"\",IF(LEFT(H452,3)=\"J3E\",\"\",\"形式外\"))),\"形式外\"))","v":""},null,null,null,null,null,null,null,null,null,null,null,null,null,null,null,{"$f":"IF(COUNTIF($AI$5:AI452,AI452)=1,AI452,\"\")","v":""},{"$f":"IF(AI452=\"\",\"\",IF(COUNTIF($AX$5:AX452,AX452)=1,AX452,\"\"))","v":""},"",null,"",null,"",null,null,null,""]
[null,null,null,null,null,null,null,null,null,null,null,{"$f":"IF(B453=\"\",\"削除\",IF(OR(V453=\"重複\",W453=\"削除\",X453=\"形式外\"),\"削除\",1))","v":"削除"},{"$f":"IF(L453=\"削除\",\"\",C453)","v":""},{"$f":"IF(L453=\"削除\",\"\",D453)","v":""},{"$f":"IF(L453=\"削除\",\"\",B453)","v":""},{"$f":"IF(L453=\"削除\",\"\",E453)","v":""},{"$f":"IF(L453=\"削除\",\"\",F453)","v":""},{"$f":"IF(L453=\"削除\",\"\",I453)","v":""},{"$f":"IF(L453=\"削除\",\"\",IF(J453=\"\",\"\",J453))","v":""},{"$f":"IF(B453=\"\",\"\",LEFT(B453,FIND(\"/\",B453&\"/\")-1))","v":""},{"$f":"IF(B453=\"\",\"\",T453&\"/\"&H453)","v":""},{"$f":"IF(B453=\"\",\"\",IF(COUNTIF($U$4:U453,U453)=1,\"\",\"重複\"))","v":""},{"$f":"IF(B453=\"\",\"\",IF(LEFT(T453,1)=\"8\",\"削除\",IF(LEN(T453)=5,IF(MID(T453,4,2)=\"RL\",\"削除\",\"\"),IF(MID(T453,4,1)=\"Y\",\"削除\",IF(MID(T453,4,1)=\"Z\",\"削除\",\"\")))))","v":""},"",null,null,null,null,null,null,null,null,null,null,null,null,null,null,null,{"$f":"IF(COUNTIF($AI$5:AI453,AI453)=1,AI453,\"\")","v":""},{"$f":"IF(AI453=\"\",\"\",IF(COUNTIF($AX$5:AX453,AX453)=1,AX453,\"\"))","v":""},"",null,"",null,"",null,null,null,""]
[null,null,null,null,null,null,null,null,null,null,null,"削除","","","","","","","","","",{"$f":"IF(B454=\"\",\"\",IF(COUNTIF($U$4:U454,U454)=1,\"\",\"重複\"))","v":""},"","",null,null,null,null,null,null,null,null,null,450,null,null,null,null,null,{"$f":"IF(COUNTIF($AI$5:AI454,AI454)=1,AI454,\"\")","v":""},{"$f":"IF(AI454=\"\",\"\",IF(COUNTIF($AX$5:AX454,AX454)=1,AX454,\"\"))","v":""},{"$f":"IF(AK454=\"\",\"\",IF(COUNTIF($BN$5:$BN$304,AT454)=1,5,1))","v":""},null,{"$f":"IF(COUNTIF($BN$5:$BN$40,AT454)=1,\"M\",\"\")","v":""},null,{"$f":"LEFT(AK454&\"/\",FIND(\"/\",AK454&\"/\")-1)","v":""},null,null,null,{"$f":"RIGHT(AT454,1)","v":""}]
[null,null,null,null,null,null,null,null,null,null,null,"削除","","","","","","","","","",{"$f":"IF(B455=\"\",\"\",IF(COUNTIF($U$4:U455,U455)=1,\"\",\"重複\"))","v":""},"","",null,null,null,null,null,null,null,null,null,null,null,null,null,null,null,{"$f":"IF(COUNTIF($AI$5:AI455,AI455)=1,AI455,\"\")","v":""},{"$f":"IF(AI455=\"\",\"\",IF(COUNTIF($AX$5:AX455,AX455)=1,AX455,\"\"))","v":""},"",null,"",null,"",null,null,null,""]
[null,null,null,null,null,null,null,null,null,null,null,"削除","","","","","","","","","",{"$f":"IF(B456=\"\",\"\",IF(COUNTIF($U$4:U456,U456)=1,\"\",\"重複\"))","v":""},"","",null,null,null,null,null,null,null,null,null,null,null,null,null,null,null,{"$f":"IF(COUNTIF($AI$5:AI456,AI456)=1,AI456,\"\")","v":""},{"$f":"IF(AI456=\"\",\"\",IF(COUNTIF($AX$5:AX456,AX456)=1,AX456,\"\"))","v":""},"",null,"",null,"",null,null,null,""]
[null,null,null,null,null,null,null,null,null,null,null,"削除","","","","","","","","","",{"$f":"IF(B457=\"\",\"\",IF(COUNTIF($U$4:U457,U457)=1,\"\",\"重複\"))","v":""},"","",null,null,null,null,null,null,null,null,null,null,null,null,null,null,null,{"$f":"IF(COUNTIF($AI$5:AI457,AI457)=1,AI457,\"\")","v":""},{"$f":"IF(AI457=\"\",\"\",IF(COUNTIF($AX$5:AX457,AX457)=1,AX457,\"\"))","v":""},"",null,"",null,"",null,null,null,""]
[null,null,null,null,null,null,null,null,null,null,null,"削除","","","","","","","","","",{"$f":"IF(B458=\"\",\"\",IF(COUNTIF($U$4:U458,U458)=1,\"\",\"重複\"))","v":""},"","",null,null,null,null,null,null,null,null,null,null,null,null,null,null,null,{"$f":"IF(COUNTIF($AI$5:AI458,AI458)=1,AI458,\"\")","v":""},{"$f":"IF(AI458=\"\",\"\",IF(COUNTIF($AX$5:AX458,AX458)=1,AX458,\"\"))","v":""},"",null,"",null,"",null,null,null,""]
[null,null,null,null,null,null,null,null,null,null,null,"削除","","","","","","","","","",{"$f":"IF(B459=\"\",\"\",IF(COUNTIF($U$4:U459,U459)=1,\"\",\"重複\"))","v":""},"","",null,null,null,null,null,null,null,null,null,null,null,null,null,null,null,{"$f":"IF(COUNTIF($AI$5:AI459,AI459)=1,AI459,\"\")","v":""},{"$f":"IF(AI459=\"\",\"\",IF(COUNTIF($AX$5:AX459,AX459)=1,AX459,\"\"))","v":""},"",null,"",null,"",null,null,null,""]
[null,null,null,null,null,null,null,null,null,null,null,"削除","","","","","","","","","",{"$f":"IF(B460=\"\",\"\",IF(COUNTIF($U$4:U460,U460)=1,\"\",\"重複\"))","v":""},"","",null,null,null,null,null,null,null,null,null,null,null,null,null,null,null,{"$f":"IF(COUNTIF($AI$5:AI460,AI460)=1,AI460,\"\")","v":""},{"$f":"IF(AI460=\"\",\"\",IF(COUNTIF($AX$5:AX460,AX460)=1,AX460,\"\"))","v":""},"",null,"",null,"",null,null,null,""]
[null,null,null,null,null,null,null,null,null,null,null,"削除","","","","","","","","","",{"$f":"IF(B461=\"\",\"\",IF(COUNTIF($U$4:U461,U461)=1,\"\",\"重複\"))","v":""},"","",null,null,null,null,null,null,null,null,null,null,null,null,null,null,null,{"$f":"IF(COUNTIF($AI$5:AI461,AI461)=1,AI461,\"\")","v":""},{"$f":"IF(AI461=\"\",\"\",IF(COUNTIF($AX$5:AX461,AX461)=1,AX461,\"\"))","v":""},"",null,"",null,"",null,null,null,""]
[null,null,null,null,null,null,null,null,null,null,null,"削除","","","","","","","","","",{"$f":"IF(B462=\"\",\"\",IF(COUNTIF($U$4:U462,U462)=1,\"\",\"重複\"))","v":""},"","",null,null,null,null,null,null,null,null,null,null,null,null,null,null,null,{"$f":"IF(COUNTIF($AI$5:AI462,AI462)=1,AI462,\"\")","v":""},{"$f":"IF(AI462=\"\",\"\",IF(COUNTIF($AX$5:AX462,AX462)=1,AX462,\"\"))","v":""},"",null,"",null,"",null,null,null,""]
[null,null,null,null,null,null,null,null,null,null,null,"削除","","","","","","","","","",{"$f":"IF(B463=\"\",\"\",IF(COUNTIF($U$4:U463,U463)=1,\"\",\"重複\"))","v":""},"","",null,null,null,null,null,null,null,null,null,null,null,null,null,null,null,{"$f":"IF(COUNTIF($AI$5:AI463,AI463)=1,AI463,\"\")","v":""},{"$f":"IF(AI463=\"\",\"\",IF(COUNTIF($AX$5:AX463,AX463)=1,AX463,\"\"))","v":""},"",null,"",null,"",null,null,null,""]
[null,null,null,null,null,null,null,null,null,null,null,"削除","","","","","","","","","",{"$f":"IF(B464=\"\",\"\",IF(COUNTIF($U$4:U464,U464)=1,\"\",\"重複\"))","v":""},"","",null,null,null,null,null,null,null,null,null,460,null,null,null,null,null,{"$f":"IF(COUNTIF($AI$5:AI464,AI464)=1,AI464,\"\")","v":""},{"$f":"IF(AI464=\"\",\"\",IF(COUNTIF($AX$5:AX464,AX464)=1,AX464,\"\"))","v":""},"",null,"",null,"",null,null,null,""]
[null,null,null,null,null,null,null,null,null,null,null,"削除","","","","","","","","","",{"$f":"IF(B465=\"\",\"\",IF(COUNTIF($U$4:U465,U465)=1,\"\",\"重複\"))","v":""},"","",null,null,null,null,null,null,null,null,null,null,null,null,null,null,null,{"$f":"IF(COUNTIF($AI$5:AI465,AI465)=1,AI465,\"\")","v":""},{"$f":"IF(AI465=\"\",\"\",IF(COUNTIF($AX$5:AX465,AX465)=1,AX465,\"\"))","v":""},"",null,"",null,"",null,null,null,""]
[null,null,null,null,null,null,null,null,null,null,null,"削除","","","","","","","","","",{"$f":"IF(B466=\"\",\"\",IF(COUNTIF($U$4:U466,U466)=1,\"\",\"重複\"))","v":""},"","",null,null,null,null,null,null,null,null,null,null,null,null,null,null,null,{"$f":"IF(COUNTIF($AI$5:AI466,AI466)=1,AI466,\"\")","v":""},{"$f":"IF(AI466=\"\",\"\",IF(COUNTIF($AX$5:AX466,AX466)=1,AX466,\"\"))","v":""},"",null,"",null,"",null,null,null,""]
[null,null,null,null,null,null,null,null,null,null,null,"削除","","","","","","","","","",{"$f":"IF(B467=\"\",\"\",IF(COUNTIF($U$4:U467,U467)=1,\"\",\"重複\"))","v":""},"","",null,null,null,null,null,null,null,null,null,null,null,null,null,null,null,{"$f":"IF(COUNTIF($AI$5:AI467,AI467)=1,AI467,\"\")","v":""},{"$f":"IF(AI467=\"\",\"\",IF(COUNTIF($AX$5:AX467,AX467)=1,AX467,\"\"))","v":""},"",null,"",null,"",null,null,null,""]
[null,null,null,null,null,null,null,null,null,null,null,"削除","","","","","","","","","",{"$f":"IF(B468=\"\",\"\",IF(COUNTIF($U$4:U468,U468)=1,\"\",\"重複\"))","v":""},"","",null,null,null,null,null,null,null,null,null,null,null,null,null,null,null,{"$f":"IF(COUNTIF($AI$5:AI468,AI468)=1,AI468,\"\")","v":""},{"$f":"IF(AI468=\"\",\"\",IF(COUNTIF($AX$5:AX468,AX468)=1,AX468,\"\"))","v":""},"",null,"",null,"",null,null,null,""]
[null,null,null,null,null,null,null,null,null,null,null,"削除","","","","","","","","","",{"$f":"IF(B469=\"\",\"\",IF(COUNTIF($U$4:U469,U469)=1,\"\",\"重複\"))","v":""},"","",null,null,null,null,null,null,null,null,null,null,null,null,null,null,null,{"$f":"IF(COUNTIF($AI$5:AI469,AI469)=1,AI469,\"\")","v":""},{"$f":"IF(AI469=\"\",\"\",IF(COUNTIF($AX$5:AX469,AX469)=1,AX469,\"\"))","v":""},"",null,"",null,"",null,null,null,""]
[null,null,null,null,null,null,null,null,null,null,null,"削除","","","","","","","","","",{"$f":"IF(B470=\"\",\"\",IF(COUNTIF($U$4:U470,U470)=1,\"\",\"重複\"))","v":""},"","",null,null,null,null,null,null,null,null,null,null,null,null,null,null,null,{"$f":"IF(COUNTIF($AI$5:AI470,AI470)=1,AI470,\"\")","v":""},{"$f":"IF(AI470=\"\",\"\",IF(COUNTIF($AX$5:AX470,AX470)=1,AX470,\"\"))","v":""},"",null,"",null,"",null,null,null,""]
[null,null,null,null,null,null,null,null,null,null,null,"削除","","","","","","","","","",{"$f":"IF(B471=\"\",\"\",IF(COUNTIF($U$4:U471,U471)=1,\"\",\"重複\"))","v":""},"","",null,null,null,null,null,null,null,null,null,null,null,null,null,null,null,{"$f":"IF(COUNTIF($AI$5:AI471,AI471)=1,AI471,\"\")","v":""},{"$f":"IF(AI471=\"\",\"\",IF(COUNTIF($AX$5:AX471,AX471)=1,AX471,\"\"))","v":""},"",null,"",null,"",null,null,null,""]
[null,null,null,null,null,null,null,null,null,null,null,"削除","","","","","","","","","",{"$f":"IF(B472=\"\",\"\",IF(COUNTIF($U$4:U472,U472)=1,\"\",\"重複\"))","v":""},"","",null,null,null,null,null,null,null,null,null,null,null,null,null,null,null,{"$f":"IF(COUNTIF($AI$5:AI472,AI472)=1,AI472,\"\")","v":""},{"$f":"IF(AI472=\"\",\"\",IF(COUNTIF($AX$5:AX472,AX472)=1,AX472,\"\"))","v":""},"",null,"",null,"",null,null,null,""]
[null,null,null,null,null,null,null,null,null,null,null,"削除","","","","","","","","","",{"$f":"IF(B473=\"\",\"\",IF(COUNTIF($U$4:U473,U473)=1,\"\",\"重複\"))","v":""},"","",null,null,null,null,null,null,null,null,null,null,null,null,null,null,null,{"$f":"IF(COUNTIF($AI$5:AI473,AI473)=1,AI473,\"\")","v":""},{"$f":"IF(AI473=\"\",\"\",IF(COUNTIF($AX$5:AX473,AX473)=1,AX473,\"\"))","v":""},"",null,"",null,"",null,null,null,""]
[null,null,null,null,null,null,null,null,null,null,null,"削除","","","","","","","","","",{"$f":"IF(B474=\"\",\"\",IF(COUNTIF($U$4:U474,U474)=1,\"\",\"重複\"))","v":""},"","",null,null,null,null,null,null,null,null,null,470,null,null,null,null,null,{"$f":"IF(COUNTIF($AI$5:AI474,AI474)=1,AI474,\"\")","v":""},{"$f":"IF(AI474=\"\",\"\",IF(COUNTIF($AX$5:AX474,AX474)=1,AX474,\"\"))","v":""},"",null,"",null,"",null,null,null,""]
[null,null,null,null,null,null,null,null,null,null,null,"削除","","","","","","","","","",{"$f":"IF(B475=\"\",\"\",IF(COUNTIF($U$4:U475,U475)=1,\"\",\"重複\"))","v":""},"","",null,null,null,null,null,null,null,null,null,null,null,null,null,null,null,{"$f":"IF(COUNTIF($AI$5:AI475,AI475)=1,AI475,\"\")","v":""},{"$f":"IF(AI475=\"\",\"\",IF(COUNTIF($AX$5:AX475,AX475)=1,AX475,\"\"))","v":""},"",null,"",null,"",null,null,null,""]
[null,null,null,null,null,null,null,null,null,null,null,"削除","","","","","","","","","",{"$f":"IF(B476=\"\",\"\",IF(COUNTIF($U$4:U476,U476)=1,\"\",\"重複\"))","v":""},"","",null,null,null,null,null,null,null,null,null,null,null,null,null,null,null,{"$f":"IF(COUNTIF($AI$5:AI476,AI476)=1,AI476,\"\")","v":""},{"$f":"IF(AI476=\"\",\"\",IF(COUNTIF($AX$5:AX476,AX476)=1,AX476,\"\"))","v":""},"",null,"",null,"",null,null,null,""]
[null,null,null,null,null,null,null,null,null,null,null,"削除","","","","","","","","","",{"$f":"IF(B477=\"\",\"\",IF(COUNTIF($U$4:U477,U477)=1,\"\",\"重複\"))","v":""},"","",null,null,null,null,null,null,null,null,null,null,null,null,null,null,null,{"$f":"IF(COUNTIF($AI$5:AI477,AI477)=1,AI477,\"\")","v":""},{"$f":"IF(AI477=\"\",\"\",IF(COUNTIF($AX$5:AX477,AX477)=1,AX477,\"\"))","v":""},"",null,"",null,"",null,null,null,""]
[null,null,null,null,null,null,null,null,null,null,null,"削除","","","","","","","","","",{"$f":"IF(B478=\"\",\"\",IF(COUNTIF($U$4:U478,U478)=1,\"\",\"重複\"))","v":""},"","",null,null,null,null,null,null,null,null,null,null,null,null,null,null,null,{"$f":"IF(COUNTIF($AI$5:AI478,AI478)=1,AI478,\"\")","v":""},{"$f":"IF(AI478=\"\",\"\",IF(COUNTIF($AX$5:AX478,AX478)=1,AX478,\"\"))","v":""},"",null,"",null,"",null,null,null,""]
[null,null,null,null,null,null,null,null,null,null,null,"削除","","","","","","","","","",{"$f":"IF(B479=\"\",\"\",IF(COUNTIF($U$4:U479,U479)=1,\"\",\"重複\"))","v":""},"","",null,null,null,null,null,null,null,null,null,null,null,null,null,null,null,{"$f":"IF(COUNTIF($AI$5:AI479,AI479)=1,AI479,\"\")","v":""},{"$f":"IF(AI479=\"\",\"\",IF(COUNTIF($AX$5:AX479,AX479)=1,AX479,\"\"))","v":""},"",null,"",null,"",null,null,null,""]
[null,null,null,null,null,null,null,null,null,null,null,"削除","","","","","","","","","",{"$f":"IF(B480=\"\",\"\",IF(COUNTIF($U$4:U480,U480)=1,\"\",\"重複\"))","v":""},"","",null,null,null,null,null,null,null,null,null,null,null,null,null,null,null,{"$f":"IF(COUNTIF($AI$5:AI480,AI480)=1,AI480,\"\")","v":""},{"$f":"IF(AI480=\"\",\"\",IF(COUNTIF($AX$5:AX480,AX480)=1,AX480,\"\"))","v":""},"",null,"",null,"",null,null,null,""]
[null,null,null,null,null,null,null,null,null,null,null,"削除","","","","","","","","","",{"$f":"IF(B481=\"\",\"\",IF(COUNTIF($U$4:U481,U481)=1,\"\",\"重複\"))","v":""},"","",null,null,null,null,null,null,null,null,null,null,null,null,null,null,null,{"$f":"IF(COUNTIF($AI$5:AI481,AI481)=1,AI481,\"\")","v":""},{"$f":"IF(AI481=\"\",\"\",IF(COUNTIF($AX$5:AX481,AX481)=1,AX481,\"\"))","v":""},"",null,"",null,"",null,null,null,""]
[null,null,null,null,null,null,null,null,null,null,null,"削除","","","","","","","","","",{"$f":"IF(B482=\"\",\"\",IF(COUNTIF($U$4:U482,U482)=1,\"\",\"重複\"))","v":""},"","",null,null,null,null,null,null,null,null,null,null,null,null,null,null,null,{"$f":"IF(COUNTIF($AI$5:AI482,AI482)=1,AI482,\"\")","v":""},{"$f":"IF(AI482=\"\",\"\",IF(COUNTIF($AX$5:AX482,AX482)=1,AX482,\"\"))","v":""},"",null,"",null,"",null,null,null,""]
[null,null,null,null,null,null,null,null,null,null,null,"削除","","","","","","","","","",{"$f":"IF(B483=\"\",\"\",IF(COUNTIF($U$4:U483,U483)=1,\"\",\"重複\"))","v":""},"","",null,null,null,null,null,null,null,null,null,null,null,null,null,null,null,{"$f":"IF(COUNTIF($AI$5:AI483,AI483)=1,AI483,\"\")","v":""},{"$f":"IF(AI483=\"\",\"\",IF(COUNTIF($AX$5:AX483,AX483)=1,AX483,\"\"))","v":""},"",null,"",null,"",null,null,null,""]
[null,null,null,null,null,null,null,null,null,null,null,"削除","","","","","","","","","",{"$f":"IF(B484=\"\",\"\",IF(COUNTIF($U$4:U484,U484)=1,\"\",\"重複\"))","v":""},"","",null,null,null,null,null,null,null,null,null,480,null,null,null,null,null,{"$f":"IF(COUNTIF($AI$5:AI484,AI484)=1,AI484,\"\")","v":""},{"$f":"IF(AI484=\"\",\"\",IF(COUNTIF($AX$5:AX484,AX484)=1,AX484,\"\"))","v":""},"",null,"",null,"",null,null,null,""]
[null,null,null,null,null,null,null,null,null,null,null,"削除","","","","","","","","","",{"$f":"IF(B485=\"\",\"\",IF(COUNTIF($U$4:U485,U485)=1,\"\",\"重複\"))","v":""},"","",null,null,null,null,null,null,null,null,null,null,null,null,null,null,null,{"$f":"IF(COUNTIF($AI$5:AI485,AI485)=1,AI485,\"\")","v":""},{"$f":"IF(AI485=\"\",\"\",IF(COUNTIF($AX$5:AX485,AX485)=1,AX485,\"\"))","v":""},"",null,"",null,"",null,null,null,""]
[null,null,null,null,null,null,null,null,null,null,null,"削除","","","","","","","","","",{"$f":"IF(B486=\"\",\"\",IF(COUNTIF($U$4:U486,U486)=1,\"\",\"重複\"))","v":""},"","",null,null,null,null,null,null,null,null,null,null,null,null,null,null,null,{"$f":"IF(COUNTIF($AI$5:AI486,AI486)=1,AI486,\"\")","v":""},{"$f":"IF(AI486=\"\",\"\",IF(COUNTIF($AX$5:AX486,AX486)=1,AX486,\"\"))","v":""},"",null,"",null,"",null,null,null,""]
[null,null,null,null,null,null,null,null,null,null,null,"削除","","","","","","","","","",{"$f":"IF(B487=\"\",\"\",IF(COUNTIF($U$4:U487,U487)=1,\"\",\"重複\"))","v":""},"","",null,null,null,null,null,null,null,null,null,null,null,null,null,null,null,{"$f":"IF(COUNTIF($AI$5:AI487,AI487)=1,AI487,\"\")","v":""},{"$f":"IF(AI487=\"\",\"\",IF(COUNTIF($AX$5:AX487,AX487)=1,AX487,\"\"))","v":""},"",null,"",null,"",null,null,null,""]
[null,null,null,null,null,null,null,null,null,null,null,"削除","","","","","","","","","",{"$f":"IF(B488=\"\",\"\",IF(COUNTIF($U$4:U488,U488)=1,\"\",\"重複\"))","v":""},"","",null,null,null,null,null,null,null,null,null,null,null,null,null,null,null,{"$f":"IF(COUNTIF($AI$5:AI488,AI488)=1,AI488,\"\")","v":""},{"$f":"IF(AI488=\"\",\"\",IF(COUNTIF($AX$5:AX488,AX488)=1,AX488,\"\"))","v":""},"",null,"",null,"",null,null,null,""]
[null,null,null,null,null,null,null,null,null,null,null,"削除","","","","","","","","","",{"$f":"IF(B489=\"\",\"\",IF(COUNTIF($U$4:U489,U489)=1,\"\",\"重複\"))","v":""},"","",null,null,null,null,null,null,null,null,null,null,null,null,null,null,null,{"$f":"IF(COUNTIF($AI$5:AI489,AI489)=1,AI489,\"\")","v":""},{"$f":"IF(AI489=\"\",\"\",IF(COUNTIF($AX$5:AX489,AX489)=1,AX489,\"\"))","v":""},"",null,"",null,"",null,null,null,""]
[null,null,null,null,null,null,null,null,null,null,null,"削除","","","","","","","","","",{"$f":"IF(B490=\"\",\"\",IF(COUNTIF($U$4:U490,U490)=1,\"\",\"重複\"))","v":""},"","",null,null,null,null,null,null,null,null,null,null,null,null,null,null,null,{"$f":"IF(COUNTIF($AI$5:AI490,AI490)=1,AI490,\"\")","v":""},{"$f":"IF(AI490=\"\",\"\",IF(COUNTIF($AX$5:AX490,AX490)=1,AX490,\"\"))","v":""},"",null,"",null,"",null,null,null,""]
[null,null,null,null,null,null,null,null,null,null,null,"削除","","","","","","","","","",{"$f":"IF(B491=\"\",\"\",IF(COUNTIF($U$4:U491,U491)=1,\"\",\"重複\"))","v":""},"","",null,null,null,null,null,null,null,null,null,null,null,null,null,null,null,{"$f":"IF(COUNTIF($AI$5:AI491,AI491)=1,AI491,\"\")","v":""},{"$f":"IF(AI491=\"\",\"\",IF(COUNTIF($AX$5:AX491,AX491)=1,AX491,\"\"))","v":""},"",null,"",null,"",null,null,null,""]
[null,null,null,null,null,null,null,null,null,null,null,"削除","","","","","","","","","",{"$f":"IF(B492=\"\",\"\",IF(COUNTIF($U$4:U492,U492)=1,\"\",\"重複\"))","v":""},"","",null,null,null,null,null,null,null,null,null,null,null,null,null,null,null,{"$f":"IF(COUNTIF($AI$5:AI492,AI492)=1,AI492,\"\")","v":""},{"$f":"IF(AI492=\"\",\"\",IF(COUNTIF($AX$5:AX492,AX492)=1,AX492,\"\"))","v":""},"",null,"",null,"",null,null,null,""]
[null,null,null,null,null,null,null,null,null,null,null,"削除","","","","","","","","","",{"$f":"IF(B493=\"\",\"\",IF(COUNTIF($U$4:U493,U493)=1,\"\",\"重複\"))","v":""},"","",null,null,null,null,null,null,null,null,null,null,null,null,null,null,null,{"$f":"IF(COUNTIF($AI$5:AI493,AI493)=1,AI493,\"\")","v":""},{"$f":"IF(AI493=\"\",\"\",IF(COUNTIF($AX$5:AX493,AX493)=1,AX493,\"\"))","v":""},"",null,"",null,"",null,null,null,""]
[null,null,null,null,null,null,null,null,null,null,null,"削除","","","","","","","","","",{"$f":"IF(B494=\"\",\"\",IF(COUNTIF($U$4:U494,U494)=1,\"\",\"重複\"))","v":""},"","",null,null,null,null,null,null,null,null,null,490,null,null,null,null,null,{"$f":"IF(COUNTIF($AI$5:AI494,AI494)=1,AI494,\"\")","v":""},{"$f":"IF(AI494=\"\",\"\",IF(COUNTIF($AX$5:AX494,AX494)=1,AX494,\"\"))","v":""},"",null,"",null,"",null,null,null,""]
[null,null,null,null,null,null,null,null,null,null,null,"削除","","","","","","","","","",{"$f":"IF(B495=\"\",\"\",IF(COUNTIF($U$4:U495,U495)=1,\"\",\"重複\"))","v":""},"","",null,null,null,null,null,null,null,null,null,null,null,null,null,null,null,{"$f":"IF(COUNTIF($AI$5:AI495,AI495)=1,AI495,\"\")","v":""},{"$f":"IF(AI495=\"\",\"\",IF(COUNTIF($AX$5:AX495,AX495)=1,AX495,\"\"))","v":""},"",null,"",null,"",null,null,null,""]
[null,null,null,null,null,null,null,null,null,null,null,"削除","","","","","","","","","",{"$f":"IF(B496=\"\",\"\",IF(COUNTIF($U$4:U496,U496)=1,\"\",\"重複\"))","v":""},"","",null,null,null,null,null,null,null,null,null,null,null,null,null,null,null,{"$f":"IF(COUNTIF($AI$5:AI496,AI496)=1,AI496,\"\")","v":""},{"$f":"IF(AI496=\"\",\"\",IF(COUNTIF($AX$5:AX496,AX496)=1,AX496,\"\"))","v":""},"",null,"",null,"",null,null,null,""]
[null,null,null,null,null,null,null,null,null,null,null,"削除","","","","","","","","","",{"$f":"IF(B497=\"\",\"\",IF(COUNTIF($U$4:U497,U497)=1,\"\",\"重複\"))","v":""},"","",null,null,null,null,null,null,null,null,null,null,null,null,null,null,null,{"$f":"IF(COUNTIF($AI$5:AI497,AI497)=1,AI497,\"\")","v":""},{"$f":"IF(AI497=\"\",\"\",IF(COUNTIF($AX$5:AX497,AX497)=1,AX497,\"\"))","v":""},"",null,"",null,"",null,null,null,""]
[null,null,null,null,null,null,null,null,null,null,null,"削除","","","","","","","","","",{"$f":"IF(B498=\"\",\"\",IF(COUNTIF($U$4:U498,U498)=1,\"\",\"重複\"))","v":""},"","",null,null,null,null,null,null,null,null,null,null,null,null,null,null,null,{"$f":"IF(COUNTIF($AI$5:AI498,AI498)=1,AI498,\"\")","v":""},{"$f":"IF(AI498=\"\",\"\",IF(COUNTIF($AX$5:AX498,AX498)=1,AX498,\"\"))","v":""},"",null,"",null,"",null,null,null,""]
[null,null,null,null,null,null,null,null,null,null,null,"削除","","","","","","","","","",{"$f":"IF(B499=\"\",\"\",IF(COUNTIF($U$4:U499,U499)=1,\"\",\"重複\"))","v":""},"","",null,null,null,null,null,null,null,null,null,null,null,null,null,null,null,{"$f":"IF(COUNTIF($AI$5:AI499,AI499)=1,AI499,\"\")","v":""},{"$f":"IF(AI499=\"\",\"\",IF(COUNTIF($AX$5:AX499,AX499)=1,AX499,\"\"))","v":""},"",null,"",null,"",null,null,null,""]
[null,null,null,null,null,null,null,null,null,null,null,"削除","","","","","","","","","",{"$f":"IF(B500=\"\",\"\",IF(COUNTIF($U$4:U500,U500)=1,\"\",\"重複\"))","v":""},"","",null,null,null,null,null,null,null,null,null,null,null,null,null,null,null,{"$f":"IF(COUNTIF($AI$5:AI500,AI500)=1,AI500,\"\")","v":""},{"$f":"IF(AI500=\"\",\"\",IF(COUNTIF($AX$5:AX500,AX500)=1,AX500,\"\"))","v":""},"",null,"",null,"",null,null,null,""]
[null,null,null,null,null,null,null,null,null,null,null,"削除","","","","","","","","","",{"$f":"IF(B501=\"\",\"\",IF(COUNTIF($U$4:U501,U501)=1,\"\",\"重複\"))","v":""},"","",null,null,null,null,null,null,null,null,null,null,null,null,null,null,null,{"$f":"IF(COUNTIF($AI$5:AI501,AI501)=1,AI501,\"\")","v":""},{"$f":"IF(AI501=\"\",\"\",IF(COUNTIF($AX$5:AX501,AX501)=1,AX501,\"\"))","v":""},"",null,"",null,"",null,null,null,""]
[null,null,null,null,null,null,null,null,null,null,null,"削除","","","","","","","","","",{"$f":"IF(B502=\"\",\"\",IF(COUNTIF($U$4:U502,U502)=1,\"\",\"重複\"))","v":""},"","",null,null,null,null,null,null,null,null,null,null,null,null,null,null,null,{"$f":"IF(COUNTIF($AI$5:AI502,AI502)=1,AI502,\"\")","v":""},{"$f":"IF(AI502=\"\",\"\",IF(COUNTIF($AX$5:AX502,AX502)=1,AX502,\"\"))","v":""},"",null,"",null,"",null,null,null,""]
[null,null,null,null,null,null,null,null,null,null,null,"削除","","","","","","","","","",{"$f":"IF(B503=\"\",\"\",IF(COUNTIF($U$4:U503,U503)=1,\"\",\"重複\"))","v":""},"","",null,null,null,null,null,null,null,null,null,null,null,null,null,null,null,{"$f":"IF(COUNTIF($AI$5:AI503,AI503)=1,AI503,\"\")","v":""},{"$f":"IF(AI503=\"\",\"\",IF(COUNTIF($AX$5:AX503,AX503)=1,AX503,\"\"))","v":""},"",null,"",null,"",null,null,null,""]
[null,null,null,null,null,null,null,null,null,null,null,"削除","","","","","","","","","",{"$f":"IF(B504=\"\",\"\",IF(COUNTIF($U$4:U504,U504)=1,\"\",\"重複\"))","v":""},"","",null,null,null,null,null,null,null,null,null,500,null,null,null,null,null,{"$f":"IF(COUNTIF($AI$5:AI504,AI504)=1,AI504,\"\")","v":""},{"$f":"IF(AI504=\"\",\"\",IF(COUNTIF($AX$5:AX504,AX504)=1,AX504,\"\"))","v":""},"",null,"",null,"",null,null,null,""]
[null,null,null,null,null,null,null,null,null,null,null,"削除","","","","","","","","","",{"$f":"IF(B505=\"\",\"\",IF(COUNTIF($U$4:U505,U505)=1,\"\",\"重複\"))","v":""},"","",null,null,null,null,null,null,null,null,null,null,null,null,null,null,null,{"$f":"IF(COUNTIF($AI$5:AI505,AI505)=1,AI505,\"\")","v":""},{"$f":"IF(AI505=\"\",\"\",IF(COUNTIF($AX$5:AX505,AX505)=1,AX505,\"\"))","v":""},"",null,"",null,"",null,null,null,""]
[null,null,null,null,null,null,null,null,null,null,null,"削除","","","","","","","","","",{"$f":"IF(B506=\"\",\"\",IF(COUNTIF($U$4:U506,U506)=1,\"\",\"重複\"))","v":""},"","",null,null,null,null,null,null,null,null,null,null,null,null,null,null,null,{"$f":"IF(COUNTIF($AI$5:AI506,AI506)=1,AI506,\"\")","v":""},{"$f":"IF(AI506=\"\",\"\",IF(COUNTIF($AX$5:AX506,AX506)=1,AX506,\"\"))","v":""},"",null,"",null,"",null,null,null,""]
[null,null,null,null,null,null,null,null,null,null,null,"削除","","","","","","","","","",{"$f":"IF(B507=\"\",\"\",IF(COUNTIF($U$4:U507,U507)=1,\"\",\"重複\"))","v":""},"","",null,null,null,null,null,null,null,null,null,null,null,null,null,null,null,{"$f":"IF(COUNTIF($AI$5:AI507,AI507)=1,AI507,\"\")","v":""},{"$f":"IF(AI507=\"\",\"\",IF(COUNTIF($AX$5:AX507,AX507)=1,AX507,\"\"))","v":""},"",null,"",null,"",null,null,null,""]
[null,null,null,null,null,null,null,null,null,null,null,"削除","","","","","","","","","",{"$f":"IF(B508=\"\",\"\",IF(COUNTIF($U$4:U508,U508)=1,\"\",\"重複\"))","v":""},"","",null,null,null,null,null,null,null,null,null,null,null,null,null,null,null,{"$f":"IF(COUNTIF($AI$5:AI508,AI508)=1,AI508,\"\")","v":""},{"$f":"IF(AI508=\"\",\"\",IF(COUNTIF($AX$5:AX508,AX508)=1,AX508,\"\"))","v":""},"",null,"",null,"",null,null,null,""]
[null,null,null,null,null,null,null,null,null,null,null,"削除","","","","","","","","","",{"$f":"IF(B509=\"\",\"\",IF(COUNTIF($U$4:U509,U509)=1,\"\",\"重複\"))","v":""},"","",null,null,null,null,null,null,null,null,null,null,null,null,null,null,null,{"$f":"IF(COUNTIF($AI$5:AI509,AI509)=1,AI509,\"\")","v":""},{"$f":"IF(AI509=\"\",\"\",IF(COUNTIF($AX$5:AX509,AX509)=1,AX509,\"\"))","v":""},"",null,"",null,"",null,null,null,""]
[null,null,null,null,null,null,null,null,null,null,null,"削除","","","","","","","","","",{"$f":"IF(B510=\"\",\"\",IF(COUNTIF($U$4:U510,U510)=1,\"\",\"重複\"))","v":""},"","",null,null,null,null,null,null,null,null,null,null,null,null,null,null,null,{"$f":"IF(COUNTIF($AI$5:AI510,AI510)=1,AI510,\"\")","v":""},{"$f":"IF(AI510=\"\",\"\",IF(COUNTIF($AX$5:AX510,AX510)=1,AX510,\"\"))","v":""},"",null,"",null,"",null,null,null,""]
[null,null,null,null,null,null,null,null,null,null,null,"削除","","","","","","","","","",{"$f":"IF(B511=\"\",\"\",IF(COUNTIF($U$4:U511,U511)=1,\"\",\"重複\"))","v":""},"","",null,null,null,null,null,null,null,null,null,null,null,null,null,null,null,{"$f":"IF(COUNTIF($AI$5:AI511,AI511)=1,AI511,\"\")","v":""},{"$f":"IF(AI511=\"\",\"\",IF(COUNTIF($AX$5:AX511,AX511)=1,AX511,\"\"))","v":""},"",null,"",null,"",null,null,null,""]
[null,null,null,null,null,null,null,null,null,null,null,"削除","","","","","","","","","",{"$f":"IF(B512=\"\",\"\",IF(COUNTIF($U$4:U512,U512)=1,\"\",\"重複\"))","v":""},"","",null,null,null,null,null,null,null,null,null,null,null,null,null,null,null,{"$f":"IF(COUNTIF($AI$5:AI512,AI512)=1,AI512,\"\")","v":""},{"$f":"IF(AI512=\"\",\"\",IF(COUNTIF($AX$5:AX512,AX512)=1,AX512,\"\"))","v":""},"",null,"",null,"",null,null,null,""]
[null,null,null,null,null,null,null,null,null,null,null,"削除","","","","","","","","","",{"$f":"IF(B513=\"\",\"\",IF(COUNTIF($U$4:U513,U513)=1,\"\",\"重複\"))","v":""},"","",null,null,null,null,null,null,null,null,null,null,null,null,null,null,null,{"$f":"IF(COUNTIF($AI$5:AI513,AI513)=1,AI513,\"\")","v":""},{"$f":"IF(AI513=\"\",\"\",IF(COUNTIF($AX$5:AX513,AX513)=1,AX513,\"\"))","v":""},"",null,"",null,"",null,null,null,""]
[null,null,null,null,null,null,null,null,null,null,null,"削除","","","","","","","","","",{"$f":"IF(B514=\"\",\"\",IF(COUNTIF($U$4:U514,U514)=1,\"\",\"重複\"))","v":""},"","",null,null,null,null,null,null,null,null,null,null,null,null,null,null,null,{"$f":"IF(COUNTIF($AI$5:AI514,AI514)=1,AI514,\"\")","v":""},{"$f":"IF(AI514=\"\",\"\",IF(COUNTIF($AX$5:AX514,AX514)=1,AX514,\"\"))","v":""},"",null,"",null,"",null,null,null,""]
[null,null,null,null,null,null,null,null,null,null,null,"削除","","","","","","","","","",{"$f":"IF(B515=\"\",\"\",IF(COUNTIF($U$4:U515,U515)=1,\"\",\"重複\"))","v":""},"","",null,null,null,null,null,null,null,null,null,null,null,null,null,null,null,{"$f":"IF(COUNTIF($AI$5:AI515,AI515)=1,AI515,\"\")","v":""},{"$f":"IF(AI515=\"\",\"\",IF(COUNTIF($AX$5:AX515,AX515)=1,AX515,\"\"))","v":""},"",null,"",null,"",null,null,null,""]
[null,null,null,null,null,null,null,null,null,null,null,"削除","","","","","","","","","",{"$f":"IF(B516=\"\",\"\",IF(COUNTIF($U$4:U516,U516)=1,\"\",\"重複\"))","v":""},"",{"$f":"IF(B516=\"\",\"\",IF(LEFT(G516,3)=\"144\",IF(LEFT(H516,3)=\"SSB\",\"\",IF(LEFT(H516,3)=\"A3J\",\"\",IF(LEFT(H516,3)=\"J3E\",\"\",\"形式外\"))),\"形式外\"))","v":""},null,null,null,null,null,null,null,null,null,null,null,null,null,null,null,{"$f":"IF(COUNTIF($AI$5:AI516,AI516)=1,AI516,\"\")","v":""},{"$f":"IF(AI516=\"\",\"\",IF(COUNTIF($AX$5:AX516,AX516)=1,AX516,\"\"))","v":""},"",null,"",null,"",null,null,null,""]
[null,null,null,null,null,null,null,null,null,null,null,{"$f":"IF(B517=\"\",\"削除\",IF(OR(V517=\"重複\",W517=\"削除\",X517=\"形式外\"),\"削除\",1))","v":"削除"},{"$f":"IF(L517=\"削除\",\"\",C517)","v":""},{"$f":"IF(L517=\"削除\",\"\",D517)","v":""},{"$f":"IF(L517=\"削除\",\"\",B517)","v":""},{"$f":"IF(L517=\"削除\",\"\",E517)","v":""},{"$f":"IF(L517=\"削除\",\"\",F517)","v":""},{"$f":"IF(L517=\"削除\",\"\",I517)","v":""},{"$f":"IF(L517=\"削除\",\"\",IF(J517=\"\",\"\",J517))","v":""},{"$f":"IF(B517=\"\",\"\",LEFT(B517,FIND(\"/\",B517&\"/\")-1))","v":""},{"$f":"IF(B517=\"\",\"\",T517&\"/\"&H517)","v":""},{"$f":"IF(B517=\"\",\"\",IF(COUNTIF($U$4:U517,U517)=1,\"\",\"重複\"))","v":""},{"$f":"IF(B517=\"\",\"\",IF(LEFT(T517,1)=\"8\",\"削除\",IF(LEN(T517)=5,IF(MID(T517,4,2)=\"RL\",\"削除\",\"\"),IF(MID(T517,4,1)=\"Y\",\"削除\",IF(MID(T517,4,1)=\"Z\",\"削除\",\"\")))))","v":""},"",null,null,null,null,null,null,null,null,null,null,null,null,null,null,null,{"$f":"IF(COUNTIF($AI$5:AI517,AI517)=1,AI517,\"\")","v":""},{"$f":"IF(AI517=\"\",\"\",IF(COUNTIF($AX$5:AX517,AX517)=1,AX517,\"\"))","v":""},"",null,"",null,"",null,null,null,""]
[null,null,null,null,null,null,null,null,null,null,null,"削除","","","","","","","","","",{"$f":"IF(B518=\"\",\"\",IF(COUNTIF($U$4:U518,U518)=1,\"\",\"重複\"))","v":""},"","",null,null,null,null,null,null,null,null,null,null,null,null,null,null,null,{"$f":"IF(COUNTIF($AI$5:AI518,AI518)=1,AI518,\"\")","v":""},{"$f":"IF(AI518=\"\",\"\",IF(COUNTIF($AX$5:AX518,AX518)=1,AX518,\"\"))","v":""},{"$f":"IF(AK518=\"\",\"\",IF(COUNTIF($BN$5:$BN$304,AT518)=1,5,1))","v":""},null,{"$f":"IF(COUNTIF($BN$5:$BN$40,AT518)=1,\"M\",\"\")","v":""},null,{"$f":"LEFT(AK518&\"/\",FIND(\"/\",AK518&\"/\")-1)","v":""},null,null,null,{"$f":"RIGHT(AT518,1)","v":""}]
[null,null,null,null,null,null,null,null,null,null,null,"削除","","","","","","","","","",{"$f":"IF(B519=\"\",\"\",IF(COUNTIF($U$4:U519,U519)=1,\"\",\"重複\"))","v":""},"","",null,null,null,null,null,null,null,null,null,null,null,null,null,null,null,{"$f":"IF(COUNTIF($AI$5:AI519,AI519)=1,AI519,\"\")","v":""},{"$f":"IF(AI519=\"\",\"\",IF(COUNTIF($AX$5:AX519,AX519)=1,AX519,\"\"))","v":""},"",null,"",null,"",null,null,null,""]
[null,null,null,null,null,null,null,null,null,null,null,"削除","","","","","","","","","",{"$f":"IF(B520=\"\",\"\",IF(COUNTIF($U$4:U520,U520)=1,\"\",\"重複\"))","v":""},"","",null,null,null,null,null,null,null,null,null,null,null,null,null,null,null,{"$f":"IF(COUNTIF($AI$5:AI520,AI520)=1,AI520,\"\")","v":""},{"$f":"IF(AI520=\"\",\"\",IF(COUNTIF($AX$5:AX520,AX520)=1,AX520,\"\"))","v":""},"",null,"",null,"",null,null,null,""]
[null,null,null,null,null,null,null,null,null,null,null,"削除","","","","","","","","","",{"$f":"IF(B521=\"\",\"\",IF(COUNTIF($U$4:U521,U521)=1,\"\",\"重複\"))","v":""},"","",null,null,null,null,null,null,null,null,null,null,null,null,null,null,null,{"$f":"IF(COUNTIF($AI$5:AI521,AI521)=1,AI521,\"\")","v":""},{"$f":"IF(AI521=\"\",\"\",IF(COUNTIF($AX$5:AX521,AX521)=1,AX521,\"\"))","v":""},"",null,"",null,"",null,null,null,""]
[null,null,null,null,null,null,null,null,null,null,null,"削除","","","","","","","","","",{"$f":"IF(B522=\"\",\"\",IF(COUNTIF($U$4:U522,U522)=1,\"\",\"重複\"))","v":""},"","",null,null,null,null,null,null,null,null,null,null,null,null,null,null,null,{"$f":"IF(COUNTIF($AI$5:AI522,AI522)=1,AI522,\"\")","v":""},{"$f":"IF(AI522=\"\",\"\",IF(COUNTIF($AX$5:AX522,AX522)=1,AX522,\"\"))","v":""},"",null,"",null,"",null,null,null,""]
[null,null,null,null,null,null,null,null,null,null,null,"削除","","","","","","","","","",{"$f":"IF(B523=\"\",\"\",IF(COUNTIF($U$4:U523,U523)=1,\"\",\"重複\"))","v":""},"","",null,null,null,null,null,null,null,null,null,null,null,null,null,null,null,{"$f":"IF(COUNTIF($AI$5:AI523,AI523)=1,AI523,\"\")","v":""},{"$f":"IF(AI523=\"\",\"\",IF(COUNTIF($AX$5:AX523,AX523)=1,AX523,\"\"))","v":""},"",null,"",null,"",null,null,null,""]
[null,null,null,null,null,null,null,null,null,null,null,"削除","","","","","","","","","",{"$f":"IF(B524=\"\",\"\",IF(COUNTIF($U$4:U524,U524)=1,\"\",\"重複\"))","v":""},"","",null,null,null,null,null,null,null,null,null,null,null,null,null,null,null,{"$f":"IF(COUNTIF($AI$5:AI524,AI524)=1,AI524,\"\")","v":""},{"$f":"IF(AI524=\"\",\"\",IF(COUNTIF($AX$5:AX524,AX524)=1,AX524,\"\"))","v":""},"",null,"",null,"",null,null,null,""]
[null,null,null,null,null,null,null,null,null,null,null,"削除","","","","","","","","","",{"$f":"IF(B525=\"\",\"\",IF(COUNTIF($U$4:U525,U525)=1,\"\",\"重複\"))","v":""},"","",null,null,null,null,null,null,null,null,null,null,null,null,null,null,null,{"$f":"IF(COUNTIF($AI$5:AI525,AI525)=1,AI525,\"\")","v":""},{"$f":"IF(AI525=\"\",\"\",IF(COUNTIF($AX$5:AX525,AX525)=1,AX525,\"\"))","v":""},"",null,"",null,"",null,null,null,""]
[null,null,null,null,null,null,null,null,null,null,null,"削除","","","","","","","","","",{"$f":"IF(B526=\"\",\"\",IF(COUNTIF($U$4:U526,U526)=1,\"\",\"重複\"))","v":""},"","",null,null,null,null,null,null,null,null,null,null,null,null,null,null,null,{"$f":"IF(COUNTIF($AI$5:AI526,AI526)=1,AI526,\"\")","v":""},{"$f":"IF(AI526=\"\",\"\",IF(COUNTIF($AX$5:AX526,AX526)=1,AX526,\"\"))","v":""},"",null,"",null,"",null,null,null,""]
[null,null,null,null,null,null,null,null,null,null,null,"削除","","","","","","","","","",{"$f":"IF(B527=\"\",\"\",IF(COUNTIF($U$4:U527,U527)=1,\"\",\"重複\"))","v":""},"","",null,null,null,null,null,null,null,null,null,null,null,null,null,null,null,{"$f":"IF(COUNTIF($AI$5:AI527,AI527)=1,AI527,\"\")","v":""},{"$f":"IF(AI527=\"\",\"\",IF(COUNTIF($AX$5:AX527,AX527)=1,AX527,\"\"))","v":""},"",null,"",null,"",null,null,null,""]
[null,null,null,null,null,null,null,null,null,null,null,"削除","","","","","","","","","",{"$f":"IF(B528=\"\",\"\",IF(COUNTIF($U$4:U528,U528)=1,\"\",\"重複\"))","v":""},"","",null,null,null,null,null,null,null,null,null,null,null,null,null,null,null,{"$f":"IF(COUNTIF($AI$5:AI528,AI528)=1,AI528,\"\")","v":""},{"$f":"IF(AI528=\"\",\"\",IF(COUNTIF($AX$5:AX528,AX528)=1,AX528,\"\"))","v":""},"",null,"",null,"",null,null,null,""]
[null,null,null,null,null,null,null,null,null,null,null,"削除","","","","","","","","","",{"$f":"IF(B529=\"\",\"\",IF(COUNTIF($U$4:U529,U529)=1,\"\",\"重複\"))","v":""},"","",null,null,null,null,null,null,null,null,null,null,null,null,null,null,null,{"$f":"IF(COUNTIF($AI$5:AI529,AI529)=1,AI529,\"\")","v":""},{"$f":"IF(AI529=\"\",\"\",IF(COUNTIF($AX$5:AX529,AX529)=1,AX529,\"\"))","v":""},"",null,"",null,"",null,null,null,""]
[null,null,null,null,null,null,null,null,null,null,null,"削除","","","","","","","","","",{"$f":"IF(B530=\"\",\"\",IF(COUNTIF($U$4:U530,U530)=1,\"\",\"重複\"))","v":""},"","",null,null,null,null,null,null,null,null,null,null,null,null,null,null,null,{"$f":"IF(COUNTIF($AI$5:AI530,AI530)=1,AI530,\"\")","v":""},{"$f":"IF(AI530=\"\",\"\",IF(COUNTIF($AX$5:AX530,AX530)=1,AX530,\"\"))","v":""},"",null,"",null,"",null,null,null,""]
[null,null,null,null,null,null,null,null,null,null,null,"削除","","","","","","","","","",{"$f":"IF(B531=\"\",\"\",IF(COUNTIF($U$4:U531,U531)=1,\"\",\"重複\"))","v":""},"","",null,null,null,null,null,null,null,null,null,null,null,null,null,null,null,{"$f":"IF(COUNTIF($AI$5:AI531,AI531)=1,AI531,\"\")","v":""},{"$f":"IF(AI531=\"\",\"\",IF(COUNTIF($AX$5:AX531,AX531)=1,AX531,\"\"))","v":""},"",null,"",null,"",null,null,null,""]
[null,null,null,null,null,null,null,null,null,null,null,"削除","","","","","","","","","",{"$f":"IF(B532=\"\",\"\",IF(COUNTIF($U$4:U532,U532)=1,\"\",\"重複\"))","v":""},"","",null,null,null,null,null,null,null,null,null,null,null,null,null,null,null,{"$f":"IF(COUNTIF($AI$5:AI532,AI532)=1,AI532,\"\")","v":""},{"$f":"IF(AI532=\"\",\"\",IF(COUNTIF($AX$5:AX532,AX532)=1,AX532,\"\"))","v":""},"",null,"",null,"",null,null,null,""]
[null,null,null,null,null,null,null,null,null,null,null,"削除","","","","","","","","","",{"$f":"IF(B533=\"\",\"\",IF(COUNTIF($U$4:U533,U533)=1,\"\",\"重複\"))","v":""},"","",null,null,null,null,null,null,null,null,null,null,null,null,null,null,null,{"$f":"IF(COUNTIF($AI$5:AI533,AI533)=1,AI533,\"\")","v":""},{"$f":"IF(AI533=\"\",\"\",IF(COUNTIF($AX$5:AX533,AX533)=1,AX533,\"\"))","v":""},"",null,"",null,"",null,null,null,""]
[null,null,null,null,null,null,null,null,null,null,null,"削除","","","","","","","","","",{"$f":"IF(B534=\"\",\"\",IF(COUNTIF($U$4:U534,U534)=1,\"\",\"重複\"))","v":""},"","",null,null,null,null,null,null,null,null,null,null,null,null,null,null,null,{"$f":"IF(COUNTIF($AI$5:AI534,AI534)=1,AI534,\"\")","v":""},{"$f":"IF(AI534=\"\",\"\",IF(COUNTIF($AX$5:AX534,AX534)=1,AX534,\"\"))","v":""},"",null,"",null,"",null,null,null,""]
[null,null,null,null,null,null,null,null,null,null,null,"削除","","","","","","","","","",{"$f":"IF(B535=\"\",\"\",IF(COUNTIF($U$4:U535,U535)=1,\"\",\"重複\"))","v":""},"","",null,null,null,null,null,null,null,null,null,null,null,null,null,null,null,{"$f":"IF(COUNTIF($AI$5:AI535,AI535)=1,AI535,\"\")","v":""},{"$f":"IF(AI535=\"\",\"\",IF(COUNTIF($AX$5:AX535,AX535)=1,AX535,\"\"))","v":""},"",null,"",null,"",null,null,null,""]
[null,null,null,null,null,null,null,null,null,null,null,"削除","","","","","","","","","",{"$f":"IF(B536=\"\",\"\",IF(COUNTIF($U$4:U536,U536)=1,\"\",\"重複\"))","v":""},"","",null,null,null,null,null,null,null,null,null,null,null,null,null,null,null,{"$f":"IF(COUNTIF($AI$5:AI536,AI536)=1,AI536,\"\")","v":""},{"$f":"IF(AI536=\"\",\"\",IF(COUNTIF($AX$5:AX536,AX536)=1,AX536,\"\"))","v":""},"",null,"",null,"",null,null,null,""]
[null,null,null,null,null,null,null,null,null,null,null,"削除","","","","","","","","","",{"$f":"IF(B537=\"\",\"\",IF(COUNTIF($U$4:U537,U537)=1,\"\",\"重複\"))","v":""},"","",null,null,null,null,null,null,null,null,null,null,null,null,null,null,null,{"$f":"IF(COUNTIF($AI$5:AI537,AI537)=1,AI537,\"\")","v":""},{"$f":"IF(AI537=\"\",\"\",IF(COUNTIF($AX$5:AX537,AX537)=1,AX537,\"\"))","v":""},"",null,"",null,"",null,null,null,""]
[null,null,null,null,null,null,null,null,null,null,null,"削除","","","","","","","","","",{"$f":"IF(B538=\"\",\"\",IF(COUNTIF($U$4:U538,U538)=1,\"\",\"重複\"))","v":""},"","",null,null,null,null,null,null,null,null,null,null,null,null,null,null,null,{"$f":"IF(COUNTIF($AI$5:AI538,AI538)=1,AI538,\"\")","v":""},{"$f":"IF(AI538=\"\",\"\",IF(COUNTIF($AX$5:AX538,AX538)=1,AX538,\"\"))","v":""},"",null,"",null,"",null,null,null,""]
[null,null,null,null,null,null,null,null,null,null,null,"削除","","","","","","","","","",{"$f":"IF(B539=\"\",\"\",IF(COUNTIF($U$4:U539,U539)=1,\"\",\"重複\"))","v":""},"","",null,null,null,null,null,null,null,null,null,null,null,null,null,null,null,{"$f":"IF(COUNTIF($AI$5:AI539,AI539)=1,AI539,\"\")","v":""},{"$f":"IF(AI539=\"\",\"\",IF(COUNTIF($AX$5:AX539,AX539)=1,AX539,\"\"))","v":""},"",null,"",null,"",null,null,null,""]
[null,null,null,null,null,null,null,null,null,null,null,"削除","","","","","","","","","",{"$f":"IF(B540=\"\",\"\",IF(COUNTIF($U$4:U540,U540)=1,\"\",\"重複\"))","v":""},"","",null,null,null,null,null,null,null,null,null,null,null,null,null,null,null,{"$f":"IF(COUNTIF($AI$5:AI540,AI540)=1,AI540,\"\")","v":""},{"$f":"IF(AI540=\"\",\"\",IF(COUNTIF($AX$5:AX540,AX540)=1,AX540,\"\"))","v":""},"",null,"",null,"",null,null,null,""]
[null,null,null,null,null,null,null,null,null,null,null,"削除","","","","","","","","","",{"$f":"IF(B541=\"\",\"\",IF(COUNTIF($U$4:U541,U541)=1,\"\",\"重複\"))","v":""},"","",null,null,null,null,null,null,null,null,null,null,null,null,null,null,null,{"$f":"IF(COUNTIF($AI$5:AI541,AI541)=1,AI541,\"\")","v":""},{"$f":"IF(AI541=\"\",\"\",IF(COUNTIF($AX$5:AX541,AX541)=1,AX541,\"\"))","v":""},"",null,"",null,"",null,null,null,""]
[null,null,null,null,null,null,null,null,null,null,null,"削除","","","","","","","","","",{"$f":"IF(B542=\"\",\"\",IF(COUNTIF($U$4:U542,U542)=1,\"\",\"重複\"))","v":""},"","",null,null,null,null,null,null,null,null,null,null,null,null,null,null,null,{"$f":"IF(COUNTIF($AI$5:AI542,AI542)=1,AI542,\"\")","v":""},{"$f":"IF(AI542=\"\",\"\",IF(COUNTIF($AX$5:AX542,AX542)=1,AX542,\"\"))","v":""},"",null,"",null,"",null,null,null,""]
[null,null,null,null,null,null,null,null,null,null,null,"削除","","","","","","","","","",{"$f":"IF(B543=\"\",\"\",IF(COUNTIF($U$4:U543,U543)=1,\"\",\"重複\"))","v":""},"","",null,null,null,null,null,null,null,null,null,null,null,null,null,null,null,{"$f":"IF(COUNTIF($AI$5:AI543,AI543)=1,AI543,\"\")","v":""},{"$f":"IF(AI543=\"\",\"\",IF(COUNTIF($AX$5:AX543,AX543)=1,AX543,\"\"))","v":""},"",null,"",null,"",null,null,null,""]
[null,null,null,null,null,null,null,null,null,null,null,"削除","","","","","","","","","",{"$f":"IF(B544=\"\",\"\",IF(COUNTIF($U$4:U544,U544)=1,\"\",\"重複\"))","v":""},"","",null,null,null,null,null,null,null,null,null,null,null,null,null,null,null,{"$f":"IF(COUNTIF($AI$5:AI544,AI544)=1,AI544,\"\")","v":""},{"$f":"IF(AI544=\"\",\"\",IF(COUNTIF($AX$5:AX544,AX544)=1,AX544,\"\"))","v":""},"",null,"",null,"",null,null,null,""]
[null,null,null,null,null,null,null,null,null,null,null,"削除","","","","","","","","","",{"$f":"IF(B545=\"\",\"\",IF(COUNTIF($U$4:U545,U545)=1,\"\",\"重複\"))","v":""},"","",null,null,null,null,null,null,null,null,null,null,null,null,null,null,null,{"$f":"IF(COUNTIF($AI$5:AI545,AI545)=1,AI545,\"\")","v":""},{"$f":"IF(AI545=\"\",\"\",IF(COUNTIF($AX$5:AX545,AX545)=1,AX545,\"\"))","v":""},"",null,"",null,"",null,null,null,""]
[null,null,null,null,null,null,null,null,null,null,null,"削除","","","","","","","","","",{"$f":"IF(B546=\"\",\"\",IF(COUNTIF($U$4:U546,U546)=1,\"\",\"重複\"))","v":""},"","",null,null,null,null,null,null,null,null,null,null,null,null,null,null,null,{"$f":"IF(COUNTIF($AI$5:AI546,AI546)=1,AI546,\"\")","v":""},{"$f":"IF(AI546=\"\",\"\",IF(COUNTIF($AX$5:AX546,AX546)=1,AX546,\"\"))","v":""},"",null,"",null,"",null,null,null,""]
[null,null,null,null,null,null,null,null,null,null,null,"削除","","","","","","","","","",{"$f":"IF(B547=\"\",\"\",IF(COUNTIF($U$4:U547,U547)=1,\"\",\"重複\"))","v":""},"","",null,null,null,null,null,null,null,null,null,null,null,null,null,null,null,{"$f":"IF(COUNTIF($AI$5:AI547,AI547)=1,AI547,\"\")","v":""},{"$f":"IF(AI547=\"\",\"\",IF(COUNTIF($AX$5:AX547,AX547)=1,AX547,\"\"))","v":""},"",null,"",null,"",null,null,null,""]
[null,null,null,null,null,null,null,null,null,null,null,"削除","","","","","","","","","",{"$f":"IF(B548=\"\",\"\",IF(COUNTIF($U$4:U548,U548)=1,\"\",\"重複\"))","v":""},"","",null,null,null,null,null,null,null,null,null,null,null,null,null,null,null,{"$f":"IF(COUNTIF($AI$5:AI548,AI548)=1,AI548,\"\")","v":""},{"$f":"IF(AI548=\"\",\"\",IF(COUNTIF($AX$5:AX548,AX548)=1,AX548,\"\"))","v":""},"",null,"",null,"",null,null,null,""]
[null,null,null,null,null,null,null,null,null,null,null,"削除","","","","","","","","","",{"$f":"IF(B549=\"\",\"\",IF(COUNTIF($U$4:U549,U549)=1,\"\",\"重複\"))","v":""},"","",null,null,null,null,null,null,null,null,null,null,null,null,null,null,null,{"$f":"IF(COUNTIF($AI$5:AI549,AI549)=1,AI549,\"\")","v":""},{"$f":"IF(AI549=\"\",\"\",IF(COUNTIF($AX$5:AX549,AX549)=1,AX549,\"\"))","v":""},"",null,"",null,"",null,null,null,""]
[null,null,null,null,null,null,null,null,null,null,null,"削除","","","","","","","","","",{"$f":"IF(B550=\"\",\"\",IF(COUNTIF($U$4:U550,U550)=1,\"\",\"重複\"))","v":""},"","",null,null,null,null,null,null,null,null,null,null,null,null,null,null,null,{"$f":"IF(COUNTIF($AI$5:AI550,AI550)=1,AI550,\"\")","v":""},{"$f":"IF(AI550=\"\",\"\",IF(COUNTIF($AX$5:AX550,AX550)=1,AX550,\"\"))","v":""},"",null,"",null,"",null,null,null,""]
[null,null,null,null,null,null,null,null,null,null,null,"削除","","","","","","","","","",{"$f":"IF(B551=\"\",\"\",IF(COUNTIF($U$4:U551,U551)=1,\"\",\"重複\"))","v":""},"","",null,null,null,null,null,null,null,null,null,null,null,null,null,null,null,{"$f":"IF(COUNTIF($AI$5:AI551,AI551)=1,AI551,\"\")","v":""},{"$f":"IF(AI551=\"\",\"\",IF(COUNTIF($AX$5:AX551,AX551)=1,AX551,\"\"))","v":""},"",null,"",null,"",null,null,null,""]
[null,null,null,null,null,null,null,null,null,null,null,"削除","","","","","","","","","",{"$f":"IF(B552=\"\",\"\",IF(COUNTIF($U$4:U552,U552)=1,\"\",\"重複\"))","v":""},"","",null,null,null,null,null,null,null,null,null,null,null,null,null,null,null,{"$f":"IF(COUNTIF($AI$5:AI552,AI552)=1,AI552,\"\")","v":""},{"$f":"IF(AI552=\"\",\"\",IF(COUNTIF($AX$5:AX552,AX552)=1,AX552,\"\"))","v":""},"",null,"",null,"",null,null,null,""]
[null,null,null,null,null,null,null,null,null,null,null,"削除","","","","","","","","","",{"$f":"IF(B553=\"\",\"\",IF(COUNTIF($U$4:U553,U553)=1,\"\",\"重複\"))","v":""},"","",null,null,null,null,null,null,null,null,null,null,null,null,null,null,null,{"$f":"IF(COUNTIF($AI$5:AI553,AI553)=1,AI553,\"\")","v":""},{"$f":"IF(AI553=\"\",\"\",IF(COUNTIF($AX$5:AX553,AX553)=1,AX553,\"\"))","v":""},"",null,"",null,"",null,null,null,""]
[null,null,null,null,null,null,null,null,null,null,null,"削除","","","","","","","","","",{"$f":"IF(B554=\"\",\"\",IF(COUNTIF($U$4:U554,U554)=1,\"\",\"重複\"))","v":""},"","",null,null,null,null,null,null,null,null,null,null,null,null,null,null,null,{"$f":"IF(COUNTIF($AI$5:AI554,AI554)=1,AI554,\"\")","v":""},{"$f":"IF(AI554=\"\",\"\",IF(COUNTIF($AX$5:AX554,AX554)=1,AX554,\"\"))","v":""},"",null,"",null,"",null,null,null,""]
[null,null,null,null,null,null,null,null,null,null,null,"削除","","","","","","","","","",{"$f":"IF(B555=\"\",\"\",IF(COUNTIF($U$4:U555,U555)=1,\"\",\"重複\"))","v":""},"","",null,null,null,null,null,null,null,null,null,null,null,null,null,null,null,{"$f":"IF(COUNTIF($AI$5:AI555,AI555)=1,AI555,\"\")","v":""},{"$f":"IF(AI555=\"\",\"\",IF(COUNTIF($AX$5:AX555,AX555)=1,AX555,\"\"))","v":""},"",null,"",null,"",null,null,null,""]
[null,null,null,null,null,null,null,null,null,null,null,"削除","","","","","","","","","",{"$f":"IF(B556=\"\",\"\",IF(COUNTIF($U$4:U556,U556)=1,\"\",\"重複\"))","v":""},"","",null,null,null,null,null,null,null,null,null,null,null,null,null,null,null,{"$f":"IF(COUNTIF($AI$5:AI556,AI556)=1,AI556,\"\")","v":""},{"$f":"IF(AI556=\"\",\"\",IF(COUNTIF($AX$5:AX556,AX556)=1,AX556,\"\"))","v":""},"",null,"",null,"",null,null,null,""]
[null,null,null,null,null,null,null,null,null,null,null,"削除","","","","","","","","","",{"$f":"IF(B557=\"\",\"\",IF(COUNTIF($U$4:U557,U557)=1,\"\",\"重複\"))","v":""},"","",null,null,null,null,null,null,null,null,null,null,null,null,null,null,null,{"$f":"IF(COUNTIF($AI$5:AI557,AI557)=1,AI557,\"\")","v":""},{"$f":"IF(AI557=\"\",\"\",IF(COUNTIF($AX$5:AX557,AX557)=1,AX557,\"\"))","v":""},"",null,"",null,"",null,null,null,""]
[null,null,null,null,null,null,null,null,null,null,null,"削除","","","","","","","","","",{"$f":"IF(B558=\"\",\"\",IF(COUNTIF($U$4:U558,U558)=1,\"\",\"重複\"))","v":""},"","",null,null,null,null,null,null,null,null,null,null,null,null,null,null,null,{"$f":"IF(COUNTIF($AI$5:AI558,AI558)=1,AI558,\"\")","v":""},{"$f":"IF(AI558=\"\",\"\",IF(COUNTIF($AX$5:AX558,AX558)=1,AX558,\"\"))","v":""},"",null,"",null,"",null,null,null,""]
[null,null,null,null,null,null,null,null,null,null,null,"削除","","","","","","","","","",{"$f":"IF(B559=\"\",\"\",IF(COUNTIF($U$4:U559,U559)=1,\"\",\"重複\"))","v":""},"","",null,null,null,null,null,null,null,null,null,null,null,null,null,null,null,{"$f":"IF(COUNTIF($AI$5:AI559,AI559)=1,AI559,\"\")","v":""},{"$f":"IF(AI559=\"\",\"\",IF(COUNTIF($AX$5:AX559,AX559)=1,AX559,\"\"))","v":""},"",null,"",null,"",null,null,null,""]
[null,null,null,null,null,null,null,null,null,null,null,"削除","","","","","","","","","",{"$f":"IF(B560=\"\",\"\",IF(COUNTIF($U$4:U560,U560)=1,\"\",\"重複\"))","v":""},"","",null,null,null,null,null,null,null,null,null,null,null,null,null,null,null,{"$f":"IF(COUNTIF($AI$5:AI560,AI560)=1,AI560,\"\")","v":""},{"$f":"IF(AI560=\"\",\"\",IF(COUNTIF($AX$5:AX560,AX560)=1,AX560,\"\"))","v":""},"",null,"",null,"",null,null,null,""]
[null,null,null,null,null,null,null,null,null,null,null,"削除","","","","","","","","","",{"$f":"IF(B561=\"\",\"\",IF(COUNTIF($U$4:U561,U561)=1,\"\",\"重複\"))","v":""},"","",null,null,null,null,null,null,null,null,null,null,null,null,null,null,null,{"$f":"IF(COUNTIF($AI$5:AI561,AI561)=1,AI561,\"\")","v":""},{"$f":"IF(AI561=\"\",\"\",IF(COUNTIF($AX$5:AX561,AX561)=1,AX561,\"\"))","v":""},"",null,"",null,"",null,null,null,""]
[null,null,null,null,null,null,null,null,null,null,null,"削除","","","","","","","","","",{"$f":"IF(B562=\"\",\"\",IF(COUNTIF($U$4:U562,U562)=1,\"\",\"重複\"))","v":""},"","",null,null,null,null,null,null,null,null,null,null,null,null,null,null,null,{"$f":"IF(COUNTIF($AI$5:AI562,AI562)=1,AI562,\"\")","v":""},{"$f":"IF(AI562=\"\",\"\",IF(COUNTIF($AX$5:AX562,AX562)=1,AX562,\"\"))","v":""},"",null,"",null,"",null,null,null,""]
[null,null,null,null,null,null,null,null,null,null,null,"削除","","","","","","","","","",{"$f":"IF(B563=\"\",\"\",IF(COUNTIF($U$4:U563,U563)=1,\"\",\"重複\"))","v":""},"","",null,null,null,null,null,null,null,null,null,null,null,null,null,null,null,{"$f":"IF(COUNTIF($AI$5:AI563,AI563)=1,AI563,\"\")","v":""},{"$f":"IF(AI563=\"\",\"\",IF(COUNTIF($AX$5:AX563,AX563)=1,AX563,\"\"))","v":""},"",null,"",null,"",null,null,null,""]
[null,null,null,null,null,null,null,null,null,null,null,"削除","","","","","","","","","",{"$f":"IF(B564=\"\",\"\",IF(COUNTIF($U$4:U564,U564)=1,\"\",\"重複\"))","v":""},"","",null,null,null,null,null,null,null,null,null,null,null,null,null,null,null,{"$f":"IF(COUNTIF($AI$5:AI564,AI564)=1,AI564,\"\")","v":""},{"$f":"IF(AI564=\"\",\"\",IF(COUNTIF($AX$5:AX564,AX564)=1,AX564,\"\"))","v":""},"",null,"",null,"",null,null,null,""]
[null,null,null,null,null,null,null,null,null,null,null,"削除","","","","","","","","","",{"$f":"IF(B565=\"\",\"\",IF(COUNTIF($U$4:U565,U565)=1,\"\",\"重複\"))","v":""},"","",null,null,null,null,null,null,null,null,null,null,null,null,null,null,null,{"$f":"IF(COUNTIF($AI$5:AI565,AI565)=1,AI565,\"\")","v":""},{"$f":"IF(AI565=\"\",\"\",IF(COUNTIF($AX$5:AX565,AX565)=1,AX565,\"\"))","v":""},"",null,"",null,"",null,null,null,""]
[null,null,null,null,null,null,null,null,null,null,null,"削除","","","","","","","","","",{"$f":"IF(B566=\"\",\"\",IF(COUNTIF($U$4:U566,U566)=1,\"\",\"重複\"))","v":""},"","",null,null,null,null,null,null,null,null,null,null,null,null,null,null,null,{"$f":"IF(COUNTIF($AI$5:AI566,AI566)=1,AI566,\"\")","v":""},{"$f":"IF(AI566=\"\",\"\",IF(COUNTIF($AX$5:AX566,AX566)=1,AX566,\"\"))","v":""},"",null,"",null,"",null,null,null,""]
[null,null,null,null,null,null,null,null,null,null,null,"削除","","","","","","","","","",{"$f":"IF(B567=\"\",\"\",IF(COUNTIF($U$4:U567,U567)=1,\"\",\"重複\"))","v":""},"","",null,null,null,null,null,null,null,null,null,null,null,null,null,null,null,{"$f":"IF(COUNTIF($AI$5:AI567,AI567)=1,AI567,\"\")","v":""},{"$f":"IF(AI567=\"\",\"\",IF(COUNTIF($AX$5:AX567,AX567)=1,AX567,\"\"))","v":""},"",null,"",null,"",null,null,null,""]
[null,null,null,null,null,null,null,null,null,null,null,"削除","","","","","","","","","",{"$f":"IF(B568=\"\",\"\",IF(COUNTIF($U$4:U568,U568)=1,\"\",\"重複\"))","v":""},"","",null,null,null,null,null,null,null,null,null,null,null,null,null,null,null,{"$f":"IF(COUNTIF($AI$5:AI568,AI568)=1,AI568,\"\")","v":""},{"$f":"IF(AI568=\"\",\"\",IF(COUNTIF($AX$5:AX568,AX568)=1,AX568,\"\"))","v":""},"",null,"",null,"",null,null,null,""]
[null,null,null,null,null,null,null,null,null,null,null,"削除","","","","","","","","","",{"$f":"IF(B569=\"\",\"\",IF(COUNTIF($U$4:U569,U569)=1,\"\",\"重複\"))","v":""},"","",null,null,null,null,null,null,null,null,null,null,null,null,null,null,null,{"$f":"IF(COUNTIF($AI$5:AI569,AI569)=1,AI569,\"\")","v":""},{"$f":"IF(AI569=\"\",\"\",IF(COUNTIF($AX$5:AX569,AX569)=1,AX569,\"\"))","v":""},"",null,"",null,"",null,null,null,""]
[null,null,null,null,null,null,null,null,null,null,null,"削除","","","","","","","","","",{"$f":"IF(B570=\"\",\"\",IF(COUNTIF($U$4:U570,U570)=1,\"\",\"重複\"))","v":""},"","",null,null,null,null,null,null,null,null,null,null,null,null,null,null,null,{"$f":"IF(COUNTIF($AI$5:AI570,AI570)=1,AI570,\"\")","v":""},{"$f":"IF(AI570=\"\",\"\",IF(COUNTIF($AX$5:AX570,AX570)=1,AX570,\"\"))","v":""},"",null,"",null,"",null,null,null,""]
[null,null,null,null,null,null,null,null,null,null,null,"削除","","","","","","","","","",{"$f":"IF(B571=\"\",\"\",IF(COUNTIF($U$4:U571,U571)=1,\"\",\"重複\"))","v":""},"","",null,null,null,null,null,null,null,null,null,null,null,null,null,null,null,{"$f":"IF(COUNTIF($AI$5:AI571,AI571)=1,AI571,\"\")","v":""},{"$f":"IF(AI571=\"\",\"\",IF(COUNTIF($AX$5:AX571,AX571)=1,AX571,\"\"))","v":""},"",null,"",null,"",null,null,null,""]
[null,null,null,null,null,null,null,null,null,null,null,"削除","","","","","","","","","",{"$f":"IF(B572=\"\",\"\",IF(COUNTIF($U$4:U572,U572)=1,\"\",\"重複\"))","v":""},"","",null,null,null,null,null,null,null,null,null,null,null,null,null,null,null,{"$f":"IF(COUNTIF($AI$5:AI572,AI572)=1,AI572,\"\")","v":""},{"$f":"IF(AI572=\"\",\"\",IF(COUNTIF($AX$5:AX572,AX572)=1,AX572,\"\"))","v":""},"",null,"",null,"",null,null,null,""]
[null,null,null,null,null,null,null,null,null,null,null,"削除","","","","","","","","","",{"$f":"IF(B573=\"\",\"\",IF(COUNTIF($U$4:U573,U573)=1,\"\",\"重複\"))","v":""},"","",null,null,null,null,null,null,null,null,null,null,null,null,null,null,null,{"$f":"IF(COUNTIF($AI$5:AI573,AI573)=1,AI573,\"\")","v":""},{"$f":"IF(AI573=\"\",\"\",IF(COUNTIF($AX$5:AX573,AX573)=1,AX573,\"\"))","v":""},"",null,"",null,"",null,null,null,""]
[null,null,null,null,null,null,null,null,null,null,null,"削除","","","","","","","","","",{"$f":"IF(B574=\"\",\"\",IF(COUNTIF($U$4:U574,U574)=1,\"\",\"重複\"))","v":""},"","",null,null,null,null,null,null,null,null,null,null,null,null,null,null,null,{"$f":"IF(COUNTIF($AI$5:AI574,AI574)=1,AI574,\"\")","v":""},{"$f":"IF(AI574=\"\",\"\",IF(COUNTIF($AX$5:AX574,AX574)=1,AX574,\"\"))","v":""},"",null,"",null,"",null,null,null,""]
[null,null,null,null,null,null,null,null,null,null,null,"削除","","","","","","","","","",{"$f":"IF(B575=\"\",\"\",IF(COUNTIF($U$4:U575,U575)=1,\"\",\"重複\"))","v":""},"","",null,null,null,null,null,null,null,null,null,null,null,null,null,null,null,{"$f":"IF(COUNTIF($AI$5:AI575,AI575)=1,AI575,\"\")","v":""},{"$f":"IF(AI575=\"\",\"\",IF(COUNTIF($AX$5:AX575,AX575)=1,AX575,\"\"))","v":""},"",null,"",null,"",null,null,null,""]
[null,null,null,null,null,null,null,null,null,null,null,"削除","","","","","","","","","",{"$f":"IF(B576=\"\",\"\",IF(COUNTIF($U$4:U576,U576)=1,\"\",\"重複\"))","v":""},"","",null,null,null,null,null,null,null,null,null,null,null,null,null,null,null,{"$f":"IF(COUNTIF($AI$5:AI576,AI576)=1,AI576,\"\")","v":""},{"$f":"IF(AI576=\"\",\"\",IF(COUNTIF($AX$5:AX576,AX576)=1,AX576,\"\"))","v":""},"",null,"",null,"",null,null,null,""]
[null,null,null,null,null,null,null,null,null,null,null,"削除","","","","","","","","","",{"$f":"IF(B577=\"\",\"\",IF(COUNTIF($U$4:U577,U577)=1,\"\",\"重複\"))","v":""},"","",null,null,null,null,null,null,null,null,null,null,null,null,null,null,null,{"$f":"IF(COUNTIF($AI$5:AI577,AI577)=1,AI577,\"\")","v":""},{"$f":"IF(AI577=\"\",\"\",IF(COUNTIF($AX$5:AX577,AX577)=1,AX577,\"\"))","v":""},"",null,"",null,"",null,null,null,""]
[null,null,null,null,null,null,null,null,null,null,null,"削除","","","","","","","","","",{"$f":"IF(B578=\"\",\"\",IF(COUNTIF($U$4:U578,U578)=1,\"\",\"重複\"))","v":""},"","",null,null,null,null,null,null,null,null,null,null,null,null,null,null,null,{"$f":"IF(COUNTIF($AI$5:AI578,AI578)=1,AI578,\"\")","v":""},{"$f":"IF(AI578=\"\",\"\",IF(COUNTIF($AX$5:AX578,AX578)=1,AX578,\"\"))","v":""},"",null,"",null,"",null,null,null,""]
[null,null,null,null,null,null,null,null,null,null,null,"削除","","","","","","","","","",{"$f":"IF(B579=\"\",\"\",IF(COUNTIF($U$4:U579,U579)=1,\"\",\"重複\"))","v":""},"","",null,null,null,null,null,null,null,null,null,null,null,null,null,null,null,{"$f":"IF(COUNTIF($AI$5:AI579,AI579)=1,AI579,\"\")","v":""},{"$f":"IF(AI579=\"\",\"\",IF(COUNTIF($AX$5:AX579,AX579)=1,AX579,\"\"))","v":""},"",null,"",null,"",null,null,null,""]
[null,null,null,null,null,null,null,null,null,null,null,"削除","","","","","","","","","",{"$f":"IF(B580=\"\",\"\",IF(COUNTIF($U$4:U580,U580)=1,\"\",\"重複\"))","v":""},"",{"$f":"IF(B580=\"\",\"\",IF(LEFT(G580,3)=\"144\",IF(LEFT(H580,3)=\"SSB\",\"\",IF(LEFT(H580,3)=\"A3J\",\"\",IF(LEFT(H580,3)=\"J3E\",\"\",\"形式外\"))),\"形式外\"))","v":""},null,null,null,null,null,null,null,null,null,null,null,null,null,null,null,{"$f":"IF(COUNTIF($AI$5:AI580,AI580)=1,AI580,\"\")","v":""},{"$f":"IF(AI580=\"\",\"\",IF(COUNTIF($AX$5:AX580,AX580)=1,AX580,\"\"))","v":""},"",null,"",null,"",null,null,null,""]
[null,null,null,null,null,null,null,null,null,null,null,{"$f":"IF(B581=\"\",\"削除\",IF(OR(V581=\"重複\",W581=\"削除\",X581=\"形式外\"),\"削除\",1))","v":"削除"},{"$f":"IF(L581=\"削除\",\"\",C581)","v":""},{"$f":"IF(L581=\"削除\",\"\",D581)","v":""},{"$f":"IF(L581=\"削除\",\"\",B581)","v":""},{"$f":"IF(L581=\"削除\",\"\",E581)","v":""},{"$f":"IF(L581=\"削除\",\"\",F581)","v":""},{"$f":"IF(L581=\"削除\",\"\",I581)","v":""},{"$f":"IF(L581=\"削除\",\"\",IF(J581=\"\",\"\",J581))","v":""},{"$f":"IF(B581=\"\",\"\",LEFT(B581,FIND(\"/\",B581&\"/\")-1))","v":""},{"$f":"IF(B581=\"\",\"\",T581&\"/\"&H581)","v":""},{"$f":"IF(B581=\"\",\"\",IF(COUNTIF($U$4:U581,U581)=1,\"\",\"重複\"))","v":""},{"$f":"IF(B581=\"\",\"\",IF(LEFT(T581,1)=\"8\",\"削除\",IF(LEN(T581)=5,IF(MID(T581,4,2)=\"RL\",\"削除\",\"\"),IF(MID(T581,4,1)=\"Y\",\"削除\",IF(MID(T581,4,1)=\"Z\",\"削除\",\"\")))))","v":""},"",null,null,null,null,null,null,null,null,null,null,null,null,null,null,null,{"$f":"IF(COUNTIF($AI$5:AI581,AI581)=1,AI581,\"\")","v":""},{"$f":"IF(AI581=\"\",\"\",IF(COUNTIF($AX$5:AX581,AX581)=1,AX581,\"\"))","v":""},"",null,"",null,"",null,null,null,""]
[null,null,null,null,null,null,null,null,null,null,null,"削除","","","","","","","","","",{"$f":"IF(B582=\"\",\"\",IF(COUNTIF($U$4:U582,U582)=1,\"\",\"重複\"))","v":""},"","",null,null,null,null,null,null,null,null,null,null,null,null,null,null,null,{"$f":"IF(COUNTIF($AI$5:AI582,AI582)=1,AI582,\"\")","v":""},{"$f":"IF(AI582=\"\",\"\",IF(COUNTIF($AX$5:AX582,AX582)=1,AX582,\"\"))","v":""},{"$f":"IF(AK582=\"\",\"\",IF(COUNTIF($BN$5:$BN$304,AT582)=1,5,1))","v":""},null,{"$f":"IF(COUNTIF($BN$5:$BN$40,AT582)=1,\"M\",\"\")","v":""},null,{"$f":"LEFT(AK582&\"/\",FIND(\"/\",AK582&\"/\")-1)","v":""},null,null,null,{"$f":"RIGHT(AT582,1)","v":""}]
[null,null,null,null,null,null,null,null,null,null,null,"削除","","","","","","","","","",{"$f":"IF(B583=\"\",\"\",IF(COUNTIF($U$4:U583,U583)=1,\"\",\"重複\"))","v":""},"","",null,null,null,null,null,null,null,null,null,null,null,null,null,null,null,{"$f":"IF(COUNTIF($AI$5:AI583,AI583)=1,AI583,\"\")","v":""},{"$f":"IF(AI583=\"\",\"\",IF(COUNTIF($AX$5:AX583,AX583)=1,AX583,\"\"))","v":""},"",null,"",null,"",null,null,null,""]
[null,null,null,null,null,null,null,null,null,null,null,"削除","","","","","","","","","",{"$f":"IF(B584=\"\",\"\",IF(COUNTIF($U$4:U584,U584)=1,\"\",\"重複\"))","v":""},"","",null,null,null,null,null,null,null,null,null,null,null,null,null,null,null,{"$f":"IF(COUNTIF($AI$5:AI584,AI584)=1,AI584,\"\")","v":""},{"$f":"IF(AI584=\"\",\"\",IF(COUNTIF($AX$5:AX584,AX584)=1,AX584,\"\"))","v":""},"",null,"",null,"",null,null,null,""]
[null,null,null,null,null,null,null,null,null,null,null,"削除","","","","","","","","","",{"$f":"IF(B585=\"\",\"\",IF(COUNTIF($U$4:U585,U585)=1,\"\",\"重複\"))","v":""},"","",null,null,null,null,null,null,null,null,null,null,null,null,null,null,null,{"$f":"IF(COUNTIF($AI$5:AI585,AI585)=1,AI585,\"\")","v":""},{"$f":"IF(AI585=\"\",\"\",IF(COUNTIF($AX$5:AX585,AX585)=1,AX585,\"\"))","v":""},"",null,"",null,"",null,null,null,""]
[null,null,null,null,null,null,null,null,null,null,null,"削除","","","","","","","","","",{"$f":"IF(B586=\"\",\"\",IF(COUNTIF($U$4:U586,U586)=1,\"\",\"重複\"))","v":""},"","",null,null,null,null,null,null,null,null,null,null,null,null,null,null,null,{"$f":"IF(COUNTIF($AI$5:AI586,AI586)=1,AI586,\"\")","v":""},{"$f":"IF(AI586=\"\",\"\",IF(COUNTIF($AX$5:AX586,AX586)=1,AX586,\"\"))","v":""},"",null,"",null,"",null,null,null,""]
[null,null,null,null,null,null,null,null,null,null,null,"削除","","","","","","","","","",{"$f":"IF(B587=\"\",\"\",IF(COUNTIF($U$4:U587,U587)=1,\"\",\"重複\"))","v":""},"","",null,null,null,null,null,null,null,null,null,null,null,null,null,null,null,{"$f":"IF(COUNTIF($AI$5:AI587,AI587)=1,AI587,\"\")","v":""},{"$f":"IF(AI587=\"\",\"\",IF(COUNTIF($AX$5:AX587,AX587)=1,AX587,\"\"))","v":""},"",null,"",null,"",null,null,null,""]
[null,null,null,null,null,null,null,null,null,null,null,"削除","","","","","","","","","",{"$f":"IF(B588=\"\",\"\",IF(COUNTIF($U$4:U588,U588)=1,\"\",\"重複\"))","v":""},"","",null,null,null,null,null,null,null,null,null,null,null,null,null,null,null,{"$f":"IF(COUNTIF($AI$5:AI588,AI588)=1,AI588,\"\")","v":""},{"$f":"IF(AI588=\"\",\"\",IF(COUNTIF($AX$5:AX588,AX588)=1,AX588,\"\"))","v":""},"",null,"",null,"",null,null,null,""]
[null,null,null,null,null,null,null,null,null,null,null,"削除","","","","","","","","","",{"$f":"IF(B589=\"\",\"\",IF(COUNTIF($U$4:U589,U589)=1,\"\",\"重複\"))","v":""},"","",null,null,null,null,null,null,null,null,null,null,null,null,null,null,null,{"$f":"IF(COUNTIF($AI$5:AI589,AI589)=1,AI589,\"\")","v":""},{"$f":"IF(AI589=\"\",\"\",IF(COUNTIF($AX$5:AX589,AX589)=1,AX589,\"\"))","v":""},"",null,"",null,"",null,null,null,""]
[null,null,null,null,null,null,null,null,null,null,null,"削除","","","","","","","","","",{"$f":"IF(B590=\"\",\"\",IF(COUNTIF($U$4:U590,U590)=1,\"\",\"重複\"))","v":""},"","",null,null,null,null,null,null,null,null,null,null,null,null,null,null,null,{"$f":"IF(COUNTIF($AI$5:AI590,AI590)=1,AI590,\"\")","v":""},{"$f":"IF(AI590=\"\",\"\",IF(COUNTIF($AX$5:AX590,AX590)=1,AX590,\"\"))","v":""},"",null,"",null,"",null,null,null,""]
[null,null,null,null,null,null,null,null,null,null,null,"削除","","","","","","","","","",{"$f":"IF(B591=\"\",\"\",IF(COUNTIF($U$4:U591,U591)=1,\"\",\"重複\"))","v":""},"","",null,null,null,null,null,null,null,null,null,null,null,null,null,null,null,{"$f":"IF(COUNTIF($AI$5:AI591,AI591)=1,AI591,\"\")","v":""},{"$f":"IF(AI591=\"\",\"\",IF(COUNTIF($AX$5:AX591,AX591)=1,AX591,\"\"))","v":""},"",null,"",null,"",null,null,null,""]
[null,null,null,null,null,null,null,null,null,null,null,"削除","","","","","","","","","",{"$f":"IF(B592=\"\",\"\",IF(COUNTIF($U$4:U592,U592)=1,\"\",\"重複\"))","v":""},"","",null,null,null,null,null,null,null,null,null,null,null,null,null,null,null,{"$f":"IF(COUNTIF($AI$5:AI592,AI592)=1,AI592,\"\")","v":""},{"$f":"IF(AI592=\"\",\"\",IF(COUNTIF($AX$5:AX592,AX592)=1,AX592,\"\"))","v":""},"",null,"",null,"",null,null,null,""]
[null,null,null,null,null,null,null,null,null,null,null,"削除","","","","","","","","","",{"$f":"IF(B593=\"\",\"\",IF(COUNTIF($U$4:U593,U593)=1,\"\",\"重複\"))","v":""},"","",null,null,null,null,null,null,null,null,null,null,null,null,null,null,null,{"$f":"IF(COUNTIF($AI$5:AI593,AI593)=1,AI593,\"\")","v":""},{"$f":"IF(AI593=\"\",\"\",IF(COUNTIF($AX$5:AX593,AX593)=1,AX593,\"\"))","v":""},"",null,"",null,"",null,null,null,""]
[null,null,null,null,null,null,null,null,null,null,null,"削除","","","","","","","","","",{"$f":"IF(B594=\"\",\"\",IF(COUNTIF($U$4:U594,U594)=1,\"\",\"重複\"))","v":""},"","",null,null,null,null,null,null,null,null,null,null,null,null,null,null,null,{"$f":"IF(COUNTIF($AI$5:AI594,AI594)=1,AI594,\"\")","v":""},{"$f":"IF(AI594=\"\",\"\",IF(COUNTIF($AX$5:AX594,AX594)=1,AX594,\"\"))","v":""},"",null,"",null,"",null,null,null,""]
[null,null,null,null,null,null,null,null,null,null,null,"削除","","","","","","","","","",{"$f":"IF(B595=\"\",\"\",IF(COUNTIF($U$4:U595,U595)=1,\"\",\"重複\"))","v":""},"","",null,null,null,null,null,null,null,null,null,null,null,null,null,null,null,{"$f":"IF(COUNTIF($AI$5:AI595,AI595)=1,AI595,\"\")","v":""},{"$f":"IF(AI595=\"\",\"\",IF(COUNTIF($AX$5:AX595,AX595)=1,AX595,\"\"))","v":""},"",null,"",null,"",null,null,null,""]
[null,null,null,null,null,null,null,null,null,null,null,"削除","","","","","","","","","",{"$f":"IF(B596=\"\",\"\",IF(COUNTIF($U$4:U596,U596)=1,\"\",\"重複\"))","v":""},"","",null,null,null,null,null,null,null,null,null,null,null,null,null,null,null,{"$f":"IF(COUNTIF($AI$5:AI596,AI596)=1,AI596,\"\")","v":""},{"$f":"IF(AI596=\"\",\"\",IF(COUNTIF($AX$5:AX596,AX596)=1,AX596,\"\"))","v":""},"",null,"",null,"",null,null,null,""]
[null,null,null,null,null,null,null,null,null,null,null,"削除","","","","","","","","","",{"$f":"IF(B597=\"\",\"\",IF(COUNTIF($U$4:U597,U597)=1,\"\",\"重複\"))","v":""},"","",null,null,null,null,null,null,null,null,null,null,null,null,null,null,null,{"$f":"IF(COUNTIF($AI$5:AI597,AI597)=1,AI597,\"\")","v":""},{"$f":"IF(AI597=\"\",\"\",IF(COUNTIF($AX$5:AX597,AX597)=1,AX597,\"\"))","v":""},"",null,"",null,"",null,null,null,""]
[null,null,null,null,null,null,null,null,null,null,null,"削除","","","","","","","","","",{"$f":"IF(B598=\"\",\"\",IF(COUNTIF($U$4:U598,U598)=1,\"\",\"重複\"))","v":""},"","",null,null,null,null,null,null,null,null,null,null,null,null,null,null,null,{"$f":"IF(COUNTIF($AI$5:AI598,AI598)=1,AI598,\"\")","v":""},{"$f":"IF(AI598=\"\",\"\",IF(COUNTIF($AX$5:AX598,AX598)=1,AX598,\"\"))","v":""},"",null,"",null,"",null,null,null,""]
[null,null,null,null,null,null,null,null,null,null,null,"削除","","","","","","","","","",{"$f":"IF(B599=\"\",\"\",IF(COUNTIF($U$4:U599,U599)=1,\"\",\"重複\"))","v":""},"","",null,null,null,null,null,null,null,null,null,null,null,null,null,null,null,{"$f":"IF(COUNTIF($AI$5:AI599,AI599)=1,AI599,\"\")","v":""},{"$f":"IF(AI599=\"\",\"\",IF(COUNTIF($AX$5:AX599,AX599)=1,AX599,\"\"))","v":""},"",null,"",null,"",null,null,null,""]
[null,null,null,null,null,null,null,null,null,null,null,"削除","","","","","","","","","",{"$f":"IF(B600=\"\",\"\",IF(COUNTIF($U$4:U600,U600)=1,\"\",\"重複\"))","v":""},"","",null,null,null,null,null,null,null,null,null,null,null,null,null,null,null,{"$f":"IF(COUNTIF($AI$5:AI600,AI600)=1,AI600,\"\")","v":""},{"$f":"IF(AI600=\"\",\"\",IF(COUNTIF($AX$5:AX600,AX600)=1,AX600,\"\"))","v":""},"",null,"",null,"",null,null,null,""]
[null,null,null,null,null,null,null,null,null,null,null,"削除","","","","","","","","","",{"$f":"IF(B601=\"\",\"\",IF(COUNTIF($U$4:U601,U601)=1,\"\",\"重複\"))","v":""},"","",null,null,null,null,null,null,null,null,null,null,null,null,null,null,null,{"$f":"IF(COUNTIF($AI$5:AI601,AI601)=1,AI601,\"\")","v":""},{"$f":"IF(AI601=\"\",\"\",IF(COUNTIF($AX$5:AX601,AX601)=1,AX601,\"\"))","v":""},"",null,"",null,"",null,null,null,""]
[null,null,null,null,null,null,null,null,null,null,null,"削除","","","","","","","","","",{"$f":"IF(B602=\"\",\"\",IF(COUNTIF($U$4:U602,U602)=1,\"\",\"重複\"))","v":""},"","",null,null,null,null,null,null,null,null,null,null,null,null,null,null,null,{"$f":"IF(COUNTIF($AI$5:AI602,AI602)=1,AI602,\"\")","v":""},{"$f":"IF(AI602=\"\",\"\",IF(COUNTIF($AX$5:AX602,AX602)=1,AX602,\"\"))","v":""},"",null,"",null,"",null,null,null,""]
[null,null,null,null,null,null,null,null,null,null,null,"削除","","","","","","","","","",{"$f":"IF(B603=\"\",\"\",IF(COUNTIF($U$4:U603,U603)=1,\"\",\"重複\"))","v":""},"","",null,null,null,null,null,null,null,null,null,null,null,null,null,null,null,{"$f":"IF(COUNTIF($AI$5:AI603,AI603)=1,AI603,\"\")","v":""},{"$f":"IF(AI603=\"\",\"\",IF(COUNTIF($AX$5:AX603,AX603)=1,AX603,\"\"))","v":""},"",null,"",null,"",null,null,null,""]
[null,null,null,null,null,null,null,null,null,null,null,"削除","","","","","","","","","",{"$f":"IF(B604=\"\",\"\",IF(COUNTIF($U$4:U604,U604)=1,\"\",\"重複\"))","v":""},"","",null,null,null,null,null,null,null,null,null,600,null,null,null,null,null,{"$f":"IF(COUNTIF($AI$5:AI604,AI604)=1,AI604,\"\")","v":""},{"$f":"IF(AI604=\"\",\"\",IF(COUNTIF($AX$5:AX604,AX604)=1,AX604,\"\"))","v":""},"",null,"",null,"",null,null,null,""]
[null,null,null,null,null,null,null,null,null,null,null,"削除","","","","","","","","","",{"$f":"IF(B605=\"\",\"\",IF(COUNTIF($U$4:U605,U605)=1,\"\",\"重複\"))","v":""},"","",null,null,null,null,null,null,null,null,null,null,null,null,null,null,null,{"$f":"IF(COUNTIF($AI$5:AI605,AI605)=1,AI605,\"\")","v":""},{"$f":"IF(AI605=\"\",\"\",IF(COUNTIF($AX$5:AX605,AX605)=1,AX605,\"\"))","v":""},"",null,"",null,"",null,null,null,""]
[null,null,null,null,null,null,null,null,null,null,null,"削除","","","","","","","","","",{"$f":"IF(B606=\"\",\"\",IF(COUNTIF($U$4:U606,U606)=1,\"\",\"重複\"))","v":""},"","",null,null,null,null,null,null,null,null,null,null,null,null,null,null,null,{"$f":"IF(COUNTIF($AI$5:AI606,AI606)=1,AI606,\"\")","v":""},{"$f":"IF(AI606=\"\",\"\",IF(COUNTIF($AX$5:AX606,AX606)=1,AX606,\"\"))","v":""},"",null,"",null,"",null,null,null,""]
[null,null,null,null,null,null,null,null,null,null,null,"削除","","","","","","","","","",{"$f":"IF(B607=\"\",\"\",IF(COUNTIF($U$4:U607,U607)=1,\"\",\"重複\"))","v":""},"","",null,null,null,null,null,null,null,null,null,null,null,null,null,null,null,{"$f":"IF(COUNTIF($AI$5:AI607,AI607)=1,AI607,\"\")","v":""},{"$f":"IF(AI607=\"\",\"\",IF(COUNTIF($AX$5:AX607,AX607)=1,AX607,\"\"))","v":""},"",null,"",null,"",null,null,null,""]
[null,null,null,null,null,null,null,null,null,null,null,"削除","","","","","","","","","",{"$f":"IF(B608=\"\",\"\",IF(COUNTIF($U$4:U608,U608)=1,\"\",\"重複\"))","v":""},"","",null,null,null,null,null,null,null,null,null,null,null,null,null,null,null,{"$f":"IF(COUNTIF($AI$5:AI608,AI608)=1,AI608,\"\")","v":""},{"$f":"IF(AI608=\"\",\"\",IF(COUNTIF($AX$5:AX608,AX608)=1,AX608,\"\"))","v":""},"",null,"",null,"",null,null,null,""]
[null,null,null,null,null,null,null,null,null,null,null,"削除","","","","","","","","","",{"$f":"IF(B609=\"\",\"\",IF(COUNTIF($U$4:U609,U609)=1,\"\",\"重複\"))","v":""},"","",null,null,null,null,null,null,null,null,null,null,null,null,null,null,null,{"$f":"IF(COUNTIF($AI$5:AI609,AI609)=1,AI609,\"\")","v":""},{"$f":"IF(AI609=\"\",\"\",IF(COUNTIF($AX$5:AX609,AX609)=1,AX609,\"\"))","v":""},"",null,"",null,"",null,null,null,""]
[null,null,null,null,null,null,null,null,null,null,null,"削除","","","","","","","","","",{"$f":"IF(B610=\"\",\"\",IF(COUNTIF($U$4:U610,U610)=1,\"\",\"重複\"))","v":""},"","",null,null,null,null,null,null,null,null,null,null,null,null,null,null,null,{"$f":"IF(COUNTIF($AI$5:AI610,AI610)=1,AI610,\"\")","v":""},{"$f":"IF(AI610=\"\",\"\",IF(COUNTIF($AX$5:AX610,AX610)=1,AX610,\"\"))","v":""},"",null,"",null,"",null,null,null,""]
[null,null,null,null,null,null,null,null,null,null,null,"削除","","","","","","","","","",{"$f":"IF(B611=\"\",\"\",IF(COUNTIF($U$4:U611,U611)=1,\"\",\"重複\"))","v":""},"","",null,null,null,null,null,null,null,null,null,null,null,null,null,null,null,{"$f":"IF(COUNTIF($AI$5:AI611,AI611)=1,AI611,\"\")","v":""},{"$f":"IF(AI611=\"\",\"\",IF(COUNTIF($AX$5:AX611,AX611)=1,AX611,\"\"))","v":""},"",null,"",null,"",null,null,null,""]
[null,null,null,null,null,null,null,null,null,null,null,"削除","","","","","","","","","",{"$f":"IF(B612=\"\",\"\",IF(COUNTIF($U$4:U612,U612)=1,\"\",\"重複\"))","v":""},"","",null,null,null,null,null,null,null,null,null,null,null,null,null,null,null,{"$f":"IF(COUNTIF($AI$5:AI612,AI612)=1,AI612,\"\")","v":""},{"$f":"IF(AI612=\"\",\"\",IF(COUNTIF($AX$5:AX612,AX612)=1,AX612,\"\"))","v":""},"",null,"",null,"",null,null,null,""]
[null,null,null,null,null,null,null,null,null,null,null,"削除","","","","","","","","","",{"$f":"IF(B613=\"\",\"\",IF(COUNTIF($U$4:U613,U613)=1,\"\",\"重複\"))","v":""},"","",null,null,null,null,null,null,null,null,null,null,null,null,null,null,null,{"$f":"IF(COUNTIF($AI$5:AI613,AI613)=1,AI613,\"\")","v":""},{"$f":"IF(AI613=\"\",\"\",IF(COUNTIF($AX$5:AX613,AX613)=1,AX613,\"\"))","v":""},"",null,"",null,"",null,null,null,""]
[null,null,null,null,null,null,null,null,null,null,null,"削除","","","","","","","","","",{"$f":"IF(B614=\"\",\"\",IF(COUNTIF($U$4:U614,U614)=1,\"\",\"重複\"))","v":""},"","",null,null,null,null,null,null,null,null,null,null,null,null,null,null,null,{"$f":"IF(COUNTIF($AI$5:AI614,AI614)=1,AI614,\"\")","v":""},{"$f":"IF(AI614=\"\",\"\",IF(COUNTIF($AX$5:AX614,AX614)=1,AX614,\"\"))","v":""},"",null,"",null,"",null,null,null,""]
[null,null,null,null,null,null,null,null,null,null,null,"削除","","","","","","","","","",{"$f":"IF(B615=\"\",\"\",IF(COUNTIF($U$4:U615,U615)=1,\"\",\"重複\"))","v":""},"","",null,null,null,null,null,null,null,null,null,null,null,null,null,null,null,{"$f":"IF(COUNTIF($AI$5:AI615,AI615)=1,AI615,\"\")","v":""},{"$f":"IF(AI615=\"\",\"\",IF(COUNTIF($AX$5:AX615,AX615)=1,AX615,\"\"))","v":""},"",null,"",null,"",null,null,null,""]
[null,null,null,null,null,null,null,null,null,null,null,"削除","","","","","","","","","",{"$f":"IF(B616=\"\",\"\",IF(COUNTIF($U$4:U616,U616)=1,\"\",\"重複\"))","v":""},"","",null,null,null,null,null,null,null,null,null,null,null,null,null,null,null,{"$f":"IF(COUNTIF($AI$5:AI616,AI616)=1,AI616,\"\")","v":""},{"$f":"IF(AI616=\"\",\"\",IF(COUNTIF($AX$5:AX616,AX616)=1,AX616,\"\"))","v":""},"",null,"",null,"",null,null,null,""]
[null,null,null,null,null,null,null,null,null,null,null,"削除","","","","","","","","","",{"$f":"IF(B617=\"\",\"\",IF(COUNTIF($U$4:U617,U617)=1,\"\",\"重複\"))","v":""},"","",null,null,null,null,null,null,null,null,null,null,null,null,null,null,null,{"$f":"IF(COUNTIF($AI$5:AI617,AI617)=1,AI617,\"\")","v":""},{"$f":"IF(AI617=\"\",\"\",IF(COUNTIF($AX$5:AX617,AX617)=1,AX617,\"\"))","v":""},"",null,"",null,"",null,null,null,""]
[null,null,null,null,null,null,null,null,null,null,null,"削除","","","","","","","","","",{"$f":"IF(B618=\"\",\"\",IF(COUNTIF($U$4:U618,U618)=1,\"\",\"重複\"))","v":""},"","",null,null,null,null,null,null,null,null,null,null,null,null,null,null,null,{"$f":"IF(COUNTIF($AI$5:AI618,AI618)=1,AI618,\"\")","v":""},{"$f":"IF(AI618=\"\",\"\",IF(COUNTIF($AX$5:AX618,AX618)=1,AX618,\"\"))","v":""},"",null,"",null,"",null,null,null,""]
[null,null,null,null,null,null,null,null,null,null,null,"削除","","","","","","","","","",{"$f":"IF(B619=\"\",\"\",IF(COUNTIF($U$4:U619,U619)=1,\"\",\"重複\"))","v":""},"","",null,null,null,null,null,null,null,null,null,null,null,null,null,null,null,{"$f":"IF(COUNTIF($AI$5:AI619,AI619)=1,AI619,\"\")","v":""},{"$f":"IF(AI619=\"\",\"\",IF(COUNTIF($AX$5:AX619,AX619)=1,AX619,\"\"))","v":""},"",null,"",null,"",null,null,null,""]
[null,null,null,null,null,null,null,null,null,null,null,"削除","","","","","","","","","",{"$f":"IF(B620=\"\",\"\",IF(COUNTIF($U$4:U620,U620)=1,\"\",\"重複\"))","v":""},"","",null,null,null,null,null,null,null,null,null,null,null,null,null,null,null,{"$f":"IF(COUNTIF($AI$5:AI620,AI620)=1,AI620,\"\")","v":""},{"$f":"IF(AI620=\"\",\"\",IF(COUNTIF($AX$5:AX620,AX620)=1,AX620,\"\"))","v":""},"",null,"",null,"",null,null,null,""]
[null,null,null,null,null,null,null,null,null,null,null,"削除","","","","","","","","","",{"$f":"IF(B621=\"\",\"\",IF(COUNTIF($U$4:U621,U621)=1,\"\",\"重複\"))","v":""},"","",null,null,null,null,null,null,null,null,null,null,null,null,null,null,null,{"$f":"IF(COUNTIF($AI$5:AI621,AI621)=1,AI621,\"\")","v":""},{"$f":"IF(AI621=\"\",\"\",IF(COUNTIF($AX$5:AX621,AX621)=1,AX621,\"\"))","v":""},"",null,"",null,"",null,null,null,""]
[null,null,null,null,null,null,null,null,null,null,null,"削除","","","","","","","","","",{"$f":"IF(B622=\"\",\"\",IF(COUNTIF($U$4:U622,U622)=1,\"\",\"重複\"))","v":""},"","",null,null,null,null,null,null,null,null,null,null,null,null,null,null,null,{"$f":"IF(COUNTIF($AI$5:AI622,AI622)=1,AI622,\"\")","v":""},{"$f":"IF(AI622=\"\",\"\",IF(COUNTIF($AX$5:AX622,AX622)=1,AX622,\"\"))","v":""},"",null,"",null,"",null,null,null,""]
[null,null,null,null,null,null,null,null,null,null,null,"削除","","","","","","","","","",{"$f":"IF(B623=\"\",\"\",IF(COUNTIF($U$4:U623,U623)=1,\"\",\"重複\"))","v":""},"","",null,null,null,null,null,null,null,null,null,null,null,null,null,null,null,{"$f":"IF(COUNTIF($AI$5:AI623,AI623)=1,AI623,\"\")","v":""},{"$f":"IF(AI623=\"\",\"\",IF(COUNTIF($AX$5:AX623,AX623)=1,AX623,\"\"))","v":""},"",null,"",null,"",null,null,null,""]
[null,null,null,null,null,null,null,null,null,null,null,"削除","","","","","","","","","",{"$f":"IF(B624=\"\",\"\",IF(COUNTIF($U$4:U624,U624)=1,\"\",\"重複\"))","v":""},"","",null,null,null,null,null,null,null,null,null,null,null,null,null,null,null,{"$f":"IF(COUNTIF($AI$5:AI624,AI624)=1,AI624,\"\")","v":""},{"$f":"IF(AI624=\"\",\"\",IF(COUNTIF($AX$5:AX624,AX624)=1,AX624,\"\"))","v":""},"",null,"",null,"",null,null,null,""]
[null,null,null,null,null,null,null,null,null,null,null,"削除","","","","","","","","","",{"$f":"IF(B625=\"\",\"\",IF(COUNTIF($U$4:U625,U625)=1,\"\",\"重複\"))","v":""},"","",null,null,null,null,null,null,null,null,null,null,null,null,null,null,null,{"$f":"IF(COUNTIF($AI$5:AI625,AI625)=1,AI625,\"\")","v":""},{"$f":"IF(AI625=\"\",\"\",IF(COUNTIF($AX$5:AX625,AX625)=1,AX625,\"\"))","v":""},"",null,"",null,"",null,null,null,""]
[null,null,null,null,null,null,null,null,null,null,null,"削除","","","","","","","","","",{"$f":"IF(B626=\"\",\"\",IF(COUNTIF($U$4:U626,U626)=1,\"\",\"重複\"))","v":""},"","",null,null,null,null,null,null,null,null,null,null,null,null,null,null,null,{"$f":"IF(COUNTIF($AI$5:AI626,AI626)=1,AI626,\"\")","v":""},{"$f":"IF(AI626=\"\",\"\",IF(COUNTIF($AX$5:AX626,AX626)=1,AX626,\"\"))","v":""},"",null,"",null,"",null,null,null,""]
[null,null,null,null,null,null,null,null,null,null,null,"削除","","","","","","","","","",{"$f":"IF(B627=\"\",\"\",IF(COUNTIF($U$4:U627,U627)=1,\"\",\"重複\"))","v":""},"","",null,null,null,null,null,null,null,null,null,null,null,null,null,null,null,{"$f":"IF(COUNTIF($AI$5:AI627,AI627)=1,AI627,\"\")","v":""},{"$f":"IF(AI627=\"\",\"\",IF(COUNTIF($AX$5:AX627,AX627)=1,AX627,\"\"))","v":""},"",null,"",null,"",null,null,null,""]
[null,null,null,null,null,null,null,null,null,null,null,"削除","","","","","","","","","",{"$f":"IF(B628=\"\",\"\",IF(COUNTIF($U$4:U628,U628)=1,\"\",\"重複\"))","v":""},"","",null,null,null,null,null,null,null,null,null,null,null,null,null,null,null,{"$f":"IF(COUNTIF($AI$5:AI628,AI628)=1,AI628,\"\")","v":""},{"$f":"IF(AI628=\"\",\"\",IF(COUNTIF($AX$5:AX628,AX628)=1,AX628,\"\"))","v":""},"",null,"",null,"",null,null,null,""]
[null,null,null,null,null,null,null,null,null,null,null,"削除","","","","","","","","","",{"$f":"IF(B629=\"\",\"\",IF(COUNTIF($U$4:U629,U629)=1,\"\",\"重複\"))","v":""},"","",null,null,null,null,null,null,null,null,null,null,null,null,null,null,null,{"$f":"IF(COUNTIF($AI$5:AI629,AI629)=1,AI629,\"\")","v":""},{"$f":"IF(AI629=\"\",\"\",IF(COUNTIF($AX$5:AX629,AX629)=1,AX629,\"\"))","v":""},"",null,"",null,"",null,null,null,""]
[null,null,null,null,null,null,null,null,null,null,null,"削除","","","","","","","","","",{"$f":"IF(B630=\"\",\"\",IF(COUNTIF($U$4:U630,U630)=1,\"\",\"重複\"))","v":""},"","",null,null,null,null,null,null,null,null,null,null,null,null,null,null,null,{"$f":"IF(COUNTIF($AI$5:AI630,AI630)=1,AI630,\"\")","v":""},{"$f":"IF(AI630=\"\",\"\",IF(COUNTIF($AX$5:AX630,AX630)=1,AX630,\"\"))","v":""},"",null,"",null,"",null,null,null,""]
[null,null,null,null,null,null,null,null,null,null,null,"削除","","","","","","","","","",{"$f":"IF(B631=\"\",\"\",IF(COUNTIF($U$4:U631,U631)=1,\"\",\"重複\"))","v":""},"","",null,null,null,null,null,null,null,null,null,null,null,null,null,null,null,{"$f":"IF(COUNTIF($AI$5:AI631,AI631)=1,AI631,\"\")","v":""},{"$f":"IF(AI631=\"\",\"\",IF(COUNTIF($AX$5:AX631,AX631)=1,AX631,\"\"))","v":""},"",null,"",null,"",null,null,null,""]
[null,null,null,null,null,null,null,null,null,null,null,"削除","","","","","","","","","",{"$f":"IF(B632=\"\",\"\",IF(COUNTIF($U$4:U632,U632)=1,\"\",\"重複\"))","v":""},"","",null,null,null,null,null,null,null,null,null,null,null,null,null,null,null,{"$f":"IF(COUNTIF($AI$5:AI632,AI632)=1,AI632,\"\")","v":""},{"$f":"IF(AI632=\"\",\"\",IF(COUNTIF($AX$5:AX632,AX632)=1,AX632,\"\"))","v":""},"",null,"",null,"",null,null,null,""]
[null,null,null,null,null,null,null,null,null,null,null,"削除","","","","","","","","","",{"$f":"IF(B633=\"\",\"\",IF(COUNTIF($U$4:U633,U633)=1,\"\",\"重複\"))","v":""},"","",null,null,null,null,null,null,null,null,null,null,null,null,null,null,null,{"$f":"IF(COUNTIF($AI$5:AI633,AI633)=1,AI633,\"\")","v":""},{"$f":"IF(AI633=\"\",\"\",IF(COUNTIF($AX$5:AX633,AX633)=1,AX633,\"\"))","v":""},"",null,"",null,"",null,null,null,""]
[null,null,null,null,null,null,null,null,null,null,null,"削除","","","","","","","","","",{"$f":"IF(B634=\"\",\"\",IF(COUNTIF($U$4:U634,U634)=1,\"\",\"重複\"))","v":""},"","",null,null,null,null,null,null,null,null,null,null,null,null,null,null,null,{"$f":"IF(COUNTIF($AI$5:AI634,AI634)=1,AI634,\"\")","v":""},{"$f":"IF(AI634=\"\",\"\",IF(COUNTIF($AX$5:AX634,AX634)=1,AX634,\"\"))","v":""},"",null,"",null,"",null,null,null,""]
[null,null,null,null,null,null,null,null,null,null,null,"削除","","","","","","","","","",{"$f":"IF(B635=\"\",\"\",IF(COUNTIF($U$4:U635,U635)=1,\"\",\"重複\"))","v":""},"","",null,null,null,null,null,null,null,null,null,null,null,null,null,null,null,{"$f":"IF(COUNTIF($AI$5:AI635,AI635)=1,AI635,\"\")","v":""},{"$f":"IF(AI635=\"\",\"\",IF(COUNTIF($AX$5:AX635,AX635)=1,AX635,\"\"))","v":""},"",null,"",null,"",null,null,null,""]
[null,null,null,null,null,null,null,null,null,null,null,"削除","","","","","","","","","",{"$f":"IF(B636=\"\",\"\",IF(COUNTIF($U$4:U636,U636)=1,\"\",\"重複\"))","v":""},"","",null,null,null,null,null,null,null,null,null,null,null,null,null,null,null,{"$f":"IF(COUNTIF($AI$5:AI636,AI636)=1,AI636,\"\")","v":""},{"$f":"IF(AI636=\"\",\"\",IF(COUNTIF($AX$5:AX636,AX636)=1,AX636,\"\"))","v":""},"",null,"",null,"",null,null,null,""]
[null,null,null,null,null,null,null,null,null,null,null,"削除","","","","","","","","","",{"$f":"IF(B637=\"\",\"\",IF(COUNTIF($U$4:U637,U637)=1,\"\",\"重複\"))","v":""},"","",null,null,null,null,null,null,null,null,null,null,null,null,null,null,null,{"$f":"IF(COUNTIF($AI$5:AI637,AI637)=1,AI637,\"\")","v":""},{"$f":"IF(AI637=\"\",\"\",IF(COUNTIF($AX$5:AX637,AX637)=1,AX637,\"\"))","v":""},"",null,"",null,"",null,null,null,""]
[null,null,null,null,null,null,null,null,null,null,null,"削除","","","","","","","","","",{"$f":"IF(B638=\"\",\"\",IF(COUNTIF($U$4:U638,U638)=1,\"\",\"重複\"))","v":""},"","",null,null,null,null,null,null,null,null,null,null,null,null,null,null,null,{"$f":"IF(COUNTIF($AI$5:AI638,AI638)=1,AI638,\"\")","v":""},{"$f":"IF(AI638=\"\",\"\",IF(COUNTIF($AX$5:AX638,AX638)=1,AX638,\"\"))","v":""},"",null,"",null,"",null,null,null,""]
[null,null,null,null,null,null,null,null,null,null,null,"削除","","","","","","","","","",{"$f":"IF(B639=\"\",\"\",IF(COUNTIF($U$4:U639,U639)=1,\"\",\"重複\"))","v":""},"","",null,null,null,null,null,null,null,null,null,null,null,null,null,null,null,{"$f":"IF(COUNTIF($AI$5:AI639,AI639)=1,AI639,\"\")","v":""},{"$f":"IF(AI639=\"\",\"\",IF(COUNTIF($AX$5:AX639,AX639)=1,AX639,\"\"))","v":""},"",null,"",null,"",null,null,null,""]
[null,null,null,null,null,null,null,null,null,null,null,"削除","","","","","","","","","",{"$f":"IF(B640=\"\",\"\",IF(COUNTIF($U$4:U640,U640)=1,\"\",\"重複\"))","v":""},"","",null,null,null,null,null,null,null,null,null,null,null,null,null,null,null,{"$f":"IF(COUNTIF($AI$5:AI640,AI640)=1,AI640,\"\")","v":""},{"$f":"IF(AI640=\"\",\"\",IF(COUNTIF($AX$5:AX640,AX640)=1,AX640,\"\"))","v":""},"",null,"",null,"",null,null,null,""]
[null,null,null,null,null,null,null,null,null,null,null,"削除","","","","","","","","","",{"$f":"IF(B641=\"\",\"\",IF(COUNTIF($U$4:U641,U641)=1,\"\",\"重複\"))","v":""},"","",null,null,null,null,null,null,null,null,null,null,null,null,null,null,null,{"$f":"IF(COUNTIF($AI$5:AI641,AI641)=1,AI641,\"\")","v":""},{"$f":"IF(AI641=\"\",\"\",IF(COUNTIF($AX$5:AX641,AX641)=1,AX641,\"\"))","v":""},"",null,"",null,"",null,null,null,""]
[null,null,null,null,null,null,null,null,null,null,null,"削除","","","","","","","","","",{"$f":"IF(B642=\"\",\"\",IF(COUNTIF($U$4:U642,U642)=1,\"\",\"重複\"))","v":""},"","",null,null,null,null,null,null,null,null,null,null,null,null,null,null,null,{"$f":"IF(COUNTIF($AI$5:AI642,AI642)=1,AI642,\"\")","v":""},{"$f":"IF(AI642=\"\",\"\",IF(COUNTIF($AX$5:AX642,AX642)=1,AX642,\"\"))","v":""},"",null,"",null,"",null,null,null,""]
[null,null,null,null,null,null,null,null,null,null,null,"削除","","","","","","","","","",{"$f":"IF(B643=\"\",\"\",IF(COUNTIF($U$4:U643,U643)=1,\"\",\"重複\"))","v":""},"","",null,null,null,null,null,null,null,null,null,null,null,null,null,null,null,{"$f":"IF(COUNTIF($AI$5:AI643,AI643)=1,AI643,\"\")","v":""},{"$f":"IF(AI643=\"\",\"\",IF(COUNTIF($AX$5:AX643,AX643)=1,AX643,\"\"))","v":""},"",null,"",null,"",null,null,null,""]
[null,null,null,null,null,null,null,null,null,null,null,"削除","","","","","","","","","",{"$f":"IF(B644=\"\",\"\",IF(COUNTIF($U$4:U644,U644)=1,\"\",\"重複\"))","v":""},"",{"$f":"IF(B644=\"\",\"\",IF(LEFT(G644,3)=\"144\",IF(LEFT(H644,3)=\"SSB\",\"\",IF(LEFT(H644,3)=\"A3J\",\"\",IF(LEFT(H644,3)=\"J3E\",\"\",\"形式外\"))),\"形式外\"))","v":""},null,null,null,null,null,null,null,null,null,null,null,null,null,null,null,{"$f":"IF(COUNTIF($AI$5:AI644,AI644)=1,AI644,\"\")","v":""},{"$f":"IF(AI644=\"\",\"\",IF(COUNTIF($AX$5:AX644,AX644)=1,AX644,\"\"))","v":""},"",null,"",null,"",null,null,null,""]
[null,null,null,null,null,null,null,null,null,null,null,{"$f":"IF(B645=\"\",\"削除\",IF(OR(V645=\"重複\",W645=\"削除\",X645=\"形式外\"),\"削除\",1))","v":"削除"},{"$f":"IF(L645=\"削除\",\"\",C645)","v":""},{"$f":"IF(L645=\"削除\",\"\",D645)","v":""},{"$f":"IF(L645=\"削除\",\"\",B645)","v":""},{"$f":"IF(L645=\"削除\",\"\",E645)","v":""},{"$f":"IF(L645=\"削除\",\"\",F645)","v":""},{"$f":"IF(L645=\"削除\",\"\",I645)","v":""},{"$f":"IF(L645=\"削除\",\"\",IF(J645=\"\",\"\",J645))","v":""},{"$f":"IF(B645=\"\",\"\",LEFT(B645,FIND(\"/\",B645&\"/\")-1))","v":""},{"$f":"IF(B645=\"\",\"\",T645&\"/\"&H645)","v":""},{"$f":"IF(B645=\"\",\"\",IF(COUNTIF($U$4:U645,U645)=1,\"\",\"重複\"))","v":""},{"$f":"IF(B645=\"\",\"\",IF(LEFT(T645,1)=\"8\",\"削除\",IF(LEN(T645)=5,IF(MID(T645,4,2)=\"RL\",\"削除\",\"\"),IF(MID(T645,4,1)=\"Y\",\"削除\",IF(MID(T645,4,1)=\"Z\",\"削除\",\"\")))))","v":""},"",null,null,null,null,null,null,null,null,null,null,null,null,null,null,null,{"$f":"IF(COUNTIF($AI$5:AI645,AI645)=1,AI645,\"\")","v":""},{"$f":"IF(AI645=\"\",\"\",IF(COUNTIF($AX$5:AX645,AX645)=1,AX645,\"\"))","v":""},"",null,"",null,"",null,null,null,""]
[null,null,null,null,null,null,null,null,null,null,null,"削除","","","","","","","","","",{"$f":"IF(B646=\"\",\"\",IF(COUNTIF($U$4:U646,U646)=1,\"\",\"重複\"))","v":""},"","",null,null,null,null,null,null,null,null,null,null,null,null,null,null,null,{"$f":"IF(COUNTIF($AI$5:AI646,AI646)=1,AI646,\"\")","v":""},{"$f":"IF(AI646=\"\",\"\",IF(COUNTIF($AX$5:AX646,AX646)=1,AX646,\"\"))","v":""},{"$f":"IF(AK646=\"\",\"\",IF(COUNTIF($BN$5:$BN$304,AT646)=1,5,1))","v":""},null,{"$f":"IF(COUNTIF($BN$5:$BN$40,AT646)=1,\"M\",\"\")","v":""},null,{"$f":"LEFT(AK646&\"/\",FIND(\"/\",AK646&\"/\")-1)","v":""},null,null,null,{"$f":"RIGHT(AT646,1)","v":""}]
[null,null,null,null,null,null,null,null,null,null,null,"削除","","","","","","","","","",{"$f":"IF(B647=\"\",\"\",IF(COUNTIF($U$4:U647,U647)=1,\"\",\"重複\"))","v":""},"","",null,null,null,null,null,null,null,null,null,null,null,null,null,null,null,{"$f":"IF(COUNTIF($AI$5:AI647,AI647)=1,AI647,\"\")","v":""},{"$f":"IF(AI647=\"\",\"\",IF(COUNTIF($AX$5:AX647,AX647)=1,AX647,\"\"))","v":""},"",null,"",null,"",null,null,null,""]
[null,null,null,null,null,null,null,null,null,null,null,"削除","","","","","","","","","",{"$f":"IF(B648=\"\",\"\",IF(COUNTIF($U$4:U648,U648)=1,\"\",\"重複\"))","v":""},"","",null,null,null,null,null,null,null,null,null,null,null,null,null,null,null,{"$f":"IF(COUNTIF($AI$5:AI648,AI648)=1,AI648,\"\")","v":""},{"$f":"IF(AI648=\"\",\"\",IF(COUNTIF($AX$5:AX648,AX648)=1,AX648,\"\"))","v":""},"",null,"",null,"",null,null,null,""]
[null,null,null,null,null,null,null,null,null,null,null,"削除","","","","","","","","","",{"$f":"IF(B649=\"\",\"\",IF(COUNTIF($U$4:U649,U649)=1,\"\",\"重複\"))","v":""},"","",null,null,null,null,null,null,null,null,null,null,null,null,null,null,null,{"$f":"IF(COUNTIF($AI$5:AI649,AI649)=1,AI649,\"\")","v":""},{"$f":"IF(AI649=\"\",\"\",IF(COUNTIF($AX$5:AX649,AX649)=1,AX649,\"\"))","v":""},"",null,"",null,"",null,null,null,""]
[null,null,null,null,null,null,null,null,null,null,null,"削除","","","","","","","","","",{"$f":"IF(B650=\"\",\"\",IF(COUNTIF($U$4:U650,U650)=1,\"\",\"重複\"))","v":""},"","",null,null,null,null,null,null,null,null,null,null,null,null,null,null,null,{"$f":"IF(COUNTIF($AI$5:AI650,AI650)=1,AI650,\"\")","v":""},{"$f":"IF(AI650=\"\",\"\",IF(COUNTIF($AX$5:AX650,AX650)=1,AX650,\"\"))","v":""},"",null,"",null,"",null,null,null,""]
[null,null,null,null,null,null,null,null,null,null,null,"削除","","","","","","","","","",{"$f":"IF(B651=\"\",\"\",IF(COUNTIF($U$4:U651,U651)=1,\"\",\"重複\"))","v":""},"","",null,null,null,null,null,null,null,null,null,null,null,null,null,null,null,{"$f":"IF(COUNTIF($AI$5:AI651,AI651)=1,AI651,\"\")","v":""},{"$f":"IF(AI651=\"\",\"\",IF(COUNTIF($AX$5:AX651,AX651)=1,AX651,\"\"))","v":""},"",null,"",null,"",null,null,null,""]
[null,null,null,null,null,null,null,null,null,null,null,"削除","","","","","","","","","",{"$f":"IF(B652=\"\",\"\",IF(COUNTIF($U$4:U652,U652)=1,\"\",\"重複\"))","v":""},"","",null,null,null,null,null,null,null,null,null,null,null,null,null,null,null,{"$f":"IF(COUNTIF($AI$5:AI652,AI652)=1,AI652,\"\")","v":""},{"$f":"IF(AI652=\"\",\"\",IF(COUNTIF($AX$5:AX652,AX652)=1,AX652,\"\"))","v":""},"",null,"",null,"",null,null,null,""]
[null,null,null,null,null,null,null,null,null,null,null,"削除","","","","","","","","","",{"$f":"IF(B653=\"\",\"\",IF(COUNTIF($U$4:U653,U653)=1,\"\",\"重複\"))","v":""},"","",null,null,null,null,null,null,null,null,null,null,null,null,null,null,null,{"$f":"IF(COUNTIF($AI$5:AI653,AI653)=1,AI653,\"\")","v":""},{"$f":"IF(AI653=\"\",\"\",IF(COUNTIF($AX$5:AX653,AX653)=1,AX653,\"\"))","v":""},"",null,"",null,"",null,null,null,""]
[null,null,null,null,null,null,null,null,null,null,null,"削除","","","","","","","","","",{"$f":"IF(B654=\"\",\"\",IF(COUNTIF($U$4:U654,U654)=1,\"\",\"重複\"))","v":""},"","",null,null,null,null,null,null,null,null,null,null,null,null,null,null,null,{"$f":"IF(COUNTIF($AI$5:AI654,AI654)=1,AI654,\"\")","v":""},{"$f":"IF(AI654=\"\",\"\",IF(COUNTIF($AX$5:AX654,AX654)=1,AX654,\"\"))","v":""},"",null,"",null,"",null,null,null,""]
[null,null,null,null,null,null,null,null,null,null,null,"削除","","","","","","","","","",{"$f":"IF(B655=\"\",\"\",IF(COUNTIF($U$4:U655,U655)=1,\"\",\"重複\"))","v":""},"","",null,null,null,null,null,null,null,null,null,null,null,null,null,null,null,{"$f":"IF(COUNTIF($AI$5:AI655,AI655)=1,AI655,\"\")","v":""},{"$f":"IF(AI655=\"\",\"\",IF(COUNTIF($AX$5:AX655,AX655)=1,AX655,\"\"))","v":""},"",null,"",null,"",null,null,null,""]
[null,null,null,null,null,null,null,null,null,null,null,"削除","","","","","","","","","",{"$f":"IF(B656=\"\",\"\",IF(COUNTIF($U$4:U656,U656)=1,\"\",\"重複\"))","v":""},"","",null,null,null,null,null,null,null,null,null,null,null,null,null,null,null,{"$f":"IF(COUNTIF($AI$5:AI656,AI656)=1,AI656,\"\")","v":""},{"$f":"IF(AI656=\"\",\"\",IF(COUNTIF($AX$5:AX656,AX656)=1,AX656,\"\"))","v":""},"",null,"",null,"",null,null,null,""]
[null,null,null,null,null,null,null,null,null,null,null,"削除","","","","","","","","","",{"$f":"IF(B657=\"\",\"\",IF(COUNTIF($U$4:U657,U657)=1,\"\",\"重複\"))","v":""},"","",null,null,null,null,null,null,null,null,null,null,null,null,null,null,null,{"$f":"IF(COUNTIF($AI$5:AI657,AI657)=1,AI657,\"\")","v":""},{"$f":"IF(AI657=\"\",\"\",IF(COUNTIF($AX$5:AX657,AX657)=1,AX657,\"\"))","v":""},"",null,"",null,"",null,null,null,""]
[null,null,null,null,null,null,null,null,null,null,null,"削除","","","","","","","","","",{"$f":"IF(B658=\"\",\"\",IF(COUNTIF($U$4:U658,U658)=1,\"\",\"重複\"))","v":""},"","",null,null,null,null,null,null,null,null,null,null,null,null,null,null,null,{"$f":"IF(COUNTIF($AI$5:AI658,AI658)=1,AI658,\"\")","v":""},{"$f":"IF(AI658=\"\",\"\",IF(COUNTIF($AX$5:AX658,AX658)=1,AX658,\"\"))","v":""},"",null,"",null,"",null,null,null,""]
[null,null,null,null,null,null,null,null,null,null,null,"削除","","","","","","","","","",{"$f":"IF(B659=\"\",\"\",IF(COUNTIF($U$4:U659,U659)=1,\"\",\"重複\"))","v":""},"","",null,null,null,null,null,null,null,null,null,null,null,null,null,null,null,{"$f":"IF(COUNTIF($AI$5:AI659,AI659)=1,AI659,\"\")","v":""},{"$f":"IF(AI659=\"\",\"\",IF(COUNTIF($AX$5:AX659,AX659)=1,AX659,\"\"))","v":""},"",null,"",null,"",null,null,null,""]
[null,null,null,null,null,null,null,null,null,null,null,"削除","","","","","","","","","",{"$f":"IF(B660=\"\",\"\",IF(COUNTIF($U$4:U660,U660)=1,\"\",\"重複\"))","v":""},"","",null,null,null,null,null,null,null,null,null,null,null,null,null,null,null,{"$f":"IF(COUNTIF($AI$5:AI660,AI660)=1,AI660,\"\")","v":""},{"$f":"IF(AI660=\"\",\"\",IF(COUNTIF($AX$5:AX660,AX660)=1,AX660,\"\"))","v":""},"",null,"",null,"",null,null,null,""]
[null,null,null,null,null,null,null,null,null,null,null,"削除","","","","","","","","","",{"$f":"IF(B661=\"\",\"\",IF(COUNTIF($U$4:U661,U661)=1,\"\",\"重複\"))","v":""},"","",null,null,null,null,null,null,null,null,null,null,null,null,null,null,null,{"$f":"IF(COUNTIF($AI$5:AI661,AI661)=1,AI661,\"\")","v":""},{"$f":"IF(AI661=\"\",\"\",IF(COUNTIF($AX$5:AX661,AX661)=1,AX661,\"\"))","v":""},"",null,"",null,"",null,null,null,""]
[null,null,null,null,null,null,null,null,null,null,null,"削除","","","","","","","","","",{"$f":"IF(B662=\"\",\"\",IF(COUNTIF($U$4:U662,U662)=1,\"\",\"重複\"))","v":""},"","",null,null,null,null,null,null,null,null,null,null,null,null,null,null,null,{"$f":"IF(COUNTIF($AI$5:AI662,AI662)=1,AI662,\"\")","v":""},{"$f":"IF(AI662=\"\",\"\",IF(COUNTIF($AX$5:AX662,AX662)=1,AX662,\"\"))","v":""},"",null,"",null,"",null,null,null,""]
[null,null,null,null,null,null,null,null,null,null,null,"削除","","","","","","","","","",{"$f":"IF(B663=\"\",\"\",IF(COUNTIF($U$4:U663,U663)=1,\"\",\"重複\"))","v":""},"","",null,null,null,null,null,null,null,null,null,null,null,null,null,null,null,{"$f":"IF(COUNTIF($AI$5:AI663,AI663)=1,AI663,\"\")","v":""},{"$f":"IF(AI663=\"\",\"\",IF(COUNTIF($AX$5:AX663,AX663)=1,AX663,\"\"))","v":""},"",null,"",null,"",null,null,null,""]
[null,null,null,null,null,null,null,null,null,null,null,"削除","","","","","","","","","",{"$f":"IF(B664=\"\",\"\",IF(COUNTIF($U$4:U664,U664)=1,\"\",\"重複\"))","v":""},"","",null,null,null,null,null,null,null,null,null,null,null,null,null,null,null,{"$f":"IF(COUNTIF($AI$5:AI664,AI664)=1,AI664,\"\")","v":""},{"$f":"IF(AI664=\"\",\"\",IF(COUNTIF($AX$5:AX664,AX664)=1,AX664,\"\"))","v":""},"",null,"",null,"",null,null,null,""]
[null,null,null,null,null,null,null,null,null,null,null,"削除","","","","","","","","","",{"$f":"IF(B665=\"\",\"\",IF(COUNTIF($U$4:U665,U665)=1,\"\",\"重複\"))","v":""},"","",null,null,null,null,null,null,null,null,null,null,null,null,null,null,null,{"$f":"IF(COUNTIF($AI$5:AI665,AI665)=1,AI665,\"\")","v":""},{"$f":"IF(AI665=\"\",\"\",IF(COUNTIF($AX$5:AX665,AX665)=1,AX665,\"\"))","v":""},"",null,"",null,"",null,null,null,""]
[null,null,null,null,null,null,null,null,null,null,null,"削除","","","","","","","","","",{"$f":"IF(B666=\"\",\"\",IF(COUNTIF($U$4:U666,U666)=1,\"\",\"重複\"))","v":""},"","",null,null,null,null,null,null,null,null,null,null,null,null,null,null,null,{"$f":"IF(COUNTIF($AI$5:AI666,AI666)=1,AI666,\"\")","v":""},{"$f":"IF(AI666=\"\",\"\",IF(COUNTIF($AX$5:AX666,AX666)=1,AX666,\"\"))","v":""},"",null,"",null,"",null,null,null,""]
[null,null,null,null,null,null,null,null,null,null,null,"削除","","","","","","","","","",{"$f":"IF(B667=\"\",\"\",IF(COUNTIF($U$4:U667,U667)=1,\"\",\"重複\"))","v":""},"","",null,null,null,null,null,null,null,null,null,null,null,null,null,null,null,{"$f":"IF(COUNTIF($AI$5:AI667,AI667)=1,AI667,\"\")","v":""},{"$f":"IF(AI667=\"\",\"\",IF(COUNTIF($AX$5:AX667,AX667)=1,AX667,\"\"))","v":""},"",null,"",null,"",null,null,null,""]
[null,null,null,null,null,null,null,null,null,null,null,"削除","","","","","","","","","",{"$f":"IF(B668=\"\",\"\",IF(COUNTIF($U$4:U668,U668)=1,\"\",\"重複\"))","v":""},"","",null,null,null,null,null,null,null,null,null,null,null,null,null,null,null,{"$f":"IF(COUNTIF($AI$5:AI668,AI668)=1,AI668,\"\")","v":""},{"$f":"IF(AI668=\"\",\"\",IF(COUNTIF($AX$5:AX668,AX668)=1,AX668,\"\"))","v":""},"",null,"",null,"",null,null,null,""]
[null,null,null,null,null,null,null,null,null,null,null,"削除","","","","","","","","","",{"$f":"IF(B669=\"\",\"\",IF(COUNTIF($U$4:U669,U669)=1,\"\",\"重複\"))","v":""},"","",null,null,null,null,null,null,null,null,null,null,null,null,null,null,null,{"$f":"IF(COUNTIF($AI$5:AI669,AI669)=1,AI669,\"\")","v":""},{"$f":"IF(AI669=\"\",\"\",IF(COUNTIF($AX$5:AX669,AX669)=1,AX669,\"\"))","v":""},"",null,"",null,"",null,null,null,""]
[null,null,null,null,null,null,null,null,null,null,null,"削除","","","","","","","","","",{"$f":"IF(B670=\"\",\"\",IF(COUNTIF($U$4:U670,U670)=1,\"\",\"重複\"))","v":""},"","",null,null,null,null,null,null,null,null,null,null,null,null,null,null,null,{"$f":"IF(COUNTIF($AI$5:AI670,AI670)=1,AI670,\"\")","v":""},{"$f":"IF(AI670=\"\",\"\",IF(COUNTIF($AX$5:AX670,AX670)=1,AX670,\"\"))","v":""},"",null,"",null,"",null,null,null,""]
[null,null,null,null,null,null,null,null,null,null,null,"削除","","","","","","","","","",{"$f":"IF(B671=\"\",\"\",IF(COUNTIF($U$4:U671,U671)=1,\"\",\"重複\"))","v":""},"","",null,null,null,null,null,null,null,null,null,null,null,null,null,null,null,{"$f":"IF(COUNTIF($AI$5:AI671,AI671)=1,AI671,\"\")","v":""},{"$f":"IF(AI671=\"\",\"\",IF(COUNTIF($AX$5:AX671,AX671)=1,AX671,\"\"))","v":""},"",null,"",null,"",null,null,null,""]
[null,null,null,null,null,null,null,null,null,null,null,"削除","","","","","","","","","",{"$f":"IF(B672=\"\",\"\",IF(COUNTIF($U$4:U672,U672)=1,\"\",\"重複\"))","v":""},"","",null,null,null,null,null,null,null,null,null,null,null,null,null,null,null,{"$f":"IF(COUNTIF($AI$5:AI672,AI672)=1,AI672,\"\")","v":""},{"$f":"IF(AI672=\"\",\"\",IF(COUNTIF($AX$5:AX672,AX672)=1,AX672,\"\"))","v":""},"",null,"",null,"",null,null,null,""]
[null,null,null,null,null,null,null,null,null,null,null,"削除","","","","","","","","","",{"$f":"IF(B673=\"\",\"\",IF(COUNTIF($U$4:U673,U673)=1,\"\",\"重複\"))","v":""},"","",null,null,null,null,null,null,null,null,null,null,null,null,null,null,null,{"$f":"IF(COUNTIF($AI$5:AI673,AI673)=1,AI673,\"\")","v":""},{"$f":"IF(AI673=\"\",\"\",IF(COUNTIF($AX$5:AX673,AX673)=1,AX673,\"\"))","v":""},"",null,"",null,"",null,null,null,""]
[null,null,null,null,null,null,null,null,null,null,null,"削除","","","","","","","","","",{"$f":"IF(B674=\"\",\"\",IF(COUNTIF($U$4:U674,U674)=1,\"\",\"重複\"))","v":""},"","",null,null,null,null,null,null,null,null,null,null,null,null,null,null,null,{"$f":"IF(COUNTIF($AI$5:AI674,AI674)=1,AI674,\"\")","v":""},{"$f":"IF(AI674=\"\",\"\",IF(COUNTIF($AX$5:AX674,AX674)=1,AX674,\"\"))","v":""},"",null,"",null,"",null,null,null,""]
[null,null,null,null,null,null,null,null,null,null,null,"削除","","","","","","","","","",{"$f":"IF(B675=\"\",\"\",IF(COUNTIF($U$4:U675,U675)=1,\"\",\"重複\"))","v":""},"","",null,null,null,null,null,null,null,null,null,null,null,null,null,null,null,{"$f":"IF(COUNTIF($AI$5:AI675,AI675)=1,AI675,\"\")","v":""},{"$f":"IF(AI675=\"\",\"\",IF(COUNTIF($AX$5:AX675,AX675)=1,AX675,\"\"))","v":""},"",null,"",null,"",null,null,null,""]
[null,null,null,null,null,null,null,null,null,null,null,"削除","","","","","","","","","",{"$f":"IF(B676=\"\",\"\",IF(COUNTIF($U$4:U676,U676)=1,\"\",\"重複\"))","v":""},"","",null,null,null,null,null,null,null,null,null,null,null,null,null,null,null,{"$f":"IF(COUNTIF($AI$5:AI676,AI676)=1,AI676,\"\")","v":""},{"$f":"IF(AI676=\"\",\"\",IF(COUNTIF($AX$5:AX676,AX676)=1,AX676,\"\"))","v":""},"",null,"",null,"",null,null,null,""]
[null,null,null,null,null,null,null,null,null,null,null,"削除","","","","","","","","","",{"$f":"IF(B677=\"\",\"\",IF(COUNTIF($U$4:U677,U677)=1,\"\",\"重複\"))","v":""},"","",null,null,null,null,null,null,null,null,null,null,null,null,null,null,null,{"$f":"IF(COUNTIF($AI$5:AI677,AI677)=1,AI677,\"\")","v":""},{"$f":"IF(AI677=\"\",\"\",IF(COUNTIF($AX$5:AX677,AX677)=1,AX677,\"\"))","v":""},"",null,"",null,"",null,null,null,""]
[null,null,null,null,null,null,null,null,null,null,null,"削除","","","","","","","","","",{"$f":"IF(B678=\"\",\"\",IF(COUNTIF($U$4:U678,U678)=1,\"\",\"重複\"))","v":""},"","",null,null,null,null,null,null,null,null,null,null,null,null,null,null,null,{"$f":"IF(COUNTIF($AI$5:AI678,AI678)=1,AI678,\"\")","v":""},{"$f":"IF(AI678=\"\",\"\",IF(COUNTIF($AX$5:AX678,AX678)=1,AX678,\"\"))","v":""},"",null,"",null,"",null,null,null,""]
[null,null,null,null,null,null,null,null,null,null,null,"削除","","","","","","","","","",{"$f":"IF(B679=\"\",\"\",IF(COUNTIF($U$4:U679,U679)=1,\"\",\"重複\"))","v":""},"","",null,null,null,null,null,null,null,null,null,null,null,null,null,null,null,{"$f":"IF(COUNTIF($AI$5:AI679,AI679)=1,AI679,\"\")","v":""},{"$f":"IF(AI679=\"\",\"\",IF(COUNTIF($AX$5:AX679,AX679)=1,AX679,\"\"))","v":""},"",null,"",null,"",null,null,null,""]
[null,null,null,null,null,null,null,null,null,null,null,"削除","","","","","","","","","",{"$f":"IF(B680=\"\",\"\",IF(COUNTIF($U$4:U680,U680)=1,\"\",\"重複\"))","v":""},"","",null,null,null,null,null,null,null,null,null,null,null,null,null,null,null,{"$f":"IF(COUNTIF($AI$5:AI680,AI680)=1,AI680,\"\")","v":""},{"$f":"IF(AI680=\"\",\"\",IF(COUNTIF($AX$5:AX680,AX680)=1,AX680,\"\"))","v":""},"",null,"",null,"",null,null,null,""]
[null,null,null,null,null,null,null,null,null,null,null,"削除","","","","","","","","","",{"$f":"IF(B681=\"\",\"\",IF(COUNTIF($U$4:U681,U681)=1,\"\",\"重複\"))","v":""},"","",null,null,null,null,null,null,null,null,null,null,null,null,null,null,null,{"$f":"IF(COUNTIF($AI$5:AI681,AI681)=1,AI681,\"\")","v":""},{"$f":"IF(AI681=\"\",\"\",IF(COUNTIF($AX$5:AX681,AX681)=1,AX681,\"\"))","v":""},"",null,"",null,"",null,null,null,""]
[null,null,null,null,null,null,null,null,null,null,null,"削除","","","","","","","","","",{"$f":"IF(B682=\"\",\"\",IF(COUNTIF($U$4:U682,U682)=1,\"\",\"重複\"))","v":""},"","",null,null,null,null,null,null,null,null,null,null,null,null,null,null,null,{"$f":"IF(COUNTIF($AI$5:AI682,AI682)=1,AI682,\"\")","v":""},{"$f":"IF(AI682=\"\",\"\",IF(COUNTIF($AX$5:AX682,AX682)=1,AX682,\"\"))","v":""},"",null,"",null,"",null,null,null,""]
[null,null,null,null,null,null,null,null,null,null,null,"削除","","","","","","","","","",{"$f":"IF(B683=\"\",\"\",IF(COUNTIF($U$4:U683,U683)=1,\"\",\"重複\"))","v":""},"","",null,null,null,null,null,null,null,null,null,null,null,null,null,null,null,{"$f":"IF(COUNTIF($AI$5:AI683,AI683)=1,AI683,\"\")","v":""},{"$f":"IF(AI683=\"\",\"\",IF(COUNTIF($AX$5:AX683,AX683)=1,AX683,\"\"))","v":""},"",null,"",null,"",null,null,null,""]
[null,null,null,null,null,null,null,null,null,null,null,"削除","","","","","","","","","",{"$f":"IF(B684=\"\",\"\",IF(COUNTIF($U$4:U684,U684)=1,\"\",\"重複\"))","v":""},"","",null,null,null,null,null,null,null,null,null,null,null,null,null,null,null,{"$f":"IF(COUNTIF($AI$5:AI684,AI684)=1,AI684,\"\")","v":""},{"$f":"IF(AI684=\"\",\"\",IF(COUNTIF($AX$5:AX684,AX684)=1,AX684,\"\"))","v":""},"",null,"",null,"",null,null,null,""]
[null,null,null,null,null,null,null,null,null,null,null,"削除","","","","","","","","","",{"$f":"IF(B685=\"\",\"\",IF(COUNTIF($U$4:U685,U685)=1,\"\",\"重複\"))","v":""},"","",null,null,null,null,null,null,null,null,null,null,null,null,null,null,null,{"$f":"IF(COUNTIF($AI$5:AI685,AI685)=1,AI685,\"\")","v":""},{"$f":"IF(AI685=\"\",\"\",IF(COUNTIF($AX$5:AX685,AX685)=1,AX685,\"\"))","v":""},"",null,"",null,"",null,null,null,""]
[null,null,null,null,null,null,null,null,null,null,null,"削除","","","","","","","","","",{"$f":"IF(B686=\"\",\"\",IF(COUNTIF($U$4:U686,U686)=1,\"\",\"重複\"))","v":""},"","",null,null,null,null,null,null,null,null,null,null,null,null,null,null,null,{"$f":"IF(COUNTIF($AI$5:AI686,AI686)=1,AI686,\"\")","v":""},{"$f":"IF(AI686=\"\",\"\",IF(COUNTIF($AX$5:AX686,AX686)=1,AX686,\"\"))","v":""},"",null,"",null,"",null,null,null,""]
[null,null,null,null,null,null,null,null,null,null,null,"削除","","","","","","","","","",{"$f":"IF(B687=\"\",\"\",IF(COUNTIF($U$4:U687,U687)=1,\"\",\"重複\"))","v":""},"","",null,null,null,null,null,null,null,null,null,null,null,null,null,null,null,{"$f":"IF(COUNTIF($AI$5:AI687,AI687)=1,AI687,\"\")","v":""},{"$f":"IF(AI687=\"\",\"\",IF(COUNTIF($AX$5:AX687,AX687)=1,AX687,\"\"))","v":""},"",null,"",null,"",null,null,null,""]
[null,null,null,null,null,null,null,null,null,null,null,"削除","","","","","","","","","",{"$f":"IF(B688=\"\",\"\",IF(COUNTIF($U$4:U688,U688)=1,\"\",\"重複\"))","v":""},"","",null,null,null,null,null,null,null,null,null,null,null,null,null,null,null,{"$f":"IF(COUNTIF($AI$5:AI688,AI688)=1,AI688,\"\")","v":""},{"$f":"IF(AI688=\"\",\"\",IF(COUNTIF($AX$5:AX688,AX688)=1,AX688,\"\"))","v":""},"",null,"",null,"",null,null,null,""]
[null,null,null,null,null,null,null,null,null,null,null,"削除","","","","","","","","","",{"$f":"IF(B689=\"\",\"\",IF(COUNTIF($U$4:U689,U689)=1,\"\",\"重複\"))","v":""},"","",null,null,null,null,null,null,null,null,null,null,null,null,null,null,null,{"$f":"IF(COUNTIF($AI$5:AI689,AI689)=1,AI689,\"\")","v":""},{"$f":"IF(AI689=\"\",\"\",IF(COUNTIF($AX$5:AX689,AX689)=1,AX689,\"\"))","v":""},"",null,"",null,"",null,null,null,""]
[null,null,null,null,null,null,null,null,null,null,null,"削除","","","","","","","","","",{"$f":"IF(B690=\"\",\"\",IF(COUNTIF($U$4:U690,U690)=1,\"\",\"重複\"))","v":""},"","",null,null,null,null,null,null,null,null,null,null,null,null,null,null,null,{"$f":"IF(COUNTIF($AI$5:AI690,AI690)=1,AI690,\"\")","v":""},{"$f":"IF(AI690=\"\",\"\",IF(COUNTIF($AX$5:AX690,AX690)=1,AX690,\"\"))","v":""},"",null,"",null,"",null,null,null,""]
[null,null,null,null,null,null,null,null,null,null,null,"削除","","","","","","","","","",{"$f":"IF(B691=\"\",\"\",IF(COUNTIF($U$4:U691,U691)=1,\"\",\"重複\"))","v":""},"","",null,null,null,null,null,null,null,null,null,null,null,null,null,null,null,{"$f":"IF(COUNTIF($AI$5:AI691,AI691)=1,AI691,\"\")","v":""},{"$f":"IF(AI691=\"\",\"\",IF(COUNTIF($AX$5:AX691,AX691)=1,AX691,\"\"))","v":""},"",null,"",null,"",null,null,null,""]
[null,null,null,null,null,null,null,null,null,null,null,"削除","","","","","","","","","",{"$f":"IF(B692=\"\",\"\",IF(COUNTIF($U$4:U692,U692)=1,\"\",\"重複\"))","v":""},"","",null,null,null,null,null,null,null,null,null,null,null,null,null,null,null,{"$f":"IF(COUNTIF($AI$5:AI692,AI692)=1,AI692,\"\")","v":""},{"$f":"IF(AI692=\"\",\"\",IF(COUNTIF($AX$5:AX692,AX692)=1,AX692,\"\"))","v":""},"",null,"",null,"",null,null,null,""]
[null,null,null,null,null,null,null,null,null,null,null,"削除","","","","","","","","","",{"$f":"IF(B693=\"\",\"\",IF(COUNTIF($U$4:U693,U693)=1,\"\",\"重複\"))","v":""},"","",null,null,null,null,null,null,null,null,null,null,null,null,null,null,null,{"$f":"IF(COUNTIF($AI$5:AI693,AI693)=1,AI693,\"\")","v":""},{"$f":"IF(AI693=\"\",\"\",IF(COUNTIF($AX$5:AX693,AX693)=1,AX693,\"\"))","v":""},"",null,"",null,"",null,null,null,""]
[null,null,null,null,null,null,null,null,null,null,null,"削除","","","","","","","","","",{"$f":"IF(B694=\"\",\"\",IF(COUNTIF($U$4:U694,U694)=1,\"\",\"重複\"))","v":""},"","",null,null,null,null,null,null,null,null,null,null,null,null,null,null,null,{"$f":"IF(COUNTIF($AI$5:AI694,AI694)=1,AI694,\"\")","v":""},{"$f":"IF(AI694=\"\",\"\",IF(COUNTIF($AX$5:AX694,AX694)=1,AX694,\"\"))","v":""},"",null,"",null,"",null,null,null,""]
[null,null,null,null,null,null,null,null,null,null,null,"削除","","","","","","","","","",{"$f":"IF(B695=\"\",\"\",IF(COUNTIF($U$4:U695,U695)=1,\"\",\"重複\"))","v":""},"","",null,null,null,null,null,null,null,null,null,null,null,null,null,null,null,{"$f":"IF(COUNTIF($AI$5:AI695,AI695)=1,AI695,\"\")","v":""},{"$f":"IF(AI695=\"\",\"\",IF(COUNTIF($AX$5:AX695,AX695)=1,AX695,\"\"))","v":""},"",null,"",null,"",null,null,null,""]
[null,null,null,null,null,null,null,null,null,null,null,"削除","","","","","","","","","",{"$f":"IF(B696=\"\",\"\",IF(COUNTIF($U$4:U696,U696)=1,\"\",\"重複\"))","v":""},"","",null,null,null,null,null,null,null,null,null,null,null,null,null,null,null,{"$f":"IF(COUNTIF($AI$5:AI696,AI696)=1,AI696,\"\")","v":""},{"$f":"IF(AI696=\"\",\"\",IF(COUNTIF($AX$5:AX696,AX696)=1,AX696,\"\"))","v":""},"",null,"",null,"",null,null,null,""]
[null,null,null,null,null,null,null,null,null,null,null,"削除","","","","","","","","","",{"$f":"IF(B697=\"\",\"\",IF(COUNTIF($U$4:U697,U697)=1,\"\",\"重複\"))","v":""},"","",null,null,null,null,null,null,null,null,null,null,null,null,null,null,null,{"$f":"IF(COUNTIF($AI$5:AI697,AI697)=1,AI697,\"\")","v":""},{"$f":"IF(AI697=\"\",\"\",IF(COUNTIF($AX$5:AX697,AX697)=1,AX697,\"\"))","v":""},"",null,"",null,"",null,null,null,""]
[null,null,null,null,null,null,null,null,null,null,null,"削除","","","","","","","","","",{"$f":"IF(B698=\"\",\"\",IF(COUNTIF($U$4:U698,U698)=1,\"\",\"重複\"))","v":""},"","",null,null,null,null,null,null,null,null,null,null,null,null,null,null,null,{"$f":"IF(COUNTIF($AI$5:AI698,AI698)=1,AI698,\"\")","v":""},{"$f":"IF(AI698=\"\",\"\",IF(COUNTIF($AX$5:AX698,AX698)=1,AX698,\"\"))","v":""},"",null,"",null,"",null,null,null,""]
[null,null,null,null,null,null,null,null,null,null,null,"削除","","","","","","","","","",{"$f":"IF(B699=\"\",\"\",IF(COUNTIF($U$4:U699,U699)=1,\"\",\"重複\"))","v":""},"","",null,null,null,null,null,null,null,null,null,null,null,null,null,null,null,{"$f":"IF(COUNTIF($AI$5:AI699,AI699)=1,AI699,\"\")","v":""},{"$f":"IF(AI699=\"\",\"\",IF(COUNTIF($AX$5:AX699,AX699)=1,AX699,\"\"))","v":""},"",null,"",null,"",null,null,null,""]
[null,null,null,null,null,null,null,null,null,null,null,"削除","","","","","","","","","",{"$f":"IF(B700=\"\",\"\",IF(COUNTIF($U$4:U700,U700)=1,\"\",\"重複\"))","v":""},"","",null,null,null,null,null,null,null,null,null,null,null,null,null,null,null,{"$f":"IF(COUNTIF($AI$5:AI700,AI700)=1,AI700,\"\")","v":""},{"$f":"IF(AI700=\"\",\"\",IF(COUNTIF($AX$5:AX700,AX700)=1,AX700,\"\"))","v":""},"",null,"",null,"",null,null,null,""]
[null,null,null,null,null,null,null,null,null,null,null,"削除","","","","","","","","","",{"$f":"IF(B701=\"\",\"\",IF(COUNTIF($U$4:U701,U701)=1,\"\",\"重複\"))","v":""},"","",null,null,null,null,null,null,null,null,null,null,null,null,null,null,null,{"$f":"IF(COUNTIF($AI$5:AI701,AI701)=1,AI701,\"\")","v":""},{"$f":"IF(AI701=\"\",\"\",IF(COUNTIF($AX$5:AX701,AX701)=1,AX701,\"\"))","v":""},"",null,"",null,"",null,null,null,""]
[null,null,null,null,null,null,null,null,null,null,null,"削除","","","","","","","","","",{"$f":"IF(B702=\"\",\"\",IF(COUNTIF($U$4:U702,U702)=1,\"\",\"重複\"))","v":""},"","",null,null,null,null,null,null,null,null,null,null,null,null,null,null,null,{"$f":"IF(COUNTIF($AI$5:AI702,AI702)=1,AI702,\"\")","v":""},{"$f":"IF(AI702=\"\",\"\",IF(COUNTIF($AX$5:AX702,AX702)=1,AX702,\"\"))","v":""},"",null,"",null,"",null,null,null,""]
[null,null,null,null,null,null,null,null,null,null,null,"削除","","","","","","","","","",{"$f":"IF(B703=\"\",\"\",IF(COUNTIF($U$4:U703,U703)=1,\"\",\"重複\"))","v":""},"","",null,null,null,null,null,null,null,null,null,null,null,null,null,null,null,{"$f":"IF(COUNTIF($AI$5:AI703,AI703)=1,AI703,\"\")","v":""},{"$f":"IF(AI703=\"\",\"\",IF(COUNTIF($AX$5:AX703,AX703)=1,AX703,\"\"))","v":""},"",null,"",null,"",null,null,null,""]
[null,null,null,null,null,null,null,null,null,null,null,"削除","","","","","","","","","",{"$f":"IF(B704=\"\",\"\",IF(COUNTIF($U$4:U704,U704)=1,\"\",\"重複\"))","v":""},"","",null,null,null,null,null,null,null,null,null,700,null,null,null,null,null,{"$f":"IF(COUNTIF($AI$5:AI704,AI704)=1,AI704,\"\")","v":""},{"$f":"IF(AI704=\"\",\"\",IF(COUNTIF($AX$5:AX704,AX704)=1,AX704,\"\"))","v":""},"",null,"",null,"",null,null,null,""]
[null,null,null,null,null,null,null,null,null,null,null,"削除","","","","","","","","","",{"$f":"IF(B705=\"\",\"\",IF(COUNTIF($U$4:U705,U705)=1,\"\",\"重複\"))","v":""},"","",null,null,null,null,null,null,null,null,null,null,null,null,null,null,null,{"$f":"IF(COUNTIF($AI$5:AI705,AI705)=1,AI705,\"\")","v":""},{"$f":"IF(AI705=\"\",\"\",IF(COUNTIF($AX$5:AX705,AX705)=1,AX705,\"\"))","v":""},"",null,"",null,"",null,null,null,""]
[null,null,null,null,null,null,null,null,null,null,null,"削除","","","","","","","","","",{"$f":"IF(B706=\"\",\"\",IF(COUNTIF($U$4:U706,U706)=1,\"\",\"重複\"))","v":""},"","",null,null,null,null,null,null,null,null,null,null,null,null,null,null,null,{"$f":"IF(COUNTIF($AI$5:AI706,AI706)=1,AI706,\"\")","v":""},{"$f":"IF(AI706=\"\",\"\",IF(COUNTIF($AX$5:AX706,AX706)=1,AX706,\"\"))","v":""},"",null,"",null,"",null,null,null,""]
[null,null,null,null,null,null,null,null,null,null,null,"削除","","","","","","","","","",{"$f":"IF(B707=\"\",\"\",IF(COUNTIF($U$4:U707,U707)=1,\"\",\"重複\"))","v":""},"","",null,null,null,null,null,null,null,null,null,null,null,null,null,null,null,{"$f":"IF(COUNTIF($AI$5:AI707,AI707)=1,AI707,\"\")","v":""},{"$f":"IF(AI707=\"\",\"\",IF(COUNTIF($AX$5:AX707,AX707)=1,AX707,\"\"))","v":""},"",null,"",null,"",null,null,null,""]
[null,null,null,null,null,null,null,null,null,null,null,"削除","","","","","","","","","",{"$f":"IF(B708=\"\",\"\",IF(COUNTIF($U$4:U708,U708)=1,\"\",\"重複\"))","v":""},"",{"$f":"IF(B708=\"\",\"\",IF(LEFT(G708,3)=\"144\",IF(LEFT(H708,3)=\"SSB\",\"\",IF(LEFT(H708,3)=\"A3J\",\"\",IF(LEFT(H708,3)=\"J3E\",\"\",\"形式外\"))),\"形式外\"))","v":""},null,null,null,null,null,null,null,null,null,null,null,null,null,null,null,{"$f":"IF(COUNTIF($AI$5:AI708,AI708)=1,AI708,\"\")","v":""},{"$f":"IF(AI708=\"\",\"\",IF(COUNTIF($AX$5:AX708,AX708)=1,AX708,\"\"))","v":""},"",null,"",null,"",null,null,null,""]
[null,null,null,null,null,null,null,null,null,null,null,{"$f":"IF(B709=\"\",\"削除\",IF(OR(V709=\"重複\",W709=\"削除\",X709=\"形式外\"),\"削除\",1))","v":"削除"},{"$f":"IF(L709=\"削除\",\"\",C709)","v":""},{"$f":"IF(L709=\"削除\",\"\",D709)","v":""},{"$f":"IF(L709=\"削除\",\"\",B709)","v":""},{"$f":"IF(L709=\"削除\",\"\",E709)","v":""},{"$f":"IF(L709=\"削除\",\"\",F709)","v":""},{"$f":"IF(L709=\"削除\",\"\",I709)","v":""},{"$f":"IF(L709=\"削除\",\"\",IF(J709=\"\",\"\",J709))","v":""},{"$f":"IF(B709=\"\",\"\",LEFT(B709,FIND(\"/\",B709&\"/\")-1))","v":""},{"$f":"IF(B709=\"\",\"\",T709&\"/\"&H709)","v":""},{"$f":"IF(B709=\"\",\"\",IF(COUNTIF($U$4:U709,U709)=1,\"\",\"重複\"))","v":""},{"$f":"IF(B709=\"\",\"\",IF(LEFT(T709,1)=\"8\",\"削除\",IF(LEN(T709)=5,IF(MID(T709,4,2)=\"RL\",\"削除\",\"\"),IF(MID(T709,4,1)=\"Y\",\"削除\",IF(MID(T709,4,1)=\"Z\",\"削除\",\"\")))))","v":""},"",null,null,null,null,null,null,null,null,null,null,null,null,null,null,null,{"$f":"IF(COUNTIF($AI$5:AI709,AI709)=1,AI709,\"\")","v":""},{"$f":"IF(AI709=\"\",\"\",IF(COUNTIF($AX$5:AX709,AX709)=1,AX709,\"\"))","v":""},"",null,"",null,"",null,null,null,""]
[null,null,null,null,null,null,null,null,null,null,null,"削除","","","","","","","","","",{"$f":"IF(B710=\"\",\"\",IF(COUNTIF($U$4:U710,U710)=1,\"\",\"重複\"))","v":""},"","",null,null,null,null,null,null,null,null,null,null,null,null,null,null,null,{"$f":"IF(COUNTIF($AI$5:AI710,AI710)=1,AI710,\"\")","v":""},{"$f":"IF(AI710=\"\",\"\",IF(COUNTIF($AX$5:AX710,AX710)=1,AX710,\"\"))","v":""},{"$f":"IF(AK710=\"\",\"\",IF(COUNTIF($BN$5:$BN$304,AT710)=1,5,1))","v":""},null,{"$f":"IF(COUNTIF($BN$5:$BN$40,AT710)=1,\"M\",\"\")","v":""},null,{"$f":"LEFT(AK710&\"/\",FIND(\"/\",AK710&\"/\")-1)","v":""},null,null,null,{"$f":"RIGHT(AT710,1)","v":""}]
[null,null,null,null,null,null,null,null,null,null,null,"削除","","","","","","","","","",{"$f":"IF(B711=\"\",\"\",IF(COUNTIF($U$4:U711,U711)=1,\"\",\"重複\"))","v":""},"","",null,null,null,null,null,null,null,null,null,null,null,null,null,null,null,{"$f":"IF(COUNTIF($AI$5:AI711,AI711)=1,AI711,\"\")","v":""},{"$f":"IF(AI711=\"\",\"\",IF(COUNTIF($AX$5:AX711,AX711)=1,AX711,\"\"))","v":""},"",null,"",null,"",null,null,null,""]
[null,null,null,null,null,null,null,null,null,null,null,"削除","","","","","","","","","",{"$f":"IF(B712=\"\",\"\",IF(COUNTIF($U$4:U712,U712)=1,\"\",\"重複\"))","v":""},"","",null,null,null,null,null,null,null,null,null,null,null,null,null,null,null,{"$f":"IF(COUNTIF($AI$5:AI712,AI712)=1,AI712,\"\")","v":""},{"$f":"IF(AI712=\"\",\"\",IF(COUNTIF($AX$5:AX712,AX712)=1,AX712,\"\"))","v":""},"",null,"",null,"",null,null,null,""]
[null,null,null,null,null,null,null,null,null,null,null,"削除","","","","","","","","","",{"$f":"IF(B713=\"\",\"\",IF(COUNTIF($U$4:U713,U713)=1,\"\",\"重複\"))","v":""},"","",null,null,null,null,null,null,null,null,null,null,null,null,null,null,null,{"$f":"IF(COUNTIF($AI$5:AI713,AI713)=1,AI713,\"\")","v":""},{"$f":"IF(AI713=\"\",\"\",IF(COUNTIF($AX$5:AX713,AX713)=1,AX713,\"\"))","v":""},"",null,"",null,"",null,null,null,""]
[null,null,null,null,null,null,null,null,null,null,null,"削除","","","","","","","","","",{"$f":"IF(B714=\"\",\"\",IF(COUNTIF($U$4:U714,U714)=1,\"\",\"重複\"))","v":""},"","",null,null,null,null,null,null,null,null,null,null,null,null,null,null,null,{"$f":"IF(COUNTIF($AI$5:AI714,AI714)=1,AI714,\"\")","v":""},{"$f":"IF(AI714=\"\",\"\",IF(COUNTIF($AX$5:AX714,AX714)=1,AX714,\"\"))","v":""},"",null,"",null,"",null,null,null,""]
[null,null,null,null,null,null,null,null,null,null,null,"削除","","","","","","","","","",{"$f":"IF(B715=\"\",\"\",IF(COUNTIF($U$4:U715,U715)=1,\"\",\"重複\"))","v":""},"","",null,null,null,null,null,null,null,null,null,null,null,null,null,null,null,{"$f":"IF(COUNTIF($AI$5:AI715,AI715)=1,AI715,\"\")","v":""},{"$f":"IF(AI715=\"\",\"\",IF(COUNTIF($AX$5:AX715,AX715)=1,AX715,\"\"))","v":""},"",null,"",null,"",null,null,null,""]
[null,null,null,null,null,null,null,null,null,null,null,"削除","","","","","","","","","",{"$f":"IF(B716=\"\",\"\",IF(COUNTIF($U$4:U716,U716)=1,\"\",\"重複\"))","v":""},"","",null,null,null,null,null,null,null,null,null,null,null,null,null,null,null,{"$f":"IF(COUNTIF($AI$5:AI716,AI716)=1,AI716,\"\")","v":""},{"$f":"IF(AI716=\"\",\"\",IF(COUNTIF($AX$5:AX716,AX716)=1,AX716,\"\"))","v":""},"",null,"",null,"",null,null,null,""]
[null,null,null,null,null,null,null,null,null,null,null,"削除","","","","","","","","","",{"$f":"IF(B717=\"\",\"\",IF(COUNTIF($U$4:U717,U717)=1,\"\",\"重複\"))","v":""},"","",null,null,null,null,null,null,null,null,null,null,null,null,null,null,null,{"$f":"IF(COUNTIF($AI$5:AI717,AI717)=1,AI717,\"\")","v":""},{"$f":"IF(AI717=\"\",\"\",IF(COUNTIF($AX$5:AX717,AX717)=1,AX717,\"\"))","v":""},"",null,"",null,"",null,null,null,""]
[null,null,null,null,null,null,null,null,null,null,null,"削除","","","","","","","","","",{"$f":"IF(B718=\"\",\"\",IF(COUNTIF($U$4:U718,U718)=1,\"\",\"重複\"))","v":""},"","",null,null,null,null,null,null,null,null,null,null,null,null,null,null,null,{"$f":"IF(COUNTIF($AI$5:AI718,AI718)=1,AI718,\"\")","v":""},{"$f":"IF(AI718=\"\",\"\",IF(COUNTIF($AX$5:AX718,AX718)=1,AX718,\"\"))","v":""},"",null,"",null,"",null,null,null,""]
[null,null,null,null,null,null,null,null,null,null,null,"削除","","","","","","","","","",{"$f":"IF(B719=\"\",\"\",IF(COUNTIF($U$4:U719,U719)=1,\"\",\"重複\"))","v":""},"","",null,null,null,null,null,null,null,null,null,null,null,null,null,null,null,{"$f":"IF(COUNTIF($AI$5:AI719,AI719)=1,AI719,\"\")","v":""},{"$f":"IF(AI719=\"\",\"\",IF(COUNTIF($AX$5:AX719,AX719)=1,AX719,\"\"))","v":""},"",null,"",null,"",null,null,null,""]
[null,null,null,null,null,null,null,null,null,null,null,"削除","","","","","","","","","",{"$f":"IF(B720=\"\",\"\",IF(COUNTIF($U$4:U720,U720)=1,\"\",\"重複\"))","v":""},"","",null,null,null,null,null,null,null,null,null,null,null,null,null,null,null,{"$f":"IF(COUNTIF($AI$5:AI720,AI720)=1,AI720,\"\")","v":""},{"$f":"IF(AI720=\"\",\"\",IF(COUNTIF($AX$5:AX720,AX720)=1,AX720,\"\"))","v":""},"",null,"",null,"",null,null,null,""]
[null,null,null,null,null,null,null,null,null,null,null,"削除","","","","","","","","","",{"$f":"IF(B721=\"\",\"\",IF(COUNTIF($U$4:U721,U721)=1,\"\",\"重複\"))","v":""},"","",null,null,null,null,null,null,null,null,null,null,null,null,null,null,null,{"$f":"IF(COUNTIF($AI$5:AI721,AI721)=1,AI721,\"\")","v":""},{"$f":"IF(AI721=\"\",\"\",IF(COUNTIF($AX$5:AX721,AX721)=1,AX721,\"\"))","v":""},"",null,"",null,"",null,null,null,""]
[null,null,null,null,null,null,null,null,null,null,null,"削除","","","","","","","","","",{"$f":"IF(B722=\"\",\"\",IF(COUNTIF($U$4:U722,U722)=1,\"\",\"重複\"))","v":""},"","",null,null,null,null,null,null,null,null,null,null,null,null,null,null,null,{"$f":"IF(COUNTIF($AI$5:AI722,AI722)=1,AI722,\"\")","v":""},{"$f":"IF(AI722=\"\",\"\",IF(COUNTIF($AX$5:AX722,AX722)=1,AX722,\"\"))","v":""},"",null,"",null,"",null,null,null,""]
[null,null,null,null,null,null,null,null,null,null,null,"削除","","","","","","","","","",{"$f":"IF(B723=\"\",\"\",IF(COUNTIF($U$4:U723,U723)=1,\"\",\"重複\"))","v":""},"","",null,null,null,null,null,null,null,null,null,null,null,null,null,null,null,{"$f":"IF(COUNTIF($AI$5:AI723,AI723)=1,AI723,\"\")","v":""},{"$f":"IF(AI723=\"\",\"\",IF(COUNTIF($AX$5:AX723,AX723)=1,AX723,\"\"))","v":""},"",null,"",null,"",null,null,null,""]
[null,null,null,null,null,null,null,null,null,null,null,"削除","","","","","","","","","",{"$f":"IF(B724=\"\",\"\",IF(COUNTIF($U$4:U724,U724)=1,\"\",\"重複\"))","v":""},"","",null,null,null,null,null,null,null,null,null,null,null,null,null,null,null,{"$f":"IF(COUNTIF($AI$5:AI724,AI724)=1,AI724,\"\")","v":""},{"$f":"IF(AI724=\"\",\"\",IF(COUNTIF($AX$5:AX724,AX724)=1,AX724,\"\"))","v":""},"",null,"",null,"",null,null,null,""]
[null,null,null,null,null,null,null,null,null,null,null,"削除","","","","","","","","","",{"$f":"IF(B725=\"\",\"\",IF(COUNTIF($U$4:U725,U725)=1,\"\",\"重複\"))","v":""},"","",null,null,null,null,null,null,null,null,null,null,null,null,null,null,null,{"$f":"IF(COUNTIF($AI$5:AI725,AI725)=1,AI725,\"\")","v":""},{"$f":"IF(AI725=\"\",\"\",IF(COUNTIF($AX$5:AX725,AX725)=1,AX725,\"\"))","v":""},"",null,"",null,"",null,null,null,""]
[null,null,null,null,null,null,null,null,null,null,null,"削除","","","","","","","","","",{"$f":"IF(B726=\"\",\"\",IF(COUNTIF($U$4:U726,U726)=1,\"\",\"重複\"))","v":""},"","",null,null,null,null,null,null,null,null,null,null,null,null,null,null,null,{"$f":"IF(COUNTIF($AI$5:AI726,AI726)=1,AI726,\"\")","v":""},{"$f":"IF(AI726=\"\",\"\",IF(COUNTIF($AX$5:AX726,AX726)=1,AX726,\"\"))","v":""},"",null,"",null,"",null,null,null,""]
[null,null,null,null,null,null,null,null,null,null,null,"削除","","","","","","","","","",{"$f":"IF(B727=\"\",\"\",IF(COUNTIF($U$4:U727,U727)=1,\"\",\"重複\"))","v":""},"","",null,null,null,null,null,null,null,null,null,null,null,null,null,null,null,{"$f":"IF(COUNTIF($AI$5:AI727,AI727)=1,AI727,\"\")","v":""},{"$f":"IF(AI727=\"\",\"\",IF(COUNTIF($AX$5:AX727,AX727)=1,AX727,\"\"))","v":""},"",null,"",null,"",null,null,null,""]
[null,null,null,null,null,null,null,null,null,null,null,"削除","","","","","","","","","",{"$f":"IF(B728=\"\",\"\",IF(COUNTIF($U$4:U728,U728)=1,\"\",\"重複\"))","v":""},"","",null,null,null,null,null,null,null,null,null,null,null,null,null,null,null,{"$f":"IF(COUNTIF($AI$5:AI728,AI728)=1,AI728,\"\")","v":""},{"$f":"IF(AI728=\"\",\"\",IF(COUNTIF($AX$5:AX728,AX728)=1,AX728,\"\"))","v":""},"",null,"",null,"",null,null,null,""]
[null,null,null,null,null,null,null,null,null,null,null,"削除","","","","","","","","","",{"$f":"IF(B729=\"\",\"\",IF(COUNTIF($U$4:U729,U729)=1,\"\",\"重複\"))","v":""},"","",null,null,null,null,null,null,null,null,null,null,null,null,null,null,null,{"$f":"IF(COUNTIF($AI$5:AI729,AI729)=1,AI729,\"\")","v":""},{"$f":"IF(AI729=\"\",\"\",IF(COUNTIF($AX$5:AX729,AX729)=1,AX729,\"\"))","v":""},"",null,"",null,"",null,null,null,""]
[null,null,null,null,null,null,null,null,null,null,null,"削除","","","","","","","","","",{"$f":"IF(B730=\"\",\"\",IF(COUNTIF($U$4:U730,U730)=1,\"\",\"重複\"))","v":""},"","",null,null,null,null,null,null,null,null,null,null,null,null,null,null,null,{"$f":"IF(COUNTIF($AI$5:AI730,AI730)=1,AI730,\"\")","v":""},{"$f":"IF(AI730=\"\",\"\",IF(COUNTIF($AX$5:AX730,AX730)=1,AX730,\"\"))","v":""},"",null,"",null,"",null,null,null,""]
[null,null,null,null,null,null,null,null,null,null,null,"削除","","","","","","","","","",{"$f":"IF(B731=\"\",\"\",IF(COUNTIF($U$4:U731,U731)=1,\"\",\"重複\"))","v":""},"","",null,null,null,null,null,null,null,null,null,null,null,null,null,null,null,{"$f":"IF(COUNTIF($AI$5:AI731,AI731)=1,AI731,\"\")","v":""},{"$f":"IF(AI731=\"\",\"\",IF(COUNTIF($AX$5:AX731,AX731)=1,AX731,\"\"))","v":""},"",null,"",null,"",null,null,null,""]
[null,null,null,null,null,null,null,null,null,null,null,"削除","","","","","","","","","",{"$f":"IF(B732=\"\",\"\",IF(COUNTIF($U$4:U732,U732)=1,\"\",\"重複\"))","v":""},"","",null,null,null,null,null,null,null,null,null,null,null,null,null,null,null,{"$f":"IF(COUNTIF($AI$5:AI732,AI732)=1,AI732,\"\")","v":""},{"$f":"IF(AI732=\"\",\"\",IF(COUNTIF($AX$5:AX732,AX732)=1,AX732,\"\"))","v":""},"",null,"",null,"",null,null,null,""]
[null,null,null,null,null,null,null,null,null,null,null,"削除","","","","","","","","","",{"$f":"IF(B733=\"\",\"\",IF(COUNTIF($U$4:U733,U733)=1,\"\",\"重複\"))","v":""},"","",null,null,null,null,null,null,null,null,null,null,null,null,null,null,null,{"$f":"IF(COUNTIF($AI$5:AI733,AI733)=1,AI733,\"\")","v":""},{"$f":"IF(AI733=\"\",\"\",IF(COUNTIF($AX$5:AX733,AX733)=1,AX733,\"\"))","v":""},"",null,"",null,"",null,null,null,""]
[null,null,null,null,null,null,null,null,null,null,null,"削除","","","","","","","","","",{"$f":"IF(B734=\"\",\"\",IF(COUNTIF($U$4:U734,U734)=1,\"\",\"重複\"))","v":""},"","",null,null,null,null,null,null,null,null,null,null,null,null,null,null,null,{"$f":"IF(COUNTIF($AI$5:AI734,AI734)=1,AI734,\"\")","v":""},{"$f":"IF(AI734=\"\",\"\",IF(COUNTIF($AX$5:AX734,AX734)=1,AX734,\"\"))","v":""},"",null,"",null,"",null,null,null,""]
[null,null,null,null,null,null,null,null,null,null,null,"削除","","","","","","","","","",{"$f":"IF(B735=\"\",\"\",IF(COUNTIF($U$4:U735,U735)=1,\"\",\"重複\"))","v":""},"","",null,null,null,null,null,null,null,null,null,null,null,null,null,null,null,{"$f":"IF(COUNTIF($AI$5:AI735,AI735)=1,AI735,\"\")","v":""},{"$f":"IF(AI735=\"\",\"\",IF(COUNTIF($AX$5:AX735,AX735)=1,AX735,\"\"))","v":""},"",null,"",null,"",null,null,null,""]
[null,null,null,null,null,null,null,null,null,null,null,"削除","","","","","","","","","",{"$f":"IF(B736=\"\",\"\",IF(COUNTIF($U$4:U736,U736)=1,\"\",\"重複\"))","v":""},"","",null,null,null,null,null,null,null,null,null,null,null,null,null,null,null,{"$f":"IF(COUNTIF($AI$5:AI736,AI736)=1,AI736,\"\")","v":""},{"$f":"IF(AI736=\"\",\"\",IF(COUNTIF($AX$5:AX736,AX736)=1,AX736,\"\"))","v":""},"",null,"",null,"",null,null,null,""]
[null,null,null,null,null,null,null,null,null,null,null,"削除","","","","","","","","","",{"$f":"IF(B737=\"\",\"\",IF(COUNTIF($U$4:U737,U737)=1,\"\",\"重複\"))","v":""},"","",null,null,null,null,null,null,null,null,null,null,null,null,null,null,null,{"$f":"IF(COUNTIF($AI$5:AI737,AI737)=1,AI737,\"\")","v":""},{"$f":"IF(AI737=\"\",\"\",IF(COUNTIF($AX$5:AX737,AX737)=1,AX737,\"\"))","v":""},"",null,"",null,"",null,null,null,""]
[null,null,null,null,null,null,null,null,null,null,null,"削除","","","","","","","","","",{"$f":"IF(B738=\"\",\"\",IF(COUNTIF($U$4:U738,U738)=1,\"\",\"重複\"))","v":""},"","",null,null,null,null,null,null,null,null,null,null,null,null,null,null,null,{"$f":"IF(COUNTIF($AI$5:AI738,AI738)=1,AI738,\"\")","v":""},{"$f":"IF(AI738=\"\",\"\",IF(COUNTIF($AX$5:AX738,AX738)=1,AX738,\"\"))","v":""},"",null,"",null,"",null,null,null,""]
[null,null,null,null,null,null,null,null,null,null,null,"削除","","","","","","","","","",{"$f":"IF(B739=\"\",\"\",IF(COUNTIF($U$4:U739,U739)=1,\"\",\"重複\"))","v":""},"","",null,null,null,null,null,null,null,null,null,null,null,null,null,null,null,{"$f":"IF(COUNTIF($AI$5:AI739,AI739)=1,AI739,\"\")","v":""},{"$f":"IF(AI739=\"\",\"\",IF(COUNTIF($AX$5:AX739,AX739)=1,AX739,\"\"))","v":""},"",null,"",null,"",null,null,null,""]
[null,null,null,null,null,null,null,null,null,null,null,"削除","","","","","","","","","",{"$f":"IF(B740=\"\",\"\",IF(COUNTIF($U$4:U740,U740)=1,\"\",\"重複\"))","v":""},"","",null,null,null,null,null,null,null,null,null,null,null,null,null,null,null,{"$f":"IF(COUNTIF($AI$5:AI740,AI740)=1,AI740,\"\")","v":""},{"$f":"IF(AI740=\"\",\"\",IF(COUNTIF($AX$5:AX740,AX740)=1,AX740,\"\"))","v":""},"",null,"",null,"",null,null,null,""]
[null,null,null,null,null,null,null,null,null,null,null,"削除","","","","","","","","","",{"$f":"IF(B741=\"\",\"\",IF(COUNTIF($U$4:U741,U741)=1,\"\",\"重複\"))","v":""},"","",null,null,null,null,null,null,null,null,null,null,null,null,null,null,null,{"$f":"IF(COUNTIF($AI$5:AI741,AI741)=1,AI741,\"\")","v":""},{"$f":"IF(AI741=\"\",\"\",IF(COUNTIF($AX$5:AX741,AX741)=1,AX741,\"\"))","v":""},"",null,"",null,"",null,null,null,""]
[null,null,null,null,null,null,null,null,null,null,null,"削除","","","","","","","","","",{"$f":"IF(B742=\"\",\"\",IF(COUNTIF($U$4:U742,U742)=1,\"\",\"重複\"))","v":""},"","",null,null,null,null,null,null,null,null,null,null,null,null,null,null,null,{"$f":"IF(COUNTIF($AI$5:AI742,AI742)=1,AI742,\"\")","v":""},{"$f":"IF(AI742=\"\",\"\",IF(COUNTIF($AX$5:AX742,AX742)=1,AX742,\"\"))","v":""},"",null,"",null,"",null,null,null,""]
[null,null,null,null,null,null,null,null,null,null,null,"削除","","","","","","","","","",{"$f":"IF(B743=\"\",\"\",IF(COUNTIF($U$4:U743,U743)=1,\"\",\"重複\"))","v":""},"","",null,null,null,null,null,null,null,null,null,null,null,null,null,null,null,{"$f":"IF(COUNTIF($AI$5:AI743,AI743)=1,AI743,\"\")","v":""},{"$f":"IF(AI743=\"\",\"\",IF(COUNTIF($AX$5:AX743,AX743)=1,AX743,\"\"))","v":""},"",null,"",null,"",null,null,null,""]
[null,null,null,null,null,null,null,null,null,null,null,"削除","","","","","","","","","",{"$f":"IF(B744=\"\",\"\",IF(COUNTIF($U$4:U744,U744)=1,\"\",\"重複\"))","v":""},"","",null,null,null,null,null,null,null,null,null,null,null,null,null,null,null,{"$f":"IF(COUNTIF($AI$5:AI744,AI744)=1,AI744,\"\")","v":""},{"$f":"IF(AI744=\"\",\"\",IF(COUNTIF($AX$5:AX744,AX744)=1,AX744,\"\"))","v":""},"",null,"",null,"",null,null,null,""]
[null,null,null,null,null,null,null,null,null,null,null,"削除","","","","","","","","","",{"$f":"IF(B745=\"\",\"\",IF(COUNTIF($U$4:U745,U745)=1,\"\",\"重複\"))","v":""},"","",null,null,null,null,null,null,null,null,null,null,null,null,null,null,null,{"$f":"IF(COUNTIF($AI$5:AI745,AI745)=1,AI745,\"\")","v":""},{"$f":"IF(AI745=\"\",\"\",IF(COUNTIF($AX$5:AX745,AX745)=1,AX745,\"\"))","v":""},"",null,"",null,"",null,null,null,""]
[null,null,null,null,null,null,null,null,null,null,null,"削除","","","","","","","","","",{"$f":"IF(B746=\"\",\"\",IF(COUNTIF($U$4:U746,U746)=1,\"\",\"重複\"))","v":""},"","",null,null,null,null,null,null,null,null,null,null,null,null,null,null,null,{"$f":"IF(COUNTIF($AI$5:AI746,AI746)=1,AI746,\"\")","v":""},{"$f":"IF(AI746=\"\",\"\",IF(COUNTIF($AX$5:AX746,AX746)=1,AX746,\"\"))","v":""},"",null,"",null,"",null,null,null,""]
[null,null,null,null,null,null,null,null,null,null,null,"削除","","","","","","","","","",{"$f":"IF(B747=\"\",\"\",IF(COUNTIF($U$4:U747,U747)=1,\"\",\"重複\"))","v":""},"","",null,null,null,null,null,null,null,null,null,null,null,null,null,null,null,{"$f":"IF(COUNTIF($AI$5:AI747,AI747)=1,AI747,\"\")","v":""},{"$f":"IF(AI747=\"\",\"\",IF(COUNTIF($AX$5:AX747,AX747)=1,AX747,\"\"))","v":""},"",null,"",null,"",null,null,null,""]
[null,null,null,null,null,null,null,null,null,null,null,"削除","","","","","","","","","",{"$f":"IF(B748=\"\",\"\",IF(COUNTIF($U$4:U748,U748)=1,\"\",\"重複\"))","v":""},"","",null,null,null,null,null,null,null,null,null,null,null,null,null,null,null,{"$f":"IF(COUNTIF($AI$5:AI748,AI748)=1,AI748,\"\")","v":""},{"$f":"IF(AI748=\"\",\"\",IF(COUNTIF($AX$5:AX748,AX748)=1,AX748,\"\"))","v":""},"",null,"",null,"",null,null,null,""]
[null,null,null,null,null,null,null,null,null,null,null,"削除","","","","","","","","","",{"$f":"IF(B749=\"\",\"\",IF(COUNTIF($U$4:U749,U749)=1,\"\",\"重複\"))","v":""},"","",null,null,null,null,null,null,null,null,null,null,null,null,null,null,null,{"$f":"IF(COUNTIF($AI$5:AI749,AI749)=1,AI749,\"\")","v":""},{"$f":"IF(AI749=\"\",\"\",IF(COUNTIF($AX$5:AX749,AX749)=1,AX749,\"\"))","v":""},"",null,"",null,"",null,null,null,""]
[null,null,null,null,null,null,null,null,null,null,null,"削除","","","","","","","","","",{"$f":"IF(B750=\"\",\"\",IF(COUNTIF($U$4:U750,U750)=1,\"\",\"重複\"))","v":""},"","",null,null,null,null,null,null,null,null,null,null,null,null,null,null,null,{"$f":"IF(COUNTIF($AI$5:AI750,AI750)=1,AI750,\"\")","v":""},{"$f":"IF(AI750=\"\",\"\",IF(COUNTIF($AX$5:AX750,AX750)=1,AX750,\"\"))","v":""},"",null,"",null,"",null,null,null,""]
[null,null,null,null,null,null,null,null,null,null,null,"削除","","","","","","","","","",{"$f":"IF(B751=\"\",\"\",IF(COUNTIF($U$4:U751,U751)=1,\"\",\"重複\"))","v":""},"","",null,null,null,null,null,null,null,null,null,null,null,null,null,null,null,{"$f":"IF(COUNTIF($AI$5:AI751,AI751)=1,AI751,\"\")","v":""},{"$f":"IF(AI751=\"\",\"\",IF(COUNTIF($AX$5:AX751,AX751)=1,AX751,\"\"))","v":""},"",null,"",null,"",null,null,null,""]
[null,null,null,null,null,null,null,null,null,null,null,"削除","","","","","","","","","",{"$f":"IF(B752=\"\",\"\",IF(COUNTIF($U$4:U752,U752)=1,\"\",\"重複\"))","v":""},"","",null,null,null,null,null,null,null,null,null,null,null,null,null,null,null,{"$f":"IF(COUNTIF($AI$5:AI752,AI752)=1,AI752,\"\")","v":""},{"$f":"IF(AI752=\"\",\"\",IF(COUNTIF($AX$5:AX752,AX752)=1,AX752,\"\"))","v":""},"",null,"",null,"",null,null,null,""]
[null,null,null,null,null,null,null,null,null,null,null,"削除","","","","","","","","","",{"$f":"IF(B753=\"\",\"\",IF(COUNTIF($U$4:U753,U753)=1,\"\",\"重複\"))","v":""},"","",null,null,null,null,null,null,null,null,null,null,null,null,null,null,null,{"$f":"IF(COUNTIF($AI$5:AI753,AI753)=1,AI753,\"\")","v":""},{"$f":"IF(AI753=\"\",\"\",IF(COUNTIF($AX$5:AX753,AX753)=1,AX753,\"\"))","v":""},"",null,"",null,"",null,null,null,""]
[null,null,null,null,null,null,null,null,null,null,null,"削除","","","","","","","","","",{"$f":"IF(B754=\"\",\"\",IF(COUNTIF($U$4:U754,U754)=1,\"\",\"重複\"))","v":""},"","",null,null,null,null,null,null,null,null,null,null,null,null,null,null,null,{"$f":"IF(COUNTIF($AI$5:AI754,AI754)=1,AI754,\"\")","v":""},{"$f":"IF(AI754=\"\",\"\",IF(COUNTIF($AX$5:AX754,AX754)=1,AX754,\"\"))","v":""},"",null,"",null,"",null,null,null,""]
[null,null,null,null,null,null,null,null,null,null,null,"削除","","","","","","","","","",{"$f":"IF(B755=\"\",\"\",IF(COUNTIF($U$4:U755,U755)=1,\"\",\"重複\"))","v":""},"","",null,null,null,null,null,null,null,null,null,null,null,null,null,null,null,{"$f":"IF(COUNTIF($AI$5:AI755,AI755)=1,AI755,\"\")","v":""},{"$f":"IF(AI755=\"\",\"\",IF(COUNTIF($AX$5:AX755,AX755)=1,AX755,\"\"))","v":""},"",null,"",null,"",null,null,null,""]
[null,null,null,null,null,null,null,null,null,null,null,"削除","","","","","","","","","",{"$f":"IF(B756=\"\",\"\",IF(COUNTIF($U$4:U756,U756)=1,\"\",\"重複\"))","v":""},"","",null,null,null,null,null,null,null,null,null,null,null,null,null,null,null,{"$f":"IF(COUNTIF($AI$5:AI756,AI756)=1,AI756,\"\")","v":""},{"$f":"IF(AI756=\"\",\"\",IF(COUNTIF($AX$5:AX756,AX756)=1,AX756,\"\"))","v":""},"",null,"",null,"",null,null,null,""]
[null,null,null,null,null,null,null,null,null,null,null,"削除","","","","","","","","","",{"$f":"IF(B757=\"\",\"\",IF(COUNTIF($U$4:U757,U757)=1,\"\",\"重複\"))","v":""},"","",null,null,null,null,null,null,null,null,null,null,null,null,null,null,null,{"$f":"IF(COUNTIF($AI$5:AI757,AI757)=1,AI757,\"\")","v":""},{"$f":"IF(AI757=\"\",\"\",IF(COUNTIF($AX$5:AX757,AX757)=1,AX757,\"\"))","v":""},"",null,"",null,"",null,null,null,""]
[null,null,null,null,null,null,null,null,null,null,null,"削除","","","","","","","","","",{"$f":"IF(B758=\"\",\"\",IF(COUNTIF($U$4:U758,U758)=1,\"\",\"重複\"))","v":""},"","",null,null,null,null,null,null,null,null,null,null,null,null,null,null,null,{"$f":"IF(COUNTIF($AI$5:AI758,AI758)=1,AI758,\"\")","v":""},{"$f":"IF(AI758=\"\",\"\",IF(COUNTIF($AX$5:AX758,AX758)=1,AX758,\"\"))","v":""},"",null,"",null,"",null,null,null,""]
[null,null,null,null,null,null,null,null,null,null,null,"削除","","","","","","","","","",{"$f":"IF(B759=\"\",\"\",IF(COUNTIF($U$4:U759,U759)=1,\"\",\"重複\"))","v":""},"","",null,null,null,null,null,null,null,null,null,null,null,null,null,null,null,{"$f":"IF(COUNTIF($AI$5:AI759,AI759)=1,AI759,\"\")","v":""},{"$f":"IF(AI759=\"\",\"\",IF(COUNTIF($AX$5:AX759,AX759)=1,AX759,\"\"))","v":""},"",null,"",null,"",null,null,null,""]
[null,null,null,null,null,null,null,null,null,null,null,"削除","","","","","","","","","",{"$f":"IF(B760=\"\",\"\",IF(COUNTIF($U$4:U760,U760)=1,\"\",\"重複\"))","v":""},"","",null,null,null,null,null,null,null,null,null,null,null,null,null,null,null,{"$f":"IF(COUNTIF($AI$5:AI760,AI760)=1,AI760,\"\")","v":""},{"$f":"IF(AI760=\"\",\"\",IF(COUNTIF($AX$5:AX760,AX760)=1,AX760,\"\"))","v":""},"",null,"",null,"",null,null,null,""]
[null,null,null,null,null,null,null,null,null,null,null,"削除","","","","","","","","","",{"$f":"IF(B761=\"\",\"\",IF(COUNTIF($U$4:U761,U761)=1,\"\",\"重複\"))","v":""},"","",null,null,null,null,null,null,null,null,null,null,null,null,null,null,null,{"$f":"IF(COUNTIF($AI$5:AI761,AI761)=1,AI761,\"\")","v":""},{"$f":"IF(AI761=\"\",\"\",IF(COUNTIF($AX$5:AX761,AX761)=1,AX761,\"\"))","v":""},"",null,"",null,"",null,null,null,""]
[null,null,null,null,null,null,null,null,null,null,null,"削除","","","","","","","","","",{"$f":"IF(B762=\"\",\"\",IF(COUNTIF($U$4:U762,U762)=1,\"\",\"重複\"))","v":""},"","",null,null,null,null,null,null,null,null,null,null,null,null,null,null,null,{"$f":"IF(COUNTIF($AI$5:AI762,AI762)=1,AI762,\"\")","v":""},{"$f":"IF(AI762=\"\",\"\",IF(COUNTIF($AX$5:AX762,AX762)=1,AX762,\"\"))","v":""},"",null,"",null,"",null,null,null,""]
[null,null,null,null,null,null,null,null,null,null,null,"削除","","","","","","","","","",{"$f":"IF(B763=\"\",\"\",IF(COUNTIF($U$4:U763,U763)=1,\"\",\"重複\"))","v":""},"","",null,null,null,null,null,null,null,null,null,null,null,null,null,null,null,{"$f":"IF(COUNTIF($AI$5:AI763,AI763)=1,AI763,\"\")","v":""},{"$f":"IF(AI763=\"\",\"\",IF(COUNTIF($AX$5:AX763,AX763)=1,AX763,\"\"))","v":""},"",null,"",null,"",null,null,null,""]
[null,null,null,null,null,null,null,null,null,null,null,"削除","","","","","","","","","",{"$f":"IF(B764=\"\",\"\",IF(COUNTIF($U$4:U764,U764)=1,\"\",\"重複\"))","v":""},"","",null,null,null,null,null,null,null,null,null,null,null,null,null,null,null,{"$f":"IF(COUNTIF($AI$5:AI764,AI764)=1,AI764,\"\")","v":""},{"$f":"IF(AI764=\"\",\"\",IF(COUNTIF($AX$5:AX764,AX764)=1,AX764,\"\"))","v":""},"",null,"",null,"",null,null,null,""]
[null,null,null,null,null,null,null,null,null,null,null,"削除","","","","","","","","","",{"$f":"IF(B765=\"\",\"\",IF(COUNTIF($U$4:U765,U765)=1,\"\",\"重複\"))","v":""},"","",null,null,null,null,null,null,null,null,null,null,null,null,null,null,null,{"$f":"IF(COUNTIF($AI$5:AI765,AI765)=1,AI765,\"\")","v":""},{"$f":"IF(AI765=\"\",\"\",IF(COUNTIF($AX$5:AX765,AX765)=1,AX765,\"\"))","v":""},"",null,"",null,"",null,null,null,""]
[null,null,null,null,null,null,null,null,null,null,null,"削除","","","","","","","","","",{"$f":"IF(B766=\"\",\"\",IF(COUNTIF($U$4:U766,U766)=1,\"\",\"重複\"))","v":""},"","",null,null,null,null,null,null,null,null,null,null,null,null,null,null,null,{"$f":"IF(COUNTIF($AI$5:AI766,AI766)=1,AI766,\"\")","v":""},{"$f":"IF(AI766=\"\",\"\",IF(COUNTIF($AX$5:AX766,AX766)=1,AX766,\"\"))","v":""},"",null,"",null,"",null,null,null,""]
[null,null,null,null,null,null,null,null,null,null,null,"削除","","","","","","","","","",{"$f":"IF(B767=\"\",\"\",IF(COUNTIF($U$4:U767,U767)=1,\"\",\"重複\"))","v":""},"","",null,null,null,null,null,null,null,null,null,null,null,null,null,null,null,{"$f":"IF(COUNTIF($AI$5:AI767,AI767)=1,AI767,\"\")","v":""},{"$f":"IF(AI767=\"\",\"\",IF(COUNTIF($AX$5:AX767,AX767)=1,AX767,\"\"))","v":""},"",null,"",null,"",null,null,null,""]
[null,null,null,null,null,null,null,null,null,null,null,"削除","","","","","","","","","",{"$f":"IF(B768=\"\",\"\",IF(COUNTIF($U$4:U768,U768)=1,\"\",\"重複\"))","v":""},"","",null,null,null,null,null,null,null,null,null,null,null,null,null,null,null,{"$f":"IF(COUNTIF($AI$5:AI768,AI768)=1,AI768,\"\")","v":""},{"$f":"IF(AI768=\"\",\"\",IF(COUNTIF($AX$5:AX768,AX768)=1,AX768,\"\"))","v":""},"",null,"",null,"",null,null,null,""]
[null,null,null,null,null,null,null,null,null,null,null,"削除","","","","","","","","","",{"$f":"IF(B769=\"\",\"\",IF(COUNTIF($U$4:U769,U769)=1,\"\",\"重複\"))","v":""},"","",null,null,null,null,null,null,null,null,null,null,null,null,null,null,null,{"$f":"IF(COUNTIF($AI$5:AI769,AI769)=1,AI769,\"\")","v":""},{"$f":"IF(AI769=\"\",\"\",IF(COUNTIF($AX$5:AX769,AX769)=1,AX769,\"\"))","v":""},"",null,"",null,"",null,null,null,""]
[null,null,null,null,null,null,null,null,null,null,null,"削除","","","","","","","","","",{"$f":"IF(B770=\"\",\"\",IF(COUNTIF($U$4:U770,U770)=1,\"\",\"重複\"))","v":""},"","",null,null,null,null,null,null,null,null,null,null,null,null,null,null,null,{"$f":"IF(COUNTIF($AI$5:AI770,AI770)=1,AI770,\"\")","v":""},{"$f":"IF(AI770=\"\",\"\",IF(COUNTIF($AX$5:AX770,AX770)=1,AX770,\"\"))","v":""},"",null,"",null,"",null,null,null,""]
[null,null,null,null,null,null,null,null,null,null,null,"削除","","","","","","","","","",{"$f":"IF(B771=\"\",\"\",IF(COUNTIF($U$4:U771,U771)=1,\"\",\"重複\"))","v":""},"","",null,null,null,null,null,null,null,null,null,null,null,null,null,null,null,{"$f":"IF(COUNTIF($AI$5:AI771,AI771)=1,AI771,\"\")","v":""},{"$f":"IF(AI771=\"\",\"\",IF(COUNTIF($AX$5:AX771,AX771)=1,AX771,\"\"))","v":""},"",null,"",null,"",null,null,null,""]
[null,null,null,null,null,null,null,null,null,null,null,"削除","","","","","","","","","",{"$f":"IF(B772=\"\",\"\",IF(COUNTIF($U$4:U772,U772)=1,\"\",\"重複\"))","v":""},"",{"$f":"IF(B772=\"\",\"\",IF(LEFT(G772,3)=\"144\",IF(LEFT(H772,3)=\"SSB\",\"\",IF(LEFT(H772,3)=\"A3J\",\"\",IF(LEFT(H772,3)=\"J3E\",\"\",\"形式外\"))),\"形式外\"))","v":""},null,null,null,null,null,null,null,null,null,null,null,null,null,null,null,{"$f":"IF(COUNTIF($AI$5:AI772,AI772)=1,AI772,\"\")","v":""},{"$f":"IF(AI772=\"\",\"\",IF(COUNTIF($AX$5:AX772,AX772)=1,AX772,\"\"))","v":""},"",null,"",null,"",null,null,null,""]
[null,null,null,null,null,null,null,null,null,null,null,{"$f":"IF(B773=\"\",\"削除\",IF(OR(V773=\"重複\",W773=\"削除\",X773=\"形式外\"),\"削除\",1))","v":"削除"},{"$f":"IF(L773=\"削除\",\"\",C773)","v":""},{"$f":"IF(L773=\"削除\",\"\",D773)","v":""},{"$f":"IF(L773=\"削除\",\"\",B773)","v":""},{"$f":"IF(L773=\"削除\",\"\",E773)","v":""},{"$f":"IF(L773=\"削除\",\"\",F773)","v":""},{"$f":"IF(L773=\"削除\",\"\",I773)","v":""},{"$f":"IF(L773=\"削除\",\"\",IF(J773=\"\",\"\",J773))","v":""},{"$f":"IF(B773=\"\",\"\",LEFT(B773,FIND(\"/\",B773&\"/\")-1))","v":""},{"$f":"IF(B773=\"\",\"\",T773&\"/\"&H773)","v":""},{"$f":"IF(B773=\"\",\"\",IF(COUNTIF($U$4:U773,U773)=1,\"\",\"重複\"))","v":""},{"$f":"IF(B773=\"\",\"\",IF(LEFT(T773,1)=\"8\",\"削除\",IF(LEN(T773)=5,IF(MID(T773,4,2)=\"RL\",\"削除\",\"\"),IF(MID(T773,4,1)=\"Y\",\"削除\",IF(MID(T773,4,1)=\"Z\",\"削除\",\"\")))))","v":""},"",null,null,null,null,null,null,null,null,null,null,null,null,null,null,null,{"$f":"IF(COUNTIF($AI$5:AI773,AI773)=1,AI773,\"\")","v":""},{"$f":"IF(AI773=\"\",\"\",IF(COUNTIF($AX$5:AX773,AX773)=1,AX773,\"\"))","v":""},"",null,"",null,"",null,null,null,""]
[null,null,null,null,null,null,null,null,null,null,null,"削除","","","","","","","","","",{"$f":"IF(B774=\"\",\"\",IF(COUNTIF($U$4:U774,U774)=1,\"\",\"重複\"))","v":""},"","",null,null,null,null,null,null,null,null,null,null,null,null,null,null,null,{"$f":"IF(COUNTIF($AI$5:AI774,AI774)=1,AI774,\"\")","v":""},{"$f":"IF(AI774=\"\",\"\",IF(COUNTIF($AX$5:AX774,AX774)=1,AX774,\"\"))","v":""},{"$f":"IF(AK774=\"\",\"\",IF(COUNTIF($BN$5:$BN$304,AT774)=1,5,1))","v":""},null,{"$f":"IF(COUNTIF($BN$5:$BN$40,AT774)=1,\"M\",\"\")","v":""},null,{"$f":"LEFT(AK774&\"/\",FIND(\"/\",AK774&\"/\")-1)","v":""},null,null,null,{"$f":"RIGHT(AT774,1)","v":""}]
[null,null,null,null,null,null,null,null,null,null,null,"削除","","","","","","","","","",{"$f":"IF(B775=\"\",\"\",IF(COUNTIF($U$4:U775,U775)=1,\"\",\"重複\"))","v":""},"","",null,null,null,null,null,null,null,null,null,null,null,null,null,null,null,{"$f":"IF(COUNTIF($AI$5:AI775,AI775)=1,AI775,\"\")","v":""},{"$f":"IF(AI775=\"\",\"\",IF(COUNTIF($AX$5:AX775,AX775)=1,AX775,\"\"))","v":""},"",null,"",null,"",null,null,null,""]
[null,null,null,null,null,null,null,null,null,null,null,"削除","","","","","","","","","",{"$f":"IF(B776=\"\",\"\",IF(COUNTIF($U$4:U776,U776)=1,\"\",\"重複\"))","v":""},"","",null,null,null,null,null,null,null,null,null,null,null,null,null,null,null,{"$f":"IF(COUNTIF($AI$5:AI776,AI776)=1,AI776,\"\")","v":""},{"$f":"IF(AI776=\"\",\"\",IF(COUNTIF($AX$5:AX776,AX776)=1,AX776,\"\"))","v":""},"",null,"",null,"",null,null,null,""]
[null,null,null,null,null,null,null,null,null,null,null,"削除","","","","","","","","","",{"$f":"IF(B777=\"\",\"\",IF(COUNTIF($U$4:U777,U777)=1,\"\",\"重複\"))","v":""},"","",null,null,null,null,null,null,null,null,null,null,null,null,null,null,null,{"$f":"IF(COUNTIF($AI$5:AI777,AI777)=1,AI777,\"\")","v":""},{"$f":"IF(AI777=\"\",\"\",IF(COUNTIF($AX$5:AX777,AX777)=1,AX777,\"\"))","v":""},"",null,"",null,"",null,null,null,""]
[null,null,null,null,null,null,null,null,null,null,null,"削除","","","","","","","","","",{"$f":"IF(B778=\"\",\"\",IF(COUNTIF($U$4:U778,U778)=1,\"\",\"重複\"))","v":""},"","",null,null,null,null,null,null,null,null,null,null,null,null,null,null,null,{"$f":"IF(COUNTIF($AI$5:AI778,AI778)=1,AI778,\"\")","v":""},{"$f":"IF(AI778=\"\",\"\",IF(COUNTIF($AX$5:AX778,AX778)=1,AX778,\"\"))","v":""},"",null,"",null,"",null,null,null,""]
[null,null,null,null,null,null,null,null,null,null,null,"削除","","","","","","","","","",{"$f":"IF(B779=\"\",\"\",IF(COUNTIF($U$4:U779,U779)=1,\"\",\"重複\"))","v":""},"","",null,null,null,null,null,null,null,null,null,null,null,null,null,null,null,{"$f":"IF(COUNTIF($AI$5:AI779,AI779)=1,AI779,\"\")","v":""},{"$f":"IF(AI779=\"\",\"\",IF(COUNTIF($AX$5:AX779,AX779)=1,AX779,\"\"))","v":""},"",null,"",null,"",null,null,null,""]
[null,null,null,null,null,null,null,null,null,null,null,"削除","","","","","","","","","",{"$f":"IF(B780=\"\",\"\",IF(COUNTIF($U$4:U780,U780)=1,\"\",\"重複\"))","v":""},"","",null,null,null,null,null,null,null,null,null,null,null,null,null,null,null,{"$f":"IF(COUNTIF($AI$5:AI780,AI780)=1,AI780,\"\")","v":""},{"$f":"IF(AI780=\"\",\"\",IF(COUNTIF($AX$5:AX780,AX780)=1,AX780,\"\"))","v":""},"",null,"",null,"",null,null,null,""]
[null,null,null,null,null,null,null,null,null,null,null,"削除","","","","","","","","","",{"$f":"IF(B781=\"\",\"\",IF(COUNTIF($U$4:U781,U781)=1,\"\",\"重複\"))","v":""},"","",null,null,null,null,null,null,null,null,null,null,null,null,null,null,null,{"$f":"IF(COUNTIF($AI$5:AI781,AI781)=1,AI781,\"\")","v":""},{"$f":"IF(AI781=\"\",\"\",IF(COUNTIF($AX$5:AX781,AX781)=1,AX781,\"\"))","v":""},"",null,"",null,"",null,null,null,""]
[null,null,null,null,null,null,null,null,null,null,null,"削除","","","","","","","","","",{"$f":"IF(B782=\"\",\"\",IF(COUNTIF($U$4:U782,U782)=1,\"\",\"重複\"))","v":""},"","",null,null,null,null,null,null,null,null,null,null,null,null,null,null,null,{"$f":"IF(COUNTIF($AI$5:AI782,AI782)=1,AI782,\"\")","v":""},{"$f":"IF(AI782=\"\",\"\",IF(COUNTIF($AX$5:AX782,AX782)=1,AX782,\"\"))","v":""},"",null,"",null,"",null,null,null,""]
[null,null,null,null,null,null,null,null,null,null,null,"削除","","","","","","","","","",{"$f":"IF(B783=\"\",\"\",IF(COUNTIF($U$4:U783,U783)=1,\"\",\"重複\"))","v":""},"","",null,null,null,null,null,null,null,null,null,null,null,null,null,null,null,{"$f":"IF(COUNTIF($AI$5:AI783,AI783)=1,AI783,\"\")","v":""},{"$f":"IF(AI783=\"\",\"\",IF(COUNTIF($AX$5:AX783,AX783)=1,AX783,\"\"))","v":""},"",null,"",null,"",null,null,null,""]
[null,null,null,null,null,null,null,null,null,null,null,"削除","","","","","","","","","",{"$f":"IF(B784=\"\",\"\",IF(COUNTIF($U$4:U784,U784)=1,\"\",\"重複\"))","v":""},"","",null,null,null,null,null,null,null,null,null,null,null,null,null,null,null,{"$f":"IF(COUNTIF($AI$5:AI784,AI784)=1,AI784,\"\")","v":""},{"$f":"IF(AI784=\"\",\"\",IF(COUNTIF($AX$5:AX784,AX784)=1,AX784,\"\"))","v":""},"",null,"",null,"",null,null,null,""]
[null,null,null,null,null,null,null,null,null,null,null,"削除","","","","","","","","","",{"$f":"IF(B785=\"\",\"\",IF(COUNTIF($U$4:U785,U785)=1,\"\",\"重複\"))","v":""},"","",null,null,null,null,null,null,null,null,null,null,null,null,null,null,null,{"$f":"IF(COUNTIF($AI$5:AI785,AI785)=1,AI785,\"\")","v":""},{"$f":"IF(AI785=\"\",\"\",IF(COUNTIF($AX$5:AX785,AX785)=1,AX785,\"\"))","v":""},"",null,"",null,"",null,null,null,""]
[null,null,null,null,null,null,null,null,null,null,null,"削除","","","","","","","","","",{"$f":"IF(B786=\"\",\"\",IF(COUNTIF($U$4:U786,U786)=1,\"\",\"重複\"))","v":""},"","",null,null,null,null,null,null,null,null,null,null,null,null,null,null,null,{"$f":"IF(COUNTIF($AI$5:AI786,AI786)=1,AI786,\"\")","v":""},{"$f":"IF(AI786=\"\",\"\",IF(COUNTIF($AX$5:AX786,AX786)=1,AX786,\"\"))","v":""},"",null,"",null,"",null,null,null,""]
[null,null,null,null,null,null,null,null,null,null,null,"削除","","","","","","","","","",{"$f":"IF(B787=\"\",\"\",IF(COUNTIF($U$4:U787,U787)=1,\"\",\"重複\"))","v":""},"","",null,null,null,null,null,null,null,null,null,null,null,null,null,null,null,{"$f":"IF(COUNTIF($AI$5:AI787,AI787)=1,AI787,\"\")","v":""},{"$f":"IF(AI787=\"\",\"\",IF(COUNTIF($AX$5:AX787,AX787)=1,AX787,\"\"))","v":""},"",null,"",null,"",null,null,null,""]
[null,null,null,null,null,null,null,null,null,null,null,"削除","","","","","","","","","",{"$f":"IF(B788=\"\",\"\",IF(COUNTIF($U$4:U788,U788)=1,\"\",\"重複\"))","v":""},"","",null,null,null,null,null,null,null,null,null,null,null,null,null,null,null,{"$f":"IF(COUNTIF($AI$5:AI788,AI788)=1,AI788,\"\")","v":""},{"$f":"IF(AI788=\"\",\"\",IF(COUNTIF($AX$5:AX788,AX788)=1,AX788,\"\"))","v":""},"",null,"",null,"",null,null,null,""]
[null,null,null,null,null,null,null,null,null,null,null,"削除","","","","","","","","","",{"$f":"IF(B789=\"\",\"\",IF(COUNTIF($U$4:U789,U789)=1,\"\",\"重複\"))","v":""},"","",null,null,null,null,null,null,null,null,null,null,null,null,null,null,null,{"$f":"IF(COUNTIF($AI$5:AI789,AI789)=1,AI789,\"\")","v":""},{"$f":"IF(AI789=\"\",\"\",IF(COUNTIF($AX$5:AX789,AX789)=1,AX789,\"\"))","v":""},"",null,"",null,"",null,null,null,""]
[null,null,null,null,null,null,null,null,null,null,null,"削除","","","","","","","","","",{"$f":"IF(B790=\"\",\"\",IF(COUNTIF($U$4:U790,U790)=1,\"\",\"重複\"))","v":""},"","",null,null,null,null,null,null,null,null,null,null,null,null,null,null,null,{"$f":"IF(COUNTIF($AI$5:AI790,AI790)=1,AI790,\"\")","v":""},{"$f":"IF(AI790=\"\",\"\",IF(COUNTIF($AX$5:AX790,AX790)=1,AX790,\"\"))","v":""},"",null,"",null,"",null,null,null,""]
[null,null,null,null,null,null,null,null,null,null,null,"削除","","","","","","","","","",{"$f":"IF(B791=\"\",\"\",IF(COUNTIF($U$4:U791,U791)=1,\"\",\"重複\"))","v":""},"","",null,null,null,null,null,null,null,null,null,null,null,null,null,null,null,{"$f":"IF(COUNTIF($AI$5:AI791,AI791)=1,AI791,\"\")","v":""},{"$f":"IF(AI791=\"\",\"\",IF(COUNTIF($AX$5:AX791,AX791)=1,AX791,\"\"))","v":""},"",null,"",null,"",null,null,null,""]
[null,null,null,null,null,null,null,null,null,null,null,"削除","","","","","","","","","",{"$f":"IF(B792=\"\",\"\",IF(COUNTIF($U$4:U792,U792)=1,\"\",\"重複\"))","v":""},"","",null,null,null,null,null,null,null,null,null,null,null,null,null,null,null,{"$f":"IF(COUNTIF($AI$5:AI792,AI792)=1,AI792,\"\")","v":""},{"$f":"IF(AI792=\"\",\"\",IF(COUNTIF($AX$5:AX792,AX792)=1,AX792,\"\"))","v":""},"",null,"",null,"",null,null,null,""]
[null,null,null,null,null,null,null,null,null,null,null,"削除","","","","","","","","","",{"$f":"IF(B793=\"\",\"\",IF(COUNTIF($U$4:U793,U793)=1,\"\",\"重複\"))","v":""},"","",null,null,null,null,null,null,null,null,null,null,null,null,null,null,null,{"$f":"IF(COUNTIF($AI$5:AI793,AI793)=1,AI793,\"\")","v":""},{"$f":"IF(AI793=\"\",\"\",IF(COUNTIF($AX$5:AX793,AX793)=1,AX793,\"\"))","v":""},"",null,"",null,"",null,null,null,""]
[null,null,null,null,null,null,null,null,null,null,null,"削除","","","","","","","","","",{"$f":"IF(B794=\"\",\"\",IF(COUNTIF($U$4:U794,U794)=1,\"\",\"重複\"))","v":""},"","",null,null,null,null,null,null,null,null,null,null,null,null,null,null,null,{"$f":"IF(COUNTIF($AI$5:AI794,AI794)=1,AI794,\"\")","v":""},{"$f":"IF(AI794=\"\",\"\",IF(COUNTIF($AX$5:AX794,AX794)=1,AX794,\"\"))","v":""},"",null,"",null,"",null,null,null,""]
[null,null,null,null,null,null,null,null,null,null,null,"削除","","","","","","","","","",{"$f":"IF(B795=\"\",\"\",IF(COUNTIF($U$4:U795,U795)=1,\"\",\"重複\"))","v":""},"","",null,null,null,null,null,null,null,null,null,null,null,null,null,null,null,{"$f":"IF(COUNTIF($AI$5:AI795,AI795)=1,AI795,\"\")","v":""},{"$f":"IF(AI795=\"\",\"\",IF(COUNTIF($AX$5:AX795,AX795)=1,AX795,\"\"))","v":""},"",null,"",null,"",null,null,null,""]
[null,null,null,null,null,null,null,null,null,null,null,"削除","","","","","","","","","",{"$f":"IF(B796=\"\",\"\",IF(COUNTIF($U$4:U796,U796)=1,\"\",\"重複\"))","v":""},"","",null,null,null,null,null,null,null,null,null,null,null,null,null,null,null,{"$f":"IF(COUNTIF($AI$5:AI796,AI796)=1,AI796,\"\")","v":""},{"$f":"IF(AI796=\"\",\"\",IF(COUNTIF($AX$5:AX796,AX796)=1,AX796,\"\"))","v":""},"",null,"",null,"",null,null,null,""]
[null,null,null,null,null,null,null,null,null,null,null,"削除","","","","","","","","","",{"$f":"IF(B797=\"\",\"\",IF(COUNTIF($U$4:U797,U797)=1,\"\",\"重複\"))","v":""},"","",null,null,null,null,null,null,null,null,null,null,null,null,null,null,null,{"$f":"IF(COUNTIF($AI$5:AI797,AI797)=1,AI797,\"\")","v":""},{"$f":"IF(AI797=\"\",\"\",IF(COUNTIF($AX$5:AX797,AX797)=1,AX797,\"\"))","v":""},"",null,"",null,"",null,null,null,""]
[null,null,null,null,null,null,null,null,null,null,null,"削除","","","","","","","","","",{"$f":"IF(B798=\"\",\"\",IF(COUNTIF($U$4:U798,U798)=1,\"\",\"重複\"))","v":""},"","",null,null,null,null,null,null,null,null,null,null,null,null,null,null,null,{"$f":"IF(COUNTIF($AI$5:AI798,AI798)=1,AI798,\"\")","v":""},{"$f":"IF(AI798=\"\",\"\",IF(COUNTIF($AX$5:AX798,AX798)=1,AX798,\"\"))","v":""},"",null,"",null,"",null,null,null,""]
[null,null,null,null,null,null,null,null,null,null,null,"削除","","","","","","","","","",{"$f":"IF(B799=\"\",\"\",IF(COUNTIF($U$4:U799,U799)=1,\"\",\"重複\"))","v":""},"","",null,null,null,null,null,null,null,null,null,null,null,null,null,null,null,{"$f":"IF(COUNTIF($AI$5:AI799,AI799)=1,AI799,\"\")","v":""},{"$f":"IF(AI799=\"\",\"\",IF(COUNTIF($AX$5:AX799,AX799)=1,AX799,\"\"))","v":""},"",null,"",null,"",null,null,null,""]
[null,null,null,null,null,null,null,null,null,null,null,"削除","","","","","","","","","",{"$f":"IF(B800=\"\",\"\",IF(COUNTIF($U$4:U800,U800)=1,\"\",\"重複\"))","v":""},"","",null,null,null,null,null,null,null,null,null,null,null,null,null,null,null,{"$f":"IF(COUNTIF($AI$5:AI800,AI800)=1,AI800,\"\")","v":""},{"$f":"IF(AI800=\"\",\"\",IF(COUNTIF($AX$5:AX800,AX800)=1,AX800,\"\"))","v":""},"",null,"",null,"",null,null,null,""]
[null,null,null,null,null,null,null,null,null,null,null,"削除","","","","","","","","","",{"$f":"IF(B801=\"\",\"\",IF(COUNTIF($U$4:U801,U801)=1,\"\",\"重複\"))","v":""},"","",null,null,null,null,null,null,null,null,null,null,null,null,null,null,null,{"$f":"IF(COUNTIF($AI$5:AI801,AI801)=1,AI801,\"\")","v":""},{"$f":"IF(AI801=\"\",\"\",IF(COUNTIF($AX$5:AX801,AX801)=1,AX801,\"\"))","v":""},"",null,"",null,"",null,null,null,""]
[null,null,null,null,null,null,null,null,null,null,null,"削除","","","","","","","","","",{"$f":"IF(B802=\"\",\"\",IF(COUNTIF($U$4:U802,U802)=1,\"\",\"重複\"))","v":""},"","",null,null,null,null,null,null,null,null,null,null,null,null,null,null,null,{"$f":"IF(COUNTIF($AI$5:AI802,AI802)=1,AI802,\"\")","v":""},{"$f":"IF(AI802=\"\",\"\",IF(COUNTIF($AX$5:AX802,AX802)=1,AX802,\"\"))","v":""},"",null,"",null,"",null,null,null,""]
[null,null,null,null,null,null,null,null,null,null,null,"削除","","","","","","","","","",{"$f":"IF(B803=\"\",\"\",IF(COUNTIF($U$4:U803,U803)=1,\"\",\"重複\"))","v":""},"","",null,null,null,null,null,null,null,null,null,null,null,null,null,null,null,{"$f":"IF(COUNTIF($AI$5:AI803,AI803)=1,AI803,\"\")","v":""},{"$f":"IF(AI803=\"\",\"\",IF(COUNTIF($AX$5:AX803,AX803)=1,AX803,\"\"))","v":""},"",null,"",null,"",null,null,null,""]
[null,null,null,null,null,null,null,null,null,null,null,"削除","","","","","","","","","",{"$f":"IF(B804=\"\",\"\",IF(COUNTIF($U$4:U804,U804)=1,\"\",\"重複\"))","v":""},"","",null,null,null,null,null,null,null,null,null,800,null,null,null,null,null,{"$f":"IF(COUNTIF($AI$5:AI804,AI804)=1,AI804,\"\")","v":""},{"$f":"IF(AI804=\"\",\"\",IF(COUNTIF($AX$5:AX804,AX804)=1,AX804,\"\"))","v":""},"",null,"",null,"",null,null,null,""]
[null,null,null,null,null,null,null,null,null,null,null,"削除","","","","","","","","","",{"$f":"IF(B805=\"\",\"\",IF(COUNTIF($U$4:U805,U805)=1,\"\",\"重複\"))","v":""},"","",null,null,null,null,null,null,null,null,null,null,null,null,null,null,null,{"$f":"IF(COUNTIF($AI$5:AI805,AI805)=1,AI805,\"\")","v":""},{"$f":"IF(AI805=\"\",\"\",IF(COUNTIF($AX$5:AX805,AX805)=1,AX805,\"\"))","v":""},"",null,"",null,"",null,null,null,""]
[null,null,null,null,null,null,null,null,null,null,null,"削除","","","","","","","","","",{"$f":"IF(B806=\"\",\"\",IF(COUNTIF($U$4:U806,U806)=1,\"\",\"重複\"))","v":""},"","",null,null,null,null,null,null,null,null,null,null,null,null,null,null,null,{"$f":"IF(COUNTIF($AI$5:AI806,AI806)=1,AI806,\"\")","v":""},{"$f":"IF(AI806=\"\",\"\",IF(COUNTIF($AX$5:AX806,AX806)=1,AX806,\"\"))","v":""},"",null,"",null,"",null,null,null,""]
[null,null,null,null,null,null,null,null,null,null,null,"削除","","","","","","","","","",{"$f":"IF(B807=\"\",\"\",IF(COUNTIF($U$4:U807,U807)=1,\"\",\"重複\"))","v":""},"","",null,null,null,null,null,null,null,null,null,null,null,null,null,null,null,{"$f":"IF(COUNTIF($AI$5:AI807,AI807)=1,AI807,\"\")","v":""},{"$f":"IF(AI807=\"\",\"\",IF(COUNTIF($AX$5:AX807,AX807)=1,AX807,\"\"))","v":""},"",null,"",null,"",null,null,null,""]
[null,null,null,null,null,null,null,null,null,null,null,"削除","","","","","","","","","",{"$f":"IF(B808=\"\",\"\",IF(COUNTIF($U$4:U808,U808)=1,\"\",\"重複\"))","v":""},"","",null,null,null,null,null,null,null,null,null,null,null,null,null,null,null,{"$f":"IF(COUNTIF($AI$5:AI808,AI808)=1,AI808,\"\")","v":""},{"$f":"IF(AI808=\"\",\"\",IF(COUNTIF($AX$5:AX808,AX808)=1,AX808,\"\"))","v":""},"",null,"",null,"",null,null,null,""]
[null,null,null,null,null,null,null,null,null,null,null,"削除","","","","","","","","","",{"$f":"IF(B809=\"\",\"\",IF(COUNTIF($U$4:U809,U809)=1,\"\",\"重複\"))","v":""},"","",null,null,null,null,null,null,null,null,null,null,null,null,null,null,null,{"$f":"IF(COUNTIF($AI$5:AI809,AI809)=1,AI809,\"\")","v":""},{"$f":"IF(AI809=\"\",\"\",IF(COUNTIF($AX$5:AX809,AX809)=1,AX809,\"\"))","v":""},"",null,"",null,"",null,null,null,""]
[null,null,null,null,null,null,null,null,null,null,null,"削除","","","","","","","","","",{"$f":"IF(B810=\"\",\"\",IF(COUNTIF($U$4:U810,U810)=1,\"\",\"重複\"))","v":""},"","",null,null,null,null,null,null,null,null,null,null,null,null,null,null,null,{"$f":"IF(COUNTIF($AI$5:AI810,AI810)=1,AI810,\"\")","v":""},{"$f":"IF(AI810=\"\",\"\",IF(COUNTIF($AX$5:AX810,AX810)=1,AX810,\"\"))","v":""},"",null,"",null,"",null,null,null,""]
[null,null,null,null,null,null,null,null,null,null,null,"削除","","","","","","","","","",{"$f":"IF(B811=\"\",\"\",IF(COUNTIF($U$4:U811,U811)=1,\"\",\"重複\"))","v":""},"","",null,null,null,null,null,null,null,null,null,null,null,null,null,null,null,{"$f":"IF(COUNTIF($AI$5:AI811,AI811)=1,AI811,\"\")","v":""},{"$f":"IF(AI811=\"\",\"\",IF(COUNTIF($AX$5:AX811,AX811)=1,AX811,\"\"))","v":""},"",null,"",null,"",null,null,null,""]
[null,null,null,null,null,null,null,null,null,null,null,"削除","","","","","","","","","",{"$f":"IF(B812=\"\",\"\",IF(COUNTIF($U$4:U812,U812)=1,\"\",\"重複\"))","v":""},"","",null,null,null,null,null,null,null,null,null,null,null,null,null,null,null,{"$f":"IF(COUNTIF($AI$5:AI812,AI812)=1,AI812,\"\")","v":""},{"$f":"IF(AI812=\"\",\"\",IF(COUNTIF($AX$5:AX812,AX812)=1,AX812,\"\"))","v":""},"",null,"",null,"",null,null,null,""]
[null,null,null,null,null,null,null,null,null,null,null,"削除","","","","","","","","","",{"$f":"IF(B813=\"\",\"\",IF(COUNTIF($U$4:U813,U813)=1,\"\",\"重複\"))","v":""},"","",null,null,null,null,null,null,null,null,null,null,null,null,null,null,null,{"$f":"IF(COUNTIF($AI$5:AI813,AI813)=1,AI813,\"\")","v":""},{"$f":"IF(AI813=\"\",\"\",IF(COUNTIF($AX$5:AX813,AX813)=1,AX813,\"\"))","v":""},"",null,"",null,"",null,null,null,""]
[null,null,null,null,null,null,null,null,null,null,null,"削除","","","","","","","","","",{"$f":"IF(B814=\"\",\"\",IF(COUNTIF($U$4:U814,U814)=1,\"\",\"重複\"))","v":""},"","",null,null,null,null,null,null,null,null,null,null,null,null,null,null,null,{"$f":"IF(COUNTIF($AI$5:AI814,AI814)=1,AI814,\"\")","v":""},{"$f":"IF(AI814=\"\",\"\",IF(COUNTIF($AX$5:AX814,AX814)=1,AX814,\"\"))","v":""},"",null,"",null,"",null,null,null,""]
[null,null,null,null,null,null,null,null,null,null,null,"削除","","","","","","","","","",{"$f":"IF(B815=\"\",\"\",IF(COUNTIF($U$4:U815,U815)=1,\"\",\"重複\"))","v":""},"","",null,null,null,null,null,null,null,null,null,null,null,null,null,null,null,{"$f":"IF(COUNTIF($AI$5:AI815,AI815)=1,AI815,\"\")","v":""},{"$f":"IF(AI815=\"\",\"\",IF(COUNTIF($AX$5:AX815,AX815)=1,AX815,\"\"))","v":""},"",null,"",null,"",null,null,null,""]
[null,null,null,null,null,null,null,null,null,null,null,"削除","","","","","","","","","",{"$f":"IF(B816=\"\",\"\",IF(COUNTIF($U$4:U816,U816)=1,\"\",\"重複\"))","v":""},"","",null,null,null,null,null,null,null,null,null,null,null,null,null,null,null,{"$f":"IF(COUNTIF($AI$5:AI816,AI816)=1,AI816,\"\")","v":""},{"$f":"IF(AI816=\"\",\"\",IF(COUNTIF($AX$5:AX816,AX816)=1,AX816,\"\"))","v":""},"",null,"",null,"",null,null,null,""]
[null,null,null,null,null,null,null,null,null,null,null,"削除","","","","","","","","","",{"$f":"IF(B817=\"\",\"\",IF(COUNTIF($U$4:U817,U817)=1,\"\",\"重複\"))","v":""},"","",null,null,null,null,null,null,null,null,null,null,null,null,null,null,null,{"$f":"IF(COUNTIF($AI$5:AI817,AI817)=1,AI817,\"\")","v":""},{"$f":"IF(AI817=\"\",\"\",IF(COUNTIF($AX$5:AX817,AX817)=1,AX817,\"\"))","v":""},"",null,"",null,"",null,null,null,""]
[null,null,null,null,null,null,null,null,null,null,null,"削除","","","","","","","","","",{"$f":"IF(B818=\"\",\"\",IF(COUNTIF($U$4:U818,U818)=1,\"\",\"重複\"))","v":""},"","",null,null,null,null,null,null,null,null,null,null,null,null,null,null,null,{"$f":"IF(COUNTIF($AI$5:AI818,AI818)=1,AI818,\"\")","v":""},{"$f":"IF(AI818=\"\",\"\",IF(COUNTIF($AX$5:AX818,AX818)=1,AX818,\"\"))","v":""},"",null,"",null,"",null,null,null,""]
[null,null,null,null,null,null,null,null,null,null,null,"削除","","","","","","","","","",{"$f":"IF(B819=\"\",\"\",IF(COUNTIF($U$4:U819,U819)=1,\"\",\"重複\"))","v":""},"","",null,null,null,null,null,null,null,null,null,null,null,null,null,null,null,{"$f":"IF(COUNTIF($AI$5:AI819,AI819)=1,AI819,\"\")","v":""},{"$f":"IF(AI819=\"\",\"\",IF(COUNTIF($AX$5:AX819,AX819)=1,AX819,\"\"))","v":""},"",null,"",null,"",null,null,null,""]
[null,null,null,null,null,null,null,null,null,null,null,"削除","","","","","","","","","",{"$f":"IF(B820=\"\",\"\",IF(COUNTIF($U$4:U820,U820)=1,\"\",\"重複\"))","v":""},"","",null,null,null,null,null,null,null,null,null,null,null,null,null,null,null,{"$f":"IF(COUNTIF($AI$5:AI820,AI820)=1,AI820,\"\")","v":""},{"$f":"IF(AI820=\"\",\"\",IF(COUNTIF($AX$5:AX820,AX820)=1,AX820,\"\"))","v":""},"",null,"",null,"",null,null,null,""]
[null,null,null,null,null,null,null,null,null,null,null,"削除","","","","","","","","","",{"$f":"IF(B821=\"\",\"\",IF(COUNTIF($U$4:U821,U821)=1,\"\",\"重複\"))","v":""},"","",null,null,null,null,null,null,null,null,null,null,null,null,null,null,null,{"$f":"IF(COUNTIF($AI$5:AI821,AI821)=1,AI821,\"\")","v":""},{"$f":"IF(AI821=\"\",\"\",IF(COUNTIF($AX$5:AX821,AX821)=1,AX821,\"\"))","v":""},"",null,"",null,"",null,null,null,""]
[null,null,null,null,null,null,null,null,null,null,null,"削除","","","","","","","","","",{"$f":"IF(B822=\"\",\"\",IF(COUNTIF($U$4:U822,U822)=1,\"\",\"重複\"))","v":""},"","",null,null,null,null,null,null,null,null,null,null,null,null,null,null,null,{"$f":"IF(COUNTIF($AI$5:AI822,AI822)=1,AI822,\"\")","v":""},{"$f":"IF(AI822=\"\",\"\",IF(COUNTIF($AX$5:AX822,AX822)=1,AX822,\"\"))","v":""},"",null,"",null,"",null,null,null,""]
[null,null,null,null,null,null,null,null,null,null,null,"削除","","","","","","","","","",{"$f":"IF(B823=\"\",\"\",IF(COUNTIF($U$4:U823,U823)=1,\"\",\"重複\"))","v":""},"","",null,null,null,null,null,null,null,null,null,null,null,null,null,null,null,{"$f":"IF(COUNTIF($AI$5:AI823,AI823)=1,AI823,\"\")","v":""},{"$f":"IF(AI823=\"\",\"\",IF(COUNTIF($AX$5:AX823,AX823)=1,AX823,\"\"))","v":""},"",null,"",null,"",null,null,null,""]
[null,null,null,null,null,null,null,null,null,null,null,"削除","","","","","","","","","",{"$f":"IF(B824=\"\",\"\",IF(COUNTIF($U$4:U824,U824)=1,\"\",\"重複\"))","v":""},"","",null,null,null,null,null,null,null,null,null,null,null,null,null,null,null,{"$f":"IF(COUNTIF($AI$5:AI824,AI824)=1,AI824,\"\")","v":""},{"$f":"IF(AI824=\"\",\"\",IF(COUNTIF($AX$5:AX824,AX824)=1,AX824,\"\"))","v":""},"",null,"",null,"",null,null,null,""]
[null,null,null,null,null,null,null,null,null,null,null,"削除","","","","","","","","","",{"$f":"IF(B825=\"\",\"\",IF(COUNTIF($U$4:U825,U825)=1,\"\",\"重複\"))","v":""},"","",null,null,null,null,null,null,null,null,null,null,null,null,null,null,null,{"$f":"IF(COUNTIF($AI$5:AI825,AI825)=1,AI825,\"\")","v":""},{"$f":"IF(AI825=\"\",\"\",IF(COUNTIF($AX$5:AX825,AX825)=1,AX825,\"\"))","v":""},"",null,"",null,"",null,null,null,""]
[null,null,null,null,null,null,null,null,null,null,null,"削除","","","","","","","","","",{"$f":"IF(B826=\"\",\"\",IF(COUNTIF($U$4:U826,U826)=1,\"\",\"重複\"))","v":""},"","",null,null,null,null,null,null,null,null,null,null,null,null,null,null,null,{"$f":"IF(COUNTIF($AI$5:AI826,AI826)=1,AI826,\"\")","v":""},{"$f":"IF(AI826=\"\",\"\",IF(COUNTIF($AX$5:AX826,AX826)=1,AX826,\"\"))","v":""},"",null,"",null,"",null,null,null,""]
[null,null,null,null,null,null,null,null,null,null,null,"削除","","","","","","","","","",{"$f":"IF(B827=\"\",\"\",IF(COUNTIF($U$4:U827,U827)=1,\"\",\"重複\"))","v":""},"","",null,null,null,null,null,null,null,null,null,null,null,null,null,null,null,{"$f":"IF(COUNTIF($AI$5:AI827,AI827)=1,AI827,\"\")","v":""},{"$f":"IF(AI827=\"\",\"\",IF(COUNTIF($AX$5:AX827,AX827)=1,AX827,\"\"))","v":""},"",null,"",null,"",null,null,null,""]
[null,null,null,null,null,null,null,null,null,null,null,"削除","","","","","","","","","",{"$f":"IF(B828=\"\",\"\",IF(COUNTIF($U$4:U828,U828)=1,\"\",\"重複\"))","v":""},"","",null,null,null,null,null,null,null,null,null,null,null,null,null,null,null,{"$f":"IF(COUNTIF($AI$5:AI828,AI828)=1,AI828,\"\")","v":""},{"$f":"IF(AI828=\"\",\"\",IF(COUNTIF($AX$5:AX828,AX828)=1,AX828,\"\"))","v":""},"",null,"",null,"",null,null,null,""]
[null,null,null,null,null,null,null,null,null,null,null,"削除","","","","","","","","","",{"$f":"IF(B829=\"\",\"\",IF(COUNTIF($U$4:U829,U829)=1,\"\",\"重複\"))","v":""},"","",null,null,null,null,null,null,null,null,null,null,null,null,null,null,null,{"$f":"IF(COUNTIF($AI$5:AI829,AI829)=1,AI829,\"\")","v":""},{"$f":"IF(AI829=\"\",\"\",IF(COUNTIF($AX$5:AX829,AX829)=1,AX829,\"\"))","v":""},"",null,"",null,"",null,null,null,""]
[null,null,null,null,null,null,null,null,null,null,null,"削除","","","","","","","","","",{"$f":"IF(B830=\"\",\"\",IF(COUNTIF($U$4:U830,U830)=1,\"\",\"重複\"))","v":""},"","",null,null,null,null,null,null,null,null,null,null,null,null,null,null,null,{"$f":"IF(COUNTIF($AI$5:AI830,AI830)=1,AI830,\"\")","v":""},{"$f":"IF(AI830=\"\",\"\",IF(COUNTIF($AX$5:AX830,AX830)=1,AX830,\"\"))","v":""},"",null,"",null,"",null,null,null,""]
[null,null,null,null,null,null,null,null,null,null,null,"削除","","","","","","","","","",{"$f":"IF(B831=\"\",\"\",IF(COUNTIF($U$4:U831,U831)=1,\"\",\"重複\"))","v":""},"","",null,null,null,null,null,null,null,null,null,null,null,null,null,null,null,{"$f":"IF(COUNTIF($AI$5:AI831,AI831)=1,AI831,\"\")","v":""},{"$f":"IF(AI831=\"\",\"\",IF(COUNTIF($AX$5:AX831,AX831)=1,AX831,\"\"))","v":""},"",null,"",null,"",null,null,null,""]
[null,null,null,null,null,null,null,null,null,null,null,"削除","","","","","","","","","",{"$f":"IF(B832=\"\",\"\",IF(COUNTIF($U$4:U832,U832)=1,\"\",\"重複\"))","v":""},"","",null,null,null,null,null,null,null,null,null,null,null,null,null,null,null,{"$f":"IF(COUNTIF($AI$5:AI832,AI832)=1,AI832,\"\")","v":""},{"$f":"IF(AI832=\"\",\"\",IF(COUNTIF($AX$5:AX832,AX832)=1,AX832,\"\"))","v":""},"",null,"",null,"",null,null,null,""]
[null,null,null,null,null,null,null,null,null,null,null,"削除","","","","","","","","","",{"$f":"IF(B833=\"\",\"\",IF(COUNTIF($U$4:U833,U833)=1,\"\",\"重複\"))","v":""},"","",null,null,null,null,null,null,null,null,null,null,null,null,null,null,null,{"$f":"IF(COUNTIF($AI$5:AI833,AI833)=1,AI833,\"\")","v":""},{"$f":"IF(AI833=\"\",\"\",IF(COUNTIF($AX$5:AX833,AX833)=1,AX833,\"\"))","v":""},"",null,"",null,"",null,null,null,""]
[null,null,null,null,null,null,null,null,null,null,null,"削除","","","","","","","","","",{"$f":"IF(B834=\"\",\"\",IF(COUNTIF($U$4:U834,U834)=1,\"\",\"重複\"))","v":""},"","",null,null,null,null,null,null,null,null,null,null,null,null,null,null,null,{"$f":"IF(COUNTIF($AI$5:AI834,AI834)=1,AI834,\"\")","v":""},{"$f":"IF(AI834=\"\",\"\",IF(COUNTIF($AX$5:AX834,AX834)=1,AX834,\"\"))","v":""},"",null,"",null,"",null,null,null,""]
[null,null,null,null,null,null,null,null,null,null,null,"削除","","","","","","","","","",{"$f":"IF(B835=\"\",\"\",IF(COUNTIF($U$4:U835,U835)=1,\"\",\"重複\"))","v":""},"","",null,null,null,null,null,null,null,null,null,null,null,null,null,null,null,{"$f":"IF(COUNTIF($AI$5:AI835,AI835)=1,AI835,\"\")","v":""},{"$f":"IF(AI835=\"\",\"\",IF(COUNTIF($AX$5:AX835,AX835)=1,AX835,\"\"))","v":""},"",null,"",null,"",null,null,null,""]
[null,null,null,null,null,null,null,null,null,null,null,"削除","","","","","","","","","",{"$f":"IF(B836=\"\",\"\",IF(COUNTIF($U$4:U836,U836)=1,\"\",\"重複\"))","v":""},"",{"$f":"IF(B836=\"\",\"\",IF(LEFT(G836,3)=\"144\",IF(LEFT(H836,3)=\"SSB\",\"\",IF(LEFT(H836,3)=\"A3J\",\"\",IF(LEFT(H836,3)=\"J3E\",\"\",\"形式外\"))),\"形式外\"))","v":""},null,null,null,null,null,null,null,null,null,null,null,null,null,null,null,{"$f":"IF(COUNTIF($AI$5:AI836,AI836)=1,AI836,\"\")","v":""},{"$f":"IF(AI836=\"\",\"\",IF(COUNTIF($AX$5:AX836,AX836)=1,AX836,\"\"))","v":""},"",null,"",null,"",null,null,null,""]
[null,null,null,null,null,null,null,null,null,null,null,{"$f":"IF(B837=\"\",\"削除\",IF(OR(V837=\"重複\",W837=\"削除\",X837=\"形式外\"),\"削除\",1))","v":"削除"},{"$f":"IF(L837=\"削除\",\"\",C837)","v":""},{"$f":"IF(L837=\"削除\",\"\",D837)","v":""},{"$f":"IF(L837=\"削除\",\"\",B837)","v":""},{"$f":"IF(L837=\"削除\",\"\",E837)","v":""},{"$f":"IF(L837=\"削除\",\"\",F837)","v":""},{"$f":"IF(L837=\"削除\",\"\",I837)","v":""},{"$f":"IF(L837=\"削除\",\"\",IF(J837=\"\",\"\",J837))","v":""},{"$f":"IF(B837=\"\",\"\",LEFT(B837,FIND(\"/\",B837&\"/\")-1))","v":""},{"$f":"IF(B837=\"\",\"\",T837&\"/\"&H837)","v":""},{"$f":"IF(B837=\"\",\"\",IF(COUNTIF($U$4:U837,U837)=1,\"\",\"重複\"))","v":""},{"$f":"IF(B837=\"\",\"\",IF(LEFT(T837,1)=\"8\",\"削除\",IF(LEN(T837)=5,IF(MID(T837,4,2)=\"RL\",\"削除\",\"\"),IF(MID(T837,4,1)=\"Y\",\"削除\",IF(MID(T837,4,1)=\"Z\",\"削除\",\"\")))))","v":""},"",null,null,null,null,null,null,null,null,null,null,null,null,null,null,null,{"$f":"IF(COUNTIF($AI$5:AI837,AI837)=1,AI837,\"\")","v":""},{"$f":"IF(AI837=\"\",\"\",IF(COUNTIF($AX$5:AX837,AX837)=1,AX837,\"\"))","v":""},"",null,"",null,"",null,null,null,""]
[null,null,null,null,null,null,null,null,null,null,null,"削除","","","","","","","","","",{"$f":"IF(B838=\"\",\"\",IF(COUNTIF($U$4:U838,U838)=1,\"\",\"重複\"))","v":""},"","",null,null,null,null,null,null,null,null,null,null,null,null,null,null,null,{"$f":"IF(COUNTIF($AI$5:AI838,AI838)=1,AI838,\"\")","v":""},{"$f":"IF(AI838=\"\",\"\",IF(COUNTIF($AX$5:AX838,AX838)=1,AX838,\"\"))","v":""},{"$f":"IF(AK838=\"\",\"\",IF(COUNTIF($BN$5:$BN$304,AT838)=1,5,1))","v":""},null,{"$f":"IF(COUNTIF($BN$5:$BN$40,AT838)=1,\"M\",\"\")","v":""},null,{"$f":"LEFT(AK838&\"/\",FIND(\"/\",AK838&\"/\")-1)","v":""},null,null,null,{"$f":"RIGHT(AT838,1)","v":""}]
[null,null,null,null,null,null,null,null,null,null,null,"削除","","","","","","","","","",{"$f":"IF(B839=\"\",\"\",IF(COUNTIF($U$4:U839,U839)=1,\"\",\"重複\"))","v":""},"","",null,null,null,null,null,null,null,null,null,null,null,null,null,null,null,{"$f":"IF(COUNTIF($AI$5:AI839,AI839)=1,AI839,\"\")","v":""},{"$f":"IF(AI839=\"\",\"\",IF(COUNTIF($AX$5:AX839,AX839)=1,AX839,\"\"))","v":""},"",null,"",null,"",null,null,null,""]
[null,null,null,null,null,null,null,null,null,null,null,"削除","","","","","","","","","",{"$f":"IF(B840=\"\",\"\",IF(COUNTIF($U$4:U840,U840)=1,\"\",\"重複\"))","v":""},"","",null,null,null,null,null,null,null,null,null,null,null,null,null,null,null,{"$f":"IF(COUNTIF($AI$5:AI840,AI840)=1,AI840,\"\")","v":""},{"$f":"IF(AI840=\"\",\"\",IF(COUNTIF($AX$5:AX840,AX840)=1,AX840,\"\"))","v":""},"",null,"",null,"",null,null,null,""]
[null,null,null,null,null,null,null,null,null,null,null,"削除","","","","","","","","","",{"$f":"IF(B841=\"\",\"\",IF(COUNTIF($U$4:U841,U841)=1,\"\",\"重複\"))","v":""},"","",null,null,null,null,null,null,null,null,null,null,null,null,null,null,null,{"$f":"IF(COUNTIF($AI$5:AI841,AI841)=1,AI841,\"\")","v":""},{"$f":"IF(AI841=\"\",\"\",IF(COUNTIF($AX$5:AX841,AX841)=1,AX841,\"\"))","v":""},"",null,"",null,"",null,null,null,""]
[null,null,null,null,null,null,null,null,null,null,null,"削除","","","","","","","","","",{"$f":"IF(B842=\"\",\"\",IF(COUNTIF($U$4:U842,U842)=1,\"\",\"重複\"))","v":""},"","",null,null,null,null,null,null,null,null,null,null,null,null,null,null,null,{"$f":"IF(COUNTIF($AI$5:AI842,AI842)=1,AI842,\"\")","v":""},{"$f":"IF(AI842=\"\",\"\",IF(COUNTIF($AX$5:AX842,AX842)=1,AX842,\"\"))","v":""},"",null,"",null,"",null,null,null,""]
[null,null,null,null,null,null,null,null,null,null,null,"削除","","","","","","","","","",{"$f":"IF(B843=\"\",\"\",IF(COUNTIF($U$4:U843,U843)=1,\"\",\"重複\"))","v":""},"","",null,null,null,null,null,null,null,null,null,null,null,null,null,null,null,{"$f":"IF(COUNTIF($AI$5:AI843,AI843)=1,AI843,\"\")","v":""},{"$f":"IF(AI843=\"\",\"\",IF(COUNTIF($AX$5:AX843,AX843)=1,AX843,\"\"))","v":""},"",null,"",null,"",null,null,null,""]
[null,null,null,null,null,null,null,null,null,null,null,"削除","","","","","","","","","",{"$f":"IF(B844=\"\",\"\",IF(COUNTIF($U$4:U844,U844)=1,\"\",\"重複\"))","v":""},"","",null,null,null,null,null,null,null,null,null,null,null,null,null,null,null,{"$f":"IF(COUNTIF($AI$5:AI844,AI844)=1,AI844,\"\")","v":""},{"$f":"IF(AI844=\"\",\"\",IF(COUNTIF($AX$5:AX844,AX844)=1,AX844,\"\"))","v":""},"",null,"",null,"",null,null,null,""]
[null,null,null,null,null,null,null,null,null,null,null,"削除","","","","","","","","","",{"$f":"IF(B845=\"\",\"\",IF(COUNTIF($U$4:U845,U845)=1,\"\",\"重複\"))","v":""},"","",null,null,null,null,null,null,null,null,null,null,null,null,null,null,null,{"$f":"IF(COUNTIF($AI$5:AI845,AI845)=1,AI845,\"\")","v":""},{"$f":"IF(AI845=\"\",\"\",IF(COUNTIF($AX$5:AX845,AX845)=1,AX845,\"\"))","v":""},"",null,"",null,"",null,null,null,""]
[null,null,null,null,null,null,null,null,null,null,null,"削除","","","","","","","","","",{"$f":"IF(B846=\"\",\"\",IF(COUNTIF($U$4:U846,U846)=1,\"\",\"重複\"))","v":""},"","",null,null,null,null,null,null,null,null,null,null,null,null,null,null,null,{"$f":"IF(COUNTIF($AI$5:AI846,AI846)=1,AI846,\"\")","v":""},{"$f":"IF(AI846=\"\",\"\",IF(COUNTIF($AX$5:AX846,AX846)=1,AX846,\"\"))","v":""},"",null,"",null,"",null,null,null,""]
[null,null,null,null,null,null,null,null,null,null,null,"削除","","","","","","","","","",{"$f":"IF(B847=\"\",\"\",IF(COUNTIF($U$4:U847,U847)=1,\"\",\"重複\"))","v":""},"","",null,null,null,null,null,null,null,null,null,null,null,null,null,null,null,{"$f":"IF(COUNTIF($AI$5:AI847,AI847)=1,AI847,\"\")","v":""},{"$f":"IF(AI847=\"\",\"\",IF(COUNTIF($AX$5:AX847,AX847)=1,AX847,\"\"))","v":""},"",null,"",null,"",null,null,null,""]
[null,null,null,null,null,null,null,null,null,null,null,"削除","","","","","","","","","",{"$f":"IF(B848=\"\",\"\",IF(COUNTIF($U$4:U848,U848)=1,\"\",\"重複\"))","v":""},"","",null,null,null,null,null,null,null,null,null,null,null,null,null,null,null,{"$f":"IF(COUNTIF($AI$5:AI848,AI848)=1,AI848,\"\")","v":""},{"$f":"IF(AI848=\"\",\"\",IF(COUNTIF($AX$5:AX848,AX848)=1,AX848,\"\"))","v":""},"",null,"",null,"",null,null,null,""]
[null,null,null,null,null,null,null,null,null,null,null,"削除","","","","","","","","","",{"$f":"IF(B849=\"\",\"\",IF(COUNTIF($U$4:U849,U849)=1,\"\",\"重複\"))","v":""},"","",null,null,null,null,null,null,null,null,null,null,null,null,null,null,null,{"$f":"IF(COUNTIF($AI$5:AI849,AI849)=1,AI849,\"\")","v":""},{"$f":"IF(AI849=\"\",\"\",IF(COUNTIF($AX$5:AX849,AX849)=1,AX849,\"\"))","v":""},"",null,"",null,"",null,null,null,""]
[null,null,null,null,null,null,null,null,null,null,null,"削除","","","","","","","","","",{"$f":"IF(B850=\"\",\"\",IF(COUNTIF($U$4:U850,U850)=1,\"\",\"重複\"))","v":""},"","",null,null,null,null,null,null,null,null,null,null,null,null,null,null,null,{"$f":"IF(COUNTIF($AI$5:AI850,AI850)=1,AI850,\"\")","v":""},{"$f":"IF(AI850=\"\",\"\",IF(COUNTIF($AX$5:AX850,AX850)=1,AX850,\"\"))","v":""},"",null,"",null,"",null,null,null,""]
[null,null,null,null,null,null,null,null,null,null,null,"削除","","","","","","","","","",{"$f":"IF(B851=\"\",\"\",IF(COUNTIF($U$4:U851,U851)=1,\"\",\"重複\"))","v":""},"","",null,null,null,null,null,null,null,null,null,null,null,null,null,null,null,{"$f":"IF(COUNTIF($AI$5:AI851,AI851)=1,AI851,\"\")","v":""},{"$f":"IF(AI851=\"\",\"\",IF(COUNTIF($AX$5:AX851,AX851)=1,AX851,\"\"))","v":""},"",null,"",null,"",null,null,null,""]
[null,null,null,null,null,null,null,null,null,null,null,"削除","","","","","","","","","",{"$f":"IF(B852=\"\",\"\",IF(COUNTIF($U$4:U852,U852)=1,\"\",\"重複\"))","v":""},"","",null,null,null,null,null,null,null,null,null,null,null,null,null,null,null,{"$f":"IF(COUNTIF($AI$5:AI852,AI852)=1,AI852,\"\")","v":""},{"$f":"IF(AI852=\"\",\"\",IF(COUNTIF($AX$5:AX852,AX852)=1,AX852,\"\"))","v":""},"",null,"",null,"",null,null,null,""]
[null,null,null,null,null,null,null,null,null,null,null,"削除","","","","","","","","","",{"$f":"IF(B853=\"\",\"\",IF(COUNTIF($U$4:U853,U853)=1,\"\",\"重複\"))","v":""},"","",null,null,null,null,null,null,null,null,null,null,null,null,null,null,null,{"$f":"IF(COUNTIF($AI$5:AI853,AI853)=1,AI853,\"\")","v":""},{"$f":"IF(AI853=\"\",\"\",IF(COUNTIF($AX$5:AX853,AX853)=1,AX853,\"\"))","v":""},"",null,"",null,"",null,null,null,""]
[null,null,null,null,null,null,null,null,null,null,null,"削除","","","","","","","","","",{"$f":"IF(B854=\"\",\"\",IF(COUNTIF($U$4:U854,U854)=1,\"\",\"重複\"))","v":""},"","",null,null,null,null,null,null,null,null,null,null,null,null,null,null,null,{"$f":"IF(COUNTIF($AI$5:AI854,AI854)=1,AI854,\"\")","v":""},{"$f":"IF(AI854=\"\",\"\",IF(COUNTIF($AX$5:AX854,AX854)=1,AX854,\"\"))","v":""},"",null,"",null,"",null,null,null,""]
[null,null,null,null,null,null,null,null,null,null,null,"削除","","","","","","","","","",{"$f":"IF(B855=\"\",\"\",IF(COUNTIF($U$4:U855,U855)=1,\"\",\"重複\"))","v":""},"","",null,null,null,null,null,null,null,null,null,null,null,null,null,null,null,{"$f":"IF(COUNTIF($AI$5:AI855,AI855)=1,AI855,\"\")","v":""},{"$f":"IF(AI855=\"\",\"\",IF(COUNTIF($AX$5:AX855,AX855)=1,AX855,\"\"))","v":""},"",null,"",null,"",null,null,null,""]
[null,null,null,null,null,null,null,null,null,null,null,"削除","","","","","","","","","",{"$f":"IF(B856=\"\",\"\",IF(COUNTIF($U$4:U856,U856)=1,\"\",\"重複\"))","v":""},"","",null,null,null,null,null,null,null,null,null,null,null,null,null,null,null,{"$f":"IF(COUNTIF($AI$5:AI856,AI856)=1,AI856,\"\")","v":""},{"$f":"IF(AI856=\"\",\"\",IF(COUNTIF($AX$5:AX856,AX856)=1,AX856,\"\"))","v":""},"",null,"",null,"",null,null,null,""]
[null,null,null,null,null,null,null,null,null,null,null,"削除","","","","","","","","","",{"$f":"IF(B857=\"\",\"\",IF(COUNTIF($U$4:U857,U857)=1,\"\",\"重複\"))","v":""},"","",null,null,null,null,null,null,null,null,null,null,null,null,null,null,null,{"$f":"IF(COUNTIF($AI$5:AI857,AI857)=1,AI857,\"\")","v":""},{"$f":"IF(AI857=\"\",\"\",IF(COUNTIF($AX$5:AX857,AX857)=1,AX857,\"\"))","v":""},"",null,"",null,"",null,null,null,""]
[null,null,null,null,null,null,null,null,null,null,null,"削除","","","","","","","","","",{"$f":"IF(B858=\"\",\"\",IF(COUNTIF($U$4:U858,U858)=1,\"\",\"重複\"))","v":""},"","",null,null,null,null,null,null,null,null,null,null,null,null,null,null,null,{"$f":"IF(COUNTIF($AI$5:AI858,AI858)=1,AI858,\"\")","v":""},{"$f":"IF(AI858=\"\",\"\",IF(COUNTIF($AX$5:AX858,AX858)=1,AX858,\"\"))","v":""},"",null,"",null,"",null,null,null,""]
[null,null,null,null,null,null,null,null,null,null,null,"削除","","","","","","","","","",{"$f":"IF(B859=\"\",\"\",IF(COUNTIF($U$4:U859,U859)=1,\"\",\"重複\"))","v":""},"","",null,null,null,null,null,null,null,null,null,null,null,null,null,null,null,{"$f":"IF(COUNTIF($AI$5:AI859,AI859)=1,AI859,\"\")","v":""},{"$f":"IF(AI859=\"\",\"\",IF(COUNTIF($AX$5:AX859,AX859)=1,AX859,\"\"))","v":""},"",null,"",null,"",null,null,null,""]
[null,null,null,null,null,null,null,null,null,null,null,"削除","","","","","","","","","",{"$f":"IF(B860=\"\",\"\",IF(COUNTIF($U$4:U860,U860)=1,\"\",\"重複\"))","v":""},"","",null,null,null,null,null,null,null,null,null,null,null,null,null,null,null,{"$f":"IF(COUNTIF($AI$5:AI860,AI860)=1,AI860,\"\")","v":""},{"$f":"IF(AI860=\"\",\"\",IF(COUNTIF($AX$5:AX860,AX860)=1,AX860,\"\"))","v":""},"",null,"",null,"",null,null,null,""]
[null,null,null,null,null,null,null,null,null,null,null,"削除","","","","","","","","","",{"$f":"IF(B861=\"\",\"\",IF(COUNTIF($U$4:U861,U861)=1,\"\",\"重複\"))","v":""},"","",null,null,null,null,null,null,null,null,null,null,null,null,null,null,null,{"$f":"IF(COUNTIF($AI$5:AI861,AI861)=1,AI861,\"\")","v":""},{"$f":"IF(AI861=\"\",\"\",IF(COUNTIF($AX$5:AX861,AX861)=1,AX861,\"\"))","v":""},"",null,"",null,"",null,null,null,""]
[null,null,null,null,null,null,null,null,null,null,null,"削除","","","","","","","","","",{"$f":"IF(B862=\"\",\"\",IF(COUNTIF($U$4:U862,U862)=1,\"\",\"重複\"))","v":""},"","",null,null,null,null,null,null,null,null,null,null,null,null,null,null,null,{"$f":"IF(COUNTIF($AI$5:AI862,AI862)=1,AI862,\"\")","v":""},{"$f":"IF(AI862=\"\",\"\",IF(COUNTIF($AX$5:AX862,AX862)=1,AX862,\"\"))","v":""},"",null,"",null,"",null,null,null,""]
[null,null,null,null,null,null,null,null,null,null,null,"削除","","","","","","","","","",{"$f":"IF(B863=\"\",\"\",IF(COUNTIF($U$4:U863,U863)=1,\"\",\"重複\"))","v":""},"","",null,null,null,null,null,null,null,null,null,null,null,null,null,null,null,{"$f":"IF(COUNTIF($AI$5:AI863,AI863)=1,AI863,\"\")","v":""},{"$f":"IF(AI863=\"\",\"\",IF(COUNTIF($AX$5:AX863,AX863)=1,AX863,\"\"))","v":""},"",null,"",null,"",null,null,null,""]
[null,null,null,null,null,null,null,null,null,null,null,"削除","","","","","","","","","",{"$f":"IF(B864=\"\",\"\",IF(COUNTIF($U$4:U864,U864)=1,\"\",\"重複\"))","v":""},"","",null,null,null,null,null,null,null,null,null,null,null,null,null,null,null,{"$f":"IF(COUNTIF($AI$5:AI864,AI864)=1,AI864,\"\")","v":""},{"$f":"IF(AI864=\"\",\"\",IF(COUNTIF($AX$5:AX864,AX864)=1,AX864,\"\"))","v":""},"",null,"",null,"",null,null,null,""]
[null,null,null,null,null,null,null,null,null,null,null,"削除","","","","","","","","","",{"$f":"IF(B865=\"\",\"\",IF(COUNTIF($U$4:U865,U865)=1,\"\",\"重複\"))","v":""},"","",null,null,null,null,null,null,null,null,null,null,null,null,null,null,null,{"$f":"IF(COUNTIF($AI$5:AI865,AI865)=1,AI865,\"\")","v":""},{"$f":"IF(AI865=\"\",\"\",IF(COUNTIF($AX$5:AX865,AX865)=1,AX865,\"\"))","v":""},"",null,"",null,"",null,null,null,""]
[null,null,null,null,null,null,null,null,null,null,null,"削除","","","","","","","","","",{"$f":"IF(B866=\"\",\"\",IF(COUNTIF($U$4:U866,U866)=1,\"\",\"重複\"))","v":""},"","",null,null,null,null,null,null,null,null,null,null,null,null,null,null,null,{"$f":"IF(COUNTIF($AI$5:AI866,AI866)=1,AI866,\"\")","v":""},{"$f":"IF(AI866=\"\",\"\",IF(COUNTIF($AX$5:AX866,AX866)=1,AX866,\"\"))","v":""},"",null,"",null,"",null,null,null,""]
[null,null,null,null,null,null,null,null,null,null,null,"削除","","","","","","","","","",{"$f":"IF(B867=\"\",\"\",IF(COUNTIF($U$4:U867,U867)=1,\"\",\"重複\"))","v":""},"","",null,null,null,null,null,null,null,null,null,null,null,null,null,null,null,{"$f":"IF(COUNTIF($AI$5:AI867,AI867)=1,AI867,\"\")","v":""},{"$f":"IF(AI867=\"\",\"\",IF(COUNTIF($AX$5:AX867,AX867)=1,AX867,\"\"))","v":""},"",null,"",null,"",null,null,null,""]
[null,null,null,null,null,null,null,null,null,null,null,"削除","","","","","","","","","",{"$f":"IF(B868=\"\",\"\",IF(COUNTIF($U$4:U868,U868)=1,\"\",\"重複\"))","v":""},"","",null,null,null,null,null,null,null,null,null,null,null,null,null,null,null,{"$f":"IF(COUNTIF($AI$5:AI868,AI868)=1,AI868,\"\")","v":""},{"$f":"IF(AI868=\"\",\"\",IF(COUNTIF($AX$5:AX868,AX868)=1,AX868,\"\"))","v":""},"",null,"",null,"",null,null,null,""]
[null,null,null,null,null,null,null,null,null,null,null,"削除","","","","","","","","","",{"$f":"IF(B869=\"\",\"\",IF(COUNTIF($U$4:U869,U869)=1,\"\",\"重複\"))","v":""},"","",null,null,null,null,null,null,null,null,null,null,null,null,null,null,null,{"$f":"IF(COUNTIF($AI$5:AI869,AI869)=1,AI869,\"\")","v":""},{"$f":"IF(AI869=\"\",\"\",IF(COUNTIF($AX$5:AX869,AX869)=1,AX869,\"\"))","v":""},"",null,"",null,"",null,null,null,""]
[null,null,null,null,null,null,null,null,null,null,null,"削除","","","","","","","","","",{"$f":"IF(B870=\"\",\"\",IF(COUNTIF($U$4:U870,U870)=1,\"\",\"重複\"))","v":""},"","",null,null,null,null,null,null,null,null,null,null,null,null,null,null,null,{"$f":"IF(COUNTIF($AI$5:AI870,AI870)=1,AI870,\"\")","v":""},{"$f":"IF(AI870=\"\",\"\",IF(COUNTIF($AX$5:AX870,AX870)=1,AX870,\"\"))","v":""},"",null,"",null,"",null,null,null,""]
[null,null,null,null,null,null,null,null,null,null,null,"削除","","","","","","","","","",{"$f":"IF(B871=\"\",\"\",IF(COUNTIF($U$4:U871,U871)=1,\"\",\"重複\"))","v":""},"","",null,null,null,null,null,null,null,null,null,null,null,null,null,null,null,{"$f":"IF(COUNTIF($AI$5:AI871,AI871)=1,AI871,\"\")","v":""},{"$f":"IF(AI871=\"\",\"\",IF(COUNTIF($AX$5:AX871,AX871)=1,AX871,\"\"))","v":""},"",null,"",null,"",null,null,null,""]
[null,null,null,null,null,null,null,null,null,null,null,"削除","","","","","","","","","",{"$f":"IF(B872=\"\",\"\",IF(COUNTIF($U$4:U872,U872)=1,\"\",\"重複\"))","v":""},"","",null,null,null,null,null,null,null,null,null,null,null,null,null,null,null,{"$f":"IF(COUNTIF($AI$5:AI872,AI872)=1,AI872,\"\")","v":""},{"$f":"IF(AI872=\"\",\"\",IF(COUNTIF($AX$5:AX872,AX872)=1,AX872,\"\"))","v":""},"",null,"",null,"",null,null,null,""]
[null,null,null,null,null,null,null,null,null,null,null,"削除","","","","","","","","","",{"$f":"IF(B873=\"\",\"\",IF(COUNTIF($U$4:U873,U873)=1,\"\",\"重複\"))","v":""},"","",null,null,null,null,null,null,null,null,null,null,null,null,null,null,null,{"$f":"IF(COUNTIF($AI$5:AI873,AI873)=1,AI873,\"\")","v":""},{"$f":"IF(AI873=\"\",\"\",IF(COUNTIF($AX$5:AX873,AX873)=1,AX873,\"\"))","v":""},"",null,"",null,"",null,null,null,""]
[null,null,null,null,null,null,null,null,null,null,null,"削除","","","","","","","","","",{"$f":"IF(B874=\"\",\"\",IF(COUNTIF($U$4:U874,U874)=1,\"\",\"重複\"))","v":""},"","",null,null,null,null,null,null,null,null,null,null,null,null,null,null,null,{"$f":"IF(COUNTIF($AI$5:AI874,AI874)=1,AI874,\"\")","v":""},{"$f":"IF(AI874=\"\",\"\",IF(COUNTIF($AX$5:AX874,AX874)=1,AX874,\"\"))","v":""},"",null,"",null,"",null,null,null,""]
[null,null,null,null,null,null,null,null,null,null,null,"削除","","","","","","","","","",{"$f":"IF(B875=\"\",\"\",IF(COUNTIF($U$4:U875,U875)=1,\"\",\"重複\"))","v":""},"","",null,null,null,null,null,null,null,null,null,null,null,null,null,null,null,{"$f":"IF(COUNTIF($AI$5:AI875,AI875)=1,AI875,\"\")","v":""},{"$f":"IF(AI875=\"\",\"\",IF(COUNTIF($AX$5:AX875,AX875)=1,AX875,\"\"))","v":""},"",null,"",null,"",null,null,null,""]
[null,null,null,null,null,null,null,null,null,null,null,"削除","","","","","","","","","",{"$f":"IF(B876=\"\",\"\",IF(COUNTIF($U$4:U876,U876)=1,\"\",\"重複\"))","v":""},"","",null,null,null,null,null,null,null,null,null,null,null,null,null,null,null,{"$f":"IF(COUNTIF($AI$5:AI876,AI876)=1,AI876,\"\")","v":""},{"$f":"IF(AI876=\"\",\"\",IF(COUNTIF($AX$5:AX876,AX876)=1,AX876,\"\"))","v":""},"",null,"",null,"",null,null,null,""]
[null,null,null,null,null,null,null,null,null,null,null,"削除","","","","","","","","","",{"$f":"IF(B877=\"\",\"\",IF(COUNTIF($U$4:U877,U877)=1,\"\",\"重複\"))","v":""},"","",null,null,null,null,null,null,null,null,null,null,null,null,null,null,null,{"$f":"IF(COUNTIF($AI$5:AI877,AI877)=1,AI877,\"\")","v":""},{"$f":"IF(AI877=\"\",\"\",IF(COUNTIF($AX$5:AX877,AX877)=1,AX877,\"\"))","v":""},"",null,"",null,"",null,null,null,""]
[null,null,null,null,null,null,null,null,null,null,null,"削除","","","","","","","","","",{"$f":"IF(B878=\"\",\"\",IF(COUNTIF($U$4:U878,U878)=1,\"\",\"重複\"))","v":""},"","",null,null,null,null,null,null,null,null,null,null,null,null,null,null,null,{"$f":"IF(COUNTIF($AI$5:AI878,AI878)=1,AI878,\"\")","v":""},{"$f":"IF(AI878=\"\",\"\",IF(COUNTIF($AX$5:AX878,AX878)=1,AX878,\"\"))","v":""},"",null,"",null,"",null,null,null,""]
[null,null,null,null,null,null,null,null,null,null,null,"削除","","","","","","","","","",{"$f":"IF(B879=\"\",\"\",IF(COUNTIF($U$4:U879,U879)=1,\"\",\"重複\"))","v":""},"","",null,null,null,null,null,null,null,null,null,null,null,null,null,null,null,{"$f":"IF(COUNTIF($AI$5:AI879,AI879)=1,AI879,\"\")","v":""},{"$f":"IF(AI879=\"\",\"\",IF(COUNTIF($AX$5:AX879,AX879)=1,AX879,\"\"))","v":""},"",null,"",null,"",null,null,null,""]
[null,null,null,null,null,null,null,null,null,null,null,"削除","","","","","","","","","",{"$f":"IF(B880=\"\",\"\",IF(COUNTIF($U$4:U880,U880)=1,\"\",\"重複\"))","v":""},"","",null,null,null,null,null,null,null,null,null,null,null,null,null,null,null,{"$f":"IF(COUNTIF($AI$5:AI880,AI880)=1,AI880,\"\")","v":""},{"$f":"IF(AI880=\"\",\"\",IF(COUNTIF($AX$5:AX880,AX880)=1,AX880,\"\"))","v":""},"",null,"",null,"",null,null,null,""]
[null,null,null,null,null,null,null,null,null,null,null,"削除","","","","","","","","","",{"$f":"IF(B881=\"\",\"\",IF(COUNTIF($U$4:U881,U881)=1,\"\",\"重複\"))","v":""},"","",null,null,null,null,null,null,null,null,null,null,null,null,null,null,null,{"$f":"IF(COUNTIF($AI$5:AI881,AI881)=1,AI881,\"\")","v":""},{"$f":"IF(AI881=\"\",\"\",IF(COUNTIF($AX$5:AX881,AX881)=1,AX881,\"\"))","v":""},"",null,"",null,"",null,null,null,""]
[null,null,null,null,null,null,null,null,null,null,null,"削除","","","","","","","","","",{"$f":"IF(B882=\"\",\"\",IF(COUNTIF($U$4:U882,U882)=1,\"\",\"重複\"))","v":""},"","",null,null,null,null,null,null,null,null,null,null,null,null,null,null,null,{"$f":"IF(COUNTIF($AI$5:AI882,AI882)=1,AI882,\"\")","v":""},{"$f":"IF(AI882=\"\",\"\",IF(COUNTIF($AX$5:AX882,AX882)=1,AX882,\"\"))","v":""},"",null,"",null,"",null,null,null,""]
[null,null,null,null,null,null,null,null,null,null,null,"削除","","","","","","","","","",{"$f":"IF(B883=\"\",\"\",IF(COUNTIF($U$4:U883,U883)=1,\"\",\"重複\"))","v":""},"","",null,null,null,null,null,null,null,null,null,null,null,null,null,null,null,{"$f":"IF(COUNTIF($AI$5:AI883,AI883)=1,AI883,\"\")","v":""},{"$f":"IF(AI883=\"\",\"\",IF(COUNTIF($AX$5:AX883,AX883)=1,AX883,\"\"))","v":""},"",null,"",null,"",null,null,null,""]
[null,null,null,null,null,null,null,null,null,null,null,"削除","","","","","","","","","",{"$f":"IF(B884=\"\",\"\",IF(COUNTIF($U$4:U884,U884)=1,\"\",\"重複\"))","v":""},"","",null,null,null,null,null,null,null,null,null,null,null,null,null,null,null,{"$f":"IF(COUNTIF($AI$5:AI884,AI884)=1,AI884,\"\")","v":""},{"$f":"IF(AI884=\"\",\"\",IF(COUNTIF($AX$5:AX884,AX884)=1,AX884,\"\"))","v":""},"",null,"",null,"",null,null,null,""]
[null,null,null,null,null,null,null,null,null,null,null,"削除","","","","","","","","","",{"$f":"IF(B885=\"\",\"\",IF(COUNTIF($U$4:U885,U885)=1,\"\",\"重複\"))","v":""},"","",null,null,null,null,null,null,null,null,null,null,null,null,null,null,null,{"$f":"IF(COUNTIF($AI$5:AI885,AI885)=1,AI885,\"\")","v":""},{"$f":"IF(AI885=\"\",\"\",IF(COUNTIF($AX$5:AX885,AX885)=1,AX885,\"\"))","v":""},"",null,"",null,"",null,null,null,""]
[null,null,null,null,null,null,null,null,null,null,null,"削除","","","","","","","","","",{"$f":"IF(B886=\"\",\"\",IF(COUNTIF($U$4:U886,U886)=1,\"\",\"重複\"))","v":""},"","",null,null,null,null,null,null,null,null,null,null,null,null,null,null,null,{"$f":"IF(COUNTIF($AI$5:AI886,AI886)=1,AI886,\"\")","v":""},{"$f":"IF(AI886=\"\",\"\",IF(COUNTIF($AX$5:AX886,AX886)=1,AX886,\"\"))","v":""},"",null,"",null,"",null,null,null,""]
[null,null,null,null,null,null,null,null,null,null,null,"削除","","","","","","","","","",{"$f":"IF(B887=\"\",\"\",IF(COUNTIF($U$4:U887,U887)=1,\"\",\"重複\"))","v":""},"","",null,null,null,null,null,null,null,null,null,null,null,null,null,null,null,{"$f":"IF(COUNTIF($AI$5:AI887,AI887)=1,AI887,\"\")","v":""},{"$f":"IF(AI887=\"\",\"\",IF(COUNTIF($AX$5:AX887,AX887)=1,AX887,\"\"))","v":""},"",null,"",null,"",null,null,null,""]
[null,null,null,null,null,null,null,null,null,null,null,"削除","","","","","","","","","",{"$f":"IF(B888=\"\",\"\",IF(COUNTIF($U$4:U888,U888)=1,\"\",\"重複\"))","v":""},"","",null,null,null,null,null,null,null,null,null,null,null,null,null,null,null,{"$f":"IF(COUNTIF($AI$5:AI888,AI888)=1,AI888,\"\")","v":""},{"$f":"IF(AI888=\"\",\"\",IF(COUNTIF($AX$5:AX888,AX888)=1,AX888,\"\"))","v":""},"",null,"",null,"",null,null,null,""]
[null,null,null,null,null,null,null,null,null,null,null,"削除","","","","","","","","","",{"$f":"IF(B889=\"\",\"\",IF(COUNTIF($U$4:U889,U889)=1,\"\",\"重複\"))","v":""},"","",null,null,null,null,null,null,null,null,null,null,null,null,null,null,null,{"$f":"IF(COUNTIF($AI$5:AI889,AI889)=1,AI889,\"\")","v":""},{"$f":"IF(AI889=\"\",\"\",IF(COUNTIF($AX$5:AX889,AX889)=1,AX889,\"\"))","v":""},"",null,"",null,"",null,null,null,""]
[null,null,null,null,null,null,null,null,null,null,null,"削除","","","","","","","","","",{"$f":"IF(B890=\"\",\"\",IF(COUNTIF($U$4:U890,U890)=1,\"\",\"重複\"))","v":""},"","",null,null,null,null,null,null,null,null,null,null,null,null,null,null,null,{"$f":"IF(COUNTIF($AI$5:AI890,AI890)=1,AI890,\"\")","v":""},{"$f":"IF(AI890=\"\",\"\",IF(COUNTIF($AX$5:AX890,AX890)=1,AX890,\"\"))","v":""},"",null,"",null,"",null,null,null,""]
[null,null,null,null,null,null,null,null,null,null,null,"削除","","","","","","","","","",{"$f":"IF(B891=\"\",\"\",IF(COUNTIF($U$4:U891,U891)=1,\"\",\"重複\"))","v":""},"","",null,null,null,null,null,null,null,null,null,null,null,null,null,null,null,{"$f":"IF(COUNTIF($AI$5:AI891,AI891)=1,AI891,\"\")","v":""},{"$f":"IF(AI891=\"\",\"\",IF(COUNTIF($AX$5:AX891,AX891)=1,AX891,\"\"))","v":""},"",null,"",null,"",null,null,null,""]
[null,null,null,null,null,null,null,null,null,null,null,"削除","","","","","","","","","",{"$f":"IF(B892=\"\",\"\",IF(COUNTIF($U$4:U892,U892)=1,\"\",\"重複\"))","v":""},"","",null,null,null,null,null,null,null,null,null,null,null,null,null,null,null,{"$f":"IF(COUNTIF($AI$5:AI892,AI892)=1,AI892,\"\")","v":""},{"$f":"IF(AI892=\"\",\"\",IF(COUNTIF($AX$5:AX892,AX892)=1,AX892,\"\"))","v":""},"",null,"",null,"",null,null,null,""]
[null,null,null,null,null,null,null,null,null,null,null,"削除","","","","","","","","","",{"$f":"IF(B893=\"\",\"\",IF(COUNTIF($U$4:U893,U893)=1,\"\",\"重複\"))","v":""},"","",null,null,null,null,null,null,null,null,null,null,null,null,null,null,null,{"$f":"IF(COUNTIF($AI$5:AI893,AI893)=1,AI893,\"\")","v":""},{"$f":"IF(AI893=\"\",\"\",IF(COUNTIF($AX$5:AX893,AX893)=1,AX893,\"\"))","v":""},"",null,"",null,"",null,null,null,""]
[null,null,null,null,null,null,null,null,null,null,null,"削除","","","","","","","","","",{"$f":"IF(B894=\"\",\"\",IF(COUNTIF($U$4:U894,U894)=1,\"\",\"重複\"))","v":""},"","",null,null,null,null,null,null,null,null,null,null,null,null,null,null,null,{"$f":"IF(COUNTIF($AI$5:AI894,AI894)=1,AI894,\"\")","v":""},{"$f":"IF(AI894=\"\",\"\",IF(COUNTIF($AX$5:AX894,AX894)=1,AX894,\"\"))","v":""},"",null,"",null,"",null,null,null,""]
[null,null,null,null,null,null,null,null,null,null,null,"削除","","","","","","","","","",{"$f":"IF(B895=\"\",\"\",IF(COUNTIF($U$4:U895,U895)=1,\"\",\"重複\"))","v":""},"","",null,null,null,null,null,null,null,null,null,null,null,null,null,null,null,{"$f":"IF(COUNTIF($AI$5:AI895,AI895)=1,AI895,\"\")","v":""},{"$f":"IF(AI895=\"\",\"\",IF(COUNTIF($AX$5:AX895,AX895)=1,AX895,\"\"))","v":""},"",null,"",null,"",null,null,null,""]
[null,null,null,null,null,null,null,null,null,null,null,"削除","","","","","","","","","",{"$f":"IF(B896=\"\",\"\",IF(COUNTIF($U$4:U896,U896)=1,\"\",\"重複\"))","v":""},"","",null,null,null,null,null,null,null,null,null,null,null,null,null,null,null,{"$f":"IF(COUNTIF($AI$5:AI896,AI896)=1,AI896,\"\")","v":""},{"$f":"IF(AI896=\"\",\"\",IF(COUNTIF($AX$5:AX896,AX896)=1,AX896,\"\"))","v":""},"",null,"",null,"",null,null,null,""]
[null,null,null,null,null,null,null,null,null,null,null,"削除","","","","","","","","","",{"$f":"IF(B897=\"\",\"\",IF(COUNTIF($U$4:U897,U897)=1,\"\",\"重複\"))","v":""},"","",null,null,null,null,null,null,null,null,null,null,null,null,null,null,null,{"$f":"IF(COUNTIF($AI$5:AI897,AI897)=1,AI897,\"\")","v":""},{"$f":"IF(AI897=\"\",\"\",IF(COUNTIF($AX$5:AX897,AX897)=1,AX897,\"\"))","v":""},"",null,"",null,"",null,null,null,""]
[null,null,null,null,null,null,null,null,null,null,null,"削除","","","","","","","","","",{"$f":"IF(B898=\"\",\"\",IF(COUNTIF($U$4:U898,U898)=1,\"\",\"重複\"))","v":""},"","",null,null,null,null,null,null,null,null,null,null,null,null,null,null,null,{"$f":"IF(COUNTIF($AI$5:AI898,AI898)=1,AI898,\"\")","v":""},{"$f":"IF(AI898=\"\",\"\",IF(COUNTIF($AX$5:AX898,AX898)=1,AX898,\"\"))","v":""},"",null,"",null,"",null,null,null,""]
[null,null,null,null,null,null,null,null,null,null,null,"削除","","","","","","","","","",{"$f":"IF(B899=\"\",\"\",IF(COUNTIF($U$4:U899,U899)=1,\"\",\"重複\"))","v":""},"","",null,null,null,null,null,null,null,null,null,null,null,null,null,null,null,{"$f":"IF(COUNTIF($AI$5:AI899,AI899)=1,AI899,\"\")","v":""},{"$f":"IF(AI899=\"\",\"\",IF(COUNTIF($AX$5:AX899,AX899)=1,AX899,\"\"))","v":""},"",null,"",null,"",null,null,null,""]
[null,null,null,null,null,null,null,null,null,null,null,"削除","","","","","","","","","",{"$f":"IF(B900=\"\",\"\",IF(COUNTIF($U$4:U900,U900)=1,\"\",\"重複\"))","v":""},"",{"$f":"IF(B900=\"\",\"\",IF(LEFT(G900,3)=\"144\",IF(LEFT(H900,3)=\"SSB\",\"\",IF(LEFT(H900,3)=\"A3J\",\"\",IF(LEFT(H900,3)=\"J3E\",\"\",\"形式外\"))),\"形式外\"))","v":""},null,null,null,null,null,null,null,null,null,900,null,null,null,null,null,{"$f":"IF(COUNTIF($AI$5:AI900,AI900)=1,AI900,\"\")","v":""},{"$f":"IF(AI900=\"\",\"\",IF(COUNTIF($AX$5:AX900,AX900)=1,AX900,\"\"))","v":""},"",null,"",null,"",null,null,null,""]
[null,null,null,null,null,null,null,null,null,null,null,{"$f":"IF(B901=\"\",\"削除\",IF(OR(V901=\"重複\",W901=\"削除\",X901=\"形式外\"),\"削除\",1))","v":"削除"},{"$f":"IF(L901=\"削除\",\"\",C901)","v":""},{"$f":"IF(L901=\"削除\",\"\",D901)","v":""},{"$f":"IF(L901=\"削除\",\"\",B901)","v":""},{"$f":"IF(L901=\"削除\",\"\",E901)","v":""},{"$f":"IF(L901=\"削除\",\"\",F901)","v":""},{"$f":"IF(L901=\"削除\",\"\",I901)","v":""},{"$f":"IF(L901=\"削除\",\"\",IF(J901=\"\",\"\",J901))","v":""},{"$f":"IF(B901=\"\",\"\",LEFT(B901,FIND(\"/\",B901&\"/\")-1))","v":""},{"$f":"IF(B901=\"\",\"\",T901&\"/\"&H901)","v":""},{"$f":"IF(B901=\"\",\"\",IF(COUNTIF($U$4:U901,U901)=1,\"\",\"重複\"))","v":""},{"$f":"IF(B901=\"\",\"\",IF(LEFT(T901,1)=\"8\",\"削除\",IF(LEN(T901)=5,IF(MID(T901,4,2)=\"RL\",\"削除\",\"\"),IF(MID(T901,4,1)=\"Y\",\"削除\",IF(MID(T901,4,1)=\"Z\",\"削除\",\"\")))))","v":""},"",null,null,null,null,null,null,null,null,null,null,null,null,null,null,null,{"$f":"IF(COUNTIF($AI$5:AI901,AI901)=1,AI901,\"\")","v":""},{"$f":"IF(AI901=\"\",\"\",IF(COUNTIF($AX$5:AX901,AX901)=1,AX901,\"\"))","v":""},"",null,"",null,"",null,null,null,""]
[null,null,null,null,null,null,null,null,null,null,null,"削除","","","","","","","","","",{"$f":"IF(B902=\"\",\"\",IF(COUNTIF($U$4:U902,U902)=1,\"\",\"重複\"))","v":""},"","",null,null,null,null,null,null,null,null,null,null,null,null,null,null,null,{"$f":"IF(COUNTIF($AI$5:AI902,AI902)=1,AI902,\"\")","v":""},{"$f":"IF(AI902=\"\",\"\",IF(COUNTIF($AX$5:AX902,AX902)=1,AX902,\"\"))","v":""},{"$f":"IF(AK902=\"\",\"\",IF(COUNTIF($BN$5:$BN$304,AT902)=1,5,1))","v":""},null,{"$f":"IF(COUNTIF($BN$5:$BN$40,AT902)=1,\"M\",\"\")","v":""},null,{"$f":"LEFT(AK902&\"/\",FIND(\"/\",AK902&\"/\")-1)","v":""},null,null,null,{"$f":"RIGHT(AT902,1)","v":""}]
[null,null,null,null,null,null,null,null,null,null,null,"削除","","","","","","","","","",{"$f":"IF(B903=\"\",\"\",IF(COUNTIF($U$4:U903,U903)=1,\"\",\"重複\"))","v":""},"","",null,null,null,null,null,null,null,null,null,null,null,null,null,null,null,{"$f":"IF(COUNTIF($AI$5:AI903,AI903)=1,AI903,\"\")","v":""},{"$f":"IF(AI903=\"\",\"\",IF(COUNTIF($AX$5:AX903,AX903)=1,AX903,\"\"))","v":""},"",null,"",null,"",null,null,null,""]
[null,null,null,null,null,null,null,null,null,null,null,"削除","","","","","","","","","",{"$f":"IF(B904=\"\",\"\",IF(COUNTIF($U$4:U904,U904)=1,\"\",\"重複\"))","v":""},"","",null,null,null,null,null,null,null,null,null,null,null,null,null,null,null,{"$f":"IF(COUNTIF($AI$5:AI904,AI904)=1,AI904,\"\")","v":""},{"$f":"IF(AI904=\"\",\"\",IF(COUNTIF($AX$5:AX904,AX904)=1,AX904,\"\"))","v":""},"",null,"",null,"",null,null,null,""]
[null,null,null,null,null,null,null,null,null,null,null,"削除","","","","","","","","","",{"$f":"IF(B905=\"\",\"\",IF(COUNTIF($U$4:U905,U905)=1,\"\",\"重複\"))","v":""},"","",null,null,null,null,null,null,null,null,null,null,null,null,null,null,null,{"$f":"IF(COUNTIF($AI$5:AI905,AI905)=1,AI905,\"\")","v":""},{"$f":"IF(AI905=\"\",\"\",IF(COUNTIF($AX$5:AX905,AX905)=1,AX905,\"\"))","v":""},"",null,"",null,"",null,null,null,""]
[null,null,null,null,null,null,null,null,null,null,null,"削除","","","","","","","","","",{"$f":"IF(B906=\"\",\"\",IF(COUNTIF($U$4:U906,U906)=1,\"\",\"重複\"))","v":""},"","",null,null,null,null,null,null,null,null,null,null,null,null,null,null,null,{"$f":"IF(COUNTIF($AI$5:AI906,AI906)=1,AI906,\"\")","v":""},{"$f":"IF(AI906=\"\",\"\",IF(COUNTIF($AX$5:AX906,AX906)=1,AX906,\"\"))","v":""},"",null,"",null,"",null,null,null,""]
[null,null,null,null,null,null,null,null,null,null,null,"削除","","","","","","","","","",{"$f":"IF(B907=\"\",\"\",IF(COUNTIF($U$4:U907,U907)=1,\"\",\"重複\"))","v":""},"","",null,null,null,null,null,null,null,null,null,null,null,null,null,null,null,{"$f":"IF(COUNTIF($AI$5:AI907,AI907)=1,AI907,\"\")","v":""},{"$f":"IF(AI907=\"\",\"\",IF(COUNTIF($AX$5:AX907,AX907)=1,AX907,\"\"))","v":""},"",null,"",null,"",null,null,null,""]
[null,null,null,null,null,null,null,null,null,null,null,"削除","","","","","","","","","",{"$f":"IF(B908=\"\",\"\",IF(COUNTIF($U$4:U908,U908)=1,\"\",\"重複\"))","v":""},"","",null,null,null,null,null,null,null,null,null,null,null,null,null,null,null,{"$f":"IF(COUNTIF($AI$5:AI908,AI908)=1,AI908,\"\")","v":""},{"$f":"IF(AI908=\"\",\"\",IF(COUNTIF($AX$5:AX908,AX908)=1,AX908,\"\"))","v":""},"",null,"",null,"",null,null,null,""]
[null,null,null,null,null,null,null,null,null,null,null,"削除","","","","","","","","","",{"$f":"IF(B909=\"\",\"\",IF(COUNTIF($U$4:U909,U909)=1,\"\",\"重複\"))","v":""},"","",null,null,null,null,null,null,null,null,null,null,null,null,null,null,null,{"$f":"IF(COUNTIF($AI$5:AI909,AI909)=1,AI909,\"\")","v":""},{"$f":"IF(AI909=\"\",\"\",IF(COUNTIF($AX$5:AX909,AX909)=1,AX909,\"\"))","v":""},"",null,"",null,"",null,null,null,""]
[null,null,null,null,null,null,null,null,null,null,null,"削除","","","","","","","","","",{"$f":"IF(B910=\"\",\"\",IF(COUNTIF($U$4:U910,U910)=1,\"\",\"重複\"))","v":""},"","",null,null,null,null,null,null,null,null,null,null,null,null,null,null,null,{"$f":"IF(COUNTIF($AI$5:AI910,AI910)=1,AI910,\"\")","v":""},{"$f":"IF(AI910=\"\",\"\",IF(COUNTIF($AX$5:AX910,AX910)=1,AX910,\"\"))","v":""},"",null,"",null,"",null,null,null,""]
[null,null,null,null,null,null,null,null,null,null,null,"削除","","","","","","","","","",{"$f":"IF(B911=\"\",\"\",IF(COUNTIF($U$4:U911,U911)=1,\"\",\"重複\"))","v":""},"","",null,null,null,null,null,null,null,null,null,null,null,null,null,null,null,{"$f":"IF(COUNTIF($AI$5:AI911,AI911)=1,AI911,\"\")","v":""},{"$f":"IF(AI911=\"\",\"\",IF(COUNTIF($AX$5:AX911,AX911)=1,AX911,\"\"))","v":""},"",null,"",null,"",null,null,null,""]
[null,null,null,null,null,null,null,null,null,null,null,"削除","","","","","","","","","",{"$f":"IF(B912=\"\",\"\",IF(COUNTIF($U$4:U912,U912)=1,\"\",\"重複\"))","v":""},"","",null,null,null,null,null,null,null,null,null,null,null,null,null,null,null,{"$f":"IF(COUNTIF($AI$5:AI912,AI912)=1,AI912,\"\")","v":""},{"$f":"IF(AI912=\"\",\"\",IF(COUNTIF($AX$5:AX912,AX912)=1,AX912,\"\"))","v":""},"",null,"",null,"",null,null,null,""]
[null,null,null,null,null,null,null,null,null,null,null,"削除","","","","","","","","","",{"$f":"IF(B913=\"\",\"\",IF(COUNTIF($U$4:U913,U913)=1,\"\",\"重複\"))","v":""},"","",null,null,null,null,null,null,null,null,null,null,null,null,null,null,null,{"$f":"IF(COUNTIF($AI$5:AI913,AI913)=1,AI913,\"\")","v":""},{"$f":"IF(AI913=\"\",\"\",IF(COUNTIF($AX$5:AX913,AX913)=1,AX913,\"\"))","v":""},"",null,"",null,"",null,null,null,""]
[null,null,null,null,null,null,null,null,null,null,null,"削除","","","","","","","","","",{"$f":"IF(B914=\"\",\"\",IF(COUNTIF($U$4:U914,U914)=1,\"\",\"重複\"))","v":""},"","",null,null,null,null,null,null,null,null,null,null,null,null,null,null,null,{"$f":"IF(COUNTIF($AI$5:AI914,AI914)=1,AI914,\"\")","v":""},{"$f":"IF(AI914=\"\",\"\",IF(COUNTIF($AX$5:AX914,AX914)=1,AX914,\"\"))","v":""},"",null,"",null,"",null,null,null,""]
[null,null,null,null,null,null,null,null,null,null,null,"削除","","","","","","","","","",{"$f":"IF(B915=\"\",\"\",IF(COUNTIF($U$4:U915,U915)=1,\"\",\"重複\"))","v":""},"","",null,null,null,null,null,null,null,null,null,null,null,null,null,null,null,{"$f":"IF(COUNTIF($AI$5:AI915,AI915)=1,AI915,\"\")","v":""},{"$f":"IF(AI915=\"\",\"\",IF(COUNTIF($AX$5:AX915,AX915)=1,AX915,\"\"))","v":""},"",null,"",null,"",null,null,null,""]
[null,null,null,null,null,null,null,null,null,null,null,"削除","","","","","","","","","",{"$f":"IF(B916=\"\",\"\",IF(COUNTIF($U$4:U916,U916)=1,\"\",\"重複\"))","v":""},"","",null,null,null,null,null,null,null,null,null,null,null,null,null,null,null,{"$f":"IF(COUNTIF($AI$5:AI916,AI916)=1,AI916,\"\")","v":""},{"$f":"IF(AI916=\"\",\"\",IF(COUNTIF($AX$5:AX916,AX916)=1,AX916,\"\"))","v":""},"",null,"",null,"",null,null,null,""]
[null,null,null,null,null,null,null,null,null,null,null,"削除","","","","","","","","","",{"$f":"IF(B917=\"\",\"\",IF(COUNTIF($U$4:U917,U917)=1,\"\",\"重複\"))","v":""},"","",null,null,null,null,null,null,null,null,null,null,null,null,null,null,null,{"$f":"IF(COUNTIF($AI$5:AI917,AI917)=1,AI917,\"\")","v":""},{"$f":"IF(AI917=\"\",\"\",IF(COUNTIF($AX$5:AX917,AX917)=1,AX917,\"\"))","v":""},"",null,"",null,"",null,null,null,""]
[null,null,null,null,null,null,null,null,null,null,null,"削除","","","","","","","","","",{"$f":"IF(B918=\"\",\"\",IF(COUNTIF($U$4:U918,U918)=1,\"\",\"重複\"))","v":""},"","",null,null,null,null,null,null,null,null,null,null,null,null,null,null,null,{"$f":"IF(COUNTIF($AI$5:AI918,AI918)=1,AI918,\"\")","v":""},{"$f":"IF(AI918=\"\",\"\",IF(COUNTIF($AX$5:AX918,AX918)=1,AX918,\"\"))","v":""},"",null,"",null,"",null,null,null,""]
[null,null,null,null,null,null,null,null,null,null,null,"削除","","","","","","","","","",{"$f":"IF(B919=\"\",\"\",IF(COUNTIF($U$4:U919,U919)=1,\"\",\"重複\"))","v":""},"","",null,null,null,null,null,null,null,null,null,null,null,null,null,null,null,{"$f":"IF(COUNTIF($AI$5:AI919,AI919)=1,AI919,\"\")","v":""},{"$f":"IF(AI919=\"\",\"\",IF(COUNTIF($AX$5:AX919,AX919)=1,AX919,\"\"))","v":""},"",null,"",null,"",null,null,null,""]
[null,null,null,null,null,null,null,null,null,null,null,"削除","","","","","","","","","",{"$f":"IF(B920=\"\",\"\",IF(COUNTIF($U$4:U920,U920)=1,\"\",\"重複\"))","v":""},"","",null,null,null,null,null,null,null,null,null,null,null,null,null,null,null,{"$f":"IF(COUNTIF($AI$5:AI920,AI920)=1,AI920,\"\")","v":""},{"$f":"IF(AI920=\"\",\"\",IF(COUNTIF($AX$5:AX920,AX920)=1,AX920,\"\"))","v":""},"",null,"",null,"",null,null,null,""]
[null,null,null,null,null,null,null,null,null,null,null,"削除","","","","","","","","","",{"$f":"IF(B921=\"\",\"\",IF(COUNTIF($U$4:U921,U921)=1,\"\",\"重複\"))","v":""},"","",null,null,null,null,null,null,null,null,null,null,null,null,null,null,null,{"$f":"IF(COUNTIF($AI$5:AI921,AI921)=1,AI921,\"\")","v":""},{"$f":"IF(AI921=\"\",\"\",IF(COUNTIF($AX$5:AX921,AX921)=1,AX921,\"\"))","v":""},"",null,"",null,"",null,null,null,""]
[null,null,null,null,null,null,null,null,null,null,null,"削除","","","","","","","","","",{"$f":"IF(B922=\"\",\"\",IF(COUNTIF($U$4:U922,U922)=1,\"\",\"重複\"))","v":""},"","",null,null,null,null,null,null,null,null,null,null,null,null,null,null,null,{"$f":"IF(COUNTIF($AI$5:AI922,AI922)=1,AI922,\"\")","v":""},{"$f":"IF(AI922=\"\",\"\",IF(COUNTIF($AX$5:AX922,AX922)=1,AX922,\"\"))","v":""},"",null,"",null,"",null,null,null,""]
[null,null,null,null,null,null,null,null,null,null,null,"削除","","","","","","","","","",{"$f":"IF(B923=\"\",\"\",IF(COUNTIF($U$4:U923,U923)=1,\"\",\"重複\"))","v":""},"","",null,null,null,null,null,null,null,null,null,null,null,null,null,null,null,{"$f":"IF(COUNTIF($AI$5:AI923,AI923)=1,AI923,\"\")","v":""},{"$f":"IF(AI923=\"\",\"\",IF(COUNTIF($AX$5:AX923,AX923)=1,AX923,\"\"))","v":""},"",null,"",null,"",null,null,null,""]
[null,null,null,null,null,null,null,null,null,null,null,"削除","","","","","","","","","",{"$f":"IF(B924=\"\",\"\",IF(COUNTIF($U$4:U924,U924)=1,\"\",\"重複\"))","v":""},"","",null,null,null,null,null,null,null,null,null,null,null,null,null,null,null,{"$f":"IF(COUNTIF($AI$5:AI924,AI924)=1,AI924,\"\")","v":""},{"$f":"IF(AI924=\"\",\"\",IF(COUNTIF($AX$5:AX924,AX924)=1,AX924,\"\"))","v":""},"",null,"",null,"",null,null,null,""]
[null,null,null,null,null,null,null,null,null,null,null,"削除","","","","","","","","","",{"$f":"IF(B925=\"\",\"\",IF(COUNTIF($U$4:U925,U925)=1,\"\",\"重複\"))","v":""},"","",null,null,null,null,null,null,null,null,null,null,null,null,null,null,null,{"$f":"IF(COUNTIF($AI$5:AI925,AI925)=1,AI925,\"\")","v":""},{"$f":"IF(AI925=\"\",\"\",IF(COUNTIF($AX$5:AX925,AX925)=1,AX925,\"\"))","v":""},"",null,"",null,"",null,null,null,""]
[null,null,null,null,null,null,null,null,null,null,null,"削除","","","","","","","","","",{"$f":"IF(B926=\"\",\"\",IF(COUNTIF($U$4:U926,U926)=1,\"\",\"重複\"))","v":""},"","",null,null,null,null,null,null,null,null,null,null,null,null,null,null,null,{"$f":"IF(COUNTIF($AI$5:AI926,AI926)=1,AI926,\"\")","v":""},{"$f":"IF(AI926=\"\",\"\",IF(COUNTIF($AX$5:AX926,AX926)=1,AX926,\"\"))","v":""},"",null,"",null,"",null,null,null,""]
[null,null,null,null,null,null,null,null,null,null,null,"削除","","","","","","","","","",{"$f":"IF(B927=\"\",\"\",IF(COUNTIF($U$4:U927,U927)=1,\"\",\"重複\"))","v":""},"","",null,null,null,null,null,null,null,null,null,null,null,null,null,null,null,{"$f":"IF(COUNTIF($AI$5:AI927,AI927)=1,AI927,\"\")","v":""},{"$f":"IF(AI927=\"\",\"\",IF(COUNTIF($AX$5:AX927,AX927)=1,AX927,\"\"))","v":""},"",null,"",null,"",null,null,null,""]
[null,null,null,null,null,null,null,null,null,null,null,"削除","","","","","","","","","",{"$f":"IF(B928=\"\",\"\",IF(COUNTIF($U$4:U928,U928)=1,\"\",\"重複\"))","v":""},"","",null,null,null,null,null,null,null,null,null,null,null,null,null,null,null,{"$f":"IF(COUNTIF($AI$5:AI928,AI928)=1,AI928,\"\")","v":""},{"$f":"IF(AI928=\"\",\"\",IF(COUNTIF($AX$5:AX928,AX928)=1,AX928,\"\"))","v":""},"",null,"",null,"",null,null,null,""]
[null,null,null,null,null,null,null,null,null,null,null,"削除","","","","","","","","","",{"$f":"IF(B929=\"\",\"\",IF(COUNTIF($U$4:U929,U929)=1,\"\",\"重複\"))","v":""},"","",null,null,null,null,null,null,null,null,null,null,null,null,null,null,null,{"$f":"IF(COUNTIF($AI$5:AI929,AI929)=1,AI929,\"\")","v":""},{"$f":"IF(AI929=\"\",\"\",IF(COUNTIF($AX$5:AX929,AX929)=1,AX929,\"\"))","v":""},"",null,"",null,"",null,null,null,""]
[null,null,null,null,null,null,null,null,null,null,null,"削除","","","","","","","","","",{"$f":"IF(B930=\"\",\"\",IF(COUNTIF($U$4:U930,U930)=1,\"\",\"重複\"))","v":""},"","",null,null,null,null,null,null,null,null,null,null,null,null,null,null,null,{"$f":"IF(COUNTIF($AI$5:AI930,AI930)=1,AI930,\"\")","v":""},{"$f":"IF(AI930=\"\",\"\",IF(COUNTIF($AX$5:AX930,AX930)=1,AX930,\"\"))","v":""},"",null,"",null,"",null,null,null,""]
[null,null,null,null,null,null,null,null,null,null,null,"削除","","","","","","","","","",{"$f":"IF(B931=\"\",\"\",IF(COUNTIF($U$4:U931,U931)=1,\"\",\"重複\"))","v":""},"","",null,null,null,null,null,null,null,null,null,null,null,null,null,null,null,{"$f":"IF(COUNTIF($AI$5:AI931,AI931)=1,AI931,\"\")","v":""},{"$f":"IF(AI931=\"\",\"\",IF(COUNTIF($AX$5:AX931,AX931)=1,AX931,\"\"))","v":""},"",null,"",null,"",null,null,null,""]
[null,null,null,null,null,null,null,null,null,null,null,"削除","","","","","","","","","",{"$f":"IF(B932=\"\",\"\",IF(COUNTIF($U$4:U932,U932)=1,\"\",\"重複\"))","v":""},"","",null,null,null,null,null,null,null,null,null,null,null,null,null,null,null,{"$f":"IF(COUNTIF($AI$5:AI932,AI932)=1,AI932,\"\")","v":""},{"$f":"IF(AI932=\"\",\"\",IF(COUNTIF($AX$5:AX932,AX932)=1,AX932,\"\"))","v":""},"",null,"",null,"",null,null,null,""]
[null,null,null,null,null,null,null,null,null,null,null,"削除","","","","","","","","","",{"$f":"IF(B933=\"\",\"\",IF(COUNTIF($U$4:U933,U933)=1,\"\",\"重複\"))","v":""},"","",null,null,null,null,null,null,null,null,null,null,null,null,null,null,null,{"$f":"IF(COUNTIF($AI$5:AI933,AI933)=1,AI933,\"\")","v":""},{"$f":"IF(AI933=\"\",\"\",IF(COUNTIF($AX$5:AX933,AX933)=1,AX933,\"\"))","v":""},"",null,"",null,"",null,null,null,""]
[null,null,null,null,null,null,null,null,null,null,null,"削除","","","","","","","","","",{"$f":"IF(B934=\"\",\"\",IF(COUNTIF($U$4:U934,U934)=1,\"\",\"重複\"))","v":""},"","",null,null,null,null,null,null,null,null,null,null,null,null,null,null,null,{"$f":"IF(COUNTIF($AI$5:AI934,AI934)=1,AI934,\"\")","v":""},{"$f":"IF(AI934=\"\",\"\",IF(COUNTIF($AX$5:AX934,AX934)=1,AX934,\"\"))","v":""},"",null,"",null,"",null,null,null,""]
[null,null,null,null,null,null,null,null,null,null,null,"削除","","","","","","","","","",{"$f":"IF(B935=\"\",\"\",IF(COUNTIF($U$4:U935,U935)=1,\"\",\"重複\"))","v":""},"","",null,null,null,null,null,null,null,null,null,null,null,null,null,null,null,{"$f":"IF(COUNTIF($AI$5:AI935,AI935)=1,AI935,\"\")","v":""},{"$f":"IF(AI935=\"\",\"\",IF(COUNTIF($AX$5:AX935,AX935)=1,AX935,\"\"))","v":""},"",null,"",null,"",null,null,null,""]
[null,null,null,null,null,null,null,null,null,null,null,"削除","","","","","","","","","",{"$f":"IF(B936=\"\",\"\",IF(COUNTIF($U$4:U936,U936)=1,\"\",\"重複\"))","v":""},"","",null,null,null,null,null,null,null,null,null,null,null,null,null,null,null,{"$f":"IF(COUNTIF($AI$5:AI936,AI936)=1,AI936,\"\")","v":""},{"$f":"IF(AI936=\"\",\"\",IF(COUNTIF($AX$5:AX936,AX936)=1,AX936,\"\"))","v":""},"",null,"",null,"",null,null,null,""]
[null,null,null,null,null,null,null,null,null,null,null,"削除","","","","","","","","","",{"$f":"IF(B937=\"\",\"\",IF(COUNTIF($U$4:U937,U937)=1,\"\",\"重複\"))","v":""},"","",null,null,null,null,null,null,null,null,null,null,null,null,null,null,null,{"$f":"IF(COUNTIF($AI$5:AI937,AI937)=1,AI937,\"\")","v":""},{"$f":"IF(AI937=\"\",\"\",IF(COUNTIF($AX$5:AX937,AX937)=1,AX937,\"\"))","v":""},"",null,"",null,"",null,null,null,""]
[null,null,null,null,null,null,null,null,null,null,null,"削除","","","","","","","","","",{"$f":"IF(B938=\"\",\"\",IF(COUNTIF($U$4:U938,U938)=1,\"\",\"重複\"))","v":""},"","",null,null,null,null,null,null,null,null,null,null,null,null,null,null,null,{"$f":"IF(COUNTIF($AI$5:AI938,AI938)=1,AI938,\"\")","v":""},{"$f":"IF(AI938=\"\",\"\",IF(COUNTIF($AX$5:AX938,AX938)=1,AX938,\"\"))","v":""},"",null,"",null,"",null,null,null,""]
[null,null,null,null,null,null,null,null,null,null,null,"削除","","","","","","","","","",{"$f":"IF(B939=\"\",\"\",IF(COUNTIF($U$4:U939,U939)=1,\"\",\"重複\"))","v":""},"","",null,null,null,null,null,null,null,null,null,null,null,null,null,null,null,{"$f":"IF(COUNTIF($AI$5:AI939,AI939)=1,AI939,\"\")","v":""},{"$f":"IF(AI939=\"\",\"\",IF(COUNTIF($AX$5:AX939,AX939)=1,AX939,\"\"))","v":""},"",null,"",null,"",null,null,null,""]
[null,null,null,null,null,null,null,null,null,null,null,"削除","","","","","","","","","",{"$f":"IF(B940=\"\",\"\",IF(COUNTIF($U$4:U940,U940)=1,\"\",\"重複\"))","v":""},"","",null,null,null,null,null,null,null,null,null,null,null,null,null,null,null,{"$f":"IF(COUNTIF($AI$5:AI940,AI940)=1,AI940,\"\")","v":""},{"$f":"IF(AI940=\"\",\"\",IF(COUNTIF($AX$5:AX940,AX940)=1,AX940,\"\"))","v":""},"",null,"",null,"",null,null,null,""]
[null,null,null,null,null,null,null,null,null,null,null,"削除","","","","","","","","","",{"$f":"IF(B941=\"\",\"\",IF(COUNTIF($U$4:U941,U941)=1,\"\",\"重複\"))","v":""},"","",null,null,null,null,null,null,null,null,null,null,null,null,null,null,null,{"$f":"IF(COUNTIF($AI$5:AI941,AI941)=1,AI941,\"\")","v":""},{"$f":"IF(AI941=\"\",\"\",IF(COUNTIF($AX$5:AX941,AX941)=1,AX941,\"\"))","v":""},"",null,"",null,"",null,null,null,""]
[null,null,null,null,null,null,null,null,null,null,null,"削除","","","","","","","","","",{"$f":"IF(B942=\"\",\"\",IF(COUNTIF($U$4:U942,U942)=1,\"\",\"重複\"))","v":""},"","",null,null,null,null,null,null,null,null,null,null,null,null,null,null,null,{"$f":"IF(COUNTIF($AI$5:AI942,AI942)=1,AI942,\"\")","v":""},{"$f":"IF(AI942=\"\",\"\",IF(COUNTIF($AX$5:AX942,AX942)=1,AX942,\"\"))","v":""},"",null,"",null,"",null,null,null,""]
[null,null,null,null,null,null,null,null,null,null,null,"削除","","","","","","","","","",{"$f":"IF(B943=\"\",\"\",IF(COUNTIF($U$4:U943,U943)=1,\"\",\"重複\"))","v":""},"","",null,null,null,null,null,null,null,null,null,null,null,null,null,null,null,{"$f":"IF(COUNTIF($AI$5:AI943,AI943)=1,AI943,\"\")","v":""},{"$f":"IF(AI943=\"\",\"\",IF(COUNTIF($AX$5:AX943,AX943)=1,AX943,\"\"))","v":""},"",null,"",null,"",null,null,null,""]
[null,null,null,null,null,null,null,null,null,null,null,"削除","","","","","","","","","",{"$f":"IF(B944=\"\",\"\",IF(COUNTIF($U$4:U944,U944)=1,\"\",\"重複\"))","v":""},"","",null,null,null,null,null,null,null,null,null,null,null,null,null,null,null,{"$f":"IF(COUNTIF($AI$5:AI944,AI944)=1,AI944,\"\")","v":""},{"$f":"IF(AI944=\"\",\"\",IF(COUNTIF($AX$5:AX944,AX944)=1,AX944,\"\"))","v":""},"",null,"",null,"",null,null,null,""]
[null,null,null,null,null,null,null,null,null,null,null,"削除","","","","","","","","","",{"$f":"IF(B945=\"\",\"\",IF(COUNTIF($U$4:U945,U945)=1,\"\",\"重複\"))","v":""},"","",null,null,null,null,null,null,null,null,null,null,null,null,null,null,null,{"$f":"IF(COUNTIF($AI$5:AI945,AI945)=1,AI945,\"\")","v":""},{"$f":"IF(AI945=\"\",\"\",IF(COUNTIF($AX$5:AX945,AX945)=1,AX945,\"\"))","v":""},"",null,"",null,"",null,null,null,""]
[null,null,null,null,null,null,null,null,null,null,null,"削除","","","","","","","","","",{"$f":"IF(B946=\"\",\"\",IF(COUNTIF($U$4:U946,U946)=1,\"\",\"重複\"))","v":""},"","",null,null,null,null,null,null,null,null,null,null,null,null,null,null,null,{"$f":"IF(COUNTIF($AI$5:AI946,AI946)=1,AI946,\"\")","v":""},{"$f":"IF(AI946=\"\",\"\",IF(COUNTIF($AX$5:AX946,AX946)=1,AX946,\"\"))","v":""},"",null,"",null,"",null,null,null,""]
[null,null,null,null,null,null,null,null,null,null,null,"削除","","","","","","","","","",{"$f":"IF(B947=\"\",\"\",IF(COUNTIF($U$4:U947,U947)=1,\"\",\"重複\"))","v":""},"","",null,null,null,null,null,null,null,null,null,null,null,null,null,null,null,{"$f":"IF(COUNTIF($AI$5:AI947,AI947)=1,AI947,\"\")","v":""},{"$f":"IF(AI947=\"\",\"\",IF(COUNTIF($AX$5:AX947,AX947)=1,AX947,\"\"))","v":""},"",null,"",null,"",null,null,null,""]
[null,null,null,null,null,null,null,null,null,null,null,"削除","","","","","","","","","",{"$f":"IF(B948=\"\",\"\",IF(COUNTIF($U$4:U948,U948)=1,\"\",\"重複\"))","v":""},"","",null,null,null,null,null,null,null,null,null,null,null,null,null,null,null,{"$f":"IF(COUNTIF($AI$5:AI948,AI948)=1,AI948,\"\")","v":""},{"$f":"IF(AI948=\"\",\"\",IF(COUNTIF($AX$5:AX948,AX948)=1,AX948,\"\"))","v":""},"",null,"",null,"",null,null,null,""]
[null,null,null,null,null,null,null,null,null,null,null,"削除","","","","","","","","","",{"$f":"IF(B949=\"\",\"\",IF(COUNTIF($U$4:U949,U949)=1,\"\",\"重複\"))","v":""},"","",null,null,null,null,null,null,null,null,null,null,null,null,null,null,null,{"$f":"IF(COUNTIF($AI$5:AI949,AI949)=1,AI949,\"\")","v":""},{"$f":"IF(AI949=\"\",\"\",IF(COUNTIF($AX$5:AX949,AX949)=1,AX949,\"\"))","v":""},"",null,"",null,"",null,null,null,""]
[null,null,null,null,null,null,null,null,null,null,null,"削除","","","","","","","","","",{"$f":"IF(B950=\"\",\"\",IF(COUNTIF($U$4:U950,U950)=1,\"\",\"重複\"))","v":""},"","",null,null,null,null,null,null,null,null,null,null,null,null,null,null,null,{"$f":"IF(COUNTIF($AI$5:AI950,AI950)=1,AI950,\"\")","v":""},{"$f":"IF(AI950=\"\",\"\",IF(COUNTIF($AX$5:AX950,AX950)=1,AX950,\"\"))","v":""},"",null,"",null,"",null,null,null,""]
[null,null,null,null,null,null,null,null,null,null,null,"削除","","","","","","","","","",{"$f":"IF(B951=\"\",\"\",IF(COUNTIF($U$4:U951,U951)=1,\"\",\"重複\"))","v":""},"","",null,null,null,null,null,null,null,null,null,null,null,null,null,null,null,{"$f":"IF(COUNTIF($AI$5:AI951,AI951)=1,AI951,\"\")","v":""},{"$f":"IF(AI951=\"\",\"\",IF(COUNTIF($AX$5:AX951,AX951)=1,AX951,\"\"))","v":""},"",null,"",null,"",null,null,null,""]
[null,null,null,null,null,null,null,null,null,null,null,"削除","","","","","","","","","",{"$f":"IF(B952=\"\",\"\",IF(COUNTIF($U$4:U952,U952)=1,\"\",\"重複\"))","v":""},"","",null,null,null,null,null,null,null,null,null,null,null,null,null,null,null,{"$f":"IF(COUNTIF($AI$5:AI952,AI952)=1,AI952,\"\")","v":""},{"$f":"IF(AI952=\"\",\"\",IF(COUNTIF($AX$5:AX952,AX952)=1,AX952,\"\"))","v":""},"",null,"",null,"",null,null,null,""]
[null,null,null,null,null,null,null,null,null,null,null,"削除","","","","","","","","","",{"$f":"IF(B953=\"\",\"\",IF(COUNTIF($U$4:U953,U953)=1,\"\",\"重複\"))","v":""},"","",null,null,null,null,null,null,null,null,null,null,null,null,null,null,null,{"$f":"IF(COUNTIF($AI$5:AI953,AI953)=1,AI953,\"\")","v":""},{"$f":"IF(AI953=\"\",\"\",IF(COUNTIF($AX$5:AX953,AX953)=1,AX953,\"\"))","v":""},"",null,"",null,"",null,null,null,""]
[null,null,null,null,null,null,null,null,null,null,null,"削除","","","","","","","","","",{"$f":"IF(B954=\"\",\"\",IF(COUNTIF($U$4:U954,U954)=1,\"\",\"重複\"))","v":""},"","",null,null,null,null,null,null,null,null,null,null,null,null,null,null,null,{"$f":"IF(COUNTIF($AI$5:AI954,AI954)=1,AI954,\"\")","v":""},{"$f":"IF(AI954=\"\",\"\",IF(COUNTIF($AX$5:AX954,AX954)=1,AX954,\"\"))","v":""},"",null,"",null,"",null,null,null,""]
[null,null,null,null,null,null,null,null,null,null,null,"削除","","","","","","","","","",{"$f":"IF(B955=\"\",\"\",IF(COUNTIF($U$4:U955,U955)=1,\"\",\"重複\"))","v":""},"","",null,null,null,null,null,null,null,null,null,null,null,null,null,null,null,{"$f":"IF(COUNTIF($AI$5:AI955,AI955)=1,AI955,\"\")","v":""},{"$f":"IF(AI955=\"\",\"\",IF(COUNTIF($AX$5:AX955,AX955)=1,AX955,\"\"))","v":""},"",null,"",null,"",null,null,null,""]
[null,null,null,null,null,null,null,null,null,null,null,"削除","","","","","","","","","",{"$f":"IF(B956=\"\",\"\",IF(COUNTIF($U$4:U956,U956)=1,\"\",\"重複\"))","v":""},"","",null,null,null,null,null,null,null,null,null,null,null,null,null,null,null,{"$f":"IF(COUNTIF($AI$5:AI956,AI956)=1,AI956,\"\")","v":""},{"$f":"IF(AI956=\"\",\"\",IF(COUNTIF($AX$5:AX956,AX956)=1,AX956,\"\"))","v":""},"",null,"",null,"",null,null,null,""]
[null,null,null,null,null,null,null,null,null,null,null,"削除","","","","","","","","","",{"$f":"IF(B957=\"\",\"\",IF(COUNTIF($U$4:U957,U957)=1,\"\",\"重複\"))","v":""},"","",null,null,null,null,null,null,null,null,null,null,null,null,null,null,null,{"$f":"IF(COUNTIF($AI$5:AI957,AI957)=1,AI957,\"\")","v":""},{"$f":"IF(AI957=\"\",\"\",IF(COUNTIF($AX$5:AX957,AX957)=1,AX957,\"\"))","v":""},"",null,"",null,"",null,null,null,""]
[null,null,null,null,null,null,null,null,null,null,null,"削除","","","","","","","","","",{"$f":"IF(B958=\"\",\"\",IF(COUNTIF($U$4:U958,U958)=1,\"\",\"重複\"))","v":""},"","",null,null,null,null,null,null,null,null,null,null,null,null,null,null,null,{"$f":"IF(COUNTIF($AI$5:AI958,AI958)=1,AI958,\"\")","v":""},{"$f":"IF(AI958=\"\",\"\",IF(COUNTIF($AX$5:AX958,AX958)=1,AX958,\"\"))","v":""},"",null,"",null,"",null,null,null,""]
[null,null,null,null,null,null,null,null,null,null,null,"削除","","","","","","","","","",{"$f":"IF(B959=\"\",\"\",IF(COUNTIF($U$4:U959,U959)=1,\"\",\"重複\"))","v":""},"","",null,null,null,null,null,null,null,null,null,null,null,null,null,null,null,{"$f":"IF(COUNTIF($AI$5:AI959,AI959)=1,AI959,\"\")","v":""},{"$f":"IF(AI959=\"\",\"\",IF(COUNTIF($AX$5:AX959,AX959)=1,AX959,\"\"))","v":""},"",null,"",null,"",null,null,null,""]
[null,null,null,null,null,null,null,null,null,null,null,"削除","","","","","","","","","",{"$f":"IF(B960=\"\",\"\",IF(COUNTIF($U$4:U960,U960)=1,\"\",\"重複\"))","v":""},"","",null,null,null,null,null,null,null,null,null,null,null,null,null,null,null,{"$f":"IF(COUNTIF($AI$5:AI960,AI960)=1,AI960,\"\")","v":""},{"$f":"IF(AI960=\"\",\"\",IF(COUNTIF($AX$5:AX960,AX960)=1,AX960,\"\"))","v":""},"",null,"",null,"",null,null,null,""]
[null,null,null,null,null,null,null,null,null,null,null,"削除","","","","","","","","","",{"$f":"IF(B961=\"\",\"\",IF(COUNTIF($U$4:U961,U961)=1,\"\",\"重複\"))","v":""},"","",null,null,null,null,null,null,null,null,null,null,null,null,null,null,null,{"$f":"IF(COUNTIF($AI$5:AI961,AI961)=1,AI961,\"\")","v":""},{"$f":"IF(AI961=\"\",\"\",IF(COUNTIF($AX$5:AX961,AX961)=1,AX961,\"\"))","v":""},"",null,"",null,"",null,null,null,""]
[null,null,null,null,null,null,null,null,null,null,null,"削除","","","","","","","","","",{"$f":"IF(B962=\"\",\"\",IF(COUNTIF($U$4:U962,U962)=1,\"\",\"重複\"))","v":""},"","",null,null,null,null,null,null,null,null,null,null,null,null,null,null,null,{"$f":"IF(COUNTIF($AI$5:AI962,AI962)=1,AI962,\"\")","v":""},{"$f":"IF(AI962=\"\",\"\",IF(COUNTIF($AX$5:AX962,AX962)=1,AX962,\"\"))","v":""},"",null,"",null,"",null,null,null,""]
[null,null,null,null,null,null,null,null,null,null,null,"削除","","","","","","","","","",{"$f":"IF(B963=\"\",\"\",IF(COUNTIF($U$4:U963,U963)=1,\"\",\"重複\"))","v":""},"","",null,null,null,null,null,null,null,null,null,null,null,null,null,null,null,{"$f":"IF(COUNTIF($AI$5:AI963,AI963)=1,AI963,\"\")","v":""},{"$f":"IF(AI963=\"\",\"\",IF(COUNTIF($AX$5:AX963,AX963)=1,AX963,\"\"))","v":""},"",null,"",null,"",null,null,null,""]
[null,null,null,null,null,null,null,null,null,null,null,"削除","","","","","","","","","",{"$f":"IF(B964=\"\",\"\",IF(COUNTIF($U$4:U964,U964)=1,\"\",\"重複\"))","v":""},"",{"$f":"IF(B964=\"\",\"\",IF(LEFT(G964,3)=\"144\",IF(LEFT(H964,3)=\"SSB\",\"\",IF(LEFT(H964,3)=\"A3J\",\"\",IF(LEFT(H964,3)=\"J3E\",\"\",\"形式外\"))),\"形式外\"))","v":""},null,null,null,null,null,null,null,null,null,null,null,null,null,null,null,{"$f":"IF(COUNTIF($AI$5:AI964,AI964)=1,AI964,\"\")","v":""},{"$f":"IF(AI964=\"\",\"\",IF(COUNTIF($AX$5:AX964,AX964)=1,AX964,\"\"))","v":""},"",null,"",null,"",null,null,null,""]
[null,null,null,null,null,null,null,null,null,null,null,{"$f":"IF(B965=\"\",\"削除\",IF(OR(V965=\"重複\",W965=\"削除\",X965=\"形式外\"),\"削除\",1))","v":"削除"},{"$f":"IF(L965=\"削除\",\"\",C965)","v":""},{"$f":"IF(L965=\"削除\",\"\",D965)","v":""},{"$f":"IF(L965=\"削除\",\"\",B965)","v":""},{"$f":"IF(L965=\"削除\",\"\",E965)","v":""},{"$f":"IF(L965=\"削除\",\"\",F965)","v":""},{"$f":"IF(L965=\"削除\",\"\",I965)","v":""},{"$f":"IF(L965=\"削除\",\"\",IF(J965=\"\",\"\",J965))","v":""},{"$f":"IF(B965=\"\",\"\",LEFT(B965,FIND(\"/\",B965&\"/\")-1))","v":""},{"$f":"IF(B965=\"\",\"\",T965&\"/\"&H965)","v":""},{"$f":"IF(B965=\"\",\"\",IF(COUNTIF($U$4:U965,U965)=1,\"\",\"重複\"))","v":""},{"$f":"IF(B965=\"\",\"\",IF(LEFT(T965,1)=\"8\",\"削除\",IF(LEN(T965)=5,IF(MID(T965,4,2)=\"RL\",\"削除\",\"\"),IF(MID(T965,4,1)=\"Y\",\"削除\",IF(MID(T965,4,1)=\"Z\",\"削除\",\"\")))))","v":""},"",null,null,null,null,null,null,null,null,null,null,null,null,null,null,null,{"$f":"IF(COUNTIF($AI$5:AI965,AI965)=1,AI965,\"\")","v":""},{"$f":"IF(AI965=\"\",\"\",IF(COUNTIF($AX$5:AX965,AX965)=1,AX965,\"\"))","v":""},"",null,"",null,"",null,null,null,""]
[null,null,null,null,null,null,null,null,null,null,null,"削除","","","","","","","","","",{"$f":"IF(B966=\"\",\"\",IF(COUNTIF($U$4:U966,U966)=1,\"\",\"重複\"))","v":""},"","",null,null,null,null,null,null,null,null,null,null,null,null,null,null,null,{"$f":"IF(COUNTIF($AI$5:AI966,AI966)=1,AI966,\"\")","v":""},{"$f":"IF(AI966=\"\",\"\",IF(COUNTIF($AX$5:AX966,AX966)=1,AX966,\"\"))","v":""},{"$f":"IF(AK966=\"\",\"\",IF(COUNTIF($BN$5:$BN$304,AT966)=1,5,1))","v":""},null,{"$f":"IF(COUNTIF($BN$5:$BN$40,AT966)=1,\"M\",\"\")","v":""},null,{"$f":"LEFT(AK966&\"/\",FIND(\"/\",AK966&\"/\")-1)","v":""},null,null,null,{"$f":"RIGHT(AT966,1)","v":""}]
[null,null,null,null,null,null,null,null,null,null,null,"削除","","","","","","","","","",{"$f":"IF(B967=\"\",\"\",IF(COUNTIF($U$4:U967,U967)=1,\"\",\"重複\"))","v":""},"","",null,null,null,null,null,null,null,null,null,null,null,null,null,null,null,{"$f":"IF(COUNTIF($AI$5:AI967,AI967)=1,AI967,\"\")","v":""},{"$f":"IF(AI967=\"\",\"\",IF(COUNTIF($AX$5:AX967,AX967)=1,AX967,\"\"))","v":""},"",null,"",null,"",null,null,null,""]
[null,null,null,null,null,null,null,null,null,null,null,"削除","","","","","","","","","",{"$f":"IF(B968=\"\",\"\",IF(COUNTIF($U$4:U968,U968)=1,\"\",\"重複\"))","v":""},"","",null,null,null,null,null,null,null,null,null,null,null,null,null,null,null,{"$f":"IF(COUNTIF($AI$5:AI968,AI968)=1,AI968,\"\")","v":""},{"$f":"IF(AI968=\"\",\"\",IF(COUNTIF($AX$5:AX968,AX968)=1,AX968,\"\"))","v":""},"",null,"",null,"",null,null,null,""]
[null,null,null,null,null,null,null,null,null,null,null,"削除","","","","","","","","","",{"$f":"IF(B969=\"\",\"\",IF(COUNTIF($U$4:U969,U969)=1,\"\",\"重複\"))","v":""},"","",null,null,null,null,null,null,null,null,null,null,null,null,null,null,null,{"$f":"IF(COUNTIF($AI$5:AI969,AI969)=1,AI969,\"\")","v":""},{"$f":"IF(AI969=\"\",\"\",IF(COUNTIF($AX$5:AX969,AX969)=1,AX969,\"\"))","v":""},"",null,"",null,"",null,null,null,""]
[null,null,null,null,null,null,null,null,null,null,null,"削除","","","","","","","","","",{"$f":"IF(B970=\"\",\"\",IF(COUNTIF($U$4:U970,U970)=1,\"\",\"重複\"))","v":""},"","",null,null,null,null,null,null,null,null,null,null,null,null,null,null,null,{"$f":"IF(COUNTIF($AI$5:AI970,AI970)=1,AI970,\"\")","v":""},{"$f":"IF(AI970=\"\",\"\",IF(COUNTIF($AX$5:AX970,AX970)=1,AX970,\"\"))","v":""},"",null,"",null,"",null,null,null,""]
[null,null,null,null,null,null,null,null,null,null,null,"削除","","","","","","","","","",{"$f":"IF(B971=\"\",\"\",IF(COUNTIF($U$4:U971,U971)=1,\"\",\"重複\"))","v":""},"","",null,null,null,null,null,null,null,null,null,null,null,null,null,null,null,{"$f":"IF(COUNTIF($AI$5:AI971,AI971)=1,AI971,\"\")","v":""},{"$f":"IF(AI971=\"\",\"\",IF(COUNTIF($AX$5:AX971,AX971)=1,AX971,\"\"))","v":""},"",null,"",null,"",null,null,null,""]
[null,null,null,null,null,null,null,null,null,null,null,"削除","","","","","","","","","",{"$f":"IF(B972=\"\",\"\",IF(COUNTIF($U$4:U972,U972)=1,\"\",\"重複\"))","v":""},"","",null,null,null,null,null,null,null,null,null,null,null,null,null,null,null,{"$f":"IF(COUNTIF($AI$5:AI972,AI972)=1,AI972,\"\")","v":""},{"$f":"IF(AI972=\"\",\"\",IF(COUNTIF($AX$5:AX972,AX972)=1,AX972,\"\"))","v":""},"",null,"",null,"",null,null,null,""]
[null,null,null,null,null,null,null,null,null,null,null,"削除","","","","","","","","","",{"$f":"IF(B973=\"\",\"\",IF(COUNTIF($U$4:U973,U973)=1,\"\",\"重複\"))","v":""},"","",null,null,null,null,null,null,null,null,null,null,null,null,null,null,null,{"$f":"IF(COUNTIF($AI$5:AI973,AI973)=1,AI973,\"\")","v":""},{"$f":"IF(AI973=\"\",\"\",IF(COUNTIF($AX$5:AX973,AX973)=1,AX973,\"\"))","v":""},"",null,"",null,"",null,null,null,""]
[null,null,null,null,null,null,null,null,null,null,null,"削除","","","","","","","","","",{"$f":"IF(B974=\"\",\"\",IF(COUNTIF($U$4:U974,U974)=1,\"\",\"重複\"))","v":""},"","",null,null,null,null,null,null,null,null,null,null,null,null,null,null,null,{"$f":"IF(COUNTIF($AI$5:AI974,AI974)=1,AI974,\"\")","v":""},{"$f":"IF(AI974=\"\",\"\",IF(COUNTIF($AX$5:AX974,AX974)=1,AX974,\"\"))","v":""},"",null,"",null,"",null,null,null,""]
[null,null,null,null,null,null,null,null,null,null,null,"削除","","","","","","","","","",{"$f":"IF(B975=\"\",\"\",IF(COUNTIF($U$4:U975,U975)=1,\"\",\"重複\"))","v":""},"","",null,null,null,null,null,null,null,null,null,null,null,null,null,null,null,{"$f":"IF(COUNTIF($AI$5:AI975,AI975)=1,AI975,\"\")","v":""},{"$f":"IF(AI975=\"\",\"\",IF(COUNTIF($AX$5:AX975,AX975)=1,AX975,\"\"))","v":""},"",null,"",null,"",null,null,null,""]
[null,null,null,null,null,null,null,null,null,null,null,"削除","","","","","","","","","",{"$f":"IF(B976=\"\",\"\",IF(COUNTIF($U$4:U976,U976)=1,\"\",\"重複\"))","v":""},"","",null,null,null,null,null,null,null,null,null,null,null,null,null,null,null,{"$f":"IF(COUNTIF($AI$5:AI976,AI976)=1,AI976,\"\")","v":""},{"$f":"IF(AI976=\"\",\"\",IF(COUNTIF($AX$5:AX976,AX976)=1,AX976,\"\"))","v":""},"",null,"",null,"",null,null,null,""]
[null,null,null,null,null,null,null,null,null,null,null,"削除","","","","","","","","","",{"$f":"IF(B977=\"\",\"\",IF(COUNTIF($U$4:U977,U977)=1,\"\",\"重複\"))","v":""},"","",null,null,null,null,null,null,null,null,null,null,null,null,null,null,null,{"$f":"IF(COUNTIF($AI$5:AI977,AI977)=1,AI977,\"\")","v":""},{"$f":"IF(AI977=\"\",\"\",IF(COUNTIF($AX$5:AX977,AX977)=1,AX977,\"\"))","v":""},"",null,"",null,"",null,null,null,""]
[null,null,null,null,null,null,null,null,null,null,null,"削除","","","","","","","","","",{"$f":"IF(B978=\"\",\"\",IF(COUNTIF($U$4:U978,U978)=1,\"\",\"重複\"))","v":""},"","",null,null,null,null,null,null,null,null,null,null,null,null,null,null,null,{"$f":"IF(COUNTIF($AI$5:AI978,AI978)=1,AI978,\"\")","v":""},{"$f":"IF(AI978=\"\",\"\",IF(COUNTIF($AX$5:AX978,AX978)=1,AX978,\"\"))","v":""},"",null,"",null,"",null,null,null,""]
[null,null,null,null,null,null,null,null,null,null,null,"削除","","","","","","","","","",{"$f":"IF(B979=\"\",\"\",IF(COUNTIF($U$4:U979,U979)=1,\"\",\"重複\"))","v":""},"","",null,null,null,null,null,null,null,null,null,null,null,null,null,null,null,{"$f":"IF(COUNTIF($AI$5:AI979,AI979)=1,AI979,\"\")","v":""},{"$f":"IF(AI979=\"\",\"\",IF(COUNTIF($AX$5:AX979,AX979)=1,AX979,\"\"))","v":""},"",null,"",null,"",null,null,null,""]
[null,null,null,null,null,null,null,null,null,null,null,"削除","","","","","","","","","",{"$f":"IF(B980=\"\",\"\",IF(COUNTIF($U$4:U980,U980)=1,\"\",\"重複\"))","v":""},"","",null,null,null,null,null,null,null,null,null,null,null,null,null,null,null,{"$f":"IF(COUNTIF($AI$5:AI980,AI980)=1,AI980,\"\")","v":""},{"$f":"IF(AI980=\"\",\"\",IF(COUNTIF($AX$5:AX980,AX980)=1,AX980,\"\"))","v":""},"",null,"",null,"",null,null,null,""]
[null,null,null,null,null,null,null,null,null,null,null,"削除","","","","","","","","","",{"$f":"IF(B981=\"\",\"\",IF(COUNTIF($U$4:U981,U981)=1,\"\",\"重複\"))","v":""},"","",null,null,null,null,null,null,null,null,null,null,null,null,null,null,null,{"$f":"IF(COUNTIF($AI$5:AI981,AI981)=1,AI981,\"\")","v":""},{"$f":"IF(AI981=\"\",\"\",IF(COUNTIF($AX$5:AX981,AX981)=1,AX981,\"\"))","v":""},"",null,"",null,"",null,null,null,""]
[null,null,null,null,null,null,null,null,null,null,null,"削除","","","","","","","","","",{"$f":"IF(B982=\"\",\"\",IF(COUNTIF($U$4:U982,U982)=1,\"\",\"重複\"))","v":""},"","",null,null,null,null,null,null,null,null,null,null,null,null,null,null,null,{"$f":"IF(COUNTIF($AI$5:AI982,AI982)=1,AI982,\"\")","v":""},{"$f":"IF(AI982=\"\",\"\",IF(COUNTIF($AX$5:AX982,AX982)=1,AX982,\"\"))","v":""},"",null,"",null,"",null,null,null,""]
[null,null,null,null,null,null,null,null,null,null,null,"削除","","","","","","","","","",{"$f":"IF(B983=\"\",\"\",IF(COUNTIF($U$4:U983,U983)=1,\"\",\"重複\"))","v":""},"","",null,null,null,null,null,null,null,null,null,null,null,null,null,null,null,{"$f":"IF(COUNTIF($AI$5:AI983,AI983)=1,AI983,\"\")","v":""},{"$f":"IF(AI983=\"\",\"\",IF(COUNTIF($AX$5:AX983,AX983)=1,AX983,\"\"))","v":""},"",null,"",null,"",null,null,null,""]
[null,null,null,null,null,null,null,null,null,null,null,"削除","","","","","","","","","",{"$f":"IF(B984=\"\",\"\",IF(COUNTIF($U$4:U984,U984)=1,\"\",\"重複\"))","v":""},"","",null,null,null,null,null,null,null,null,null,null,null,null,null,null,null,{"$f":"IF(COUNTIF($AI$5:AI984,AI984)=1,AI984,\"\")","v":""},{"$f":"IF(AI984=\"\",\"\",IF(COUNTIF($AX$5:AX984,AX984)=1,AX984,\"\"))","v":""},"",null,"",null,"",null,null,null,""]
[null,null,null,null,null,null,null,null,null,null,null,"削除","","","","","","","","","",{"$f":"IF(B985=\"\",\"\",IF(COUNTIF($U$4:U985,U985)=1,\"\",\"重複\"))","v":""},"","",null,null,null,null,null,null,null,null,null,null,null,null,null,null,null,{"$f":"IF(COUNTIF($AI$5:AI985,AI985)=1,AI985,\"\")","v":""},{"$f":"IF(AI985=\"\",\"\",IF(COUNTIF($AX$5:AX985,AX985)=1,AX985,\"\"))","v":""},"",null,"",null,"",null,null,null,""]
[null,null,null,null,null,null,null,null,null,null,null,"削除","","","","","","","","","",{"$f":"IF(B986=\"\",\"\",IF(COUNTIF($U$4:U986,U986)=1,\"\",\"重複\"))","v":""},"","",null,null,null,null,null,null,null,null,null,null,null,null,null,null,null,{"$f":"IF(COUNTIF($AI$5:AI986,AI986)=1,AI986,\"\")","v":""},{"$f":"IF(AI986=\"\",\"\",IF(COUNTIF($AX$5:AX986,AX986)=1,AX986,\"\"))","v":""},"",null,"",null,"",null,null,null,""]
[null,null,null,null,null,null,null,null,null,null,null,"削除","","","","","","","","","",{"$f":"IF(B987=\"\",\"\",IF(COUNTIF($U$4:U987,U987)=1,\"\",\"重複\"))","v":""},"","",null,null,null,null,null,null,null,null,null,null,null,null,null,null,null,{"$f":"IF(COUNTIF($AI$5:AI987,AI987)=1,AI987,\"\")","v":""},{"$f":"IF(AI987=\"\",\"\",IF(COUNTIF($AX$5:AX987,AX987)=1,AX987,\"\"))","v":""},"",null,"",null,"",null,null,null,""]
[null,null,null,null,null,null,null,null,null,null,null,"削除","","","","","","","","","",{"$f":"IF(B988=\"\",\"\",IF(COUNTIF($U$4:U988,U988)=1,\"\",\"重複\"))","v":""},"","",null,null,null,null,null,null,null,null,null,null,null,null,null,null,null,{"$f":"IF(COUNTIF($AI$5:AI988,AI988)=1,AI988,\"\")","v":""},{"$f":"IF(AI988=\"\",\"\",IF(COUNTIF($AX$5:AX988,AX988)=1,AX988,\"\"))","v":""},"",null,"",null,"",null,null,null,""]
[null,null,null,null,null,null,null,null,null,null,null,"削除","","","","","","","","","",{"$f":"IF(B989=\"\",\"\",IF(COUNTIF($U$4:U989,U989)=1,\"\",\"重複\"))","v":""},"","",null,null,null,null,null,null,null,null,null,null,null,null,null,null,null,{"$f":"IF(COUNTIF($AI$5:AI989,AI989)=1,AI989,\"\")","v":""},{"$f":"IF(AI989=\"\",\"\",IF(COUNTIF($AX$5:AX989,AX989)=1,AX989,\"\"))","v":""},"",null,"",null,"",null,null,null,""]
[null,null,null,null,null,null,null,null,null,null,null,"削除","","","","","","","","","",{"$f":"IF(B990=\"\",\"\",IF(COUNTIF($U$4:U990,U990)=1,\"\",\"重複\"))","v":""},"","",null,null,null,null,null,null,null,null,null,null,null,null,null,null,null,{"$f":"IF(COUNTIF($AI$5:AI990,AI990)=1,AI990,\"\")","v":""},{"$f":"IF(AI990=\"\",\"\",IF(COUNTIF($AX$5:AX990,AX990)=1,AX990,\"\"))","v":""},"",null,"",null,"",null,null,null,""]
[null,null,null,null,null,null,null,null,null,null,null,"削除","","","","","","","","","",{"$f":"IF(B991=\"\",\"\",IF(COUNTIF($U$4:U991,U991)=1,\"\",\"重複\"))","v":""},"","",null,null,null,null,null,null,null,null,null,null,null,null,null,null,null,{"$f":"IF(COUNTIF($AI$5:AI991,AI991)=1,AI991,\"\")","v":""},{"$f":"IF(AI991=\"\",\"\",IF(COUNTIF($AX$5:AX991,AX991)=1,AX991,\"\"))","v":""},"",null,"",null,"",null,null,null,""]
[null,null,null,null,null,null,null,null,null,null,null,"削除","","","","","","","","","",{"$f":"IF(B992=\"\",\"\",IF(COUNTIF($U$4:U992,U992)=1,\"\",\"重複\"))","v":""},"","",null,null,null,null,null,null,null,null,null,null,null,null,null,null,null,{"$f":"IF(COUNTIF($AI$5:AI992,AI992)=1,AI992,\"\")","v":""},{"$f":"IF(AI992=\"\",\"\",IF(COUNTIF($AX$5:AX992,AX992)=1,AX992,\"\"))","v":""},"",null,"",null,"",null,null,null,""]
[null,null,null,null,null,null,null,null,null,null,null,"削除","","","","","","","","","",{"$f":"IF(B993=\"\",\"\",IF(COUNTIF($U$4:U993,U993)=1,\"\",\"重複\"))","v":""},"","",null,null,null,null,null,null,null,null,null,null,null,null,null,null,null,{"$f":"IF(COUNTIF($AI$5:AI993,AI993)=1,AI993,\"\")","v":""},{"$f":"IF(AI993=\"\",\"\",IF(COUNTIF($AX$5:AX993,AX993)=1,AX993,\"\"))","v":""},"",null,"",null,"",null,null,null,""]
[null,null,null,null,null,null,null,null,null,null,null,"削除","","","","","","","","","",{"$f":"IF(B994=\"\",\"\",IF(COUNTIF($U$4:U994,U994)=1,\"\",\"重複\"))","v":""},"","",null,null,null,null,null,null,null,null,null,null,null,null,null,null,null,{"$f":"IF(COUNTIF($AI$5:AI994,AI994)=1,AI994,\"\")","v":""},{"$f":"IF(AI994=\"\",\"\",IF(COUNTIF($AX$5:AX994,AX994)=1,AX994,\"\"))","v":""},"",null,"",null,"",null,null,null,""]
[null,null,null,null,null,null,null,null,null,null,null,"削除","","","","","","","","","",{"$f":"IF(B995=\"\",\"\",IF(COUNTIF($U$4:U995,U995)=1,\"\",\"重複\"))","v":""},"","",null,null,null,null,null,null,null,null,null,null,null,null,null,null,null,{"$f":"IF(COUNTIF($AI$5:AI995,AI995)=1,AI995,\"\")","v":""},{"$f":"IF(AI995=\"\",\"\",IF(COUNTIF($AX$5:AX995,AX995)=1,AX995,\"\"))","v":""},"",null,"",null,"",null,null,null,""]
[null,null,null,null,null,null,null,null,null,null,null,"削除","","","","","","","","","",{"$f":"IF(B996=\"\",\"\",IF(COUNTIF($U$4:U996,U996)=1,\"\",\"重複\"))","v":""},"","",null,null,null,null,null,null,null,null,null,null,null,null,null,null,null,{"$f":"IF(COUNTIF($AI$5:AI996,AI996)=1,AI996,\"\")","v":""},{"$f":"IF(AI996=\"\",\"\",IF(COUNTIF($AX$5:AX996,AX996)=1,AX996,\"\"))","v":""},"",null,"",null,"",null,null,null,""]
[null,null,null,null,null,null,null,null,null,null,null,"削除","","","","","","","","","",{"$f":"IF(B997=\"\",\"\",IF(COUNTIF($U$4:U997,U997)=1,\"\",\"重複\"))","v":""},"","",null,null,null,null,null,null,null,null,null,null,null,null,null,null,null,{"$f":"IF(COUNTIF($AI$5:AI997,AI997)=1,AI997,\"\")","v":""},{"$f":"IF(AI997=\"\",\"\",IF(COUNTIF($AX$5:AX997,AX997)=1,AX997,\"\"))","v":""},"",null,"",null,"",null,null,null,""]
[null,null,null,null,null,null,null,null,null,null,null,"削除","","","","","","","","","",{"$f":"IF(B998=\"\",\"\",IF(COUNTIF($U$4:U998,U998)=1,\"\",\"重複\"))","v":""},"","",null,null,null,null,null,null,null,null,null,null,null,null,null,null,null,{"$f":"IF(COUNTIF($AI$5:AI998,AI998)=1,AI998,\"\")","v":""},{"$f":"IF(AI998=\"\",\"\",IF(COUNTIF($AX$5:AX998,AX998)=1,AX998,\"\"))","v":""},"",null,"",null,"",null,null,null,""]
[null,null,null,null,null,null,null,null,null,null,null,"削除","","","","","","","","","",{"$f":"IF(B999=\"\",\"\",IF(COUNTIF($U$4:U999,U999)=1,\"\",\"重複\"))","v":""},"","",null,null,null,null,null,null,null,null,null,null,null,null,null,null,null,{"$f":"IF(COUNTIF($AI$5:AI999,AI999)=1,AI999,\"\")","v":""},{"$f":"IF(AI999=\"\",\"\",IF(COUNTIF($AX$5:AX999,AX999)=1,AX999,\"\"))","v":""},"",null,"",null,"",null,null,null,""]
[null,null,null,null,null,null,null,null,null,null,null,"削除","","","","","","","","","",{"$f":"IF(B1000=\"\",\"\",IF(COUNTIF($U$4:U1000,U1000)=1,\"\",\"重複\"))","v":""},"","",null,null,null,null,null,null,null,null,null,null,null,null,null,null,null,{"$f":"IF(COUNTIF($AI$5:AI1000,AI1000)=1,AI1000,\"\")","v":""},{"$f":"IF(AI1000=\"\",\"\",IF(COUNTIF($AX$5:AX1000,AX1000)=1,AX1000,\"\"))","v":""},"",null,"",null,"",null,null,null,""]
[null,null,null,null,null,null,null,null,null,null,null,"削除","","","","","","","","","",{"$f":"IF(B1001=\"\",\"\",IF(COUNTIF($U$4:U1001,U1001)=1,\"\",\"重複\"))","v":""},"","",null,null,null,null,null,null,null,null,null,null,null,null,null,null,null,{"$f":"IF(COUNTIF($AI$5:AI1001,AI1001)=1,AI1001,\"\")","v":""},{"$f":"IF(AI1001=\"\",\"\",IF(COUNTIF($AX$5:AX1001,AX1001)=1,AX1001,\"\"))","v":""},"",null,"",null,"",null,null,null,""]
[null,null,null,null,null,null,null,null,null,null,null,"削除","","","","","","","","","",{"$f":"IF(B1002=\"\",\"\",IF(COUNTIF($U$4:U1002,U1002)=1,\"\",\"重複\"))","v":""},"","",null,null,null,null,null,null,null,null,null,null,null,null,null,null,null,{"$f":"IF(COUNTIF($AI$5:AI1002,AI1002)=1,AI1002,\"\")","v":""},{"$f":"IF(AI1002=\"\",\"\",IF(COUNTIF($AX$5:AX1002,AX1002)=1,AX1002,\"\"))","v":""},"",null,"",null,"",null,null,null,""]
[null,null,null,null,null,null,null,null,null,null,null,"削除","","","","","","","","","",{"$f":"IF(B1003=\"\",\"\",IF(COUNTIF($U$4:U1003,U1003)=1,\"\",\"重複\"))","v":""},"","",null,null,null,null,null,null,null,null,null,null,null,null,null,null,null,{"$f":"IF(COUNTIF($AI$5:AI1003,AI1003)=1,AI1003,\"\")","v":""},{"$f":"IF(AI1003=\"\",\"\",IF(COUNTIF($AX$5:AX1003,AX1003)=1,AX1003,\"\"))","v":""},"",null,"",null,"",null,null,null,""]
[null,null,null,null,null,null,null,null,null,null,null,null,null,null,null,null,null,null,null,null,null,null,null,null,null,null,null,null,null,null,null,null,null,1000,null,null,null,null,null,{"$f":"IF(COUNTIF($AI$5:AI1004,AI1004)=1,AI1004,\"\")","v":""},{"$f":"IF(AI1004=\"\",\"\",IF(COUNTIF($AX$5:AX1004,AX1004)=1,AX1004,\"\"))","v":""},"",null,"",null,"",null,null,null,""]

{"sheet":"マクロ機能を有効にするには","index":7,"n_rows":57,"n_cols":21,"rows_kept":57,"cut":false,"hidden":false,"merged":[[56,1,56,13],[45,0,48,0],[22,0,25,0],[38,12,38,18],[37,12,37,18],[34,12,35,17],[53,1,53,12],[55,1,55,13],[19,12,19,18],[17,12,17,18],[15,12,15,18],[20,12,20,18],[20,1,20,5],[0,1,0,18],[11,1,11,18],[9,12,9,18],[18,1,18,5],[19,1,19,5],[6,12,7,18],[13,1,13,12],[19,6,19,10],[17,6,17,11],[16,6,16,11],[15,6,15,11],[17,1,17,5],[16,1,16,5],[15,1,15,5]]}
[null,"ホームページ上からマクロ機能搭載のエクセルソフトをダウンロードをした場合、ご使用のPC環境により、下記のような セキュリティリスク のメッセージが表示されることがあります。",null,null,null,null,null,null,null,null,null,null,null,null,null,null,null,null,null,null,"オブジェクトロック"]
[]
[]
[]
[]
[]
[null,null,null,null,null,null,null,null,null,null,null,null,"セキュリティリスクの表示が出た場合は、このファイルを終了してください。"]
[]
[]
[null,null,null,null,null,null,null,null,null,null,null,null,"左記のメッセージが表示される場合は、下記の操作を実行してください。"]
[]
[null,"エクセルファイルを起動した場合、セキュリティリスク に関する上記のメッセージが表示され、マクロの実行が ブロック される場合は、このエクセルファイルを終了 し、下記の操作をしてください。"]
[]
[null,"■マクロ機能の有効化　（ファイルのセキュリティ許可 → コンテンツの有効化 の手順）"]
[]
[null,"１．開いている セキュリティリスク が表示された",null,null,null,null,"３．下図の プロパティ画面 が表示されるので、",null,null,null,null,null,"５．以上の操作で、エクセルファイルのセキュリティが 許可 されました。"]
[null,"　　　エクセルファイルを 終了 する。",null,null,null,null,"　　　最下段にあるセキュリティを許可する □ をクリックし、"]
[null,null,null,null,null,null,"　　　チェック を入れる。",null,null,null,null,null,"６．開くエクセルファイル名をダブルクリックし、エクセルファイルを起動 する。"]
[null,"２．開くエクセルファイルのファイル名を 右クリック し、"]
[null,"　　　下図のコンテキストメニューを表示し、",null,null,null,null,"４．最下段にある 「OK」 をクリックする。",null,null,null,null,null,"７．エクセルファイルを起動すれば、「セキュリティの警告」 メッセージが"]
[null,"　　　最下段の ”プロパティ” をクリックする。",null,null,null,null,null,null,null,null,null,null,"　　　表示されますので、「コンテンツの有効化」 をクリックする。"]
[]
["↓"]
[]
[]
[]
[]
[]
[]
[]
[]
[]
[null,null,null,null,null,null,null,null,null,null,null,null,null,null,null,null,"　　　クリック"]
[]
[null,null,null,null,null,null,null,null,null,null,null,null,"以上の操作で、マクロ機能が 有効化 されます。"]
[]
[]
[null,null,null,null,null,null,null,null,null,null,null,null,"以上の操作を実行した場合は、同一ファイルを2度目以降起動するときは、"]
[null,null,null,null,null,null,null,null,null,null,null,null,"マクロ有効化の手順は必要ありません。"]
[]
[null,null,"クリック"]
[]
[]
[null,null,null,null,null,null,null,null,null,null,null,"　　　←セキュリティ項目は、一度許可すると"]
[null,null,null,null,null,null,null,null,null,null,null,"　　　　 次回からはこの項目は表示されません。"]
["↓"]
[]
[]
[]
[]
[]
[null,null,null,null,null,null,null,null,"クリック"]
[]
[null,"■ウイルスソフト (ウイルスバスター等) を搭載したパソコンの場合　(セキュリティの警告)"]
[]
[null,"　パソコンに ウイルスバスター等 の ウイルスソフト が搭載されている場合、下記の警告が表示され、マクロ機能が有効化できなくなる 場合があります。"]
[null,"　この場合、MicrosoftのDefender以外のウイルスソフトを アンインストール するかしないと、この自動集計ソフトは使用することができません。"]

{"sheet":"参考","index":8,"n_rows":37,"n_cols":35,"rows_kept":37,"cut":false,"hidden":false,"merged":[[2,1,3,11],[2,23,3,29],[12,19,13,19],[12,20,13,20],[12,21,13,21],[12,22,13,22],[12,23,13,23],[12,24,13,24],[12,25,13,25],[10,27,10,32],[10,19,10,26],[10,1,10,13],[5,1,5,13],[7,23,7,34],[35,19,35,33],[23,18,24,18],[12,32,13,32],[12,33,13,33],[12,34,13,34],[17,18,18,18],[12,26,13,26],[12,27,13,27],[12,28,13,28],[12,29,13,29],[12,30,13,30],[12,31,13,31]]}
[]
[]
[null,"HAMLOG データを、本ソフトに貼付する方法",null,null,null,null,null,null,null,null,null,null,null,null,null,null,null,null,null,null,null,null,null,"貼付けが完了しました。"]
[]
[]
[null,"■ Turbo HAMLOG より エクセルデータ画面 を表示するには。"]
[null,"　　　　　１．Turbo HAMLOG を起動し、”メニュー” → ”検索” → ”複合条件検索と印刷” をクリックして、「検索条件の設定」 画面を表示する。"]
[null,"　　　　　２．「検索条件の設定」 画面で、出力したい 「レコード番号」 を指定し、出力先を 「エクセルに出力」 にチェックを入れ、最後に 「検索無し」 ボタンをクリックすれば、",null,null,null,null,null,null,null,null,null,null,null,null,null,null,null,null,null,null,null,null,null,"(注)：出力先を 「CSVファイル」 で出力したものは、使用することができません。"]
[null,"　　　　　　　　「検索せずに出力しますか？」 のメッセージが出ますので、「はい」 をクリックしてください。  下記の 「Book1 エクセルデータ画面」 が表示されます。"]
[]
[null,"■ HAMLOG より出力された 「Book1 エクセルデータ画面」",null,null,null,null,null,null,null,null,null,null,null,null,null,null,null,null,null,"■ 本ソフトの 「ハムログデータ」 シート画面",null,null,null,null,null,null,null,"このシートでの、データ貼り付けは、シミュレーションです。"]
[]
[null,null,"A","B","C","D","E","F","G","H","I","J","K","L","M","N","O","P",null,"No","Call","Date","Time","His","My","Freq","Mode","Code","G･L","QSL","Name","ＱＴＨ","Remarks１","Remarks２","Flag"]
[null,1,"No","Call","Date","Time","His","My","Freq","Mode","Code","G･L","QSL","Name","ＱＴＨ","Remarks１","Remarks２","Flag"]
[null,2,80001,"JA3QRA","22/10/09","06:24J",59,59,144,"SSB",2207,null,null,"○○",null,null,null,0,null,{"$f":"C15","v":80001},{"$f":"D15","v":"JA3QRA"},{"$f":"E15","v":"22/10/09"},"06:24J",59,59,144,"SSB",2207,0,0,"○○",0,0,0,0]
[null,3,80002,"JA3QRB","22/10/09","16:15J",59,59,144,"SSB","0108",null,null,"○○",null,null,null,0,null,{"$f":"C16","v":80002},{"$f":"D16","v":"JA3QRB"},"22/10/09","16:15J",59,59,144,"SSB","0108",0,0,"○○",0,0,0,0]
[null,4,80003,"JA3QRC","22/10/09","18:37J",59,59,144,"SSB",100101,null,null,"○○",null,null,null,0,null,{"$f":"C17","v":80003},"JA3QRC","22/10/09","18:37J",59,59,144,"SSB",100101,0,0,"○○",0,0,0,0]
[null,5,80004,"JA3QRD","22/10/09","18:58J",59,59,144,"SSB",1002,null,null,"○○",null,null,null,0,"↑クリック",{"$f":"C18","v":80004},"JA3QRD","22/10/09","18:58J",59,59,144,"SSB",1002,0,0,"○○",0,0,0,0]
[null,6,80005,"JA3QRE","22/10/09","19:04J",59,59,144,"SSB",2204,null,null,"○○",null,null,null,0,null,80005,"JA3QRE","22/10/09","19:04J",59,59,144,"SSB",2204,0,0,"○○",0,0,0,0]
[null,7,80006,"JA3QRF","22/10/09","19:11J",59,59,144,"SSB",220109,null,null,"○○",null,null,null,0,null,80006,"JA3QRF","22/10/09","19:11J",59,59,144,"SSB",220109,0,0,"○○",0,0,0,0]
[null,8,80007,"JA3QRG","22/10/09","19:27J",59,59,144,"SSB",250101,null,null,"○○",null,null,null,0,null,80007,"JA3QRG","22/10/09","19:27J",59,59,144,"SSB",250101,0,0,"○○",0,0,0,0]
[null,9,80008,"JA3QRH","22/10/09","19:45J",59,59,144,"SSB",2209,null,null,"○○",null,null,null,0,null,80008,"JA3QRH","22/10/09","19:45J",59,59,144,"SSB",2209,0,0,"○○",0,0,0,0]
[null,10,80009,"JA3QRI","22/10/09","19:55J",59,59,144,"SSB",2208,null,null,"○○",null,null,null,0,null,80009,"JA3QRI","22/10/09","19:55J",59,59,144,"SSB",2208,0,0,"○○",0,0,0,0]
[null,11,80010,"JA3QRJ","22/10/09","20:04J",59,55,144,"SSB","22012G",null,null,"○○",null,null,null,0,"➡",80010,"JA3QRJ","22/10/09","20:04J",59,55,144,"SSB","22012G",0,0,"○○",0,0,0,0]
[null,12,80011,"JA3QRK","22/10/09","20:06J",59,59,144,"SSB",250201,null,null,"○○",null,null,null,0,null,80011,"JA3QRK","22/10/09","20:06J",59,59,144,"SSB",250201,0,0,"○○",0,0,0,0]
[null,13,80012,"JA3QRL","22/10/09","20:39J",59,59,144,"SSB","22010B",null,null,"○○",null,null,null,0,null,80012,"JA3QRL","22/10/09","20:39J",59,59,144,"SSB","22010B",0,0,"○○",0,0,0,0]
[null,14,80013,"JA3QRM","22/10/10","21:31J",59,59,144,"SSB",2202,null,null,"○○",null,null,null,0,null,80013,"JA3QRM","22/10/10","21:31J",59,59,144,"SSB",2202,0,0,"○○",0,0,0,0]
[null,15,80014,"JA3QRN","22/10/10","22:10J",59,59,144,"SSB","26001F",null,null,"○○",null,null,null,0,null,80014,"JA3QRN","22/10/10","22:10J",59,59,144,"SSB","26001F",0,0,"○○",0,0,0,0]
[null,16,80015,"JA3QRO","22/10/10","22:48J",59,59,144,"SSB",220103,null,null,"○○",null,null,null,0,null,80015,"JA3QRO","22/10/10","22:48J",59,59,144,"SSB",220103,0,0,"○○",0,0,0,0]
[null,17,80016,"JA3QRP","22/10/10","18:29J",59,59,144,"SSB",2527,null,null,"○○",null,null,null,0,null,80016,"JA3QRP","22/10/10","18:29J",59,59,144,"SSB",2527,0,0,"○○",0,0,0,0]
[null,18,80017,"JA3QRQ","22/10/10","18:34J",51,51,144,"SSB",2214,null,null,"○○",null,null,null,0,null,80017,"JA3QRQ","22/10/10","18:34J",51,51,144,"SSB",2214,0,0,"○○",0,0,0,0]
[null,19,80018,"JA3QRR","22/10/11","19:58J",59,59,144,"SSB",3901,null,null,"○○",null,null,null,0,null,80018,"JA3QRR","22/10/11","19:58J",59,59,144,"SSB",3901,0,0,"○○",0,0,0,0]
[null,20,80019,"JA3QRS","22/10/11","20:11J",59,59,144,"FM",2210,null,null,"○○",null,null,null,0,null,80019,"JA3QRS","22/10/11","20:11J",59,59,144,"FM",2210,0,0,"○○",0,0,0,0]
[null,21,80020,"JA3QRT","22/10/11","21:26J",59,59,144,"SSB",2509,null,null,"○○",null,null,null,0,null,80020,"JA3QRT","22/10/11","21:26J",59,59,144,"SSB",2509,0,0,"○○",0,0,0,0]
[]
[null,"期間中の全データである、タイトル行を除く A2 ～ P21 を選択（赤点線セル）し、マウスの 「右クリックボタン」 で、コピーを選択する。",null,null,null,null,null,null,null,null,null,null,null,null,null,null,null,null,null,"上記 「ハムログデータ」 シートの 上記黄色セル に、左記の Book1ファイル でコピーした 全データ を貼り付ける。"]
[null,null,null,null,null,null,null,null,null,null,null,null,null,null,null,null,null,null,null,"貼付け時は、「形式を選択して貼り付け」 を選択し、\"値\" のみを貼付けるようにしてください。 (推奨)"]